Workbook

Sheet Summary
A1: QC of Third Party Collections Web Metrics Reporting System Data
A2: 1st Quarter | F2: Data as of 02/05/2012
B6: FY2012 Collection Goals:
B8: Army | C8: 75.8 | D8: million
B9: Navy | C9: 37.3 | D9: million
B10: Air Force | C10: 81.7 | D10: million
B11: Total | C11: =SUM(C8:C10) -> 194.8 | D11: million
B13: FY2012 status, after 1st Quarter | F13: FY 2012, Projected after 4th Quarter | J13: FY 2011, after 4th Quarter
B15: Army | C15: ='Total Collections Rpt'!H22 -> 18.9 | D15: million | F15: =C15*(12/3) -> 75.6 | G15: million | J15: 79.1 | K15: million
B16: Navy | C16: ='Total Collections Rpt'!H23 -> 7.3 | D16: million | F16: =C16*(12/3) -> 29.2 | G16: million | J16: 32.6 | K16: million
B17: Air Force | C17: ='Total Collections Rpt'!H24 -> 16.3 | D17: million | F17: =C17*(12/3) -> 65.2 | G17: million | J17: 78.8 | K17: million
B18: Total | C18: =SUM(C15:C17) -> 42.5 | D18: million | F18: =SUM(F15:F17) -> 170 | G18: million | J18: =SUM(J15:J17) -> 190.5 | K18: million

Sheet Collections Summary
A1: Collections Summary
A2: =Summary!A2 -> 1st Quarter
C4: Inpatient Collections | E4: Outpatient Collections | G4: Total Collections
B5: Service | C5: FY2011 | D5: FY2012 | E5: FY2011 | F5: FY2012 | G5: FY2011 | H5: FY2012
B6: Army | C6: ='Total Collections Rpt'!G6 -> 5.4 | D6: ='Total Collections Rpt'!H6 -> 5.2 | E6: ='Total Collections Rpt'!G14 -> 14.3 | F6: ='Total Collections Rpt'!H14 -> 13.7 | G6: ='Total Collections Rpt'!G22 -> 19.7 | H6: ='Total Collections Rpt'!H22 -> 18.9
B7: Navy | C7: ='Total Collections Rpt'!G7 -> 1.8 | D7: ='Total Collections Rpt'!H7 -> 1.3 | E7: ='Total Collections Rpt'!G15 -> 7.2 | F7: ='Total Collections Rpt'!H15 -> 6 | G7: ='Total Collections Rpt'!G23 -> 9 | H7: ='Total Collections Rpt'!H23 -> 7.3
B8: Air Force | C8: ='Total Collections Rpt'!G8 -> 2.9 | D8: ='Total Collections Rpt'!H8 -> 1 | E8: ='Total Collections Rpt'!G16 -> 19.9 | F8: ='Total Collections Rpt'!H16 -> 15.3 | G8: ='Total Collections Rpt'!G24 -> 22.8 | H8: ='Total Collections Rpt'!H24 -> 16.3
B10: Total | C10: =SUM(C6:C9) -> 10.1 | D10: =SUM(D6:D9) -> 7.5 | E10: =SUM(E6:E9) -> 41.4 | F10: =SUM(F6:F9) -> 35 | G10: =SUM(G6:G9) -> 51.5 | H10: =SUM(H6:H9) -> 42.5
B12: =Summary!F2 -> Data as of 02/05/2012
B13: Note: Collections = CFY + PY1 + PY2

Sheet Billed&Collected
A1: Billed & Collected ($Millions)
A2: =Summary!A2 -> 1st Quarter
B5: Service | C5: FY08 | E5: FY09 | G5: FY10 | I5: FY11 | K5: FY12
C6: Billed | D6: Collected | E6: Billed | F6: Collected | G6: Billed | H6: Collected | I6: Billed | J6: Collected | K6: Billed | L6: Collected
B7: Outpatient
B8: Army | C8: =ROUND('Total Billings'!D15/1000000,1) -> 13 | D8: =ROUND('Total Collections'!D15/1000000,1) -> 12.5 | E8: =ROUND('Total Billings'!E15/1000000,1) -> 16.7 | F8: =ROUND('Total Collections'!E15/1000000,1) -> 15.6 | G8: =ROUND('Total Billings'!F15/1000000,1) -> 17.2 | H8: =ROUND('Total Collections'!F15/1000000,1) -> 19 | I8: =ROUND('Total Billings'!G15/1000000,1) -> 13.1 | J8: =ROUND('Total Collections'!G15/1000000,1) -> 14.3 | K8: =ROUND('Total Billings'!H15/1000000,1) -> 15 | L8: =ROUND('Total Collections'!H15/1000000,1) -> 13.7
B9: Navy | C9: =ROUND('Total Billings'!D16/1000000,1) -> 7.9 | D9: =ROUND('Total Collections'!D16/1000000,1) -> 7.2 | E9: =ROUND('Total Billings'!E16/1000000,1) -> 7.6 | F9: =ROUND('Total Collections'!E16/1000000,1) -> 8.5 | G9: =ROUND('Total Billings'!F16/1000000,1) -> 7.6 | H9: =ROUND('Total Collections'!F16/1000000,1) -> 9.1 | I9: =ROUND('Total Billings'!G16/1000000,1) -> 6.4 | J9: =ROUND('Total Collections'!G16/1000000,1) -> 7.2 | K9: =ROUND('Total Billings'!H16/1000000,1) -> 8.8 | L9: =ROUND('Total Collections'!H16/1000000,1) -> 6
B10: Air Force | C10: =ROUND('Total Billings'!D14/1000000,1) -> 33.4 | D10: =ROUND('Total Collections'!D14/1000000,1) -> 17.3 | E10: =ROUND('Total Billings'!E14/1000000,1) -> 43.1 | F10: =ROUND('Total Collections'!E14/1000000,1) -> 19.7 | G10: =ROUND('Total Billings'!F14/1000000,1) -> 41.7 | H10: =ROUND('Total Collections'!F14/1000000,1) -> 22.7 | I10: =ROUND('Total Billings'!G14/1000000,1) -> 25.9 | J10: =ROUND('Total Collections'!G14/1000000,1) -> 19.9 | K10: =ROUND('Total Billings'!H14/1000000,1) -> 27.1 | L10: =ROUND('Total Collections'!H14/1000000,1) -> 15.3
B11: Total | C11: =SUM(C8:C10) -> 54.3 | D11: =SUM(D8:D10) -> 37 | E11: =SUM(E8:E10) -> 67.4 | F11: =SUM(F8:F10) -> 43.8 | G11: =SUM(G8:G10) -> 66.5 | H11: =SUM(H8:H10) -> 50.8 | I11: =SUM(I8:I10) -> 45.4 | J11: =SUM(J8:J10) -> 41.4 | ... L11: =SUM(L8:L10) -> 35
B12: Inpatient
B13: Army | C13: =ROUND('Total Billings'!D7/1000000,1) -> 11.5 | D13: =ROUND('Total Collections'!D7/1000000,1) -> 5.1 | E13: =ROUND('Total Billings'!E7/1000000,1) -> 7.9 | F13: =ROUND('Total Collections'!E7/1000000,1) -> 7.9 | G13: =ROUND('Total Billings'!F7/1000000,1) -> 0.2 | H13: =ROUND('Total Collections'!F7/1000000,1) -> 4.5 | I13: =ROUND('Total Billings'!G7/1000000,1) -> 11.8 | J13: =ROUND('Total Collections'!G7/1000000,1) -> 5.4 | K13: =ROUND('Total Billings'!H7/1000000,1) -> 8.1 | L13: =ROUND('Total Collections'!H7/1000000,1) -> 5.2
B14: Navy | C14: =ROUND('Total Billings'!D8/1000000,1) -> 3.9 | D14: =ROUND('Total Collections'!D8/1000000,1) -> 1.7 | E14: =ROUND('Total Billings'!E8/1000000,1) -> 2.2 | F14: =ROUND('Total Collections'!E8/1000000,1) -> 1.8 | G14: =ROUND('Total Billings'!F8/1000000,1) -> 1.9 | H14: =ROUND('Total Collections'!F8/1000000,1) -> 1.7 | I14: =ROUND('Total Billings'!G8/1000000,1) -> 3.6 | J14: =ROUND('Total Collections'!G8/1000000,1) -> 1.8 | K14: =ROUND('Total Billings'!H8/1000000,1) -> 3.7 | L14: =ROUND('Total Collections'!H8/1000000,1) -> 1.3
B15: Air Force | C15: =ROUND('Total Billings'!D6/1000000,1) -> 4.9 | D15: =ROUND('Total Collections'!D6/1000000,1) -> 2.5 | E15: =ROUND('Total Billings'!E6/1000000,1) -> 3.8 | F15: =ROUND('Total Collections'!E6/1000000,1) -> 1.6 | G15: =ROUND('Total Billings'!F6/1000000,1) -> 0.4 | H15: =ROUND('Total Collections'!F6/1000000,1) -> 3.5 | I15: =ROUND('Total Billings'!G6/1000000,1) -> 2.9 | J15: =ROUND('Total Collections'!G6/1000000,1) -> 2.9 | K15: =ROUND('Total Billings'!H6/1000000,1) -> 2.8 | L15: =ROUND('Total Collections'!H6/1000000,1) -> 1
B16: Total | C16: =SUM(C13:C15) -> 20.3 | D16: =SUM(D13:D15) -> 9.3 | E16: =SUM(E13:E15) -> 13.9 | F16: =SUM(F13:F15) -> 11.3 | G16: =SUM(G13:G15) -> 2.5 | H16: =SUM(H13:H15) -> 9.7 | I16: =SUM(I13:I15) -> 18.3 | J16: =SUM(J13:J15) -> 10.1 | ... L16: =SUM(L13:L15) -> 7.5
B18: =Summary!F2 -> Data as of 02/05/2012
B19: Note: Collections = CFY + PY1 + PY2
B20: Billed = Amount Billed CFY

Sheet Total Collections Rpt
A1: Total Collections
A2: =Summary!A2 -> 1st Quarter
B4: Total Inpatient Collections
B5: Service | C5: ='Total Collections'!C5 -> FY2007 | D5: ='Total Collections'!D5 -> FY2008 | E5: ='Total Collections'!E5 -> FY2009 | F5: ='Total Collections'!F5 -> FY2010 | G5: ='Total Collections'!G5 -> FY2011 | H5: ='Total Collections'!H5 -> FY2012
B6: ='Total Collections'!B7 -> Army | C6: =ROUND('Total Collections'!C7/1000000,1) -> 3.5 | D6: =ROUND('Total Collections'!D7/1000000,1) -> 5.1 | E6: =ROUND('Total Collections'!E7/1000000,1) -> 7.9 | F6: =ROUND('Total Collections'!F7/1000000,1) -> 4.5 | G6: =ROUND('Total Collections'!G7/1000000,1) -> 5.4 | H6: =ROUND('Total Collections'!H7/1000000,1) -> 5.2
B7: ='Total Collections'!B8 -> Navy | C7: =ROUND('Total Collections'!C8/1000000,1) -> 2.2 | D7: =ROUND('Total Collections'!D8/1000000,1) -> 1.7 | E7: =ROUND('Total Collections'!E8/1000000,1) -> 1.8 | F7: =ROUND('Total Collections'!F8/1000000,1) -> 1.7 | G7: =ROUND('Total Collections'!G8/1000000,1) -> 1.8 | H7: =ROUND('Total Collections'!H8/1000000,1) -> 1.3
B8: ='Total Collections'!B6 -> Air Force | C8: =ROUND('Total Collections'!C6/1000000,1) -> 2 | D8: =ROUND('Total Collections'!D6/1000000,1) -> 2.5 | E8: =ROUND('Total Collections'!E6/1000000,1) -> 1.6 | F8: =ROUND('Total Collections'!F6/1000000,1) -> 3.5 | G8: =ROUND('Total Collections'!G6/1000000,1) -> 2.9 | H8: =ROUND('Total Collections'!H6/1000000,1) -> 1
B9: Total | C9: =SUM(C6:C8) -> 7.7 | D9: =SUM(D6:D8) -> 9.3 | E9: =SUM(E6:E8) -> 11.3 | F9: =SUM(F6:F8) -> 9.7 | G9: =SUM(G6:G8) -> 10.1 | H9: =SUM(H6:H8) -> 7.5
B12: Total Outpatient Collections
B13: Service | C13: ='Total Collections'!C13 -> FY2007 | D13: ='Total Collections'!D13 -> FY2008 | E13: ='Total Collections'!E13 -> FY2009 | F13: ='Total Collections'!F13 -> FY2010 | G13: ='Total Collections'!G13 -> FY2011 | H13: ='Total Collections'!H5 -> FY2012
B14: ='Total Collections'!B15 -> Army | C14: =ROUND('Total Collections'!C15/1000000,1) -> 8.1 | D14: =ROUND('Total Collections'!D15/1000000,1) -> 12.5 | E14: =ROUND('Total Collections'!E15/1000000,1) -> 15.6 | F14: =ROUND('Total Collections'!F15/1000000,1) -> 19 | G14: =ROUND('Total Collections'!G15/1000000,1) -> 14.3 | H14: =ROUND('Total Collections'!H15/1000000,1) -> 13.7
B15: ='Total Collections'!B16 -> Navy | C15: =ROUND('Total Collections'!C16/1000000,1) -> 4.3 | D15: =ROUND('Total Collections'!D16/1000000,1) -> 7.2 | E15: =ROUND('Total Collections'!E16/1000000,1) -> 8.5 | F15: =ROUND('Total Collections'!F16/1000000,1) -> 9.1 | G15: =ROUND('Total Collections'!G16/1000000,1) -> 7.2 | H15: =ROUND('Total Collections'!H16/1000000,1) -> 6
B16: ='Total Collections'!B14 -> Air Force | C16: =ROUND('Total Collections'!C14/1000000,1) -> 11 | D16: =ROUND('Total Collections'!D14/1000000,1) -> 17.3 | E16: =ROUND('Total Collections'!E14/1000000,1) -> 19.7 | F16: =ROUND('Total Collections'!F14/1000000,1) -> 22.7 | G16: =ROUND('Total Collections'!G14/1000000,1) -> 19.9 | H16: =ROUND('Total Collections'!H14/1000000,1) -> 15.3
B17: Total | C17: =SUM(C14:C16) -> 23.4 | D17: =SUM(D14:D16) -> 37 | E17: =SUM(E14:E16) -> 43.8 | F17: =SUM(F14:F16) -> 50.8 | G17: =SUM(G14:G16) -> 41.4 | H17: =SUM(H14:H16) -> 35
B20: Total Inpatient & Outpatient Collections
B21: Service | C21: =C13 -> FY2007 | D21: =D13 -> FY2008 | E21: =E13 -> FY2009 | F21: =F13 -> FY2010 | G21: =G13 -> FY2011 | H21: ='Total Collections'!H5 -> FY2012
B22: =B6 -> Army | C22: =C6+C14 -> 11.6 | D22: =D6+D14 -> 17.6 | E22: =E6+E14 -> 23.5 | F22: =F6+F14 -> 23.5 | G22: =G6+G14 -> 19.7 | H22: =H6+H14 -> 18.9
B23: =B7 -> Navy | C23: =C7+C15 -> 6.5 | D23: =D7+D15 -> 8.9 | E23: =E7+E15 -> 10.3 | F23: =F7+F15 -> 10.8 | G23: =G7+G15 -> 9 | H23: =H7+H15 -> 7.3
B24: =B8 -> Air Force | C24: =C8+C16 -> 13 | D24: =D8+D16 -> 19.8 | E24: =E8+E16 -> 21.3 | F24: =F8+F16 -> 26.2 | G24: =G8+G16 -> 22.8 | H24: =H8+H16 -> 16.3
B25: Total | C25: =SUM(C22:C24) -> 31.1 | D25: =SUM(D22:D24) -> 46.3 | E25: =SUM(E22:E24) -> 55.1 | F25: =SUM(F22:F24) -> 60.5 | G25: =SUM(G22:G24) -> 51.5 | H25: =SUM(H22:H24) -> 42.5

Sheet Collections per Disp or Visit
A1: Collections per Non-AD Disposition or Collections per Non-AD Visits
A2: =Summary!A2 -> 1st Quarter
B3: Total Non-Active-Duty Inpatient Collections(million) | M3: Total Non-Active-Duty Outpatient Collections(million)
B4: ='Total Collections Rpt'!B5 -> Service | C4: ='Total Collections Rpt'!C5 -> FY2007 | D4: ='Total Collections Rpt'!D5 -> FY2008 | E4: ='Total Collections Rpt'!E5 -> FY2009 | F4: ='Total Collections Rpt'!F5 -> FY2010 | G4: ='Total Collections Rpt'!G5 -> FY2011 | H4: ='Total Collections'!H5 -> FY2012 | M4: ='Total Collections Rpt'!B13 -> Service | N4: ='Total Collections Rpt'!C13 -> FY2007 | O4: ='Total Collections Rpt'!D13 -> FY2008 | P4: ='Total Collections Rpt'!E13 -> FY2009 | Q4: ='Total Collections Rpt'!F13 -> FY2010 | R4: ='Total Collections Rpt'!G13 -> FY2011 | S4: ='Total Collections'!H5 -> FY2012
B5: ='Total Collections Rpt'!B6 -> Army | C5: ='Total Collections Rpt'!C6 -> 3.5 | D5: ='Total Collections Rpt'!D6 -> 5.1 | E5: ='Total Collections Rpt'!E6 -> 7.9 | F5: ='Total Collections Rpt'!F6 -> 4.5 | G5: ='Total Collections Rpt'!G6 -> 5.4 | H5: ='Total Collections Rpt'!H6 -> 5.2 | M5: ='Total Collections Rpt'!B14 -> Army | N5: ='Total Collections Rpt'!C14 -> 8.1 | O5: ='Total Collections Rpt'!D14 -> 12.5 | P5: ='Total Collections Rpt'!E14 -> 15.6 | Q5: ='Total Collections Rpt'!F14 -> 19 | R5: ='Total Collections Rpt'!G14 -> 14.3 | S5: ='Total Collections Rpt'!H14 -> 13.7
B6: ='Total Collections Rpt'!B7 -> Navy | C6: ='Total Collections Rpt'!C7 -> 2.2 | D6: ='Total Collections Rpt'!D7 -> 1.7 | E6: ='Total Collections Rpt'!E7 -> 1.8 | F6: ='Total Collections Rpt'!F7 -> 1.7 | G6: ='Total Collections Rpt'!G7 -> 1.8 | H6: ='Total Collections Rpt'!H7 -> 1.3 | M6: ='Total Collections Rpt'!B15 -> Navy | N6: ='Total Collections Rpt'!C15 -> 4.3 | O6: ='Total Collections Rpt'!D15 -> 7.2 | P6: ='Total Collections Rpt'!E15 -> 8.5 | Q6: ='Total Collections Rpt'!F15 -> 9.1 | R6: ='Total Collections Rpt'!G15 -> 7.2 | S6: ='Total Collections Rpt'!H15 -> 6
B7: ='Total Collections Rpt'!B8 -> Air Force | C7: ='Total Collections Rpt'!C8 -> 2 | D7: ='Total Collections Rpt'!D8 -> 2.5 | E7: ='Total Collections Rpt'!E8 -> 1.6 | F7: ='Total Collections Rpt'!F8 -> 3.5 | G7: ='Total Collections Rpt'!G8 -> 2.9 | H7: ='Total Collections Rpt'!H8 -> 1 | M7: ='Total Collections Rpt'!B16 -> Air Force | N7: ='Total Collections Rpt'!C16 -> 11 | O7: ='Total Collections Rpt'!D16 -> 17.3 | P7: ='Total Collections Rpt'!E16 -> 19.7 | Q7: ='Total Collections Rpt'!F16 -> 22.7 | R7: ='Total Collections Rpt'!G16 -> 19.9 | S7: ='Total Collections Rpt'!H16 -> 15.3
B8: ='Total Collections Rpt'!B9 -> Total | C8: ='Total Collections Rpt'!C9 -> 7.7 | D8: ='Total Collections Rpt'!D9 -> 9.3 | E8: ='Total Collections Rpt'!E9 -> 11.3 | F8: ='Total Collections Rpt'!F9 -> 9.7 | G8: ='Total Collections Rpt'!G9 -> 10.1 | H8: ='Total Collections Rpt'!H9 -> 7.5 | M8: ='Total Collections Rpt'!B17 -> Total | N8: ='Total Collections Rpt'!C17 -> 23.4 | O8: ='Total Collections Rpt'!D17 -> 37 | P8: ='Total Collections Rpt'!E17 -> 43.8 | Q8: ='Total Collections Rpt'!F17 -> 50.8 | R8: ='Total Collections Rpt'!G17 -> 41.4 | S8: ='Total Collections Rpt'!H17 -> 35
B10: Number of Non-Active-Duty Inpatient Dispositions | M10: Number of Non-Active-Duty Outpatient Visits
B11: Service | C11: ='Collected to Claims Ratio'!C13 -> FY2007 | D11: ='Collected to Claims Ratio'!D13 -> FY2008 | E11: ='Collected to Claims Ratio'!E13 -> FY2009 | F11: ='Collected to Claims Ratio'!F13 -> FY2010 | G11: ='Collected to Claims Ratio'!G13 -> FY2011 | H11: ='Total Collections'!H5 -> FY2012 | M11: Service | N11: ='Collected to Claims Ratio'!L13 -> FY2007 | O11: ='Collected to Claims Ratio'!M13 -> FY2008 | P11: ='Collected to Claims Ratio'!N13 -> FY2009 | Q11: ='Collected to Claims Ratio'!O13 -> FY2010 | R11: ='Collected to Claims Ratio'!P13 -> FY2011 | S11: ='Total Collections'!H5 -> FY2012
B12: ='Claims per Disp or Visits'!B14 -> Army | C12: ='Claims per Disp or Visits'!C14 -> 24059 | D12: ='Claims per Disp or Visits'!D14 -> 24711 | E12: ='Claims per Disp or Visits'!E14 -> 24998 | F12: ='Claims per Disp or Visits'!F14 -> 25654 | G12: ='Claims per Disp or Visits'!G14 -> 26843 | H12: ='Claims per Disp or Visits'!H14 -> 27509 | M12: ='Claims per Disp or Visits'!K14 -> Army | N12: ='Claims per Disp or Visits'!L14 -> 1788526 | O12: ='Claims per Disp or Visits'!M14 -> 1737946 | P12: ='Claims per Disp or Visits'!N14 -> 1611845 | Q12: ='Claims per Disp or Visits'!O14 -> 1574313 | R12: ='Claims per Disp or Visits'!P14 -> 2059376 | S12: ='Claims per Disp or Visits'!Q14 -> 1590490
B13: ='Claims per Disp or Visits'!B15 -> Navy | C13: ='Claims per Disp or Visits'!C15 -> 14636 | D13: ='Claims per Disp or Visits'!D15 -> 14213 | E13: ='Claims per Disp or Visits'!E15 -> 13241 | F13: ='Claims per Disp or Visits'!F15 -> 13884 | G13: ='Claims per Disp or Visits'!G15 -> 13580 | H13: ='Claims per Disp or Visits'!H15 -> 14359 | M13: ='Claims per Disp or Visits'!K15 -> Navy | N13: ='Claims per Disp or Visits'!L15 -> 1040608 | O13: ='Claims per Disp or Visits'!M15 -> 910196 | P13: ='Claims per Disp or Visits'!N15 -> 1558283 | Q13: ='Claims per Disp or Visits'!O15 -> 960335 | R13: ='Claims per Disp or Visits'!P15 -> 844988 | S13: ='Claims per Disp or Visits'!Q15 -> 782604
B14: ='Claims per Disp or Visits'!B13 -> Air Force | C14: ='Claims per Disp or Visits'!C13 -> 8518 | D14: ='Claims per Disp or Visits'!D13 -> 8689 | E14: ='Claims per Disp or Visits'!E13 -> 8827 | F14: ='Claims per Disp or Visits'!F13 -> 9064 | G14: ='Claims per Disp or Visits'!G13 -> 7955 | H14: ='Claims per Disp or Visits'!H13 -> 6290 | M14: ='Claims per Disp or Visits'!K13 -> Air Force | N14: ='Claims per Disp or Visits'!L13 -> 867654 | O14: ='Claims per Disp or Visits'!M13 -> 866851 | P14: ='Claims per Disp or Visits'!N13 -> 862283 | Q14: ='Claims per Disp or Visits'!O13 -> 821283 | R14: ='Claims per Disp or Visits'!P13 -> 758621 | S14: ='Claims per Disp or Visits'!Q13 -> 754284
B15: Total | C15: =SUM(C12:C14) -> 47213 | D15: =SUM(D12:D14) -> 47613 | E15: =SUM(E12:E14) -> 47066 | F15: =SUM(F12:F14) -> 48602 | G15: =SUM(G12:G14) -> 48378 | H15: =SUM(H12:H14) -> 48158 | M15: Total | N15: =SUM(N12:N14) -> 3696788 | O15: =SUM(O12:O14) -> 3514993 | P15: =SUM(P12:P14) -> 4032411 | Q15: =SUM(Q12:Q14) -> 3355931 | R15: =SUM(R12:R14) -> 3662985 | S15: =SUM(S12:S14) -> 3127378
B17: Total Inpatient Collections(Dollar)) per Non-Active-Duty Disposition | M17: Total Outpatient Collections(Dollar) per Non-Active-Duty Visit
B18: Service | C18: ='Collected to Claims Ratio'!C20 -> FY2007 | D18: ='Collected to Claims Ratio'!D20 -> FY2008 | E18: ='Collected to Claims Ratio'!E20 -> FY2009 | F18: ='Collected to Claims Ratio'!F20 -> FY2010 | G18: ='Collected to Claims Ratio'!G20 -> FY2011 | H18: ='Total Collections'!H5 -> FY2012 | M18: Service | N18: ='Collected to Claims Ratio'!L20 -> FY2007 | O18: ='Collected to Claims Ratio'!M20 -> FY2008 | P18: ='Collected to Claims Ratio'!N20 -> FY2009 | Q18: ='Collected to Claims Ratio'!O20 -> FY2010 | R18: ='Collected to Claims Ratio'!P20 -> FY2011 | S18: ='Total Collections'!H5 -> FY2012
B19: ='Claims per Disp or Visits'!B21 -> Army | C19: =(C5/C12)*1000000 -> 145.47571 | D19: =(D5/D12)*1000000 -> 206.38582 | E19: =(E5/E12)*1000000 -> 316.02528 | F19: =(F5/F12)*1000000 -> 175.41124 | G19: =(G5/G12)*1000000 -> 201.16976 | H19: =(H5/H12)*1000000 -> 189.02905 | M19: ='Claims per Disp or Visits'!K21 -> Army | N19: =(N5/N12)*1000000 -> 4.528869 | O19: =(O5/O12)*1000000 -> 7.1923984 | P19: =(P5/P12)*1000000 -> 9.67835 | Q19: =(Q5/Q12)*1000000 -> 12.068756 | R19: =(R5/R12)*1000000 -> 6.943851 | S19: =(S5/S12)*1000000 -> 8.6136977
B20: ='Claims per Disp or Visits'!B22 -> Navy | C20: =(C6/C13)*1000000 -> 150.31429 | D20: =(D6/D13)*1000000 -> 119.60881 | E20: =(E6/E13)*1000000 -> 135.94139 | F20: =(F6/F13)*1000000 -> 122.4431 | G20: =(G6/G13)*1000000 -> 132.54786 | H20: =(H6/H13)*1000000 -> 90.535553 | M20: ='Claims per Disp or Visits'!K22 -> Navy | N20: =(N6/N13)*1000000 -> 4.1321996 | O20: =(O6/O13)*1000000 -> 7.9103841 | P20: =(P6/P13)*1000000 -> 5.4547216 | Q20: =(Q6/Q13)*1000000 -> 9.47586 | R20: =(R6/R13)*1000000 -> 8.5208311 | S20: =(S6/S13)*1000000 -> 7.6667127
B21: ='Claims per Disp or Visits'!B20 -> Air Force | C21: =(C7/C14)*1000000 -> 234.7969 | D21: =(D7/D14)*1000000 -> 287.72011 | E21: =(E7/E14)*1000000 -> 181.26204 | F21: =(F7/F14)*1000000 -> 386.14298 | G21: =(G7/G14)*1000000 -> 364.5506 | H21: =(H7/H14)*1000000 -> 158.98251 | M21: ='Claims per Disp or Visits'!K20 -> Air Force | N21: =(N7/N14)*1000000 -> 12.677865 | O21: =(O7/O14)*1000000 -> 19.957294 | P21: =(P7/P14)*1000000 -> 22.846328 | Q21: =(Q7/Q14)*1000000 -> 27.639681 | R21: =(R7/R14)*1000000 -> 26.231807 | S21: =(S7/S14)*1000000 -> 20.284137
B22: Total | C22: =(C8/C15)*1000000 -> 163.09067 | D22: =(D8/D15)*1000000 -> 195.32481 | E22: =(E8/E15)*1000000 -> 240.08839 | F22: =(F8/F15)*1000000 -> 199.58026 | G22: =(G8/G15)*1000000 -> 208.77258 | H22: =(H8/H15)*1000000 -> 155.73736 | M22: Total | N22: =(N8/N15)*1000000 -> 6.3298193 | O22: =(O8/O15)*1000000 -> 10.526337 | P22: =(P8/P15)*1000000 -> 10.861988 | Q22: =(Q8/Q15)*1000000 -> 15.137379 | R22: =(R8/R15)*1000000 -> 11.302258 | S22: =(S8/S15)*1000000 -> 11.191484

Sheet Total Billings Rpt
A1: Total Billings
A2: =Summary!A2 -> 1st Quarter
B4: Total Inpatient Billlings CFY
B5: Service | C5: ='Total Billings'!C5 -> FY2007 | D5: ='Total Billings'!D5 -> FY2008 | E5: ='Total Billings'!E5 -> FY2009 | F5: ='Total Billings'!F5 -> FY2010 | G5: ='Total Billings'!G5 -> FY2011 | H5: ='Total Collections'!H5 -> FY2012
B6: ='Total Collections'!B7 -> Army | C6: =ROUND('Total Billings'!C7/1000000,1) -> 6.7 | D6: =ROUND('Total Billings'!D7/1000000,1) -> 11.5 | E6: =ROUND('Total Billings'!E7/1000000,1) -> 7.9 | F6: =ROUND('Total Billings'!F7/1000000,1) -> 0.2 | G6: =ROUND('Total Billings'!G7/1000000,1) -> 11.8 | H6: =ROUND('Total Billings'!H7/1000000,1) -> 8.1
B7: ='Total Collections'!B8 -> Navy | C7: =ROUND('Total Billings'!C8/1000000,1) -> 3.6 | D7: =ROUND('Total Billings'!D8/1000000,1) -> 3.9 | E7: =ROUND('Total Billings'!E8/1000000,1) -> 2.2 | F7: =ROUND('Total Billings'!F8/1000000,1) -> 1.9 | G7: =ROUND('Total Billings'!G8/1000000,1) -> 3.6 | H7: =ROUND('Total Billings'!H8/1000000,1) -> 3.7
B8: ='Total Collections'!B6 -> Air Force | C8: =ROUND('Total Billings'!C6/1000000,1) -> 3.3 | D8: =ROUND('Total Billings'!D6/1000000,1) -> 4.9 | E8: =ROUND('Total Billings'!E6/1000000,1) -> 3.8 | F8: =ROUND('Total Billings'!F6/1000000,1) -> 0.4 | G8: =ROUND('Total Billings'!G6/1000000,1) -> 2.9 | H8: =ROUND('Total Billings'!H6/1000000,1) -> 2.8
B9: Total | C9: =SUM(C6:C8) -> 13.6 | D9: =SUM(D6:D8) -> 20.3 | E9: =SUM(E6:E8) -> 13.9 | F9: =SUM(F6:F8) -> 2.5 | G9: =SUM(G6:G8) -> 18.3 | H9: =SUM(H6:H8) -> 14.6
B12: Total Outpatient Billings CFY
B13: Service | C13: ='Total Billings'!C13 -> FY2007 | D13: ='Total Billings'!D13 -> FY2008 | E13: ='Total Billings'!E13 -> FY2009 | F13: ='Total Billings'!F13 -> FY2010 | G13: ='Total Billings'!G13 -> FY2011 | H13: ='Total Collections'!H5 -> FY2012
B14: ='Total Collections'!B15 -> Army | C14: =ROUND('Total Billings'!C15/1000000,1) -> 13.4 | D14: =ROUND('Total Billings'!D15/1000000,1) -> 13 | E14: =ROUND('Total Billings'!E15/1000000,1) -> 16.7 | F14: =ROUND('Total Billings'!F15/1000000,1) -> 17.2 | G14: =ROUND('Total Billings'!G15/1000000,1) -> 13.1 | H14: =ROUND('Total Billings'!H15/1000000,1) -> 15
B15: ='Total Collections'!B16 -> Navy | C15: =ROUND('Total Billings'!C16/1000000,1) -> 6.1 | D15: =ROUND('Total Billings'!D16/1000000,1) -> 7.9 | E15: =ROUND('Total Billings'!E16/1000000,1) -> 7.6 | F15: =ROUND('Total Billings'!F16/1000000,1) -> 7.6 | G15: =ROUND('Total Billings'!G16/1000000,1) -> 6.4 | H15: =ROUND('Total Billings'!H16/1000000,1) -> 8.8
B16: ='Total Collections'!B14 -> Air Force | C16: =ROUND('Total Billings'!C14/1000000,1) -> 35.5 | D16: =ROUND('Total Billings'!D14/1000000,1) -> 33.4 | E16: =ROUND('Total Billings'!E14/1000000,1) -> 43.1 | F16: =ROUND('Total Billings'!F14/1000000,1) -> 41.7 | G16: =ROUND('Total Billings'!G14/1000000,1) -> 25.9 | H16: =ROUND('Total Billings'!H14/1000000,1) -> 27.1
B17: Total | C17: =SUM(C14:C16) -> 55 | D17: =SUM(D14:D16) -> 54.3 | E17: =SUM(E14:E16) -> 67.4 | F17: =SUM(F14:F16) -> 66.5 | G17: =SUM(G14:G16) -> 45.4 | H17: =SUM(H14:H16) -> 50.9
B20: Total Inpatient & Outpatient Billings CFY
B21: Service | C21: =C13 -> FY2007 | D21: =D13 -> FY2008 | E21: =E13 -> FY2009 | F21: =F13 -> FY2010 | G21: =G13 -> FY2011 | H21: ='Total Collections'!H5 -> FY2012
B22: =B6 -> Army | C22: =C6+C14 -> 20.1 | D22: =D6+D14 -> 24.5 | E22: =E6+E14 -> 24.6 | F22: =F6+F14 -> 17.4 | G22: =G6+G14 -> 24.9 | H22: =H6+H14 -> 23.1
B23: =B7 -> Navy | C23: =C7+C15 -> 9.7 | D23: =D7+D15 -> 11.8 | E23: =E7+E15 -> 9.8 | F23: =F7+F15 -> 9.5 | G23: =G7+G15 -> 10 | H23: =H7+H15 -> 12.5
B24: =B8 -> Air Force | C24: =C8+C16 -> 38.8 | D24: =D8+D16 -> 38.3 | E24: =E8+E16 -> 46.9 | F24: =F8+F16 -> 42.1 | G24: =G8+G16 -> 28.8 | H24: =H8+H16 -> 29.9
B25: Total | C25: =SUM(C22:C24) -> 68.6 | D25: =SUM(D22:D24) -> 74.6 | E25: =SUM(E22:E24) -> 81.3 | F25: =SUM(F22:F24) -> 69 | G25: =SUM(G22:G24) -> 63.7 | H25: =SUM(H22:H24) -> 65.5

Sheet Collected to Claims Ratio Rpt
A1: Number of Collections to Claims Issued Ratio
A2: =Summary!A2 -> 1st Quarter
B3: Number of Inpatient Collections | M3: Number of Outpatient Collections
B4: Service | C4: FY2007 | D4: FY2008 | E4: FY2009 | F4: FY2010 | G4: FY2011 | H4: FY2012 | M4: Service | N4: FY2007 | O4: FY2008 | P4: FY2009 | Q4: FY2010 | R4: FY2011 | S4: FY2012
B5: ='Collected to Claims Ratio'!B8 -> Army | C5: ='Collected to Claims Ratio'!C8 -> 51 | D5: ='Collected to Claims Ratio'!D8 -> 60 | E5: ='Collected to Claims Ratio'!E8 -> 15 | F5: ='Collected to Claims Ratio'!F8 -> 2 | G5: ='Collected to Claims Ratio'!G8 -> 52 | H5: ='Collected to Claims Ratio'!H8 -> 11 | M5: ='Collected to Claims Ratio'!K8 -> Army | N5: ='Collected to Claims Ratio'!L8 -> 27840 | O5: ='Collected to Claims Ratio'!M8 -> 18840 | P5: ='Collected to Claims Ratio'!N8 -> 25564 | Q5: ='Collected to Claims Ratio'!O8 -> 29211 | R5: ='Collected to Claims Ratio'!P8 -> 36862 | S5: ='Collected to Claims Ratio'!Q8 -> 24439
B6: ='Collected to Claims Ratio'!B9 -> Navy | C6: ='Collected to Claims Ratio'!C9 -> 42 | D6: ='Collected to Claims Ratio'!D9 -> 22 | E6: ='Collected to Claims Ratio'!E9 -> 5 | F6: ='Collected to Claims Ratio'!F9 -> 17 | G6: ='Collected to Claims Ratio'!G9 -> 24 | H6: ='Collected to Claims Ratio'!H9 -> 6 | M6: ='Collected to Claims Ratio'!K9 -> Navy | N6: ='Collected to Claims Ratio'!L9 -> 9263 | O6: ='Collected to Claims Ratio'!M9 -> 7244 | P6: ='Collected to Claims Ratio'!N9 -> 9497 | Q6: ='Collected to Claims Ratio'!O9 -> 12168 | R6: ='Collected to Claims Ratio'!P9 -> 14899 | S6: ='Collected to Claims Ratio'!Q9 -> 14810
B7: ='Collected to Claims Ratio'!B7 -> Air Force | C7: ='Collected to Claims Ratio'!C7 -> 6 | D7: ='Collected to Claims Ratio'!D7 -> 13 | E7: ='Collected to Claims Ratio'!E7 -> 1 | F7: ='Collected to Claims Ratio'!F7 -> 0 | G7: ='Collected to Claims Ratio'!G7 -> 0 | H7: ='Collected to Claims Ratio'!H7 -> 0 | M7: ='Collected to Claims Ratio'!K7 -> Air Force | N7: ='Collected to Claims Ratio'!L7 -> 35751 | O7: ='Collected to Claims Ratio'!M7 -> 21181 | P7: ='Collected to Claims Ratio'!N7 -> 24203 | Q7: ='Collected to Claims Ratio'!O7 -> 29171 | R7: ='Collected to Claims Ratio'!P7 -> 28798 | S7: ='Collected to Claims Ratio'!Q7 -> 37683
B8: Total | C8: =SUM(C5:C7) -> 99 | D8: =SUM(D5:D7) -> 95 | E8: =SUM(E5:E7) -> 21 | F8: =SUM(F5:F7) -> 19 | G8: =SUM(G5:G7) -> 76 | H8: =SUM(H5:H7) -> 17 | M8: Total | N8: =SUM(N5:N7) -> 72854 | O8: =SUM(O5:O7) -> 47265 | P8: =SUM(P5:P7) -> 59264 | Q8: =SUM(Q5:Q7) -> 70550 | R8: =SUM(R5:R7) -> 80559 | S8: =SUM(S5:S7) -> 76932
B10: Number of Inpatient Claims | M10: Number of Outpatient Claims
B11: Service | C11: FY2007 | D11: FY2008 | E11: FY2009 | F11: FY2010 | G11: FY2011 | H11: FY2012 | M11: Service | N11: FY2007 | O11: FY2008 | P11: FY2009 | Q11: FY2010 | R11: FY2011 | S11: FY2012
B12: ='Collected to Claims Ratio'!B15 -> Army | C12: ='Collected to Claims Ratio'!C15 -> 390 | D12: ='Collected to Claims Ratio'!D15 -> 471 | E12: ='Collected to Claims Ratio'!E15 -> 429 | F12: ='Collected to Claims Ratio'!F15 -> 20 | G12: ='Collected to Claims Ratio'!G15 -> 543 | H12: ='Collected to Claims Ratio'!H15 -> 364 | M12: ='Collected to Claims Ratio'!K15 -> Army | N12: ='Collected to Claims Ratio'!L15 -> 141758 | O12: ='Collected to Claims Ratio'!M15 -> 114618 | P12: ='Collected to Claims Ratio'!N15 -> 135950 | Q12: ='Collected to Claims Ratio'!O15 -> 141693 | R12: ='Collected to Claims Ratio'!P15 -> 140661 | S12: ='Collected to Claims Ratio'!Q15 -> 164931
B13: ='Collected to Claims Ratio'!B16 -> Navy | C13: ='Collected to Claims Ratio'!C16 -> 206 | D13: ='Collected to Claims Ratio'!D16 -> 231 | E13: ='Collected to Claims Ratio'!E16 -> 147 | F13: ='Collected to Claims Ratio'!F16 -> 128 | G13: ='Collected to Claims Ratio'!G16 -> 181 | H13: ='Collected to Claims Ratio'!H16 -> 155 | M13: ='Collected to Claims Ratio'!K16 -> Navy | N13: ='Collected to Claims Ratio'!L16 -> 53587 | O13: ='Collected to Claims Ratio'!M16 -> 58096 | P13: ='Collected to Claims Ratio'!N16 -> 54984 | Q13: ='Collected to Claims Ratio'!O16 -> 54806 | R13: ='Collected to Claims Ratio'!P16 -> 67554 | S13: ='Collected to Claims Ratio'!Q16 -> 94958
B14: ='Collected to Claims Ratio'!B14 -> Air Force | C14: ='Collected to Claims Ratio'!C14 -> 200 | D14: ='Collected to Claims Ratio'!D14 -> 215 | E14: ='Collected to Claims Ratio'!E14 -> 102 | F14: ='Collected to Claims Ratio'!F14 -> 0 | G14: ='Collected to Claims Ratio'!G14 -> 177 | H14: ='Collected to Claims Ratio'!H14 -> 164 | M14: ='Collected to Claims Ratio'!K14 -> Air Force | N14: ='Collected to Claims Ratio'!L14 -> 305266 | O14: ='Collected to Claims Ratio'!M14 -> 221959 | P14: ='Collected to Claims Ratio'!N14 -> 272493 | Q14: ='Collected to Claims Ratio'!O14 -> 261771 | R14: ='Collected to Claims Ratio'!P14 -> 224455 | S14: ='Collected to Claims Ratio'!Q14 -> 239812
B15: Total | C15: =SUM(C12:C14) -> 796 | D15: =SUM(D12:D14) -> 917 | E15: =SUM(E12:E14) -> 678 | F15: =SUM(F12:F14) -> 148 | G15: =SUM(G12:G14) -> 901 | H15: =SUM(H12:H14) -> 683 | M15: Total | N15: =SUM(N12:N14) -> 500611 | O15: =SUM(O12:O14) -> 394673 | P15: =SUM(P12:P14) -> 463427 | Q15: =SUM(Q12:Q14) -> 458270 | R15: =SUM(R12:R14) -> 432670 | S15: =SUM(S12:S14) -> 499701
B17: Inpatient Collections to Claims | M17: Outpatient Collections to Claims
B18: Service | C18: FY2007 | D18: FY2008 | E18: FY2009 | F18: FY2010 | G18: FY2011 | H18: FY2012 | M18: Service | N18: FY2007 | O18: FY2008 | P18: FY2009 | Q18: FY2010 | R18: FY2011 | S18: FY2012
B19: ='Collected to Claims Ratio'!B22 -> Army | C19: ='Collected to Claims Ratio'!C22 -> 0.13076923 | D19: ='Collected to Claims Ratio'!D22 -> 0.12738854 | E19: ='Collected to Claims Ratio'!E22 -> 0.034965035 | F19: ='Collected to Claims Ratio'!F22 -> 0.1 | G19: ='Collected to Claims Ratio'!G22 -> 0.095764273 | H19: ='Collected to Claims Ratio'!H22 -> 0.03021978 | M19: ='Collected to Claims Ratio'!K22 -> Army | N19: ='Collected to Claims Ratio'!L22 -> 0.19639103 | O19: ='Collected to Claims Ratio'!M22 -> 0.16437209 | P19: ='Collected to Claims Ratio'!N22 -> 0.18803972 | Q19: ='Collected to Claims Ratio'!O22 -> 0.20615697 | R19: ='Collected to Claims Ratio'!P22 -> 0.26206269 | S19: ='Collected to Claims Ratio'!Q22 -> 0.14817712
B20: ='Collected to Claims Ratio'!B23 -> Navy | C20: ='Collected to Claims Ratio'!C23 -> 0.2038835 | D20: ='Collected to Claims Ratio'!D23 -> 0.095238095 | E20: ='Collected to Claims Ratio'!E23 -> 0.034013605 | F20: ='Collected to Claims Ratio'!F23 -> 0.1328125 | G20: ='Collected to Claims Ratio'!G23 -> 0.13259669 | H20: ='Collected to Claims Ratio'!H23 -> 0.038709677 | M20: ='Collected to Claims Ratio'!K23 -> Navy | N20: ='Collected to Claims Ratio'!L23 -> 0.17285909 | O20: ='Collected to Claims Ratio'!M23 -> 0.12469017 | P20: ='Collected to Claims Ratio'!N23 -> 0.17272297 | Q20: ='Collected to Claims Ratio'!O23 -> 0.22201949 | R20: ='Collected to Claims Ratio'!P23 -> 0.22054949 | S20: ='Collected to Claims Ratio'!Q23 -> 0.15596369
B21: ='Collected to Claims Ratio'!B21 -> Air Force | C21: ='Collected to Claims Ratio'!C21 -> 0.03 | D21: ='Collected to Claims Ratio'!D21 -> 0.060465116 | E21: ='Collected to Claims Ratio'!E21 -> 0.0098039216 | F21: ='Collected to Claims Ratio'!F21 -> #DIV/0! | G21: ='Collected to Claims Ratio'!G21 -> 0 | H21: ='Collected to Claims Ratio'!H21 -> 0 | M21: ='Collected to Claims Ratio'!K21 -> Air Force | N21: ='Collected to Claims Ratio'!L21 -> 0.11711425 | O21: ='Collected to Claims Ratio'!M21 -> 0.095427534 | P21: ='Collected to Claims Ratio'!N21 -> 0.08882063 | Q21: ='Collected to Claims Ratio'!O21 -> 0.1114371 | R21: ='Collected to Claims Ratio'!P21 -> 0.12830189 | S21: ='Collected to Claims Ratio'!Q21 -> 0.15713559
B22: Total | C22: ='Collected to Claims Ratio'!C24 -> 0.12437186 | D22: ='Collected to Claims Ratio'!D24 -> 0.10359869 | E22: ='Collected to Claims Ratio'!E24 -> 0.030973451 | F22: ='Collected to Claims Ratio'!F24 -> 0.12837838 | G22: ='Collected to Claims Ratio'!G24 -> 0.084350721 | H22: ='Collected to Claims Ratio'!H24 -> 0.02489019 | M22: Total | N22: ='Collected to Claims Ratio'!L24 -> 0.14553016 | O22: ='Collected to Claims Ratio'!M24 -> 0.11975737 | P22: ='Collected to Claims Ratio'!N24 -> 0.12788206 | Q22: ='Collected to Claims Ratio'!O24 -> 0.15394855 | R22: ='Collected to Claims Ratio'!P24 -> 0.1861904 | S22: ='Collected to Claims Ratio'!Q24 -> 0.15395607

Sheet Claims per Disp or Visits rpt
A1: Claims per Non-AD Disposition or Claims per Non-AD Visits
A2: =Summary!A2 -> 1st Quarter
B3: Number of Inpatient Claims | M3: Number of Outpatient Claims
B4: Service | C4: ='Collected to Claims Ratio'!C6 -> FY2007 | D4: ='Collected to Claims Ratio'!D6 -> FY2008 | E4: ='Collected to Claims Ratio'!E6 -> FY2009 | F4: ='Collected to Claims Ratio'!F6 -> FY2010 | G4: ='Collected to Claims Ratio'!G6 -> FY2011 | H4: ='Collected to Claims Ratio'!H6 -> FY2012 | M4: Service | N4: ='Collected to Claims Ratio'!L6 -> FY2007 | O4: ='Collected to Claims Ratio'!M6 -> FY2008 | P4: ='Collected to Claims Ratio'!N6 -> FY2009 | Q4: ='Collected to Claims Ratio'!O6 -> FY2010 | R4: ='Collected to Claims Ratio'!P6 -> FY2011 | S4: ='Collected to Claims Ratio'!Q6 -> FY2012
B5: ='Claims per Disp or Visits'!B7 -> Army | C5: ='Claims per Disp or Visits'!C7 -> 390 | D5: ='Claims per Disp or Visits'!D7 -> 471 | E5: ='Claims per Disp or Visits'!E7 -> 429 | F5: ='Claims per Disp or Visits'!F7 -> 20 | G5: ='Claims per Disp or Visits'!G7 -> 543 | H5: ='Claims per Disp or Visits'!H7 -> 364 | M5: ='Claims per Disp or Visits'!K7 -> Army | N5: ='Claims per Disp or Visits'!L7 -> 141758 | O5: ='Claims per Disp or Visits'!M7 -> 114618 | P5: ='Claims per Disp or Visits'!N7 -> 135950 | Q5: ='Claims per Disp or Visits'!O7 -> 141693 | R5: ='Claims per Disp or Visits'!P7 -> 140661 | S5: ='Claims per Disp or Visits'!Q7 -> 164931
B6: ='Claims per Disp or Visits'!B8 -> Navy | C6: ='Claims per Disp or Visits'!C8 -> 206 | D6: ='Claims per Disp or Visits'!D8 -> 231 | E6: ='Claims per Disp or Visits'!E8 -> 147 | F6: ='Claims per Disp or Visits'!F8 -> 128 | G6: ='Claims per Disp or Visits'!G8 -> 181 | H6: ='Claims per Disp or Visits'!H8 -> 155 | M6: ='Claims per Disp or Visits'!K8 -> Navy | N6: ='Claims per Disp or Visits'!L8 -> 53587 | O6: ='Claims per Disp or Visits'!M8 -> 58096 | P6: ='Claims per Disp or Visits'!N8 -> 54984 | Q6: ='Claims per Disp or Visits'!O8 -> 54806 | R6: ='Claims per Disp or Visits'!P8 -> 67554 | S6: ='Claims per Disp or Visits'!Q8 -> 94958
B7: ='Claims per Disp or Visits'!B6 -> Air Force | C7: ='Claims per Disp or Visits'!C6 -> 200 | D7: ='Claims per Disp or Visits'!D6 -> 215 | E7: ='Claims per Disp or Visits'!E6 -> 102 | F7: ='Claims per Disp or Visits'!F6 -> 0 | G7: ='Claims per Disp or Visits'!G6 -> 177 | H7: ='Claims per Disp or Visits'!H6 -> 164 | M7: ='Claims per Disp or Visits'!K6 -> Air Force | N7: ='Claims per Disp or Visits'!L6 -> 305266 | O7: ='Claims per Disp or Visits'!M6 -> 221959 | P7: ='Claims per Disp or Visits'!N6 -> 272493 | Q7: ='Claims per Disp or Visits'!O6 -> 261771 | R7: ='Claims per Disp or Visits'!P6 -> 224455 | S7: ='Claims per Disp or Visits'!Q6 -> 239812
B8: Total | C8: =SUM(C5:C7) -> 796 | D8: =SUM(D5:D7) -> 917 | E8: =SUM(E5:E7) -> 678 | F8: =SUM(F5:F7) -> 148 | G8: =SUM(G5:G7) -> 901 | H8: =SUM(H5:H7) -> 683 | M8: Total | N8: =SUM(N5:N7) -> 500611 | O8: =SUM(O5:O7) -> 394673 | P8: =SUM(P5:P7) -> 463427 | Q8: =SUM(Q5:Q7) -> 458270 | R8: =SUM(R5:R7) -> 432670 | S8: =SUM(S5:S7) -> 499701
B10: Number of Non-Active-Duty Inpatient Dispositions | M10: Number of Non-Active-Duty Outpatient Visits
B11: Service | C11: ='Collected to Claims Ratio'!C13 -> FY2007 | D11: ='Collected to Claims Ratio'!D13 -> FY2008 | E11: ='Collected to Claims Ratio'!E13 -> FY2009 | F11: ='Collected to Claims Ratio'!F13 -> FY2010 | G11: ='Collected to Claims Ratio'!G13 -> FY2011 | H11: ='Collected to Claims Ratio'!H13 -> FY2012 | M11: Service | N11: ='Collected to Claims Ratio'!L13 -> FY2007 | O11: ='Collected to Claims Ratio'!M13 -> FY2008 | P11: ='Collected to Claims Ratio'!N13 -> FY2009 | Q11: ='Collected to Claims Ratio'!O13 -> FY2010 | R11: ='Collected to Claims Ratio'!P13 -> FY2011 | S11: ='Collected to Claims Ratio'!Q13 -> FY2012
B12: ='Claims per Disp or Visits'!B14 -> Army | C12: ='Claims per Disp or Visits'!C14 -> 24059 | D12: ='Claims per Disp or Visits'!D14 -> 24711 | E12: ='Claims per Disp or Visits'!E14 -> 24998 | F12: ='Claims per Disp or Visits'!F14 -> 25654 | G12: ='Claims per Disp or Visits'!G14 -> 26843 | H12: ='Claims per Disp or Visits'!H14 -> 27509 | M12: ='Claims per Disp or Visits'!K14 -> Army | N12: ='Claims per Disp or Visits'!L14 -> 1788526 | O12: ='Claims per Disp or Visits'!M14 -> 1737946 | P12: ='Claims per Disp or Visits'!N14 -> 1611845 | Q12: ='Claims per Disp or Visits'!O14 -> 1574313 | R12: ='Claims per Disp or Visits'!P14 -> 2059376 | S12: ='Claims per Disp or Visits'!Q14 -> 1590490
B13: ='Claims per Disp or Visits'!B15 -> Navy | C13: ='Claims per Disp or Visits'!C15 -> 14636 | D13: ='Claims per Disp or Visits'!D15 -> 14213 | E13: ='Claims per Disp or Visits'!E15 -> 13241 | F13: ='Claims per Disp or Visits'!F15 -> 13884 | G13: ='Claims per Disp or Visits'!G15 -> 13580 | H13: ='Claims per Disp or Visits'!H15 -> 14359 | M13: ='Claims per Disp or Visits'!K15 -> Navy | N13: ='Claims per Disp or Visits'!L15 -> 1040608 | O13: ='Claims per Disp or Visits'!M15 -> 910196 | P13: ='Claims per Disp or Visits'!N15 -> 1558283 | Q13: ='Claims per Disp or Visits'!O15 -> 960335 | R13: ='Claims per Disp or Visits'!P15 -> 844988 | S13: ='Claims per Disp or Visits'!Q15 -> 782604
B14: ='Claims per Disp or Visits'!B13 -> Air Force | C14: ='Claims per Disp or Visits'!C13 -> 8518 | D14: ='Claims per Disp or Visits'!D13 -> 8689 | E14: ='Claims per Disp or Visits'!E13 -> 8827 | F14: ='Claims per Disp or Visits'!F13 -> 9064 | G14: ='Claims per Disp or Visits'!G13 -> 7955 | H14: ='Claims per Disp or Visits'!H13 -> 6290 | M14: ='Claims per Disp or Visits'!K13 -> Air Force | N14: ='Claims per Disp or Visits'!L13 -> 867654 | O14: ='Claims per Disp or Visits'!M13 -> 866851 | P14: ='Claims per Disp or Visits'!N13 -> 862283 | Q14: ='Claims per Disp or Visits'!O13 -> 821283 | R14: ='Claims per Disp or Visits'!P13 -> 758621 | S14: ='Claims per Disp or Visits'!Q13 -> 754284
B15: Total | C15: =SUM(C12:C14) -> 47213 | D15: =SUM(D12:D14) -> 47613 | E15: =SUM(E12:E14) -> 47066 | F15: =SUM(F12:F14) -> 48602 | G15: =SUM(G12:G14) -> 48378 | H15: =SUM(H12:H14) -> 48158 | M15: Total | N15: =SUM(N12:N14) -> 3696788 | O15: =SUM(O12:O14) -> 3514993 | P15: =SUM(P12:P14) -> 4032411 | Q15: =SUM(Q12:Q14) -> 3355931 | R15: =SUM(R12:R14) -> 3662985 | S15: =SUM(S12:S14) -> 3127378
B17: Inpatient Claims per Non-Active-Duty Disposition | M17: Outpatient Claims per Non-Active-Duty Visit
B18: Service | C18: ='Collected to Claims Ratio'!C20 -> FY2007 | D18: ='Collected to Claims Ratio'!D20 -> FY2008 | E18: ='Collected to Claims Ratio'!E20 -> FY2009 | F18: ='Collected to Claims Ratio'!F20 -> FY2010 | G18: ='Collected to Claims Ratio'!G20 -> FY2011 | H18: ='Collected to Claims Ratio'!H20 -> FY2012 | M18: Service | N18: ='Collected to Claims Ratio'!L20 -> FY2007 | O18: ='Collected to Claims Ratio'!M20 -> FY2008 | P18: ='Collected to Claims Ratio'!N20 -> FY2009 | Q18: ='Collected to Claims Ratio'!O20 -> FY2010 | R18: ='Collected to Claims Ratio'!P20 -> FY2011 | S18: ='Collected to Claims Ratio'!Q20 -> FY2012
B19: ='Claims per Disp or Visits'!B21 -> Army | C19: ='Claims per Disp or Visits'!C21 -> 0.01621015 | D19: ='Claims per Disp or Visits'!D21 -> 0.019060338 | E19: ='Claims per Disp or Visits'!E21 -> 0.017161373 | F19: ='Claims per Disp or Visits'!F21 -> 0.00077960552 | G19: ='Claims per Disp or Visits'!G21 -> 0.020228737 | H19: ='Claims per Disp or Visits'!H21 -> 0.013232033 | M19: ='Claims per Disp or Visits'!K21 -> Army | N19: ='Claims per Disp or Visits'!L21 -> 0.079259681 | O19: ='Claims per Disp or Visits'!M21 -> 0.065950265 | P19: ='Claims per Disp or Visits'!N21 -> 0.084344338 | Q19: ='Claims per Disp or Visits'!O21 -> 0.090003068 | R19: ='Claims per Disp or Visits'!P21 -> 0.068302729 | S19: ='Claims per Disp or Visits'!Q21 -> 0.10369823
B20: ='Claims per Disp or Visits'!B22 -> Navy | C20: ='Claims per Disp or Visits'!C22 -> 0.014074884 | D20: ='Claims per Disp or Visits'!D22 -> 0.016252726 | E20: ='Claims per Disp or Visits'!E22 -> 0.011101881 | F20: ='Claims per Disp or Visits'!F22 -> 0.0092192452 | G20: ='Claims per Disp or Visits'!G22 -> 0.013328424 | H20: ='Claims per Disp or Visits'!H22 -> 0.010794624 | M20: ='Claims per Disp or Visits'!K22 -> Navy | N20: ='Claims per Disp or Visits'!L22 -> 0.051495856 | O20: ='Claims per Disp or Visits'!M22 -> 0.063828011 | P20: ='Claims per Disp or Visits'!N22 -> 0.03528499 | Q20: ='Claims per Disp or Visits'!O22 -> 0.057069668 | R20: ='Claims per Disp or Visits'!P22 -> 0.079946697 | S20: ='Claims per Disp or Visits'!Q22 -> 0.12133595
B21: ='Claims per Disp or Visits'!B20 -> Air Force | C21: ='Claims per Disp or Visits'!C20 -> 0.02347969 | D21: ='Claims per Disp or Visits'!D20 -> 0.024743929 | E21: ='Claims per Disp or Visits'!E20 -> 0.011555455 | F21: ='Claims per Disp or Visits'!F20 -> 0 | G21: ='Claims per Disp or Visits'!G20 -> 0.022250157 | H21: ='Claims per Disp or Visits'!H20 -> 0.026073132 | M21: ='Claims per Disp or Visits'!K20 -> Air Force | N21: ='Claims per Disp or Visits'!L20 -> 0.35182919 | O21: ='Claims per Disp or Visits'!M20 -> 0.25605208 | P21: ='Claims per Disp or Visits'!N20 -> 0.31601342 | Q21: ='Claims per Disp or Visits'!O20 -> 0.31873422 | R21: ='Claims per Disp or Visits'!P20 -> 0.29587238 | S21: ='Claims per Disp or Visits'!Q20 -> 0.3179333
B22: Total | C22: ='Claims per Disp or Visits'!C23 -> 0.016859763 | D22: ='Claims per Disp or Visits'!D23 -> 0.019259446 | E22: ='Claims per Disp or Visits'!E23 -> 0.014405303 | F22: ='Claims per Disp or Visits'!F23 -> 0.0030451422 | G22: ='Claims per Disp or Visits'!G23 -> 0.018624168 | H22: ='Claims per Disp or Visits'!H23 -> 0.014182483 | M22: Total | N22: ='Claims per Disp or Visits'!L23 -> 0.13541783 | O22: ='Claims per Disp or Visits'!M23 -> 0.11228273 | P22: ='Claims per Disp or Visits'!N23 -> 0.11492554 | Q22: ='Claims per Disp or Visits'!O23 -> 0.13655525 | R22: ='Claims per Disp or Visits'!P23 -> 0.11811951 | S22: ='Claims per Disp or Visits'!Q23 -> 0.15978273

Sheet Total Collections
A1: Total Collections
A2: =Summary!A2 -> 1st Quarter
C4: Total IP Collections for a FY
B5: Service | C5: FY2007 | D5: FY2008 | E5: FY2009 | F5: FY2010 | G5: FY2011 | H5: FY2012
B6: Air Force | C6: =Details!C5 -> 1950294.6 | D6: =Details!D5 -> 2497448.7 | E6: =Details!E5 -> 1616361.5 | F6: =Details!F5 -> 3450331.2 | G6: =Details!G5 -> 2884677.3 | H6: =Details!H5 -> 1009098.3
B7: Army | C7: =Details!C6 -> 3532730.1 | D7: =Details!D6 -> 5092061 | E7: =Details!E6 -> 7929911.5 | F7: =Details!F6 -> 4543961.9 | G7: =Details!G6 -> 5422816.5 | H7: =Details!H6 -> 5235483.8
B8: Navy | C8: =Details!C7 -> 2190985.8 | D8: =Details!D7 -> 1708284.4 | E8: =Details!E7 -> 1750675.2 | F8: =Details!F7 -> 1730302.2 | G8: =Details!G7 -> 1788819.4 | H8: =Details!H7 -> 1280733.3
B9: Total | C9: =SUM(C6:C8) -> 7674010.5 | D9: =SUM(D6:D8) -> 9297794.1 | E9: =SUM(E6:E8) -> 11296948 | F9: =SUM(F6:F8) -> 9724595.3 | G9: =SUM(G6:G8) -> 10096313 | H9: =SUM(H6:H8) -> 7525315.4
C12: Total OP Collections for FY
B13: Service | C13: FY2007 | D13: FY2008 | E13: FY2009 | F13: FY2010 | G13: FY2011 | H13: FY2012
B14: Air Force | C14: =Details!C13 -> 10951101 | D14: =Details!D13 -> 17319953 | E14: =Details!E13 -> 19703652 | F14: =Details!F13 -> 22666191 | G14: =Details!G13 -> 19932365 | H14: =Details!H13 -> 15272274
B15: Army | C15: =Details!C14 -> 8069309.2 | D15: =Details!D14 -> 12481400 | E15: =Details!E14 -> 15612256 | F15: =Details!F14 -> 19018555 | G15: =Details!G14 -> 14293851 | H15: =Details!H14 -> 13749816
B16: Navy | C16: =Details!C15 -> 4345159.5 | D16: =Details!D15 -> 7220976.8 | E16: =Details!E15 -> 8544454.9 | F16: =Details!F15 -> 9108188.1 | G16: =Details!G15 -> 7170078.8 | H16: =Details!H15 -> 6023582.4
B17: Total | C17: =SUM(C14:C16) -> 23365570 | D17: =SUM(D14:D16) -> 37022330 | E17: =SUM(E14:E16) -> 43860364 | F17: =SUM(F14:F16) -> 50792934 | G17: =SUM(G14:G16) -> 41396295 | H17: =SUM(H14:H16) -> 35045673
A19: IP
A20: Is AF IP FY2012 data greater than FY2011? | H20: =IF(H6-G6>0,"yes","no") -> no
A21: Is A IP FY2012 data greater than FY2011? | H21: =IF(H7-G7>0,"yes","no") -> no
A22: Is N IP FY2012 data greater than FY2011? | H22: =IF(H8-G8>0,"yes","no") -> no
A24: Is AF OP FY2012 data greater than FY2011? | H24: =IF(H14-G14>0,"yes","no") -> no
A25: Is A OP FY2012 data greater than FY2011? | H25: =IF(H15-G15>0,"yes","no") -> no
A26: Is N OP FY2012 data greater than FY2011? | H26: =IF(H16-G16>0,"yes","no") -> no

Sheet Total Billings
A1: Total Billings
A2: =Summary!A2 -> 1st Quarter
C4: Total IP Billings for CFY in CFY
B5: Service | C5: FY2007 | D5: FY2008 | E5: FY2009 | F5: FY2010 | G5: FY2011 | H5: FY2012
B6: Air Force | C6: =Details!C21 -> 3284438.8 | D6: =Details!D21 -> 4881711.6 | E6: =Details!E21 -> 3790827.9 | F6: =Details!F21 -> 410806.97 | G6: =Details!G21 -> 2949124.8 | H6: =Details!H21 -> 2811704
B7: Army | C7: =Details!C22 -> 6687548.2 | D7: =Details!D22 -> 11460686 | E7: =Details!E22 -> 7865228.6 | F7: =Details!F22 -> 204899.92 | G7: =Details!G22 -> 11777074 | H7: =Details!H22 -> 8090686.8
B8: Navy | C8: =Details!C23 -> 3583937.7 | D8: =Details!D23 -> 3867275.5 | E8: =Details!E23 -> 2201263.1 | F8: =Details!F23 -> 1859532.2 | G8: =Details!G23 -> 3581438.3 | H8: =Details!H23 -> 3693980.4
B9: Total | C9: =SUM(C6:C8) -> 13555925 | D9: =SUM(D6:D8) -> 20209673 | E9: =SUM(E6:E8) -> 13857320 | F9: =SUM(F6:F8) -> 2475239.1 | G9: =SUM(G6:G8) -> 18307637 | H9: =SUM(H6:H8) -> 14596371
C12: Total OP Billings for CFY in CFY
B13: Service | C13: FY2007 | D13: FY2008 | E13: FY2009 | F13: FY2010 | G13: FY2011 | H13: FY2012
B14: Air Force | C14: =Details!C29 -> 35459490 | D14: =Details!D29 -> 33412442 | E14: =Details!E29 -> 43114463 | F14: =Details!F29 -> 41741670 | G14: =Details!G29 -> 25902855 | H14: =Details!H29 -> 27124145
B15: Army | C15: =Details!C30 -> 13362226 | D15: =Details!D30 -> 12982307 | E15: =Details!E30 -> 16651408 | F15: =Details!F30 -> 17161731 | G15: =Details!G30 -> 13134324 | H15: =Details!H30 -> 15022176
B16: Navy | C16: =Details!C31 -> 6103388 | D16: =Details!D31 -> 7860324.5 | E16: =Details!E31 -> 7642220.7 | F16: =Details!F31 -> 7580680.2 | G16: =Details!G31 -> 6399089.2 | H16: =Details!H31 -> 8754092.4
B17: Total | C17: =SUM(C14:C16) -> 54925104 | D17: =SUM(D14:D16) -> 54255074 | E17: =SUM(E14:E16) -> 67408092 | F17: =SUM(F14:F16) -> 66484082 | G17: =SUM(G14:G16) -> 45436268 | H17: =SUM(H14:H16) -> 50900414
A19: IP
A20: Is AF IP FY2012 data greater than FY2011? | H20: =IF(H6-G6>0,"yes","no") -> no
A21: Is A IP FY2012 data greater than FY2011? | H21: =IF(H7-G7>0,"yes","no") -> no
A22: Is N IP FY2012 data greater than FY2011? | H22: =IF(H8-G8>0,"yes","no") -> yes
A24: Is AF OP FY2012 data greater than FY2011? | H24: =IF(H14-G14>0,"yes","no") -> yes
A25: Is A OP FY2012 data greater than FY2011? | H25: =IF(H15-G15>0,"yes","no") -> yes
A26: Is N OP FY2012 data greater than FY2011? | H26: =IF(H16-G16>0,"yes","no") -> yes

Sheet Collected to Claims Ratio
A1: Collected to Claims Issued Ratio
A2: =Summary!A2 -> 1st Quarter
C5: Num of IP Collections for CFY | L5: Num of OP Collections for CFY
B6: Service | C6: FY2007 | D6: FY2008 | E6: FY2009 | F6: FY2010 | G6: FY2011 | H6: FY2012 | K6: Service | L6: FY2007 | M6: FY2008 | N6: FY2009 | O6: FY2010 | P6: FY2011 | Q6: FY2012
B7: Air Force | C7: =Details!C37 -> 6 | D7: =Details!D37 -> 13 | E7: =Details!E37 -> 1 | F7: =Details!F37 -> 0 | G7: =Details!G37 -> 0 | H7: =Details!H37 -> 0 | K7: Air Force | L7: =Details!C61 -> 35751 | M7: =Details!D61 -> 21181 | N7: =Details!E61 -> 24203 | O7: =Details!F61 -> 29171 | P7: =Details!G61 -> 28798 | Q7: =Details!H61 -> 37683
B8: Army | C8: =Details!C38 -> 51 | D8: =Details!D38 -> 60 | E8: =Details!E38 -> 15 | F8: =Details!F38 -> 2 | G8: =Details!G38 -> 52 | H8: =Details!H38 -> 11 | K8: Army | L8: =Details!C62 -> 27840 | M8: =Details!D62 -> 18840 | N8: =Details!E62 -> 25564 | O8: =Details!F62 -> 29211 | P8: =Details!G62 -> 36862 | Q8: =Details!H62 -> 24439
B9: Navy | C9: =Details!C39 -> 42 | D9: =Details!D39 -> 22 | E9: =Details!E39 -> 5 | F9: =Details!F39 -> 17 | G9: =Details!G39 -> 24 | H9: =Details!H39 -> 6 | K9: Navy | L9: =Details!C63 -> 9263 | M9: =Details!D63 -> 7244 | N9: =Details!E63 -> 9497 | O9: =Details!F63 -> 12168 | P9: =Details!G63 -> 14899 | Q9: =Details!H63 -> 14810
B10: Total | C10: =SUM(C7:C9) -> 99 | D10: =SUM(D7:D9) -> 95 | E10: =SUM(E7:E9) -> 21 | F10: =SUM(F7:F9) -> 19 | G10: =SUM(G7:G9) -> 76 | H10: =SUM(H7:H9) -> 17 | K10: Total | L10: =SUM(L7:L9) -> 72854 | M10: =SUM(M7:M9) -> 47265 | N10: =SUM(N7:N9) -> 59264 | O10: =SUM(O7:O9) -> 70550 | P10: =SUM(P7:P9) -> 80559 | Q10: =SUM(Q7:Q9) -> 76932
C12: Num of IP Claims for CFY | L12: Num of OP Claims for CFY
B13: Service | C13: FY2007 | D13: FY2008 | E13: FY2009 | F13: FY2010 | G13: FY2011 | H13: FY2012 | K13: Service | L13: FY2007 | M13: FY2008 | N13: FY2009 | O13: FY2010 | P13: FY2011 | Q13: FY2012
B14: Air Force | C14: =Details!C45 -> 200 | D14: =Details!D45 -> 215 | E14: =Details!E45 -> 102 | F14: =Details!F45 -> 0 | G14: =Details!G45 -> 177 | H14: =Details!H45 -> 164 | K14: Air Force | L14: =Details!C69 -> 305266 | M14: =Details!D69 -> 221959 | N14: =Details!E69 -> 272493 | O14: =Details!F69 -> 261771 | P14: =Details!G69 -> 224455 | Q14: =Details!H69 -> 239812
B15: Army | C15: =Details!C46 -> 390 | D15: =Details!D46 -> 471 | E15: =Details!E46 -> 429 | F15: =Details!F46 -> 20 | G15: =Details!G46 -> 543 | H15: =Details!H46 -> 364 | K15: Army | L15: =Details!C70 -> 141758 | M15: =Details!D70 -> 114618 | N15: =Details!E70 -> 135950 | O15: =Details!F70 -> 141693 | P15: =Details!G70 -> 140661 | Q15: =Details!H70 -> 164931
B16: Navy | C16: =Details!C47 -> 206 | D16: =Details!D47 -> 231 | E16: =Details!E47 -> 147 | F16: =Details!F47 -> 128 | G16: =Details!G47 -> 181 | H16: =Details!H47 -> 155 | K16: Navy | L16: =Details!C71 -> 53587 | M16: =Details!D71 -> 58096 | N16: =Details!E71 -> 54984 | O16: =Details!F71 -> 54806 | P16: =Details!G71 -> 67554 | Q16: =Details!H71 -> 94958
B17: Total | C17: =SUM(C14:C16) -> 796 | D17: =SUM(D14:D16) -> 917 | E17: =SUM(E14:E16) -> 678 | F17: =SUM(F14:F16) -> 148 | G17: =SUM(G14:G16) -> 901 | H17: =SUM(H14:H16) -> 683 | K17: Total | L17: =SUM(L14:L16) -> 500611 | M17: =SUM(M14:M16) -> 394673 | N17: =SUM(N14:N16) -> 463427 | O17: =SUM(O14:O16) -> 458270 | P17: =SUM(P14:P16) -> 432670 | Q17: =SUM(Q14:Q16) -> 499701
C19: IP Collections to Claims for CFY | L19: OP Collections to Claims for CFY
B20: Service | C20: FY2007 | D20: FY2008 | E20: FY2009 | F20: FY2010 | G20: FY2011 | H20: FY2012 | K20: Service | L20: FY2007 | M20: FY2008 | N20: FY2009 | O20: FY2010 | P20: FY2011 | Q20: FY2012
B21: Air Force | C21: =C7/C14 -> 0.03 | D21: =D7/D14 -> 0.060465116 | E21: =E7/E14 -> 0.0098039216 | F21: =F7/F14 -> #DIV/0! | G21: =G7/G14 -> 0 | H21: =H7/H14 -> 0 | K21: Air Force | L21: =L7/L14 -> 0.11711425 | M21: =M7/M14 -> 0.095427534 | N21: =N7/N14 -> 0.08882063 | O21: =O7/O14 -> 0.1114371 | P21: =P7/P14 -> 0.12830189 | Q21: =Q7/Q14 -> 0.15713559
B22: Army | C22: =C8/C15 -> 0.13076923 | D22: =D8/D15 -> 0.12738854 | E22: =E8/E15 -> 0.034965035 | F22: =F8/F15 -> 0.1 | G22: =G8/G15 -> 0.095764273 | H22: =H8/H15 -> 0.03021978 | K22: Army | L22: =L8/L15 -> 0.19639103 | M22: =M8/M15 -> 0.16437209 | N22: =N8/N15 -> 0.18803972 | O22: =O8/O15 -> 0.20615697 | P22: =P8/P15 -> 0.26206269 | Q22: =Q8/Q15 -> 0.14817712
B23: Navy | C23: =C9/C16 -> 0.2038835 | D23: =D9/D16 -> 0.095238095 | E23: =E9/E16 -> 0.034013605 | F23: =F9/F16 -> 0.1328125 | G23: =G9/G16 -> 0.13259669 | H23: =H9/H16 -> 0.038709677 | K23: Navy | L23: =L9/L16 -> 0.17285909 | M23: =M9/M16 -> 0.12469017 | N23: =N9/N16 -> 0.17272297 | O23: =O9/O16 -> 0.22201949 | P23: =P9/P16 -> 0.22054949 | Q23: =Q9/Q16 -> 0.15596369
B24: Total | C24: =C10/C17 -> 0.12437186 | D24: =D10/D17 -> 0.10359869 | E24: =E10/E17 -> 0.030973451 | F24: =F10/F17 -> 0.12837838 | G24: =G10/G17 -> 0.084350721 | H24: =H10/H17 -> 0.02489019 | K24: Total | L24: =L10/L17 -> 0.14553016 | M24: =M10/M17 -> 0.11975737 | N24: =N10/N17 -> 0.12788206 | O24: =O10/O17 -> 0.15394855 | P24: =P10/P17 -> 0.1861904 | Q24: =Q10/Q17 -> 0.15395607

Sheet Claims per Disp or Visits
A1: Claims per Disposition or Claims per Visits
A2: =Summary!A2 -> 1st Quarter
C4: ='Collected to Claims Ratio'!C12 -> Num of IP Claims for CFY | L4: ='Collected to Claims Ratio'!L12 -> Num of OP Claims for CFY
B5: ='Collected to Claims Ratio'!B13 -> Service | C5: ='Collected to Claims Ratio'!C13 -> FY2007 | D5: ='Collected to Claims Ratio'!D13 -> FY2008 | E5: ='Collected to Claims Ratio'!E13 -> FY2009 | F5: ='Collected to Claims Ratio'!F13 -> FY2010 | G5: ='Collected to Claims Ratio'!G13 -> FY2011 | H5: FY2011 | K5: Service | L5: ='Collected to Claims Ratio'!L13 -> FY2007 | M5: ='Collected to Claims Ratio'!M13 -> FY2008 | N5: ='Collected to Claims Ratio'!N13 -> FY2009 | O5: ='Collected to Claims Ratio'!O13 -> FY2010 | P5: ='Collected to Claims Ratio'!P13 -> FY2011 | Q5: FY2011
B6: ='Collected to Claims Ratio'!B14 -> Air Force | C6: ='Collected to Claims Ratio'!C14 -> 200 | D6: ='Collected to Claims Ratio'!D14 -> 215 | E6: ='Collected to Claims Ratio'!E14 -> 102 | F6: ='Collected to Claims Ratio'!F14 -> 0 | G6: ='Collected to Claims Ratio'!G14 -> 177 | H6: ='Collected to Claims Ratio'!H14 -> 164 | K6: ='Collected to Claims Ratio'!K14 -> Air Force | L6: ='Collected to Claims Ratio'!L14 -> 305266 | M6: ='Collected to Claims Ratio'!M14 -> 221959 | N6: ='Collected to Claims Ratio'!N14 -> 272493 | O6: ='Collected to Claims Ratio'!O14 -> 261771 | P6: ='Collected to Claims Ratio'!P14 -> 224455 | Q6: ='Collected to Claims Ratio'!Q14 -> 239812
B7: ='Collected to Claims Ratio'!B15 -> Army | C7: ='Collected to Claims Ratio'!C15 -> 390 | D7: ='Collected to Claims Ratio'!D15 -> 471 | E7: ='Collected to Claims Ratio'!E15 -> 429 | F7: ='Collected to Claims Ratio'!F15 -> 20 | G7: ='Collected to Claims Ratio'!G15 -> 543 | H7: ='Collected to Claims Ratio'!H15 -> 364 | K7: ='Collected to Claims Ratio'!K15 -> Army | L7: ='Collected to Claims Ratio'!L15 -> 141758 | M7: ='Collected to Claims Ratio'!M15 -> 114618 | N7: ='Collected to Claims Ratio'!N15 -> 135950 | O7: ='Collected to Claims Ratio'!O15 -> 141693 | P7: ='Collected to Claims Ratio'!P15 -> 140661 | Q7: ='Collected to Claims Ratio'!Q15 -> 164931
B8: ='Collected to Claims Ratio'!B16 -> Navy | C8: ='Collected to Claims Ratio'!C16 -> 206 | D8: ='Collected to Claims Ratio'!D16 -> 231 | E8: ='Collected to Claims Ratio'!E16 -> 147 | F8: ='Collected to Claims Ratio'!F16 -> 128 | G8: ='Collected to Claims Ratio'!G16 -> 181 | H8: ='Collected to Claims Ratio'!H16 -> 155 | K8: ='Collected to Claims Ratio'!K16 -> Navy | L8: ='Collected to Claims Ratio'!L16 -> 53587 | M8: ='Collected to Claims Ratio'!M16 -> 58096 | N8: ='Collected to Claims Ratio'!N16 -> 54984 | O8: ='Collected to Claims Ratio'!O16 -> 54806 | P8: ='Collected to Claims Ratio'!P16 -> 67554 | Q8: ='Collected to Claims Ratio'!Q16 -> 94958
B9: ='Collected to Claims Ratio'!B17 -> Total | C9: ='Collected to Claims Ratio'!C17 -> 796 | D9: ='Collected to Claims Ratio'!D17 -> 917 | E9: ='Collected to Claims Ratio'!E17 -> 678 | F9: ='Collected to Claims Ratio'!F17 -> 148 | G9: ='Collected to Claims Ratio'!G17 -> 901 | H9: ='Collected to Claims Ratio'!H17 -> 683 | K9: ='Collected to Claims Ratio'!K17 -> Total | L9: ='Collected to Claims Ratio'!L17 -> 500611 | M9: ='Collected to Claims Ratio'!M17 -> 394673 | N9: ='Collected to Claims Ratio'!N17 -> 463427 | O9: ='Collected to Claims Ratio'!O17 -> 458270 | P9: ='Collected to Claims Ratio'!P17 -> 432670 | Q9: ='Collected to Claims Ratio'!Q17 -> 499701
C11: Number of IP Dispositions for CFY | L11: Number of OP Visits for CFY
B12: Service | C12: ='Collected to Claims Ratio'!L13 -> FY2007 | D12: ='Collected to Claims Ratio'!M13 -> FY2008 | E12: ='Collected to Claims Ratio'!N13 -> FY2009 | F12: ='Collected to Claims Ratio'!O13 -> FY2010 | G12: ='Collected to Claims Ratio'!P13 -> FY2011 | H12: FY2011 | K12: Servcie | L12: ='Collected to Claims Ratio'!L13 -> FY2007 | M12: ='Collected to Claims Ratio'!M13 -> FY2008 | N12: ='Collected to Claims Ratio'!N13 -> FY2009 | O12: ='Collected to Claims Ratio'!O13 -> FY2010 | P12: ='Collected to Claims Ratio'!P13 -> FY2011 | Q12: FY2011
B13: Air Force | C13: =Details!C53 -> 8518 | D13: =Details!D53 -> 8689 | E13: =Details!E53 -> 8827 | F13: =Details!F53 -> 9064 | G13: =Details!G53 -> 7955 | H13: =Details!H53 -> 6290 | K13: Air Force | L13: =Details!C77 -> 867654 | M13: =Details!D77 -> 866851 | N13: =Details!E77 -> 862283 | O13: =Details!F77 -> 821283 | P13: =Details!G77 -> 758621 | Q13: =Details!H77 -> 754284
B14: Army | C14: =Details!C54 -> 24059 | D14: =Details!D54 -> 24711 | E14: =Details!E54 -> 24998 | F14: =Details!F54 -> 25654 | G14: =Details!G54 -> 26843 | H14: =Details!H54 -> 27509 | K14: Army | L14: =Details!C78 -> 1788526 | M14: =Details!D78 -> 1737946 | N14: =Details!E78 -> 1611845 | O14: =Details!F78 -> 1574313 | P14: =Details!G78 -> 2059376 | Q14: =Details!H78 -> 1590490
B15: Navy | C15: =Details!C55 -> 14636 | D15: =Details!D55 -> 14213 | E15: =Details!E55 -> 13241 | F15: =Details!F55 -> 13884 | G15: =Details!G55 -> 13580 | H15: =Details!H55 -> 14359 | K15: Navy | L15: =Details!C79 -> 1040608 | M15: =Details!D79 -> 910196 | N15: =Details!E79 -> 1558283 | O15: =Details!F79 -> 960335 | P15: =Details!G79 -> 844988 | Q15: =Details!H79 -> 782604
B16: Total | C16: =SUM(C13:C15) -> 47213 | D16: =SUM(D13:D15) -> 47613 | E16: =SUM(E13:E15) -> 47066 | F16: =SUM(F13:F15) -> 48602 | G16: =SUM(G13:G15) -> 48378 | H16: =SUM(H13:H15) -> 48158 | K16: Total | L16: =SUM(L13:L15) -> 3696788 | M16: =SUM(M13:M15) -> 3514993 | N16: =SUM(N13:N15) -> 4032411 | O16: =SUM(O13:O15) -> 3355931 | P16: =SUM(P13:P15) -> 3662985 | Q16: =SUM(Q13:Q15) -> 3127378
C18: IP Claim per Disposition for CFY | L18: OP Claims per Visits for CFY
B19: Service | C19: ='Collected to Claims Ratio'!L13 -> FY2007 | D19: ='Collected to Claims Ratio'!M13 -> FY2008 | E19: ='Collected to Claims Ratio'!N13 -> FY2009 | F19: ='Collected to Claims Ratio'!O13 -> FY2010 | G19: ='Collected to Claims Ratio'!P13 -> FY2011 | H19: FY2011 | K19: Service | L19: ='Collected to Claims Ratio'!L13 -> FY2007 | M19: ='Collected to Claims Ratio'!M13 -> FY2008 | N19: ='Collected to Claims Ratio'!N13 -> FY2009 | O19: ='Collected to Claims Ratio'!O13 -> FY2010 | P19: ='Collected to Claims Ratio'!P13 -> FY2011 | Q19: FY2011
B20: Air Force | C20: =C6/C13 -> 0.02347969 | D20: =D6/D13 -> 0.024743929 | E20: =E6/E13 -> 0.011555455 | F20: =F6/F13 -> 0 | G20: =G6/G13 -> 0.022250157 | H20: =H6/H13 -> 0.026073132 | K20: Air Force | L20: =L6/L13 -> 0.35182919 | M20: =M6/M13 -> 0.25605208 | N20: =N6/N13 -> 0.31601342 | O20: =O6/O13 -> 0.31873422 | P20: =P6/P13 -> 0.29587238 | Q20: =Q6/Q13 -> 0.3179333
B21: Army | C21: =C7/C14 -> 0.01621015 | D21: =D7/D14 -> 0.019060338 | E21: =E7/E14 -> 0.017161373 | F21: =F7/F14 -> 0.00077960552 | G21: =G7/G14 -> 0.020228737 | H21: =H7/H14 -> 0.013232033 | K21: Army | L21: =L7/L14 -> 0.079259681 | M21: =M7/M14 -> 0.065950265 | N21: =N7/N14 -> 0.084344338 | O21: =O7/O14 -> 0.090003068 | P21: =P7/P14 -> 0.068302729 | Q21: =Q7/Q14 -> 0.10369823
B22: Navy | C22: =C8/C15 -> 0.014074884 | D22: =D8/D15 -> 0.016252726 | E22: =E8/E15 -> 0.011101881 | F22: =F8/F15 -> 0.0092192452 | G22: =G8/G15 -> 0.013328424 | H22: =H8/H15 -> 0.010794624 | K22: Navy | L22: =L8/L15 -> 0.051495856 | M22: =M8/M15 -> 0.063828011 | N22: =N8/N15 -> 0.03528499 | O22: =O8/O15 -> 0.057069668 | P22: =P8/P15 -> 0.079946697 | Q22: =Q8/Q15 -> 0.12133595
