Workbook

Sheet Summary
A1: QC of Third Party Collections Web Metrics Reporting System Data
A2: 1st Quarter | F2: Data as of 02/05/2012
B6: FY2012 Collection Goals:
B8: Army | C8: 75.8 | D8: million
B9: Navy | C9: 37.3 | D9: million
B10: Air Force | C10: 81.7 | D10: million
B11: Total | C11: =SUM(C8:C10) -> 194.8 | D11: million
B13: FY2012 status, after 1st Quarter | F13: FY 2012, Projected after 4th Quarter | J13: FY 2011, after 4th Quarter
B15: Army | C15: ='Total Collections Rpt'!H22 -> 18.9 | D15: million | F15: =C15*(12/3) -> 75.6 | G15: million | J15: 79.1 | K15: million
B16: Navy | C16: ='Total Collections Rpt'!H23 -> 7.3 | D16: million | F16: =C16*(12/3) -> 29.2 | G16: million | J16: 32.6 | K16: million
B17: Air Force | C17: ='Total Collections Rpt'!H24 -> 16.3 | D17: million | F17: =C17*(12/3) -> 65.2 | G17: million | J17: 78.8 | K17: million
B18: Total | C18: =SUM(C15:C17) -> 42.5 | D18: million | F18: =SUM(F15:F17) -> 170 | G18: million | J18: =SUM(J15:J17) -> 190.5 | K18: million

Sheet Collections Summary
A1: Collections Summary
A2: =Summary!A2 -> 1st Quarter
C4: Inpatient Collections | E4: Outpatient Collections | G4: Total Collections
B5: Service | C5: FY2011 | D5: FY2012 | E5: FY2011 | F5: FY2012 | G5: FY2011 | H5: FY2012
B6: Army | C6: ='Total Collections Rpt'!G6 -> 5.4 | D6: ='Total Collections Rpt'!H6 -> 5.2 | E6: ='Total Collections Rpt'!G14 -> 14.3 | F6: ='Total Collections Rpt'!H14 -> 13.7 | G6: ='Total Collections Rpt'!G22 -> 19.7 | H6: ='Total Collections Rpt'!H22 -> 18.9
B7: Navy | C7: ='Total Collections Rpt'!G7 -> 1.8 | D7: ='Total Collections Rpt'!H7 -> 1.3 | E7: ='Total Collections Rpt'!G15 -> 7.2 | F7: ='Total Collections Rpt'!H15 -> 6 | G7: ='Total Collections Rpt'!G23 -> 9 | H7: ='Total Collections Rpt'!H23 -> 7.3
B8: Air Force | C8: ='Total Collections Rpt'!G8 -> 2.9 | D8: ='Total Collections Rpt'!H8 -> 1 | E8: ='Total Collections Rpt'!G16 -> 19.9 | F8: ='Total Collections Rpt'!H16 -> 15.3 | G8: ='Total Collections Rpt'!G24 -> 22.8 | H8: ='Total Collections Rpt'!H24 -> 16.3
B10: Total | C10: =SUM(C6:C9) -> 10.1 | D10: =SUM(D6:D9) -> 7.5 | E10: =SUM(E6:E9) -> 41.4 | F10: =SUM(F6:F9) -> 35 | G10: =SUM(G6:G9) -> 51.5 | H10: =SUM(H6:H9) -> 42.5
B12: =Summary!F2 -> Data as of 02/05/2012
B13: Note: Collections = CFY + PY1 + PY2

Sheet Billed&Collected
A1: Billed & Collected ($Millions)
A2: =Summary!A2 -> 1st Quarter
B5: Service | C5: FY08 | E5: FY09 | G5: FY10 | I5: FY11 | K5: FY12
C6: Billed | D6: Collected | E6: Billed | F6: Collected | G6: Billed | H6: Collected | I6: Billed | J6: Collected | K6: Billed | L6: Collected
B7: Outpatient
B8: Army | C8: =ROUND('Total Billings'!D15/1000000,1) -> 13 | D8: =ROUND('Total Collections'!D15/1000000,1) -> 12.5 | E8: =ROUND('Total Billings'!E15/1000000,1) -> 16.7 | F8: =ROUND('Total Collections'!E15/1000000,1) -> 15.6 | G8: =ROUND('Total Billings'!F15/1000000,1) -> 17.2 | H8: =ROUND('Total Collections'!F15/1000000,1) -> 19 | I8: =ROUND('Total Billings'!G15/1000000,1) -> 13.1 | J8: =ROUND('Total Collections'!G15/1000000,1) -> 14.3 | K8: =ROUND('Total Billings'!H15/1000000,1) -> 15 | L8: =ROUND('Total Collections'!H15/1000000,1) -> 13.7
B9: Navy | C9: =ROUND('Total Billings'!D16/1000000,1) -> 7.9 | D9: =ROUND('Total Collections'!D16/1000000,1) -> 7.2 | E9: =ROUND('Total Billings'!E16/1000000,1) -> 7.6 | F9: =ROUND('Total Collections'!E16/1000000,1) -> 8.5 | G9: =ROUND('Total Billings'!F16/1000000,1) -> 7.6 | H9: =ROUND('Total Collections'!F16/1000000,1) -> 9.1 | I9: =ROUND('Total Billings'!G16/1000000,1) -> 6.4 | J9: =ROUND('Total Collections'!G16/1000000,1) -> 7.2 | K9: =ROUND('Total Billings'!H16/1000000,1) -> 8.8 | L9: =ROUND('Total Collections'!H16/1000000,1) -> 6
B10: Air Force | C10: =ROUND('Total Billings'!D14/1000000,1) -> 33.4 | D10: =ROUND('Total Collections'!D14/1000000,1) -> 17.3 | E10: =ROUND('Total Billings'!E14/1000000,1) -> 43.1 | F10: =ROUND('Total Collections'!E14/1000000,1) -> 19.7 | G10: =ROUND('Total Billings'!F14/1000000,1) -> 41.7 | H10: =ROUND('Total Collections'!F14/1000000,1) -> 22.7 | I10: =ROUND('Total Billings'!G14/1000000,1) -> 25.9 | J10: =ROUND('Total Collections'!G14/1000000,1) -> 19.9 | K10: =ROUND('Total Billings'!H14/1000000,1) -> 27.1 | L10: =ROUND('Total Collections'!H14/1000000,1) -> 15.3
B11: Total | C11: =SUM(C8:C10) -> 54.3 | D11: =SUM(D8:D10) -> 37 | E11: =SUM(E8:E10) -> 67.4 | F11: =SUM(F8:F10) -> 43.8 | G11: =SUM(G8:G10) -> 66.5 | H11: =SUM(H8:H10) -> 50.8 | I11: =SUM(I8:I10) -> 45.4 | J11: =SUM(J8:J10) -> 41.4 | ... L11: =SUM(L8:L10) -> 35
B12: Inpatient
B13: Army | C13: =ROUND('Total Billings'!D7/1000000,1) -> 11.5 | D13: =ROUND('Total Collections'!D7/1000000,1) -> 5.1 | E13: =ROUND('Total Billings'!E7/1000000,1) -> 7.9 | F13: =ROUND('Total Collections'!E7/1000000,1) -> 7.9 | G13: =ROUND('Total Billings'!F7/1000000,1) -> 0.2 | H13: =ROUND('Total Collections'!F7/1000000,1) -> 4.5 | I13: =ROUND('Total Billings'!G7/1000000,1) -> 11.8 | J13: =ROUND('Total Collections'!G7/1000000,1) -> 5.4 | K13: =ROUND('Total Billings'!H7/1000000,1) -> 8.1 | L13: =ROUND('Total Collections'!H7/1000000,1) -> 5.2
B14: Navy | C14: =ROUND('Total Billings'!D8/1000000,1) -> 3.9 | D14: =ROUND('Total Collections'!D8/1000000,1) -> 1.7 | E14: =ROUND('Total Billings'!E8/1000000,1) -> 2.2 | F14: =ROUND('Total Collections'!E8/1000000,1) -> 1.8 | G14: =ROUND('Total Billings'!F8/1000000,1) -> 1.9 | H14: =ROUND('Total Collections'!F8/1000000,1) -> 1.7 | I14: =ROUND('Total Billings'!G8/1000000,1) -> 3.6 | J14: =ROUND('Total Collections'!G8/1000000,1) -> 1.8 | K14: =ROUND('Total Billings'!H8/1000000,1) -> 3.7 | L14: =ROUND('Total Collections'!H8/1000000,1) -> 1.3
B15: Air Force | C15: =ROUND('Total Billings'!D6/1000000,1) -> 4.9 | D15: =ROUND('Total Collections'!D6/1000000,1) -> 2.5 | E15: =ROUND('Total Billings'!E6/1000000,1) -> 3.8 | F15: =ROUND('Total Collections'!E6/1000000,1) -> 1.6 | G15: =ROUND('Total Billings'!F6/1000000,1) -> 0.4 | H15: =ROUND('Total Collections'!F6/1000000,1) -> 3.5 | I15: =ROUND('Total Billings'!G6/1000000,1) -> 2.9 | J15: =ROUND('Total Collections'!G6/1000000,1) -> 2.9 | K15: =ROUND('Total Billings'!H6/1000000,1) -> 2.8 | L15: =ROUND('Total Collections'!H6/1000000,1) -> 1
B16: Total | C16: =SUM(C13:C15) -> 20.3 | D16: =SUM(D13:D15) -> 9.3 | E16: =SUM(E13:E15) -> 13.9 | F16: =SUM(F13:F15) -> 11.3 | G16: =SUM(G13:G15) -> 2.5 | H16: =SUM(H13:H15) -> 9.7 | I16: =SUM(I13:I15) -> 18.3 | J16: =SUM(J13:J15) -> 10.1 | ... L16: =SUM(L13:L15) -> 7.5
B18: =Summary!F2 -> Data as of 02/05/2012
B19: Note: Collections = CFY + PY1 + PY2
B20: Billed = Amount Billed CFY

Sheet Total Collections Rpt
A1: Total Collections
A2: =Summary!A2 -> 1st Quarter
B4: Total Inpatient Collections
B5: Service | C5: ='Total Collections'!C5 -> FY2007 | D5: ='Total Collections'!D5 -> FY2008 | E5: ='Total Collections'!E5 -> FY2009 | F5: ='Total Collections'!F5 -> FY2010 | G5: ='Total Collections'!G5 -> FY2011 | H5: ='Total Collections'!H5 -> FY2012
B6: ='Total Collections'!B7 -> Army | C6: =ROUND('Total Collections'!C7/1000000,1) -> 3.5 | D6: =ROUND('Total Collections'!D7/1000000,1) -> 5.1 | E6: =ROUND('Total Collections'!E7/1000000,1) -> 7.9 | F6: =ROUND('Total Collections'!F7/1000000,1) -> 4.5 | G6: =ROUND('Total Collections'!G7/1000000,1) -> 5.4 | H6: =ROUND('Total Collections'!H7/1000000,1) -> 5.2
B7: ='Total Collections'!B8 -> Navy | C7: =ROUND('Total Collections'!C8/1000000,1) -> 2.2 | D7: =ROUND('Total Collections'!D8/1000000,1) -> 1.7 | E7: =ROUND('Total Collections'!E8/1000000,1) -> 1.8 | F7: =ROUND('Total Collections'!F8/1000000,1) -> 1.7 | G7: =ROUND('Total Collections'!G8/1000000,1) -> 1.8 | H7: =ROUND('Total Collections'!H8/1000000,1) -> 1.3
B8: ='Total Collections'!B6 -> Air Force | C8: =ROUND('Total Collections'!C6/1000000,1) -> 2 | D8: =ROUND('Total Collections'!D6/1000000,1) -> 2.5 | E8: =ROUND('Total Collections'!E6/1000000,1) -> 1.6 | F8: =ROUND('Total Collections'!F6/1000000,1) -> 3.5 | G8: =ROUND('Total Collections'!G6/1000000,1) -> 2.9 | H8: =ROUND('Total Collections'!H6/1000000,1) -> 1
B9: Total | C9: =SUM(C6:C8) -> 7.7 | D9: =SUM(D6:D8) -> 9.3 | E9: =SUM(E6:E8) -> 11.3 | F9: =SUM(F6:F8) -> 9.7 | G9: =SUM(G6:G8) -> 10.1 | H9: =SUM(H6:H8) -> 7.5
B12: Total Outpatient Collections
B13: Service | C13: ='Total Collections'!C13 -> FY2007 | D13: ='Total Collections'!D13 -> FY2008 | E13: ='Total Collections'!E13 -> FY2009 | F13: ='Total Collections'!F13 -> FY2010 | G13: ='Total Collections'!G13 -> FY2011 | H13: ='Total Collections'!H5 -> FY2012
B14: ='Total Collections'!B15 -> Army | C14: =ROUND('Total Collections'!C15/1000000,1) -> 8.1 | D14: =ROUND('Total Collections'!D15/1000000,1) -> 12.5 | E14: =ROUND('Total Collections'!E15/1000000,1) -> 15.6 | F14: =ROUND('Total Collections'!F15/1000000,1) -> 19 | G14: =ROUND('Total Collections'!G15/1000000,1) -> 14.3 | H14: =ROUND('Total Collections'!H15/1000000,1) -> 13.7
B15: ='Total Collections'!B16 -> Navy | C15: =ROUND('Total Collections'!C16/1000000,1) -> 4.3 | D15: =ROUND('Total Collections'!D16/1000000,1) -> 7.2 | E15: =ROUND('Total Collections'!E16/1000000,1) -> 8.5 | F15: =ROUND('Total Collections'!F16/1000000,1) -> 9.1 | G15: =ROUND('Total Collections'!G16/1000000,1) -> 7.2 | H15: =ROUND('Total Collections'!H16/1000000,1) -> 6
B16: ='Total Collections'!B14 -> Air Force | C16: =ROUND('Total Collections'!C14/1000000,1) -> 11 | D16: =ROUND('Total Collections'!D14/1000000,1) -> 17.3 | E16: =ROUND('Total Collections'!E14/1000000,1) -> 19.7 | F16: =ROUND('Total Collections'!F14/1000000,1) -> 22.7 | G16: =ROUND('Total Collections'!G14/1000000,1) -> 19.9 | H16: =ROUND('Total Collections'!H14/1000000,1) -> 15.3
B17: Total | C17: =SUM(C14:C16) -> 23.4 | D17: =SUM(D14:D16) -> 37 | E17: =SUM(E14:E16) -> 43.8 | F17: =SUM(F14:F16) -> 50.8 | G17: =SUM(G14:G16) -> 41.4 | H17: =SUM(H14:H16) -> 35
B20: Total Inpatient & Outpatient Collections
B21: Service | C21: =C13 -> FY2007 | D21: =D13 -> FY2008 | E21: =E13 -> FY2009 | F21: =F13 -> FY2010 | G21: =G13 -> FY2011 | H21: ='Total Collections'!H5 -> FY2012
B22: =B6 -> Army | C22: =C6+C14 -> 11.6 | D22: =D6+D14 -> 17.6 | E22: =E6+E14 -> 23.5 | F22: =F6+F14 -> 23.5 | G22: =G6+G14 -> 19.7 | H22: =H6+H14 -> 18.9
B23: =B7 -> Navy | C23: =C7+C15 -> 6.5 | D23: =D7+D15 -> 8.9 | E23: =E7+E15 -> 10.3 | F23: =F7+F15 -> 10.8 | G23: =G7+G15 -> 9 | H23: =H7+H15 -> 7.3
B24: =B8 -> Air Force | C24: =C8+C16 -> 13 | D24: =D8+D16 -> 19.8 | E24: =E8+E16 -> 21.3 | F24: =F8+F16 -> 26.2 | G24: =G8+G16 -> 22.8 | H24: =H8+H16 -> 16.3
B25: Total | C25: =SUM(C22:C24) -> 31.1 | D25: =SUM(D22:D24) -> 46.3 | E25: =SUM(E22:E24) -> 55.1 | F25: =SUM(F22:F24) -> 60.5 | G25: =SUM(G22:G24) -> 51.5 | H25: =SUM(H22:H24) -> 42.5

Sheet Collections per Disp or Visit
A1: Collections per Non-AD Disposition or Collections per Non-AD Visits
A2: =Summary!A2 -> 1st Quarter
B3: Total Non-Active-Duty Inpatient Collections(million) | M3: Total Non-Active-Duty Outpatient Collections(million)
B4: ='Total Collections Rpt'!B5 -> Service | C4: ='Total Collections Rpt'!C5 -> FY2007 | D4: ='Total Collections Rpt'!D5 -> FY2008 | E4: ='Total Collections Rpt'!E5 -> FY2009 | F4: ='Total Collections Rpt'!F5 -> FY2010 | G4: ='Total Collections Rpt'!G5 -> FY2011 | H4: ='Total Collections'!H5 -> FY2012 | M4: ='Total Collections Rpt'!B13 -> Service | N4: ='Total Collections Rpt'!C13 -> FY2007 | O4: ='Total Collections Rpt'!D13 -> FY2008 | P4: ='Total Collections Rpt'!E13 -> FY2009 | Q4: ='Total Collections Rpt'!F13 -> FY2010 | R4: ='Total Collections Rpt'!G13 -> FY2011 | S4: ='Total Collections'!H5 -> FY2012
B5: ='Total Collections Rpt'!B6 -> Army | C5: ='Total Collections Rpt'!C6 -> 3.5 | D5: ='Total Collections Rpt'!D6 -> 5.1 | E5: ='Total Collections Rpt'!E6 -> 7.9 | F5: ='Total Collections Rpt'!F6 -> 4.5 | G5: ='Total Collections Rpt'!G6 -> 5.4 | H5: ='Total Collections Rpt'!H6 -> 5.2 | M5: ='Total Collections Rpt'!B14 -> Army | N5: ='Total Collections Rpt'!C14 -> 8.1 | O5: ='Total Collections Rpt'!D14 -> 12.5 | P5: ='Total Collections Rpt'!E14 -> 15.6 | Q5: ='Total Collections Rpt'!F14 -> 19 | R5: ='Total Collections Rpt'!G14 -> 14.3 | S5: ='Total Collections Rpt'!H14 -> 13.7
B6: ='Total Collections Rpt'!B7 -> Navy | C6: ='Total Collections Rpt'!C7 -> 2.2 | D6: ='Total Collections Rpt'!D7 -> 1.7 | E6: ='Total Collections Rpt'!E7 -> 1.8 | F6: ='Total Collections Rpt'!F7 -> 1.7 | G6: ='Total Collections Rpt'!G7 -> 1.8 | H6: ='Total Collections Rpt'!H7 -> 1.3 | M6: ='Total Collections Rpt'!B15 -> Navy | N6: ='Total Collections Rpt'!C15 -> 4.3 | O6: ='Total Collections Rpt'!D15 -> 7.2 | P6: ='Total Collections Rpt'!E15 -> 8.5 | Q6: ='Total Collections Rpt'!F15 -> 9.1 | R6: ='Total Collections Rpt'!G15 -> 7.2 | S6: ='Total Collections Rpt'!H15 -> 6
B7: ='Total Collections Rpt'!B8 -> Air Force | C7: ='Total Collections Rpt'!C8 -> 2 | D7: ='Total Collections Rpt'!D8 -> 2.5 | E7: ='Total Collections Rpt'!E8 -> 1.6 | F7: ='Total Collections Rpt'!F8 -> 3.5 | G7: ='Total Collections Rpt'!G8 -> 2.9 | H7: ='Total Collections Rpt'!H8 -> 1 | M7: ='Total Collections Rpt'!B16 -> Air Force | N7: ='Total Collections Rpt'!C16 -> 11 | O7: ='Total Collections Rpt'!D16 -> 17.3 | P7: ='Total Collections Rpt'!E16 -> 19.7 | Q7: ='Total Collections Rpt'!F16 -> 22.7 | R7: ='Total Collections Rpt'!G16 -> 19.9 | S7: ='Total Collections Rpt'!H16 -> 15.3
B8: ='Total Collections Rpt'!B9 -> Total | C8: ='Total Collections Rpt'!C9 -> 7.7 | D8: ='Total Collections Rpt'!D9 -> 9.3 | E8: ='Total Collections Rpt'!E9 -> 11.3 | F8: ='Total Collections Rpt'!F9 -> 9.7 | G8: ='Total Collections Rpt'!G9 -> 10.1 | H8: ='Total Collections Rpt'!H9 -> 7.5 | M8: ='Total Collections Rpt'!B17 -> Total | N8: ='Total Collections Rpt'!C17 -> 23.4 | O8: ='Total Collections Rpt'!D17 -> 37 | P8: ='Total Collections Rpt'!E17 -> 43.8 | Q8: ='Total Collections Rpt'!F17 -> 50.8 | R8: ='Total Collections Rpt'!G17 -> 41.4 | S8: ='Total Collections Rpt'!H17 -> 35
B10: Number of Non-Active-Duty Inpatient Dispositions | M10: Number of Non-Active-Duty Outpatient Visits
B11: Service | C11: ='Collected to Claims Ratio'!C13 -> FY2007 | D11: ='Collected to Claims Ratio'!D13 -> FY2008 | E11: ='Collected to Claims Ratio'!E13 -> FY2009 | F11: ='Collected to Claims Ratio'!F13 -> FY2010 | G11: ='Collected to Claims Ratio'!G13 -> FY2011 | H11: ='Total Collections'!H5 -> FY2012 | M11: Service | N11: ='Collected to Claims Ratio'!L13 -> FY2007 | O11: ='Collected to Claims Ratio'!M13 -> FY2008 | P11: ='Collected to Claims Ratio'!N13 -> FY2009 | Q11: ='Collected to Claims Ratio'!O13 -> FY2010 | R11: ='Collected to Claims Ratio'!P13 -> FY2011 | S11: ='Total Collections'!H5 -> FY2012
B12: ='Claims per Disp or Visits'!B14 -> Army | C12: ='Claims per Disp or Visits'!C14 -> 24059 | D12: ='Claims per Disp or Visits'!D14 -> 24711 | E12: ='Claims per Disp or Visits'!E14 -> 24998 | F12: ='Claims per Disp or Visits'!F14 -> 25654 | G12: ='Claims per Disp or Visits'!G14 -> 26843 | H12: ='Claims per Disp or Visits'!H14 -> 27509 | M12: ='Claims per Disp or Visits'!K14 -> Army | N12: ='Claims per Disp or Visits'!L14 -> 1788526 | O12: ='Claims per Disp or Visits'!M14 -> 1737946 | P12: ='Claims per Disp or Visits'!N14 -> 1611845 | Q12: ='Claims per Disp or Visits'!O14 -> 1574313 | R12: ='Claims per Disp or Visits'!P14 -> 2059376 | S12: ='Claims per Disp or Visits'!Q14 -> 1590490
B13: ='Claims per Disp or Visits'!B15 -> Navy | C13: ='Claims per Disp or Visits'!C15 -> 14636 | D13: ='Claims per Disp or Visits'!D15 -> 14213 | E13: ='Claims per Disp or Visits'!E15 -> 13241 | F13: ='Claims per Disp or Visits'!F15 -> 13884 | G13: ='Claims per Disp or Visits'!G15 -> 13580 | H13: ='Claims per Disp or Visits'!H15 -> 14359 | M13: ='Claims per Disp or Visits'!K15 -> Navy | N13: ='Claims per Disp or Visits'!L15 -> 1040608 | O13: ='Claims per Disp or Visits'!M15 -> 910196 | P13: ='Claims per Disp or Visits'!N15 -> 1558283 | Q13: ='Claims per Disp or Visits'!O15 -> 960335 | R13: ='Claims per Disp or Visits'!P15 -> 844988 | S13: ='Claims per Disp or Visits'!Q15 -> 782604
B14: ='Claims per Disp or Visits'!B13 -> Air Force | C14: ='Claims per Disp or Visits'!C13 -> 8518 | D14: ='Claims per Disp or Visits'!D13 -> 8689 | E14: ='Claims per Disp or Visits'!E13 -> 8827 | F14: ='Claims per Disp or Visits'!F13 -> 9064 | G14: ='Claims per Disp or Visits'!G13 -> 7955 | H14: ='Claims per Disp or Visits'!H13 -> 6290 | M14: ='Claims per Disp or Visits'!K13 -> Air Force | N14: ='Claims per Disp or Visits'!L13 -> 867654 | O14: ='Claims per Disp or Visits'!M13 -> 866851 | P14: ='Claims per Disp or Visits'!N13 -> 862283 | Q14: ='Claims per Disp or Visits'!O13 -> 821283 | R14: ='Claims per Disp or Visits'!P13 -> 758621 | S14: ='Claims per Disp or Visits'!Q13 -> 754284
B15: Total | C15: =SUM(C12:C14) -> 47213 | D15: =SUM(D12:D14) -> 47613 | E15: =SUM(E12:E14) -> 47066 | F15: =SUM(F12:F14) -> 48602 | G15: =SUM(G12:G14) -> 48378 | H15: =SUM(H12:H14) -> 48158 | M15: Total | N15: =SUM(N12:N14) -> 3696788 | O15: =SUM(O12:O14) -> 3514993 | P15: =SUM(P12:P14) -> 4032411 | Q15: =SUM(Q12:Q14) -> 3355931 | R15: =SUM(R12:R14) -> 3662985 | S15: =SUM(S12:S14) -> 3127378
B17: Total Inpatient Collections(Dollar)) per Non-Active-Duty Disposition | M17: Total Outpatient Collections(Dollar) per Non-Active-Duty Visit
B18: Service | C18: ='Collected to Claims Ratio'!C20 -> FY2007 | D18: ='Collected to Claims Ratio'!D20 -> FY2008 | E18: ='Collected to Claims Ratio'!E20 -> FY2009 | F18: ='Collected to Claims Ratio'!F20 -> FY2010 | G18: ='Collected to Claims Ratio'!G20 -> FY2011 | H18: ='Total Collections'!H5 -> FY2012 | M18: Service | N18: ='Collected to Claims Ratio'!L20 -> FY2007 | O18: ='Collected to Claims Ratio'!M20 -> FY2008 | P18: ='Collected to Claims Ratio'!N20 -> FY2009 | Q18: ='Collected to Claims Ratio'!O20 -> FY2010 | R18: ='Collected to Claims Ratio'!P20 -> FY2011 | S18: ='Total Collections'!H5 -> FY2012
B19: ='Claims per Disp or Visits'!B21 -> Army | C19: =(C5/C12)*1000000 -> 145.47571 | D19: =(D5/D12)*1000000 -> 206.38582 | E19: =(E5/E12)*1000000 -> 316.02528 | F19: =(F5/F12)*1000000 -> 175.41124 | G19: =(G5/G12)*1000000 -> 201.16976 | H19: =(H5/H12)*1000000 -> 189.02905 | M19: ='Claims per Disp or Visits'!K21 -> Army | N19: =(N5/N12)*1000000 -> 4.528869 | O19: =(O5/O12)*1000000 -> 7.1923984 | P19: =(P5/P12)*1000000 -> 9.67835 | Q19: =(Q5/Q12)*1000000 -> 12.068756 | R19: =(R5/R12)*1000000 -> 6.943851 | S19: =(S5/S12)*1000000 -> 8.6136977
B20: ='Claims per Disp or Visits'!B22 -> Navy | C20: =(C6/C13)*1000000 -> 150.31429 | D20: =(D6/D13)*1000000 -> 119.60881 | E20: =(E6/E13)*1000000 -> 135.94139 | F20: =(F6/F13)*1000000 -> 122.4431 | G20: =(G6/G13)*1000000 -> 132.54786 | H20: =(H6/H13)*1000000 -> 90.535553 | M20: ='Claims per Disp or Visits'!K22 -> Navy | N20: =(N6/N13)*1000000 -> 4.1321996 | O20: =(O6/O13)*1000000 -> 7.9103841 | P20: =(P6/P13)*1000000 -> 5.4547216 | Q20: =(Q6/Q13)*1000000 -> 9.47586 | R20: =(R6/R13)*1000000 -> 8.5208311 | S20: =(S6/S13)*1000000 -> 7.6667127
B21: ='Claims per Disp or Visits'!B20 -> Air Force | C21: =(C7/C14)*1000000 -> 234.7969 | D21: =(D7/D14)*1000000 -> 287.72011 | E21: =(E7/E14)*1000000 -> 181.26204 | F21: =(F7/F14)*1000000 -> 386.14298 | G21: =(G7/G14)*1000000 -> 364.5506 | H21: =(H7/H14)*1000000 -> 158.98251 | M21: ='Claims per Disp or Visits'!K20 -> Air Force | N21: =(N7/N14)*1000000 -> 12.677865 | O21: =(O7/O14)*1000000 -> 19.957294 | P21: =(P7/P14)*1000000 -> 22.846328 | Q21: =(Q7/Q14)*1000000 -> 27.639681 | R21: =(R7/R14)*1000000 -> 26.231807 | S21: =(S7/S14)*1000000 -> 20.284137
B22: Total | C22: =(C8/C15)*1000000 -> 163.09067 | D22: =(D8/D15)*1000000 -> 195.32481 | E22: =(E8/E15)*1000000 -> 240.08839 | F22: =(F8/F15)*1000000 -> 199.58026 | G22: =(G8/G15)*1000000 -> 208.77258 | H22: =(H8/H15)*1000000 -> 155.73736 | M22: Total | N22: =(N8/N15)*1000000 -> 6.3298193 | O22: =(O8/O15)*1000000 -> 10.526337 | P22: =(P8/P15)*1000000 -> 10.861988 | Q22: =(Q8/Q15)*1000000 -> 15.137379 | R22: =(R8/R15)*1000000 -> 11.302258 | S22: =(S8/S15)*1000000 -> 11.191484

Sheet Total Billings Rpt
A1: Total Billings
A2: =Summary!A2 -> 1st Quarter
B4: Total Inpatient Billlings CFY
B5: Service | C5: ='Total Billings'!C5 -> FY2007 | D5: ='Total Billings'!D5 -> FY2008 | E5: ='Total Billings'!E5 -> FY2009 | F5: ='Total Billings'!F5 -> FY2010 | G5: ='Total Billings'!G5 -> FY2011 | H5: ='Total Collections'!H5 -> FY2012
B6: ='Total Collections'!B7 -> Army | C6: =ROUND('Total Billings'!C7/1000000,1) -> 6.7 | D6: =ROUND('Total Billings'!D7/1000000,1) -> 11.5 | E6: =ROUND('Total Billings'!E7/1000000,1) -> 7.9 | F6: =ROUND('Total Billings'!F7/1000000,1) -> 0.2 | G6: =ROUND('Total Billings'!G7/1000000,1) -> 11.8 | H6: =ROUND('Total Billings'!H7/1000000,1) -> 8.1
B7: ='Total Collections'!B8 -> Navy | C7: =ROUND('Total Billings'!C8/1000000,1) -> 3.6 | D7: =ROUND('Total Billings'!D8/1000000,1) -> 3.9 | E7: =ROUND('Total Billings'!E8/1000000,1) -> 2.2 | F7: =ROUND('Total Billings'!F8/1000000,1) -> 1.9 | G7: =ROUND('Total Billings'!G8/1000000,1) -> 3.6 | H7: =ROUND('Total Billings'!H8/1000000,1) -> 3.7
B8: ='Total Collections'!B6 -> Air Force | C8: =ROUND('Total Billings'!C6/1000000,1) -> 3.3 | D8: =ROUND('Total Billings'!D6/1000000,1) -> 4.9 | E8: =ROUND('Total Billings'!E6/1000000,1) -> 3.8 | F8: =ROUND('Total Billings'!F6/1000000,1) -> 0.4 | G8: =ROUND('Total Billings'!G6/1000000,1) -> 2.9 | H8: =ROUND('Total Billings'!H6/1000000,1) -> 2.8
B9: Total | C9: =SUM(C6:C8) -> 13.6 | D9: =SUM(D6:D8) -> 20.3 | E9: =SUM(E6:E8) -> 13.9 | F9: =SUM(F6:F8) -> 2.5 | G9: =SUM(G6:G8) -> 18.3 | H9: =SUM(H6:H8) -> 14.6
B12: Total Outpatient Billings CFY
B13: Service | C13: ='Total Billings'!C13 -> FY2007 | D13: ='Total Billings'!D13 -> FY2008 | E13: ='Total Billings'!E13 -> FY2009 | F13: ='Total Billings'!F13 -> FY2010 | G13: ='Total Billings'!G13 -> FY2011 | H13: ='Total Collections'!H5 -> FY2012
B14: ='Total Collections'!B15 -> Army | C14: =ROUND('Total Billings'!C15/1000000,1) -> 13.4 | D14: =ROUND('Total Billings'!D15/1000000,1) -> 13 | E14: =ROUND('Total Billings'!E15/1000000,1) -> 16.7 | F14: =ROUND('Total Billings'!F15/1000000,1) -> 17.2 | G14: =ROUND('Total Billings'!G15/1000000,1) -> 13.1 | H14: =ROUND('Total Billings'!H15/1000000,1) -> 15
B15: ='Total Collections'!B16 -> Navy | C15: =ROUND('Total Billings'!C16/1000000,1) -> 6.1 | D15: =ROUND('Total Billings'!D16/1000000,1) -> 7.9 | E15: =ROUND('Total Billings'!E16/1000000,1) -> 7.6 | F15: =ROUND('Total Billings'!F16/1000000,1) -> 7.6 | G15: =ROUND('Total Billings'!G16/1000000,1) -> 6.4 | H15: =ROUND('Total Billings'!H16/1000000,1) -> 8.8
B16: ='Total Collections'!B14 -> Air Force | C16: =ROUND('Total Billings'!C14/1000000,1) -> 35.5 | D16: =ROUND('Total Billings'!D14/1000000,1) -> 33.4 | E16: =ROUND('Total Billings'!E14/1000000,1) -> 43.1 | F16: =ROUND('Total Billings'!F14/1000000,1) -> 41.7 | G16: =ROUND('Total Billings'!G14/1000000,1) -> 25.9 | H16: =ROUND('Total Billings'!H14/1000000,1) -> 27.1
B17: Total | C17: =SUM(C14:C16) -> 55 | D17: =SUM(D14:D16) -> 54.3 | E17: =SUM(E14:E16) -> 67.4 | F17: =SUM(F14:F16) -> 66.5 | G17: =SUM(G14:G16) -> 45.4 | H17: =SUM(H14:H16) -> 50.9
B20: Total Inpatient & Outpatient Billings CFY
B21: Service | C21: =C13 -> FY2007 | D21: =D13 -> FY2008 | E21: =E13 -> FY2009 | F21: =F13 -> FY2010 | G21: =G13 -> FY2011 | H21: ='Total Collections'!H5 -> FY2012
B22: =B6 -> Army | C22: =C6+C14 -> 20.1 | D22: =D6+D14 -> 24.5 | E22: =E6+E14 -> 24.6 | F22: =F6+F14 -> 17.4 | G22: =G6+G14 -> 24.9 | H22: =H6+H14 -> 23.1
B23: =B7 -> Navy | C23: =C7+C15 -> 9.7 | D23: =D7+D15 -> 11.8 | E23: =E7+E15 -> 9.8 | F23: =F7+F15 -> 9.5 | G23: =G7+G15 -> 10 | H23: =H7+H15 -> 12.5
B24: =B8 -> Air Force | C24: =C8+C16 -> 38.8 | D24: =D8+D16 -> 38.3 | E24: =E8+E16 -> 46.9 | F24: =F8+F16 -> 42.1 | G24: =G8+G16 -> 28.8 | H24: =H8+H16 -> 29.9
B25: Total | C25: =SUM(C22:C24) -> 68.6 | D25: =SUM(D22:D24) -> 74.6 | E25: =SUM(E22:E24) -> 81.3 | F25: =SUM(F22:F24) -> 69 | G25: =SUM(G22:G24) -> 63.7 | H25: =SUM(H22:H24) -> 65.5

Sheet Collected to Claims Ratio Rpt
A1: Number of Collections to Claims Issued Ratio
A2: =Summary!A2 -> 1st Quarter
B3: Number of Inpatient Collections | M3: Number of Outpatient Collections
B4: Service | C4: FY2007 | D4: FY2008 | E4: FY2009 | F4: FY2010 | G4: FY2011 | H4: FY2012 | M4: Service | N4: FY2007 | O4: FY2008 | P4: FY2009 | Q4: FY2010 | R4: FY2011 | S4: FY2012
B5: ='Collected to Claims Ratio'!B8 -> Army | C5: ='Collected to Claims Ratio'!C8 -> 51 | D5: ='Collected to Claims Ratio'!D8 -> 60 | E5: ='Collected to Claims Ratio'!E8 -> 15 | F5: ='Collected to Claims Ratio'!F8 -> 2 | G5: ='Collected to Claims Ratio'!G8 -> 52 | H5: ='Collected to Claims Ratio'!H8 -> 11 | M5: ='Collected to Claims Ratio'!K8 -> Army | N5: ='Collected to Claims Ratio'!L8 -> 27840 | O5: ='Collected to Claims Ratio'!M8 -> 18840 | P5: ='Collected to Claims Ratio'!N8 -> 25564 | Q5: ='Collected to Claims Ratio'!O8 -> 29211 | R5: ='Collected to Claims Ratio'!P8 -> 36862 | S5: ='Collected to Claims Ratio'!Q8 -> 24439
B6: ='Collected to Claims Ratio'!B9 -> Navy | C6: ='Collected to Claims Ratio'!C9 -> 42 | D6: ='Collected to Claims Ratio'!D9 -> 22 | E6: ='Collected to Claims Ratio'!E9 -> 5 | F6: ='Collected to Claims Ratio'!F9 -> 17 | G6: ='Collected to Claims Ratio'!G9 -> 24 | H6: ='Collected to Claims Ratio'!H9 -> 6 | M6: ='Collected to Claims Ratio'!K9 -> Navy | N6: ='Collected to Claims Ratio'!L9 -> 9263 | O6: ='Collected to Claims Ratio'!M9 -> 7244 | P6: ='Collected to Claims Ratio'!N9 -> 9497 | Q6: ='Collected to Claims Ratio'!O9 -> 12168 | R6: ='Collected to Claims Ratio'!P9 -> 14899 | S6: ='Collected to Claims Ratio'!Q9 -> 14810
B7: ='Collected to Claims Ratio'!B7 -> Air Force | C7: ='Collected to Claims Ratio'!C7 -> 6 | D7: ='Collected to Claims Ratio'!D7 -> 13 | E7: ='Collected to Claims Ratio'!E7 -> 1 | F7: ='Collected to Claims Ratio'!F7 -> 0 | G7: ='Collected to Claims Ratio'!G7 -> 0 | H7: ='Collected to Claims Ratio'!H7 -> 0 | M7: ='Collected to Claims Ratio'!K7 -> Air Force | N7: ='Collected to Claims Ratio'!L7 -> 35751 | O7: ='Collected to Claims Ratio'!M7 -> 21181 | P7: ='Collected to Claims Ratio'!N7 -> 24203 | Q7: ='Collected to Claims Ratio'!O7 -> 29171 | R7: ='Collected to Claims Ratio'!P7 -> 28798 | S7: ='Collected to Claims Ratio'!Q7 -> 37683
B8: Total | C8: =SUM(C5:C7) -> 99 | D8: =SUM(D5:D7) -> 95 | E8: =SUM(E5:E7) -> 21 | F8: =SUM(F5:F7) -> 19 | G8: =SUM(G5:G7) -> 76 | H8: =SUM(H5:H7) -> 17 | M8: Total | N8: =SUM(N5:N7) -> 72854 | O8: =SUM(O5:O7) -> 47265 | P8: =SUM(P5:P7) -> 59264 | Q8: =SUM(Q5:Q7) -> 70550 | R8: =SUM(R5:R7) -> 80559 | S8: =SUM(S5:S7) -> 76932
B10: Number of Inpatient Claims | M10: Number of Outpatient Claims
B11: Service | C11: FY2007 | D11: FY2008 | E11: FY2009 | F11: FY2010 | G11: FY2011 | H11: FY2012 | M11: Service | N11: FY2007 | O11: FY2008 | P11: FY2009 | Q11: FY2010 | R11: FY2011 | S11: FY2012
B12: ='Collected to Claims Ratio'!B15 -> Army | C12: ='Collected to Claims Ratio'!C15 -> 390 | D12: ='Collected to Claims Ratio'!D15 -> 471 | E12: ='Collected to Claims Ratio'!E15 -> 429 | F12: ='Collected to Claims Ratio'!F15 -> 20 | G12: ='Collected to Claims Ratio'!G15 -> 543 | H12: ='Collected to Claims Ratio'!H15 -> 364 | M12: ='Collected to Claims Ratio'!K15 -> Army | N12: ='Collected to Claims Ratio'!L15 -> 141758 | O12: ='Collected to Claims Ratio'!M15 -> 114618 | P12: ='Collected to Claims Ratio'!N15 -> 135950 | Q12: ='Collected to Claims Ratio'!O15 -> 141693 | R12: ='Collected to Claims Ratio'!P15 -> 140661 | S12: ='Collected to Claims Ratio'!Q15 -> 164931
B13: ='Collected to Claims Ratio'!B16 -> Navy | C13: ='Collected to Claims Ratio'!C16 -> 206 | D13: ='Collected to Claims Ratio'!D16 -> 231 | E13: ='Collected to Claims Ratio'!E16 -> 147 | F13: ='Collected to Claims Ratio'!F16 -> 128 | G13: ='Collected to Claims Ratio'!G16 -> 181 | H13: ='Collected to Claims Ratio'!H16 -> 155 | M13: ='Collected to Claims Ratio'!K16 -> Navy | N13: ='Collected to Claims Ratio'!L16 -> 53587 | O13: ='Collected to Claims Ratio'!M16 -> 58096 | P13: ='Collected to Claims Ratio'!N16 -> 54984 | Q13: ='Collected to Claims Ratio'!O16 -> 54806 | R13: ='Collected to Claims Ratio'!P16 -> 67554 | S13: ='Collected to Claims Ratio'!Q16 -> 94958
B14: ='Collected to Claims Ratio'!B14 -> Air Force | C14: ='Collected to Claims Ratio'!C14 -> 200 | D14: ='Collected to Claims Ratio'!D14 -> 215 | E14: ='Collected to Claims Ratio'!E14 -> 102 | F14: ='Collected to Claims Ratio'!F14 -> 0 | G14: ='Collected to Claims Ratio'!G14 -> 177 | H14: ='Collected to Claims Ratio'!H14 -> 164 | M14: ='Collected to Claims Ratio'!K14 -> Air Force | N14: ='Collected to Claims Ratio'!L14 -> 305266 | O14: ='Collected to Claims Ratio'!M14 -> 221959 | P14: ='Collected to Claims Ratio'!N14 -> 272493 | Q14: ='Collected to Claims Ratio'!O14 -> 261771 | R14: ='Collected to Claims Ratio'!P14 -> 224455 | S14: ='Collected to Claims Ratio'!Q14 -> 239812
B15: Total | C15: =SUM(C12:C14) -> 796 | D15: =SUM(D12:D14) -> 917 | E15: =SUM(E12:E14) -> 678 | F15: =SUM(F12:F14) -> 148 | G15: =SUM(G12:G14) -> 901 | H15: =SUM(H12:H14) -> 683 | M15: Total | N15: =SUM(N12:N14) -> 500611 | O15: =SUM(O12:O14) -> 394673 | P15: =SUM(P12:P14) -> 463427 | Q15: =SUM(Q12:Q14) -> 458270 | R15: =SUM(R12:R14) -> 432670 | S15: =SUM(S12:S14) -> 499701
B17: Inpatient Collections to Claims | M17: Outpatient Collections to Claims
B18: Service | C18: FY2007 | D18: FY2008 | E18: FY2009 | F18: FY2010 | G18: FY2011 | H18: FY2012 | M18: Service | N18: FY2007 | O18: FY2008 | P18: FY2009 | Q18: FY2010 | R18: FY2011 | S18: FY2012
B19: ='Collected to Claims Ratio'!B22 -> Army | C19: ='Collected to Claims Ratio'!C22 -> 0.13076923 | D19: ='Collected to Claims Ratio'!D22 -> 0.12738854 | E19: ='Collected to Claims Ratio'!E22 -> 0.034965035 | F19: ='Collected to Claims Ratio'!F22 -> 0.1 | G19: ='Collected to Claims Ratio'!G22 -> 0.095764273 | H19: ='Collected to Claims Ratio'!H22 -> 0.03021978 | M19: ='Collected to Claims Ratio'!K22 -> Army | N19: ='Collected to Claims Ratio'!L22 -> 0.19639103 | O19: ='Collected to Claims Ratio'!M22 -> 0.16437209 | P19: ='Collected to Claims Ratio'!N22 -> 0.18803972 | Q19: ='Collected to Claims Ratio'!O22 -> 0.20615697 | R19: ='Collected to Claims Ratio'!P22 -> 0.26206269 | S19: ='Collected to Claims Ratio'!Q22 -> 0.14817712
B20: ='Collected to Claims Ratio'!B23 -> Navy | C20: ='Collected to Claims Ratio'!C23 -> 0.2038835 | D20: ='Collected to Claims Ratio'!D23 -> 0.095238095 | E20: ='Collected to Claims Ratio'!E23 -> 0.034013605 | F20: ='Collected to Claims Ratio'!F23 -> 0.1328125 | G20: ='Collected to Claims Ratio'!G23 -> 0.13259669 | H20: ='Collected to Claims Ratio'!H23 -> 0.038709677 | M20: ='Collected to Claims Ratio'!K23 -> Navy | N20: ='Collected to Claims Ratio'!L23 -> 0.17285909 | O20: ='Collected to Claims Ratio'!M23 -> 0.12469017 | P20: ='Collected to Claims Ratio'!N23 -> 0.17272297 | Q20: ='Collected to Claims Ratio'!O23 -> 0.22201949 | R20: ='Collected to Claims Ratio'!P23 -> 0.22054949 | S20: ='Collected to Claims Ratio'!Q23 -> 0.15596369
B21: ='Collected to Claims Ratio'!B21 -> Air Force | C21: ='Collected to Claims Ratio'!C21 -> 0.03 | D21: ='Collected to Claims Ratio'!D21 -> 0.060465116 | E21: ='Collected to Claims Ratio'!E21 -> 0.0098039216 | F21: ='Collected to Claims Ratio'!F21 -> #DIV/0! | G21: ='Collected to Claims Ratio'!G21 -> 0 | H21: ='Collected to Claims Ratio'!H21 -> 0 | M21: ='Collected to Claims Ratio'!K21 -> Air Force | N21: ='Collected to Claims Ratio'!L21 -> 0.11711425 | O21: ='Collected to Claims Ratio'!M21 -> 0.095427534 | P21: ='Collected to Claims Ratio'!N21 -> 0.08882063 | Q21: ='Collected to Claims Ratio'!O21 -> 0.1114371 | R21: ='Collected to Claims Ratio'!P21 -> 0.12830189 | S21: ='Collected to Claims Ratio'!Q21 -> 0.15713559
B22: Total | C22: ='Collected to Claims Ratio'!C24 -> 0.12437186 | D22: ='Collected to Claims Ratio'!D24 -> 0.10359869 | E22: ='Collected to Claims Ratio'!E24 -> 0.030973451 | F22: ='Collected to Claims Ratio'!F24 -> 0.12837838 | G22: ='Collected to Claims Ratio'!G24 -> 0.084350721 | H22: ='Collected to Claims Ratio'!H24 -> 0.02489019 | M22: Total | N22: ='Collected to Claims Ratio'!L24 -> 0.14553016 | O22: ='Collected to Claims Ratio'!M24 -> 0.11975737 | P22: ='Collected to Claims Ratio'!N24 -> 0.12788206 | Q22: ='Collected to Claims Ratio'!O24 -> 0.15394855 | R22: ='Collected to Claims Ratio'!P24 -> 0.1861904 | S22: ='Collected to Claims Ratio'!Q24 -> 0.15395607

Sheet Claims per Disp or Visits rpt
A1: Claims per Non-AD Disposition or Claims per Non-AD Visits
A2: =Summary!A2 -> 1st Quarter
B3: Number of Inpatient Claims | M3: Number of Outpatient Claims
B4: Service | C4: ='Collected to Claims Ratio'!C6 -> FY2007 | D4: ='Collected to Claims Ratio'!D6 -> FY2008 | E4: ='Collected to Claims Ratio'!E6 -> FY2009 | F4: ='Collected to Claims Ratio'!F6 -> FY2010 | G4: ='Collected to Claims Ratio'!G6 -> FY2011 | H4: ='Collected to Claims Ratio'!H6 -> FY2012 | M4: Service | N4: ='Collected to Claims Ratio'!L6 -> FY2007 | O4: ='Collected to Claims Ratio'!M6 -> FY2008 | P4: ='Collected to Claims Ratio'!N6 -> FY2009 | Q4: ='Collected to Claims Ratio'!O6 -> FY2010 | R4: ='Collected to Claims Ratio'!P6 -> FY2011 | S4: ='Collected to Claims Ratio'!Q6 -> FY2012
B5: ='Claims per Disp or Visits'!B7 -> Army | C5: ='Claims per Disp or Visits'!C7 -> 390 | D5: ='Claims per Disp or Visits'!D7 -> 471 | E5: ='Claims per Disp or Visits'!E7 -> 429 | F5: ='Claims per Disp or Visits'!F7 -> 20 | G5: ='Claims per Disp or Visits'!G7 -> 543 | H5: ='Claims per Disp or Visits'!H7 -> 364 | M5: ='Claims per Disp or Visits'!K7 -> Army | N5: ='Claims per Disp or Visits'!L7 -> 141758 | O5: ='Claims per Disp or Visits'!M7 -> 114618 | P5: ='Claims per Disp or Visits'!N7 -> 135950 | Q5: ='Claims per Disp or Visits'!O7 -> 141693 | R5: ='Claims per Disp or Visits'!P7 -> 140661 | S5: ='Claims per Disp or Visits'!Q7 -> 164931
B6: ='Claims per Disp or Visits'!B8 -> Navy | C6: ='Claims per Disp or Visits'!C8 -> 206 | D6: ='Claims per Disp or Visits'!D8 -> 231 | E6: ='Claims per Disp or Visits'!E8 -> 147 | F6: ='Claims per Disp or Visits'!F8 -> 128 | G6: ='Claims per Disp or Visits'!G8 -> 181 | H6: ='Claims per Disp or Visits'!H8 -> 155 | M6: ='Claims per Disp or Visits'!K8 -> Navy | N6: ='Claims per Disp or Visits'!L8 -> 53587 | O6: ='Claims per Disp or Visits'!M8 -> 58096 | P6: ='Claims per Disp or Visits'!N8 -> 54984 | Q6: ='Claims per Disp or Visits'!O8 -> 54806 | R6: ='Claims per Disp or Visits'!P8 -> 67554 | S6: ='Claims per Disp or Visits'!Q8 -> 94958
B7: ='Claims per Disp or Visits'!B6 -> Air Force | C7: ='Claims per Disp or Visits'!C6 -> 200 | D7: ='Claims per Disp or Visits'!D6 -> 215 | E7: ='Claims per Disp or Visits'!E6 -> 102 | F7: ='Claims per Disp or Visits'!F6 -> 0 | G7: ='Claims per Disp or Visits'!G6 -> 177 | H7: ='Claims per Disp or Visits'!H6 -> 164 | M7: ='Claims per Disp or Visits'!K6 -> Air Force | N7: ='Claims per Disp or Visits'!L6 -> 305266 | O7: ='Claims per Disp or Visits'!M6 -> 221959 | P7: ='Claims per Disp or Visits'!N6 -> 272493 | Q7: ='Claims per Disp or Visits'!O6 -> 261771 | R7: ='Claims per Disp or Visits'!P6 -> 224455 | S7: ='Claims per Disp or Visits'!Q6 -> 239812
B8: Total | C8: =SUM(C5:C7) -> 796 | D8: =SUM(D5:D7) -> 917 | E8: =SUM(E5:E7) -> 678 | F8: =SUM(F5:F7) -> 148 | G8: =SUM(G5:G7) -> 901 | H8: =SUM(H5:H7) -> 683 | M8: Total | N8: =SUM(N5:N7) -> 500611 | O8: =SUM(O5:O7) -> 394673 | P8: =SUM(P5:P7) -> 463427 | Q8: =SUM(Q5:Q7) -> 458270 | R8: =SUM(R5:R7) -> 432670 | S8: =SUM(S5:S7) -> 499701
B10: Number of Non-Active-Duty Inpatient Dispositions | M10: Number of Non-Active-Duty Outpatient Visits
B11: Service | C11: ='Collected to Claims Ratio'!C13 -> FY2007 | D11: ='Collected to Claims Ratio'!D13 -> FY2008 | E11: ='Collected to Claims Ratio'!E13 -> FY2009 | F11: ='Collected to Claims Ratio'!F13 -> FY2010 | G11: ='Collected to Claims Ratio'!G13 -> FY2011 | H11: ='Collected to Claims Ratio'!H13 -> FY2012 | M11: Service | N11: ='Collected to Claims Ratio'!L13 -> FY2007 | O11: ='Collected to Claims Ratio'!M13 -> FY2008 | P11: ='Collected to Claims Ratio'!N13 -> FY2009 | Q11: ='Collected to Claims Ratio'!O13 -> FY2010 | R11: ='Collected to Claims Ratio'!P13 -> FY2011 | S11: ='Collected to Claims Ratio'!Q13 -> FY2012
B12: ='Claims per Disp or Visits'!B14 -> Army | C12: ='Claims per Disp or Visits'!C14 -> 24059 | D12: ='Claims per Disp or Visits'!D14 -> 24711 | E12: ='Claims per Disp or Visits'!E14 -> 24998 | F12: ='Claims per Disp or Visits'!F14 -> 25654 | G12: ='Claims per Disp or Visits'!G14 -> 26843 | H12: ='Claims per Disp or Visits'!H14 -> 27509 | M12: ='Claims per Disp or Visits'!K14 -> Army | N12: ='Claims per Disp or Visits'!L14 -> 1788526 | O12: ='Claims per Disp or Visits'!M14 -> 1737946 | P12: ='Claims per Disp or Visits'!N14 -> 1611845 | Q12: ='Claims per Disp or Visits'!O14 -> 1574313 | R12: ='Claims per Disp or Visits'!P14 -> 2059376 | S12: ='Claims per Disp or Visits'!Q14 -> 1590490
B13: ='Claims per Disp or Visits'!B15 -> Navy | C13: ='Claims per Disp or Visits'!C15 -> 14636 | D13: ='Claims per Disp or Visits'!D15 -> 14213 | E13: ='Claims per Disp or Visits'!E15 -> 13241 | F13: ='Claims per Disp or Visits'!F15 -> 13884 | G13: ='Claims per Disp or Visits'!G15 -> 13580 | H13: ='Claims per Disp or Visits'!H15 -> 14359 | M13: ='Claims per Disp or Visits'!K15 -> Navy | N13: ='Claims per Disp or Visits'!L15 -> 1040608 | O13: ='Claims per Disp or Visits'!M15 -> 910196 | P13: ='Claims per Disp or Visits'!N15 -> 1558283 | Q13: ='Claims per Disp or Visits'!O15 -> 960335 | R13: ='Claims per Disp or Visits'!P15 -> 844988 | S13: ='Claims per Disp or Visits'!Q15 -> 782604
B14: ='Claims per Disp or Visits'!B13 -> Air Force | C14: ='Claims per Disp or Visits'!C13 -> 8518 | D14: ='Claims per Disp or Visits'!D13 -> 8689 | E14: ='Claims per Disp or Visits'!E13 -> 8827 | F14: ='Claims per Disp or Visits'!F13 -> 9064 | G14: ='Claims per Disp or Visits'!G13 -> 7955 | H14: ='Claims per Disp or Visits'!H13 -> 6290 | M14: ='Claims per Disp or Visits'!K13 -> Air Force | N14: ='Claims per Disp or Visits'!L13 -> 867654 | O14: ='Claims per Disp or Visits'!M13 -> 866851 | P14: ='Claims per Disp or Visits'!N13 -> 862283 | Q14: ='Claims per Disp or Visits'!O13 -> 821283 | R14: ='Claims per Disp or Visits'!P13 -> 758621 | S14: ='Claims per Disp or Visits'!Q13 -> 754284
B15: Total | C15: =SUM(C12:C14) -> 47213 | D15: =SUM(D12:D14) -> 47613 | E15: =SUM(E12:E14) -> 47066 | F15: =SUM(F12:F14) -> 48602 | G15: =SUM(G12:G14) -> 48378 | H15: =SUM(H12:H14) -> 48158 | M15: Total | N15: =SUM(N12:N14) -> 3696788 | O15: =SUM(O12:O14) -> 3514993 | P15: =SUM(P12:P14) -> 4032411 | Q15: =SUM(Q12:Q14) -> 3355931 | R15: =SUM(R12:R14) -> 3662985 | S15: =SUM(S12:S14) -> 3127378
B17: Inpatient Claims per Non-Active-Duty Disposition | M17: Outpatient Claims per Non-Active-Duty Visit
B18: Service | C18: ='Collected to Claims Ratio'!C20 -> FY2007 | D18: ='Collected to Claims Ratio'!D20 -> FY2008 | E18: ='Collected to Claims Ratio'!E20 -> FY2009 | F18: ='Collected to Claims Ratio'!F20 -> FY2010 | G18: ='Collected to Claims Ratio'!G20 -> FY2011 | H18: ='Collected to Claims Ratio'!H20 -> FY2012 | M18: Service | N18: ='Collected to Claims Ratio'!L20 -> FY2007 | O18: ='Collected to Claims Ratio'!M20 -> FY2008 | P18: ='Collected to Claims Ratio'!N20 -> FY2009 | Q18: ='Collected to Claims Ratio'!O20 -> FY2010 | R18: ='Collected to Claims Ratio'!P20 -> FY2011 | S18: ='Collected to Claims Ratio'!Q20 -> FY2012
B19: ='Claims per Disp or Visits'!B21 -> Army | C19: ='Claims per Disp or Visits'!C21 -> 0.01621015 | D19: ='Claims per Disp or Visits'!D21 -> 0.019060338 | E19: ='Claims per Disp or Visits'!E21 -> 0.017161373 | F19: ='Claims per Disp or Visits'!F21 -> 0.00077960552 | G19: ='Claims per Disp or Visits'!G21 -> 0.020228737 | H19: ='Claims per Disp or Visits'!H21 -> 0.013232033 | M19: ='Claims per Disp or Visits'!K21 -> Army | N19: ='Claims per Disp or Visits'!L21 -> 0.079259681 | O19: ='Claims per Disp or Visits'!M21 -> 0.065950265 | P19: ='Claims per Disp or Visits'!N21 -> 0.084344338 | Q19: ='Claims per Disp or Visits'!O21 -> 0.090003068 | R19: ='Claims per Disp or Visits'!P21 -> 0.068302729 | S19: ='Claims per Disp or Visits'!Q21 -> 0.10369823
B20: ='Claims per Disp or Visits'!B22 -> Navy | C20: ='Claims per Disp or Visits'!C22 -> 0.014074884 | D20: ='Claims per Disp or Visits'!D22 -> 0.016252726 | E20: ='Claims per Disp or Visits'!E22 -> 0.011101881 | F20: ='Claims per Disp or Visits'!F22 -> 0.0092192452 | G20: ='Claims per Disp or Visits'!G22 -> 0.013328424 | H20: ='Claims per Disp or Visits'!H22 -> 0.010794624 | M20: ='Claims per Disp or Visits'!K22 -> Navy | N20: ='Claims per Disp or Visits'!L22 -> 0.051495856 | O20: ='Claims per Disp or Visits'!M22 -> 0.063828011 | P20: ='Claims per Disp or Visits'!N22 -> 0.03528499 | Q20: ='Claims per Disp or Visits'!O22 -> 0.057069668 | R20: ='Claims per Disp or Visits'!P22 -> 0.079946697 | S20: ='Claims per Disp or Visits'!Q22 -> 0.12133595
B21: ='Claims per Disp or Visits'!B20 -> Air Force | C21: ='Claims per Disp or Visits'!C20 -> 0.02347969 | D21: ='Claims per Disp or Visits'!D20 -> 0.024743929 | E21: ='Claims per Disp or Visits'!E20 -> 0.011555455 | F21: ='Claims per Disp or Visits'!F20 -> 0 | G21: ='Claims per Disp or Visits'!G20 -> 0.022250157 | H21: ='Claims per Disp or Visits'!H20 -> 0.026073132 | M21: ='Claims per Disp or Visits'!K20 -> Air Force | N21: ='Claims per Disp or Visits'!L20 -> 0.35182919 | O21: ='Claims per Disp or Visits'!M20 -> 0.25605208 | P21: ='Claims per Disp or Visits'!N20 -> 0.31601342 | Q21: ='Claims per Disp or Visits'!O20 -> 0.31873422 | R21: ='Claims per Disp or Visits'!P20 -> 0.29587238 | S21: ='Claims per Disp or Visits'!Q20 -> 0.3179333
B22: Total | C22: ='Claims per Disp or Visits'!C23 -> 0.016859763 | D22: ='Claims per Disp or Visits'!D23 -> 0.019259446 | E22: ='Claims per Disp or Visits'!E23 -> 0.014405303 | F22: ='Claims per Disp or Visits'!F23 -> 0.0030451422 | G22: ='Claims per Disp or Visits'!G23 -> 0.018624168 | H22: ='Claims per Disp or Visits'!H23 -> 0.014182483 | M22: Total | N22: ='Claims per Disp or Visits'!L23 -> 0.13541783 | O22: ='Claims per Disp or Visits'!M23 -> 0.11228273 | P22: ='Claims per Disp or Visits'!N23 -> 0.11492554 | Q22: ='Claims per Disp or Visits'!O23 -> 0.13655525 | R22: ='Claims per Disp or Visits'!P23 -> 0.11811951 | S22: ='Claims per Disp or Visits'!Q23 -> 0.15978273

Sheet Total Collections
A1: Total Collections
A2: =Summary!A2 -> 1st Quarter
C4: Total IP Collections for a FY
B5: Service | C5: FY2007 | D5: FY2008 | E5: FY2009 | F5: FY2010 | G5: FY2011 | H5: FY2012
B6: Air Force | C6: =Details!C5 -> 1950294.6 | D6: =Details!D5 -> 2497448.7 | E6: =Details!E5 -> 1616361.5 | F6: =Details!F5 -> 3450331.2 | G6: =Details!G5 -> 2884677.3 | H6: =Details!H5 -> 1009098.3
B7: Army | C7: =Details!C6 -> 3532730.1 | D7: =Details!D6 -> 5092061 | E7: =Details!E6 -> 7929911.5 | F7: =Details!F6 -> 4543961.9 | G7: =Details!G6 -> 5422816.5 | H7: =Details!H6 -> 5235483.8
B8: Navy | C8: =Details!C7 -> 2190985.8 | D8: =Details!D7 -> 1708284.4 | E8: =Details!E7 -> 1750675.2 | F8: =Details!F7 -> 1730302.2 | G8: =Details!G7 -> 1788819.4 | H8: =Details!H7 -> 1280733.3
B9: Total | C9: =SUM(C6:C8) -> 7674010.5 | D9: =SUM(D6:D8) -> 9297794.1 | E9: =SUM(E6:E8) -> 11296948 | F9: =SUM(F6:F8) -> 9724595.3 | G9: =SUM(G6:G8) -> 10096313 | H9: =SUM(H6:H8) -> 7525315.4
C12: Total OP Collections for FY
B13: Service | C13: FY2007 | D13: FY2008 | E13: FY2009 | F13: FY2010 | G13: FY2011 | H13: FY2012
B14: Air Force | C14: =Details!C13 -> 10951101 | D14: =Details!D13 -> 17319953 | E14: =Details!E13 -> 19703652 | F14: =Details!F13 -> 22666191 | G14: =Details!G13 -> 19932365 | H14: =Details!H13 -> 15272274
B15: Army | C15: =Details!C14 -> 8069309.2 | D15: =Details!D14 -> 12481400 | E15: =Details!E14 -> 15612256 | F15: =Details!F14 -> 19018555 | G15: =Details!G14 -> 14293851 | H15: =Details!H14 -> 13749816
B16: Navy | C16: =Details!C15 -> 4345159.5 | D16: =Details!D15 -> 7220976.8 | E16: =Details!E15 -> 8544454.9 | F16: =Details!F15 -> 9108188.1 | G16: =Details!G15 -> 7170078.8 | H16: =Details!H15 -> 6023582.4
B17: Total | C17: =SUM(C14:C16) -> 23365570 | D17: =SUM(D14:D16) -> 37022330 | E17: =SUM(E14:E16) -> 43860364 | F17: =SUM(F14:F16) -> 50792934 | G17: =SUM(G14:G16) -> 41396295 | H17: =SUM(H14:H16) -> 35045673
A19: IP
A20: Is AF IP FY2012 data greater than FY2011? | H20: =IF(H6-G6>0,"yes","no") -> no
A21: Is A IP FY2012 data greater than FY2011? | H21: =IF(H7-G7>0,"yes","no") -> no
A22: Is N IP FY2012 data greater than FY2011? | H22: =IF(H8-G8>0,"yes","no") -> no
A24: Is AF OP FY2012 data greater than FY2011? | H24: =IF(H14-G14>0,"yes","no") -> no
A25: Is A OP FY2012 data greater than FY2011? | H25: =IF(H15-G15>0,"yes","no") -> no
A26: Is N OP FY2012 data greater than FY2011? | H26: =IF(H16-G16>0,"yes","no") -> no

Sheet Total Billings
A1: Total Billings
A2: =Summary!A2 -> 1st Quarter
C4: Total IP Billings for CFY in CFY
B5: Service | C5: FY2007 | D5: FY2008 | E5: FY2009 | F5: FY2010 | G5: FY2011 | H5: FY2012
B6: Air Force | C6: =Details!C21 -> 3284438.8 | D6: =Details!D21 -> 4881711.6 | E6: =Details!E21 -> 3790827.9 | F6: =Details!F21 -> 410806.97 | G6: =Details!G21 -> 2949124.8 | H6: =Details!H21 -> 2811704
B7: Army | C7: =Details!C22 -> 6687548.2 | D7: =Details!D22 -> 11460686 | E7: =Details!E22 -> 7865228.6 | F7: =Details!F22 -> 204899.92 | G7: =Details!G22 -> 11777074 | H7: =Details!H22 -> 8090686.8
B8: Navy | C8: =Details!C23 -> 3583937.7 | D8: =Details!D23 -> 3867275.5 | E8: =Details!E23 -> 2201263.1 | F8: =Details!F23 -> 1859532.2 | G8: =Details!G23 -> 3581438.3 | H8: =Details!H23 -> 3693980.4
B9: Total | C9: =SUM(C6:C8) -> 13555925 | D9: =SUM(D6:D8) -> 20209673 | E9: =SUM(E6:E8) -> 13857320 | F9: =SUM(F6:F8) -> 2475239.1 | G9: =SUM(G6:G8) -> 18307637 | H9: =SUM(H6:H8) -> 14596371
C12: Total OP Billings for CFY in CFY
B13: Service | C13: FY2007 | D13: FY2008 | E13: FY2009 | F13: FY2010 | G13: FY2011 | H13: FY2012
B14: Air Force | C14: =Details!C29 -> 35459490 | D14: =Details!D29 -> 33412442 | E14: =Details!E29 -> 43114463 | F14: =Details!F29 -> 41741670 | G14: =Details!G29 -> 25902855 | H14: =Details!H29 -> 27124145
B15: Army | C15: =Details!C30 -> 13362226 | D15: =Details!D30 -> 12982307 | E15: =Details!E30 -> 16651408 | F15: =Details!F30 -> 17161731 | G15: =Details!G30 -> 13134324 | H15: =Details!H30 -> 15022176
B16: Navy | C16: =Details!C31 -> 6103388 | D16: =Details!D31 -> 7860324.5 | E16: =Details!E31 -> 7642220.7 | F16: =Details!F31 -> 7580680.2 | G16: =Details!G31 -> 6399089.2 | H16: =Details!H31 -> 8754092.4
B17: Total | C17: =SUM(C14:C16) -> 54925104 | D17: =SUM(D14:D16) -> 54255074 | E17: =SUM(E14:E16) -> 67408092 | F17: =SUM(F14:F16) -> 66484082 | G17: =SUM(G14:G16) -> 45436268 | H17: =SUM(H14:H16) -> 50900414
A19: IP
A20: Is AF IP FY2012 data greater than FY2011? | H20: =IF(H6-G6>0,"yes","no") -> no
A21: Is A IP FY2012 data greater than FY2011? | H21: =IF(H7-G7>0,"yes","no") -> no
A22: Is N IP FY2012 data greater than FY2011? | H22: =IF(H8-G8>0,"yes","no") -> yes
A24: Is AF OP FY2012 data greater than FY2011? | H24: =IF(H14-G14>0,"yes","no") -> yes
A25: Is A OP FY2012 data greater than FY2011? | H25: =IF(H15-G15>0,"yes","no") -> yes
A26: Is N OP FY2012 data greater than FY2011? | H26: =IF(H16-G16>0,"yes","no") -> yes

Sheet Collected to Claims Ratio
A1: Collected to Claims Issued Ratio
A2: =Summary!A2 -> 1st Quarter
C5: Num of IP Collections for CFY | L5: Num of OP Collections for CFY
B6: Service | C6: FY2007 | D6: FY2008 | E6: FY2009 | F6: FY2010 | G6: FY2011 | H6: FY2012 | K6: Service | L6: FY2007 | M6: FY2008 | N6: FY2009 | O6: FY2010 | P6: FY2011 | Q6: FY2012
B7: Air Force | C7: =Details!C37 -> 6 | D7: =Details!D37 -> 13 | E7: =Details!E37 -> 1 | F7: =Details!F37 -> 0 | G7: =Details!G37 -> 0 | H7: =Details!H37 -> 0 | K7: Air Force | L7: =Details!C61 -> 35751 | M7: =Details!D61 -> 21181 | N7: =Details!E61 -> 24203 | O7: =Details!F61 -> 29171 | P7: =Details!G61 -> 28798 | Q7: =Details!H61 -> 37683
B8: Army | C8: =Details!C38 -> 51 | D8: =Details!D38 -> 60 | E8: =Details!E38 -> 15 | F8: =Details!F38 -> 2 | G8: =Details!G38 -> 52 | H8: =Details!H38 -> 11 | K8: Army | L8: =Details!C62 -> 27840 | M8: =Details!D62 -> 18840 | N8: =Details!E62 -> 25564 | O8: =Details!F62 -> 29211 | P8: =Details!G62 -> 36862 | Q8: =Details!H62 -> 24439
B9: Navy | C9: =Details!C39 -> 42 | D9: =Details!D39 -> 22 | E9: =Details!E39 -> 5 | F9: =Details!F39 -> 17 | G9: =Details!G39 -> 24 | H9: =Details!H39 -> 6 | K9: Navy | L9: =Details!C63 -> 9263 | M9: =Details!D63 -> 7244 | N9: =Details!E63 -> 9497 | O9: =Details!F63 -> 12168 | P9: =Details!G63 -> 14899 | Q9: =Details!H63 -> 14810
B10: Total | C10: =SUM(C7:C9) -> 99 | D10: =SUM(D7:D9) -> 95 | E10: =SUM(E7:E9) -> 21 | F10: =SUM(F7:F9) -> 19 | G10: =SUM(G7:G9) -> 76 | H10: =SUM(H7:H9) -> 17 | K10: Total | L10: =SUM(L7:L9) -> 72854 | M10: =SUM(M7:M9) -> 47265 | N10: =SUM(N7:N9) -> 59264 | O10: =SUM(O7:O9) -> 70550 | P10: =SUM(P7:P9) -> 80559 | Q10: =SUM(Q7:Q9) -> 76932
C12: Num of IP Claims for CFY | L12: Num of OP Claims for CFY
B13: Service | C13: FY2007 | D13: FY2008 | E13: FY2009 | F13: FY2010 | G13: FY2011 | H13: FY2012 | K13: Service | L13: FY2007 | M13: FY2008 | N13: FY2009 | O13: FY2010 | P13: FY2011 | Q13: FY2012
B14: Air Force | C14: =Details!C45 -> 200 | D14: =Details!D45 -> 215 | E14: =Details!E45 -> 102 | F14: =Details!F45 -> 0 | G14: =Details!G45 -> 177 | H14: =Details!H45 -> 164 | K14: Air Force | L14: =Details!C69 -> 305266 | M14: =Details!D69 -> 221959 | N14: =Details!E69 -> 272493 | O14: =Details!F69 -> 261771 | P14: =Details!G69 -> 224455 | Q14: =Details!H69 -> 239812
B15: Army | C15: =Details!C46 -> 390 | D15: =Details!D46 -> 471 | E15: =Details!E46 -> 429 | F15: =Details!F46 -> 20 | G15: =Details!G46 -> 543 | H15: =Details!H46 -> 364 | K15: Army | L15: =Details!C70 -> 141758 | M15: =Details!D70 -> 114618 | N15: =Details!E70 -> 135950 | O15: =Details!F70 -> 141693 | P15: =Details!G70 -> 140661 | Q15: =Details!H70 -> 164931
B16: Navy | C16: =Details!C47 -> 206 | D16: =Details!D47 -> 231 | E16: =Details!E47 -> 147 | F16: =Details!F47 -> 128 | G16: =Details!G47 -> 181 | H16: =Details!H47 -> 155 | K16: Navy | L16: =Details!C71 -> 53587 | M16: =Details!D71 -> 58096 | N16: =Details!E71 -> 54984 | O16: =Details!F71 -> 54806 | P16: =Details!G71 -> 67554 | Q16: =Details!H71 -> 94958
B17: Total | C17: =SUM(C14:C16) -> 796 | D17: =SUM(D14:D16) -> 917 | E17: =SUM(E14:E16) -> 678 | F17: =SUM(F14:F16) -> 148 | G17: =SUM(G14:G16) -> 901 | H17: =SUM(H14:H16) -> 683 | K17: Total | L17: =SUM(L14:L16) -> 500611 | M17: =SUM(M14:M16) -> 394673 | N17: =SUM(N14:N16) -> 463427 | O17: =SUM(O14:O16) -> 458270 | P17: =SUM(P14:P16) -> 432670 | Q17: =SUM(Q14:Q16) -> 499701
C19: IP Collections to Claims for CFY | L19: OP Collections to Claims for CFY
B20: Service | C20: FY2007 | D20: FY2008 | E20: FY2009 | F20: FY2010 | G20: FY2011 | H20: FY2012 | K20: Service | L20: FY2007 | M20: FY2008 | N20: FY2009 | O20: FY2010 | P20: FY2011 | Q20: FY2012
B21: Air Force | C21: =C7/C14 -> 0.03 | D21: =D7/D14 -> 0.060465116 | E21: =E7/E14 -> 0.0098039216 | F21: =F7/F14 -> #DIV/0! | G21: =G7/G14 -> 0 | H21: =H7/H14 -> 0 | K21: Air Force | L21: =L7/L14 -> 0.11711425 | M21: =M7/M14 -> 0.095427534 | N21: =N7/N14 -> 0.08882063 | O21: =O7/O14 -> 0.1114371 | P21: =P7/P14 -> 0.12830189 | Q21: =Q7/Q14 -> 0.15713559
B22: Army | C22: =C8/C15 -> 0.13076923 | D22: =D8/D15 -> 0.12738854 | E22: =E8/E15 -> 0.034965035 | F22: =F8/F15 -> 0.1 | G22: =G8/G15 -> 0.095764273 | H22: =H8/H15 -> 0.03021978 | K22: Army | L22: =L8/L15 -> 0.19639103 | M22: =M8/M15 -> 0.16437209 | N22: =N8/N15 -> 0.18803972 | O22: =O8/O15 -> 0.20615697 | P22: =P8/P15 -> 0.26206269 | Q22: =Q8/Q15 -> 0.14817712
B23: Navy | C23: =C9/C16 -> 0.2038835 | D23: =D9/D16 -> 0.095238095 | E23: =E9/E16 -> 0.034013605 | F23: =F9/F16 -> 0.1328125 | G23: =G9/G16 -> 0.13259669 | H23: =H9/H16 -> 0.038709677 | K23: Navy | L23: =L9/L16 -> 0.17285909 | M23: =M9/M16 -> 0.12469017 | N23: =N9/N16 -> 0.17272297 | O23: =O9/O16 -> 0.22201949 | P23: =P9/P16 -> 0.22054949 | Q23: =Q9/Q16 -> 0.15596369
B24: Total | C24: =C10/C17 -> 0.12437186 | D24: =D10/D17 -> 0.10359869 | E24: =E10/E17 -> 0.030973451 | F24: =F10/F17 -> 0.12837838 | G24: =G10/G17 -> 0.084350721 | H24: =H10/H17 -> 0.02489019 | K24: Total | L24: =L10/L17 -> 0.14553016 | M24: =M10/M17 -> 0.11975737 | N24: =N10/N17 -> 0.12788206 | O24: =O10/O17 -> 0.15394855 | P24: =P10/P17 -> 0.1861904 | Q24: =Q10/Q17 -> 0.15395607

Sheet Claims per Disp or Visits
A1: Claims per Disposition or Claims per Visits
A2: =Summary!A2 -> 1st Quarter
C4: ='Collected to Claims Ratio'!C12 -> Num of IP Claims for CFY | L4: ='Collected to Claims Ratio'!L12 -> Num of OP Claims for CFY
B5: ='Collected to Claims Ratio'!B13 -> Service | C5: ='Collected to Claims Ratio'!C13 -> FY2007 | D5: ='Collected to Claims Ratio'!D13 -> FY2008 | E5: ='Collected to Claims Ratio'!E13 -> FY2009 | F5: ='Collected to Claims Ratio'!F13 -> FY2010 | G5: ='Collected to Claims Ratio'!G13 -> FY2011 | H5: FY2011 | K5: Service | L5: ='Collected to Claims Ratio'!L13 -> FY2007 | M5: ='Collected to Claims Ratio'!M13 -> FY2008 | N5: ='Collected to Claims Ratio'!N13 -> FY2009 | O5: ='Collected to Claims Ratio'!O13 -> FY2010 | P5: ='Collected to Claims Ratio'!P13 -> FY2011 | Q5: FY2011
B6: ='Collected to Claims Ratio'!B14 -> Air Force | C6: ='Collected to Claims Ratio'!C14 -> 200 | D6: ='Collected to Claims Ratio'!D14 -> 215 | E6: ='Collected to Claims Ratio'!E14 -> 102 | F6: ='Collected to Claims Ratio'!F14 -> 0 | G6: ='Collected to Claims Ratio'!G14 -> 177 | H6: ='Collected to Claims Ratio'!H14 -> 164 | K6: ='Collected to Claims Ratio'!K14 -> Air Force | L6: ='Collected to Claims Ratio'!L14 -> 305266 | M6: ='Collected to Claims Ratio'!M14 -> 221959 | N6: ='Collected to Claims Ratio'!N14 -> 272493 | O6: ='Collected to Claims Ratio'!O14 -> 261771 | P6: ='Collected to Claims Ratio'!P14 -> 224455 | Q6: ='Collected to Claims Ratio'!Q14 -> 239812
B7: ='Collected to Claims Ratio'!B15 -> Army | C7: ='Collected to Claims Ratio'!C15 -> 390 | D7: ='Collected to Claims Ratio'!D15 -> 471 | E7: ='Collected to Claims Ratio'!E15 -> 429 | F7: ='Collected to Claims Ratio'!F15 -> 20 | G7: ='Collected to Claims Ratio'!G15 -> 543 | H7: ='Collected to Claims Ratio'!H15 -> 364 | K7: ='Collected to Claims Ratio'!K15 -> Army | L7: ='Collected to Claims Ratio'!L15 -> 141758 | M7: ='Collected to Claims Ratio'!M15 -> 114618 | N7: ='Collected to Claims Ratio'!N15 -> 135950 | O7: ='Collected to Claims Ratio'!O15 -> 141693 | P7: ='Collected to Claims Ratio'!P15 -> 140661 | Q7: ='Collected to Claims Ratio'!Q15 -> 164931
B8: ='Collected to Claims Ratio'!B16 -> Navy | C8: ='Collected to Claims Ratio'!C16 -> 206 | D8: ='Collected to Claims Ratio'!D16 -> 231 | E8: ='Collected to Claims Ratio'!E16 -> 147 | F8: ='Collected to Claims Ratio'!F16 -> 128 | G8: ='Collected to Claims Ratio'!G16 -> 181 | H8: ='Collected to Claims Ratio'!H16 -> 155 | K8: ='Collected to Claims Ratio'!K16 -> Navy | L8: ='Collected to Claims Ratio'!L16 -> 53587 | M8: ='Collected to Claims Ratio'!M16 -> 58096 | N8: ='Collected to Claims Ratio'!N16 -> 54984 | O8: ='Collected to Claims Ratio'!O16 -> 54806 | P8: ='Collected to Claims Ratio'!P16 -> 67554 | Q8: ='Collected to Claims Ratio'!Q16 -> 94958
B9: ='Collected to Claims Ratio'!B17 -> Total | C9: ='Collected to Claims Ratio'!C17 -> 796 | D9: ='Collected to Claims Ratio'!D17 -> 917 | E9: ='Collected to Claims Ratio'!E17 -> 678 | F9: ='Collected to Claims Ratio'!F17 -> 148 | G9: ='Collected to Claims Ratio'!G17 -> 901 | H9: ='Collected to Claims Ratio'!H17 -> 683 | K9: ='Collected to Claims Ratio'!K17 -> Total | L9: ='Collected to Claims Ratio'!L17 -> 500611 | M9: ='Collected to Claims Ratio'!M17 -> 394673 | N9: ='Collected to Claims Ratio'!N17 -> 463427 | O9: ='Collected to Claims Ratio'!O17 -> 458270 | P9: ='Collected to Claims Ratio'!P17 -> 432670 | Q9: ='Collected to Claims Ratio'!Q17 -> 499701
C11: Number of IP Dispositions for CFY | L11: Number of OP Visits for CFY
B12: Service | C12: ='Collected to Claims Ratio'!L13 -> FY2007 | D12: ='Collected to Claims Ratio'!M13 -> FY2008 | E12: ='Collected to Claims Ratio'!N13 -> FY2009 | F12: ='Collected to Claims Ratio'!O13 -> FY2010 | G12: ='Collected to Claims Ratio'!P13 -> FY2011 | H12: FY2011 | K12: Servcie | L12: ='Collected to Claims Ratio'!L13 -> FY2007 | M12: ='Collected to Claims Ratio'!M13 -> FY2008 | N12: ='Collected to Claims Ratio'!N13 -> FY2009 | O12: ='Collected to Claims Ratio'!O13 -> FY2010 | P12: ='Collected to Claims Ratio'!P13 -> FY2011 | Q12: FY2011
B13: Air Force | C13: =Details!C53 -> 8518 | D13: =Details!D53 -> 8689 | E13: =Details!E53 -> 8827 | F13: =Details!F53 -> 9064 | G13: =Details!G53 -> 7955 | H13: =Details!H53 -> 6290 | K13: Air Force | L13: =Details!C77 -> 867654 | M13: =Details!D77 -> 866851 | N13: =Details!E77 -> 862283 | O13: =Details!F77 -> 821283 | P13: =Details!G77 -> 758621 | Q13: =Details!H77 -> 754284
B14: Army | C14: =Details!C54 -> 24059 | D14: =Details!D54 -> 24711 | E14: =Details!E54 -> 24998 | F14: =Details!F54 -> 25654 | G14: =Details!G54 -> 26843 | H14: =Details!H54 -> 27509 | K14: Army | L14: =Details!C78 -> 1788526 | M14: =Details!D78 -> 1737946 | N14: =Details!E78 -> 1611845 | O14: =Details!F78 -> 1574313 | P14: =Details!G78 -> 2059376 | Q14: =Details!H78 -> 1590490
B15: Navy | C15: =Details!C55 -> 14636 | D15: =Details!D55 -> 14213 | E15: =Details!E55 -> 13241 | F15: =Details!F55 -> 13884 | G15: =Details!G55 -> 13580 | H15: =Details!H55 -> 14359 | K15: Navy | L15: =Details!C79 -> 1040608 | M15: =Details!D79 -> 910196 | N15: =Details!E79 -> 1558283 | O15: =Details!F79 -> 960335 | P15: =Details!G79 -> 844988 | Q15: =Details!H79 -> 782604
B16: Total | C16: =SUM(C13:C15) -> 47213 | D16: =SUM(D13:D15) -> 47613 | E16: =SUM(E13:E15) -> 47066 | F16: =SUM(F13:F15) -> 48602 | G16: =SUM(G13:G15) -> 48378 | H16: =SUM(H13:H15) -> 48158 | K16: Total | L16: =SUM(L13:L15) -> 3696788 | M16: =SUM(M13:M15) -> 3514993 | N16: =SUM(N13:N15) -> 4032411 | O16: =SUM(O13:O15) -> 3355931 | P16: =SUM(P13:P15) -> 3662985 | Q16: =SUM(Q13:Q15) -> 3127378
C18: IP Claim per Disposition for CFY | L18: OP Claims per Visits for CFY
B19: Service | C19: ='Collected to Claims Ratio'!L13 -> FY2007 | D19: ='Collected to Claims Ratio'!M13 -> FY2008 | E19: ='Collected to Claims Ratio'!N13 -> FY2009 | F19: ='Collected to Claims Ratio'!O13 -> FY2010 | G19: ='Collected to Claims Ratio'!P13 -> FY2011 | H19: FY2011 | K19: Service | L19: ='Collected to Claims Ratio'!L13 -> FY2007 | M19: ='Collected to Claims Ratio'!M13 -> FY2008 | N19: ='Collected to Claims Ratio'!N13 -> FY2009 | O19: ='Collected to Claims Ratio'!O13 -> FY2010 | P19: ='Collected to Claims Ratio'!P13 -> FY2011 | Q19: FY2011
B20: Air Force | C20: =C6/C13 -> 0.02347969 | D20: =D6/D13 -> 0.024743929 | E20: =E6/E13 -> 0.011555455 | F20: =F6/F13 -> 0 | G20: =G6/G13 -> 0.022250157 | H20: =H6/H13 -> 0.026073132 | K20: Air Force | L20: =L6/L13 -> 0.35182919 | M20: =M6/M13 -> 0.25605208 | N20: =N6/N13 -> 0.31601342 | O20: =O6/O13 -> 0.31873422 | P20: =P6/P13 -> 0.29587238 | Q20: =Q6/Q13 -> 0.3179333
B21: Army | C21: =C7/C14 -> 0.01621015 | D21: =D7/D14 -> 0.019060338 | E21: =E7/E14 -> 0.017161373 | F21: =F7/F14 -> 0.00077960552 | G21: =G7/G14 -> 0.020228737 | H21: =H7/H14 -> 0.013232033 | K21: Army | L21: =L7/L14 -> 0.079259681 | M21: =M7/M14 -> 0.065950265 | N21: =N7/N14 -> 0.084344338 | O21: =O7/O14 -> 0.090003068 | P21: =P7/P14 -> 0.068302729 | Q21: =Q7/Q14 -> 0.10369823
B22: Navy | C22: =C8/C15 -> 0.014074884 | D22: =D8/D15 -> 0.016252726 | E22: =E8/E15 -> 0.011101881 | F22: =F8/F15 -> 0.0092192452 | G22: =G8/G15 -> 0.013328424 | H22: =H8/H15 -> 0.010794624 | K22: Navy | L22: =L8/L15 -> 0.051495856 | M22: =M8/M15 -> 0.063828011 | N22: =N8/N15 -> 0.03528499 | O22: =O8/O15 -> 0.057069668 | P22: =P8/P15 -> 0.079946697 | Q22: =Q8/Q15 -> 0.12133595
B23: Total | C23: =C9/C16 -> 0.016859763 | D23: =D9/D16 -> 0.019259446 | E23: =E9/E16 -> 0.014405303 | F23: =F9/F16 -> 0.0030451422 | G23: =G9/G16 -> 0.018624168 | H23: =H9/H16 -> 0.014182483 | K23: Total | L23: =L9/L16 -> 0.13541783 | M23: =M9/M16 -> 0.11228273 | N23: =N9/N16 -> 0.11492554 | O23: =O9/O16 -> 0.13655525 | P23: =P9/P16 -> 0.11811951 | Q23: =Q9/Q16 -> 0.15978273

Sheet Details
A1: Details
C2: 1stQFY07 | D2: 1stQFY08 | E2: 1stQFY09 | F2: 1stQFY10 | G2: 1stQFY11 | H2: 1stQFY12
B3: service | C3: Total IP Collections In CY | D3: Total IP Collections In CY | E3: Total IP Collections In CY | F3: Total IP Collections In CY | G3: Total IP Collections In CY | H3: Total IP Collections In CY
B4: ---------- | C4: -------------------------- | D4: -------------------------- | E4: -------------------------- | F4: -------------------------- | G4: -------------------------- | H4: --------------------------
B5: Air Force | C5: 1950294.6 | D5: 2497448.7 | E5: 1616361.5 | F5: 3450331.2 | G5: 2884677.3 | H5: 1009098.3
B6: Army | C6: 3532730.1 | D6: 5092061 | E6: 7929911.5 | F6: 4543961.9 | G6: 5422816.5 | H6: 5235483.8
B7: Navy | C7: 2190985.8 | D7: 1708284.4 | E7: 1750675.2 | F7: 1730302.2 | G7: 1788819.4 | H7: 1280733.3
B9: (3 row(s) a | C9: ffected) | D9: affected) | E9: ffected) | F9: ffected) | G9: ffected) | H9: ffected)
B11: service | C11: Total OP Collections In CY | D11: Total OP Collections In CY | E11: Total OP Collections In CY | F11: Total OP Collections In CY | G11: Total OP Collections In CY | H11: Total OP Collections In CY
B12: ---------- | C12: -------------------------- | D12: -------------------------- | E12: -------------------------- | F12: -------------------------- | G12: -------------------------- | H12: --------------------------
B13: Air Force | C13: 10951101 | D13: 17319953 | E13: 19703652 | F13: 22666191 | G13: 19932365 | H13: 15272274
B14: Army | C14: 8069309.2 | D14: 12481400 | E14: 15612256 | F14: 19018555 | G14: 14293851 | H14: 13749816
B15: Navy | C15: 4345159.5 | D15: 7220976.8 | E15: 8544454.9 | F15: 9108188.1 | G15: 7170078.8 | H15: 6023582.4
B17: (3 row(s) a | C17: ffected) | D17: affected) | E17: ffected) | F17: ffected) | G17: ffected) | H17: ffected)
B19: service | C19: Total IP Billings In CY | D19: Total IP Billings In CY | E19: Total IP Billings In CY | F19: Total IP Billings In CY | G19: Total IP Billings In CY | H19: Total IP Billings In CY
B20: ---------- | C20: ----------------------- | D20: ----------------------- | E20: ----------------------- | F20: ----------------------- | G20: ----------------------- | H20: -----------------------
B21: Air Force | C21: 3284438.8 | D21: 4881711.6 | E21: 3790827.9 | F21: 410806.97 | G21: 2949124.8 | H21: 2811704
B22: Army | C22: 6687548.2 | D22: 11460686 | E22: 7865228.6 | F22: 204899.92 | G22: 11777074 | H22: 8090686.8
B23: Navy | C23: 3583937.7 | D23: 3867275.5 | E23: 2201263.1 | F23: 1859532.2 | G23: 3581438.3 | H23: 3693980.4
B25: (3 row(s) a | C25: ffected) | D25: affected) | E25: ffected) | F25: ffected) | G25: ffected) | H25: ffected)
B27: service | C27: Total OP Billings In CY | D27: Total OP Billings In CY | E27: Total OP Billings In CY | F27: Total OP Billings In CY | G27: Total OP Billings In CY | H27: Total OP Billings In CY
B28: ---------- | C28: ----------------------- | D28: ----------------------- | E28: ----------------------- | F28: ----------------------- | G28: ----------------------- | H28: -----------------------
B29: Air Force | C29: 35459490 | D29: 33412442 | E29: 43114463 | F29: 41741670 | G29: 25902855 | H29: 27124145
B30: Army | C30: 13362226 | D30: 12982307 | E30: 16651408 | F30: 17161731 | G30: 13134324 | H30: 15022176
B31: Navy | C31: 6103388 | D31: 7860324.5 | E31: 7642220.7 | F31: 7580680.2 | G31: 6399089.2 | H31: 8754092.4
B33: (3 row(s) a | C33: ffected) | D33: affected) | E33: ffected) | F33: ffected) | G33: ffected) | H33: ffected)
B35: service | C35: Number of IP Collections | D35: Number of IP Collections | E35: Number of IP Collections | F35: Number of IP Collections | G35: Number of IP Collections | H35: Number of IP Collections
B36: ---------- | C36: ------------------------ | D36: ------------------------ | E36: ------------------------ | F36: ------------------------ | G36: ------------------------ | H36: ------------------------
B37: Air Force | C37: 6 | D37: 13 | E37: 1 | F37: 0 | G37: 0 | H37: 0
B38: Army | C38: 51 | D38: 60 | E38: 15 | F38: 2 | G38: 52 | H38: 11
B39: Navy | C39: 42 | D39: 22 | E39: 5 | F39: 17 | G39: 24 | H39: 6
B41: (3 row(s) a | C41: ffected) | D41: affected) | E41: ffected) | F41: ffected) | G41: ffected) | H41: ffected)
B43: service | C43: Number of IP Claims | D43: Number of IP Claims | E43: Number of IP Claims | F43: Number of IP Claims | G43: Number of IP Claims | H43: Number of IP Claims
B44: ---------- | C44: ------------------- | D44: ------------------- | E44: ------------------- | F44: ------------------- | G44: ------------------- | H44: -------------------
B45: Air Force | C45: 200 | D45: 215 | E45: 102 | F45: 0 | G45: 177 | H45: 164
B46: Army | C46: 390 | D46: 471 | E46: 429 | F46: 20 | G46: 543 | H46: 364
B47: Navy | C47: 206 | D47: 231 | E47: 147 | F47: 128 | G47: 181 | H47: 155
B49: (3 row(s) a | C49: ffected) | D49: affected) | E49: ffected) | F49: ffected) | G49: ffected) | H49: ffected)
B51: service | C51: Number of IP Dispositions | D51: Number of IP Dispositions | E51: Number of IP Dispositions | F51: Number of IP Dispositions | G51: Number of IP Dispositions | H51: Number of IP Dispositions
B52: ---------- | C52: ------------------------- | D52: ------------------------- | E52: ------------------------- | F52: ------------------------- | G52: ------------------------- | H52: -------------------------
B53: Air Force | C53: 8518 | D53: 8689 | E53: 8827 | F53: 9064 | G53: 7955 | H53: 6290
B54: Army | C54: 24059 | D54: 24711 | E54: 24998 | F54: 25654 | G54: 26843 | H54: 27509
B55: Navy | C55: 14636 | D55: 14213 | E55: 13241 | F55: 13884 | G55: 13580 | H55: 14359
B57: (3 row(s) a | C57: ffected) | D57: affected) | E57: ffected) | F57: ffected) | G57: ffected) | H57: ffected)
B59: service | C59: Number of OP Collections | D59: Number of OP Collections | E59: Number of OP Collections | F59: Number of OP Collections | G59: Number of OP Collections | H59: Number of OP Collections
B60: ---------- | C60: ------------------------ | D60: ------------------------ | E60: ------------------------ | F60: ------------------------ | G60: ------------------------ | H60: ------------------------
B61: Air Force | C61: 35751 | D61: 21181 | E61: 24203 | F61: 29171 | G61: 28798 | H61: 37683
B62: Army | C62: 27840 | D62: 18840 | E62: 25564 | F62: 29211 | G62: 36862 | H62: 24439
B63: Navy | C63: 9263 | D63: 7244 | E63: 9497 | F63: 12168 | G63: 14899 | H63: 14810
B65: (3 row(s) a | C65: ffected) | D65: affected) | E65: ffected) | F65: ffected) | G65: ffected) | H65: ffected)
B67: service | C67: Number of OP Claims | D67: Number of OP Claims | E67: Number of OP Claims | F67: Number of OP Claims | G67: Number of OP Claims | H67: Number of OP Claims
B68: ---------- | C68: ------------------- | D68: ------------------- | E68: ------------------- | F68: ------------------- | G68: ------------------- | H68: -------------------
B69: Air Force | C69: 305266 | D69: 221959 | E69: 272493 | F69: 261771 | G69: 224455 | H69: 239812
B70: Army | C70: 141758 | D70: 114618 | E70: 135950 | F70: 141693 | G70: 140661 | H70: 164931
B71: Navy | C71: 53587 | D71: 58096 | E71: 54984 | F71: 54806 | G71: 67554 | H71: 94958
B73: (3 row(s) a | C73: ffected) | D73: affected) | E73: ffected) | F73: ffected) | G73: ffected) | H73: ffected)
B75: service | C75: Number of OP Visits | D75: Number of OP Visits | E75: Number of OP Visits | F75: Number of OP Visits | G75: Number of OP Visits | H75: Number of OP Visits
B76: ---------- | C76: ------------------- | D76: ------------------- | E76: ------------------- | F76: ------------------- | G76: ------------------- | H76: -------------------
B77: Air Force | C77: 867654 | D77: 866851 | E77: 862283 | F77: 821283 | G77: 758621 | H77: 754284
B78: Army | C78: 1788526 | D78: 1737946 | E78: 1611845 | F78: 1574313 | G78: 2059376 | H78: 1590490
B79: Navy | C79: 1040608 | D79: 910196 | E79: 1558283 | F79: 960335 | G79: 844988 | H79: 782604
B81: (3 row(s) a | C81: ffected) | D81: affected) | E81: ffected) | F81: ffected) | G81: ffected) | H81: ffected)

Sheet IP $ Collections by DMIS
A1: Total Collections metric QC by DMIS ID
B3: Service | C3: dmis_id | D3: dmis_name | E3: facility_type | G3: Total IP Collections In CY by DMIS ID
F4: FY2007 | G4: FY2008 | H4: FY2009 | I4: FY2010 | J4: FY2011 | K4: FY2012
B5: =Details2!B5 -> Air Force | C5: =Details2!C5 -> 0004 | D5: =Details2!D5 -> Maxwell AFB (42nd Medical Group) | E5: =Details2!E5 -> C | F5: =Details2!F5 -> NULL | G5: =Details2!G5 -> NULL | H5: =Details2!H5 -> NULL | I5: =Details2!I5 -> NULL | ... K5: =Details2!K5 -> NULL | L5: =IF(AND(E5<>"H",K5="NULL")," ","review")
B6: =Details2!B6 -> Air Force | C6: =Details2!C6 -> 0006 | D6: =Details2!D6 -> Elmendorf AFB (3rd Medical group) | E6: =Details2!E6 -> H | F6: =Details2!F6 -> 126752.08 | G6: =Details2!G6 -> 195941.85 | H6: =Details2!H6 -> 228719.97 | I6: =Details2!I6 -> 139228.34 | ... K6: =Details2!K6 -> 201746.52 | M6: =IF(AND(J6*0.6 <=K6, K6<= J6*1.4)," ","review")
B7: =Details2!B7 -> Air Force | C7: =Details2!C7 -> 0009 | D7: =Details2!D7 -> Luke AFB (56th Medical Group) | E7: =Details2!E7 -> C | F7: =Details2!F7 -> NULL | G7: =Details2!G7 -> NULL | H7: =Details2!H7 -> NULL | I7: =Details2!I7 -> NULL | ... K7: =Details2!K7 -> NULL | L7: Inpatient closed down
B8: =Details2!B8 -> Air Force | C8: =Details2!C8 -> 0010 | D8: =Details2!D8 -> Davis Monthan AFB (355th Medical Group) | E8: =Details2!E8 -> C | F8: =Details2!F8 -> NULL | G8: =Details2!G8 -> NULL | H8: =Details2!H8 -> NULL | I8: =Details2!I8 -> NULL | ... K8: =Details2!K8 -> NULL
B9: =Details2!B9 -> Air Force | C9: =Details2!C9 -> 0013 | D9: =Details2!D9 -> Little Rock AFB (314th Medical Group) | E9: =Details2!E9 -> C | F9: =Details2!F9 -> NULL | G9: =Details2!G9 -> NULL | H9: =Details2!H9 -> NULL | I9: =Details2!I9 -> NULL | ... K9: =Details2!K9 -> NULL
B10: =Details2!B10 -> Air Force | C10: =Details2!C10 -> 0014 | D10: =Details2!D10 -> Travis AFB (60th Medical Group) | E10: =Details2!E10 -> H | F10: =Details2!F10 -> 201683.86 | G10: =Details2!G10 -> 152326.97 | H10: =Details2!H10 -> 57766.68 | I10: =Details2!I10 -> 178155.53 | ... K10: =Details2!K10 -> 91293.54 | M10: =IF(AND(J10*0.6 <=K10, K10<= J10*1.4)," ","review") -> review | N10: ok
B11: =Details2!B11 -> Air Force | C11: =Details2!C11 -> 0015 | D11: =Details2!D11 -> Beale AFB (9th Medical Group) | E11: =Details2!E11 -> C | F11: =Details2!F11 -> NULL | G11: =Details2!G11 -> NULL | H11: =Details2!H11 -> NULL | I11: =Details2!I11 -> NULL | ... K11: =Details2!K11 -> NULL
B12: =Details2!B12 -> Air Force | C12: =Details2!C12 -> 0018 | D12: =Details2!D12 -> Vandenberg AFB (30th Medical Group) | E12: =Details2!E12 -> C | F12: =Details2!F12 -> NULL | G12: =Details2!G12 -> NULL | H12: =Details2!H12 -> NULL | I12: =Details2!I12 -> NULL | ... K12: =Details2!K12 -> NULL
B13: =Details2!B13 -> Air Force | C13: =Details2!C13 -> 0019 | D13: =Details2!D13 -> Edwards AFB (95th Medical Group) | E13: =Details2!E13 -> C | F13: =Details2!F13 -> NULL | G13: =Details2!G13 -> NULL | H13: =Details2!H13 -> NULL | I13: =Details2!I13 -> NULL | ... K13: =Details2!K13 -> NULL
B14: =Details2!B14 -> Air Force | C14: =Details2!C14 -> 0033 | D14: =Details2!D14 -> USAF Academy (10th Medical Group) | E14: =Details2!E14 -> H | F14: =Details2!F14 -> 9124.81 | G14: =Details2!G14 -> 29005.05 | H14: =Details2!H14 -> 7646.55 | I14: =Details2!I14 -> 0 | ... K14: =Details2!K14 -> NULL | M14: =IF(AND(J14*0.6 <=K14, K14<= J14*1.4)," ","review") -> #VALUE! | N14: ok
B15: =Details2!B15 -> Air Force | C15: =Details2!C15 -> 0036 | D15: =Details2!D15 -> Dover AFB (436th Medical Group) | E15: =Details2!E15 -> C | F15: =Details2!F15 -> NULL | G15: =Details2!G15 -> NULL | H15: =Details2!H15 -> NULL | I15: =Details2!I15 -> NULL | ... K15: =Details2!K15 -> NULL
B16: =Details2!B16 -> Air Force | C16: =Details2!C16 -> 0042 | D16: =Details2!D16 -> Eglin AFB (96th Medical Group) | E16: =Details2!E16 -> H | F16: =Details2!F16 -> 151805.41 | G16: =Details2!G16 -> 201688.26 | H16: =Details2!H16 -> 29952.71 | I16: =Details2!I16 -> 49357 | ... K16: =Details2!K16 -> 24042.35 | M16: =IF(AND(J16*0.6 <=K16, K16<= J16*1.4)," ","review") | N16: ok
B17: =Details2!B17 -> Air Force | C17: =Details2!C17 -> 0043 | D17: =Details2!D17 -> Tyndall AFB (325th Medical Group) | E17: =Details2!E17 -> C | F17: =Details2!F17 -> NULL | G17: =Details2!G17 -> NULL | H17: =Details2!H17 -> NULL | I17: =Details2!I17 -> NULL | ... K17: =Details2!K17 -> NULL
B18: =Details2!B18 -> Air Force | C18: =Details2!C18 -> 0045 | D18: =Details2!D18 -> MacDill AFB (6th Medical Group) | E18: =Details2!E18 -> C | F18: =Details2!F18 -> NULL | G18: =Details2!G18 -> 0 | H18: =Details2!H18 -> NULL | I18: =Details2!I18 -> NULL | ... K18: =Details2!K18 -> NULL | L18: Inpatient closed down | M18: =IF(AND(J18*0.6 <=K18, K18<= J18*1.4)," ","review") -> #VALUE!
B19: =Details2!B19 -> Air Force | C19: =Details2!C19 -> 0046 | D19: =Details2!D19 -> Patrick AFB (45th Medical Group) | E19: =Details2!E19 -> C | F19: =Details2!F19 -> NULL | G19: =Details2!G19 -> NULL | H19: =Details2!H19 -> NULL | I19: =Details2!I19 -> NULL | ... K19: =Details2!K19 -> NULL
B20: =Details2!B20 -> Air Force | C20: =Details2!C20 -> 0050 | D20: =Details2!D20 -> Moody AFB (347th Medical Group) | E20: =Details2!E20 -> C | F20: =Details2!F20 -> NULL | G20: =Details2!G20 -> NULL | H20: =Details2!H20 -> NULL | I20: =Details2!I20 -> NULL | ... K20: =Details2!K20 -> NULL
B21: =Details2!B21 -> Air Force | C21: =Details2!C21 -> 0051 | D21: =Details2!D21 -> Robins AFB (78th Medical Group) | E21: =Details2!E21 -> C | F21: =Details2!F21 -> NULL | G21: =Details2!G21 -> NULL | H21: =Details2!H21 -> NULL | I21: =Details2!I21 -> NULL | ... K21: =Details2!K21 -> NULL
B22: =Details2!B22 -> Air Force | C22: =Details2!C22 -> 0053 | D22: =Details2!D22 -> Mountain Home AFB (366th Medical Group) | E22: =Details2!E22 -> H | F22: =Details2!F22 -> 6942.25 | G22: =Details2!G22 -> NULL | H22: =Details2!H22 -> 8751.21 | I22: =Details2!I22 -> 6825.47 | ... K22: =Details2!K22 -> 0 | M22: =IF(AND(J22*0.6 <=K22, K22<= J22*1.4)," ","review") -> review
B23: =Details2!B23 -> Air Force | C23: =Details2!C23 -> 0055 | D23: =Details2!D23 -> Scott AFB (375th Medical Group) | E23: =Details2!E23 -> C | F23: =Details2!F23 -> 46827.54 | G23: =Details2!G23 -> NULL | H23: =Details2!H23 -> NULL | I23: =Details2!I23 -> NULL | ... K23: =Details2!K23 -> NULL | M23: =IF(AND(J23*0.6 <=K23, K23<= J23*1.4)," ","review") -> #VALUE!
B24: =Details2!B24 -> Air Force | C24: =Details2!C24 -> 0059 | D24: =Details2!D24 -> McConnell AFB (22nd Medical Group) | E24: =Details2!E24 -> C | F24: =Details2!F24 -> NULL | G24: =Details2!G24 -> NULL | H24: =Details2!H24 -> NULL | I24: =Details2!I24 -> NULL | ... K24: =Details2!K24 -> NULL
B25: =Details2!B25 -> Air Force | C25: =Details2!C25 -> 0062 | D25: =Details2!D25 -> Barksdale AFB (2nd Medical Group) | E25: =Details2!E25 -> C | F25: =Details2!F25 -> NULL | G25: =Details2!G25 -> NULL | H25: =Details2!H25 -> NULL | I25: =Details2!I25 -> NULL | ... K25: =Details2!K25 -> NULL
B26: =Details2!B26 -> Air Force | C26: =Details2!C26 -> 0066 | D26: =Details2!D26 -> Andrews AFB (79th Medical Group) | E26: =Details2!E26 -> H | F26: =Details2!F26 -> 179254.89 | G26: =Details2!G26 -> 86311.07 | H26: =Details2!H26 -> 26990.79 | I26: =Details2!I26 -> 129825.86 | ... K26: =Details2!K26 -> 47424.38 | M26: =IF(AND(J26*0.6 <=K26, K26<= J26*1.4)," ","review") | N26: ok
B27: =Details2!B27 -> Air Force | C27: =Details2!C27 -> 0073 | D27: =Details2!D27 -> Keesler AFB (81st Medical Group) | E27: =Details2!E27 -> H | F27: =Details2!F27 -> 6757.36 | G27: =Details2!G27 -> 39857.13 | H27: =Details2!H27 -> 49433.84 | I27: =Details2!I27 -> 130531.82 | ... K27: =Details2!K27 -> 127055.24 | L27: Inpatient closed down | M27: =IF(AND(J27*0.6 <=K27, K27<= J27*1.4)," ","review") | N27: ok
B28: =Details2!B28 -> Air Force | C28: =Details2!C28 -> 0074 | D28: =Details2!D28 -> Columbus AFB (14th Medical Group) | E28: =Details2!E28 -> C | F28: =Details2!F28 -> NULL | G28: =Details2!G28 -> NULL | H28: =Details2!H28 -> NULL | I28: =Details2!I28 -> NULL | ... K28: =Details2!K28 -> NULL
B29: =Details2!B29 -> Air Force | C29: =Details2!C29 -> 0076 | D29: =Details2!D29 -> Whiteman AFB (509th Medical Group) | E29: =Details2!E29 -> C | F29: =Details2!F29 -> NULL | G29: =Details2!G29 -> NULL | H29: =Details2!H29 -> NULL | I29: =Details2!I29 -> NULL | ... K29: =Details2!K29 -> NULL
B30: =Details2!B30 -> Air Force | C30: =Details2!C30 -> 0077 | D30: =Details2!D30 -> Malmstrom AFB (341st Medical Group) | E30: =Details2!E30 -> C | F30: =Details2!F30 -> NULL | G30: =Details2!G30 -> NULL | H30: =Details2!H30 -> NULL | I30: =Details2!I30 -> NULL | ... K30: =Details2!K30 -> NULL
B31: =Details2!B31 -> Air Force | C31: =Details2!C31 -> 0078 | D31: =Details2!D31 -> Offutt AFB (55th Medical Group) | E31: =Details2!E31 -> C | F31: =Details2!F31 -> 0 | G31: =Details2!G31 -> NULL | H31: =Details2!H31 -> NULL | I31: =Details2!I31 -> NULL | ... K31: =Details2!K31 -> NULL | L31: Inpatient closed down | M31: =IF(AND(J31*0.6 <=K31, K31<= J31*1.4)," ","review") -> #VALUE! | N31: ok
B32: =Details2!B32 -> Air Force | C32: =Details2!C32 -> 0079 | D32: =Details2!D32 -> Nellis AFB (99th Medical Group) | E32: =Details2!E32 -> H | F32: =Details2!F32 -> 131926.2 | G32: =Details2!G32 -> NULL | H32: =Details2!H32 -> 151692.19 | I32: =Details2!I32 -> 243804.03 | ... K32: =Details2!K32 -> 124306.34 | M32: =IF(AND(J32*0.6 <=K32, K32<= J32*1.4)," ","review") | N32: ok
B33: =Details2!B33 -> Air Force | C33: =Details2!C33 -> 0083 | D33: =Details2!D33 -> Kirtland AFB (377th Medical Group) | E33: =Details2!E33 -> C | F33: =Details2!F33 -> NULL | G33: =Details2!G33 -> NULL | H33: =Details2!H33 -> NULL | I33: =Details2!I33 -> NULL | ... K33: =Details2!K33 -> NULL
B34: =Details2!B34 -> Air Force | C34: =Details2!C34 -> 0084 | D34: =Details2!D34 -> Holloman AFB (49th Medical Group) | E34: =Details2!E34 -> C | F34: =Details2!F34 -> NULL | G34: =Details2!G34 -> NULL | H34: =Details2!H34 -> NULL | I34: =Details2!I34 -> NULL | ... K34: =Details2!K34 -> NULL
B35: =Details2!B35 -> Air Force | C35: =Details2!C35 -> 0085 | D35: =Details2!D35 -> Cannon AFB (27th Medical Group) | E35: =Details2!E35 -> C | F35: =Details2!F35 -> NULL | G35: =Details2!G35 -> NULL | H35: =Details2!H35 -> NULL | I35: =Details2!I35 -> NULL | ... K35: =Details2!K35 -> NULL
B36: =Details2!B36 -> Air Force | C36: =Details2!C36 -> 0090 | D36: =Details2!D36 -> Seymour Johnson AFB (4th Medical Group) | E36: =Details2!E36 -> C | F36: =Details2!F36 -> NULL | G36: =Details2!G36 -> NULL | H36: =Details2!H36 -> NULL | I36: =Details2!I36 -> NULL | ... K36: =Details2!K36 -> NULL
B37: =Details2!B37 -> Air Force | C37: =Details2!C37 -> 0093 | D37: =Details2!D37 -> Grand Forks AFB (319th Medical Group) | E37: =Details2!E37 -> C | F37: =Details2!F37 -> NULL | G37: =Details2!G37 -> NULL | H37: =Details2!H37 -> NULL | I37: =Details2!I37 -> NULL | ... K37: =Details2!K37 -> NULL
B38: =Details2!B38 -> Air Force | C38: =Details2!C38 -> 0094 | D38: =Details2!D38 -> Minot AFB (5th Medical Group) | E38: =Details2!E38 -> C | F38: =Details2!F38 -> NULL | G38: =Details2!G38 -> NULL | H38: =Details2!H38 -> NULL | I38: =Details2!I38 -> NULL | ... K38: =Details2!K38 -> NULL
B39: =Details2!B39 -> Air Force | C39: =Details2!C39 -> 0095 | D39: =Details2!D39 -> Wright Patterson AFB (88th Medical Group) | E39: =Details2!E39 -> H | F39: =Details2!F39 -> 148440.13 | G39: =Details2!G39 -> 832028.95 | H39: =Details2!H39 -> 568978.77 | I39: =Details2!I39 -> 315738.06 | ... K39: =Details2!K39 -> 164171.18 | M39: =IF(AND(J39*0.6 <=K39, K39<= J39*1.4)," ","review") -> review | N39: ok
B40: =Details2!B40 -> Air Force | C40: =Details2!C40 -> 0096 | D40: =Details2!D40 -> Tinker AFB (72th Medical Group) | E40: =Details2!E40 -> C | F40: =Details2!F40 -> NULL | G40: =Details2!G40 -> NULL | H40: =Details2!H40 -> NULL | I40: =Details2!I40 -> NULL | ... K40: =Details2!K40 -> NULL
B41: =Details2!B41 -> Air Force | C41: =Details2!C41 -> 0097 | D41: =Details2!D41 -> Altus AFB (97th Medical Group) | E41: =Details2!E41 -> C | F41: =Details2!F41 -> NULL | G41: =Details2!G41 -> NULL | H41: =Details2!H41 -> NULL | I41: =Details2!I41 -> NULL | ... K41: =Details2!K41 -> NULL
B42: =Details2!B42 -> Air Force | C42: =Details2!C42 -> 0101 | D42: =Details2!D42 -> Shaw AFB (20th Medical Group) | E42: =Details2!E42 -> C | F42: =Details2!F42 -> NULL | G42: =Details2!G42 -> NULL | H42: =Details2!H42 -> NULL | I42: =Details2!I42 -> NULL | ... K42: =Details2!K42 -> NULL
B43: =Details2!B43 -> Air Force | C43: =Details2!C43 -> 0106 | D43: =Details2!D43 -> Ellsworth AFB (28th Medical Group) | E43: =Details2!E43 -> C | F43: =Details2!F43 -> NULL | G43: =Details2!G43 -> NULL | H43: =Details2!H43 -> NULL | I43: =Details2!I43 -> NULL | ... K43: =Details2!K43 -> NULL
B44: =Details2!B44 -> Air Force | C44: =Details2!C44 -> 0112 | D44: =Details2!D44 -> Dyess AFB (7th Medical Group) | E44: =Details2!E44 -> C | F44: =Details2!F44 -> NULL | G44: =Details2!G44 -> NULL | H44: =Details2!H44 -> NULL | I44: =Details2!I44 -> NULL | ... K44: =Details2!K44 -> NULL
B45: =Details2!B45 -> Air Force | C45: =Details2!C45 -> 0113 | D45: =Details2!D45 -> Sheppard AFB (82nd Medical Group) | E45: =Details2!E45 -> C | F45: =Details2!F45 -> NULL | G45: =Details2!G45 -> NULL | H45: =Details2!H45 -> NULL | I45: =Details2!I45 -> NULL | ... K45: =Details2!K45 -> NULL
B46: =Details2!B46 -> Air Force | C46: =Details2!C46 -> 0114 | D46: =Details2!D46 -> Laughlin AFB (47th Medical Group) | E46: =Details2!E46 -> C | F46: =Details2!F46 -> NULL | G46: =Details2!G46 -> NULL | H46: =Details2!H46 -> NULL | I46: =Details2!I46 -> NULL | ... K46: =Details2!K46 -> NULL
B47: =Details2!B47 -> Air Force | C47: =Details2!C47 -> 0117 | D47: =Details2!D47 -> Lackland AFB (59th Medical Wing) | E47: =Details2!E47 -> H | F47: =Details2!F47 -> 940780.11 | G47: =Details2!G47 -> 937128.67 | H47: =Details2!H47 -> 459035.4 | I47: =Details2!I47 -> 2217382.2 | ... K47: =Details2!K47 -> 219240.34 | M47: =IF(AND(J47*0.6 <=K47, K47<= J47*1.4)," ","review") -> review
B48: =Details2!B48 -> Air Force | C48: =Details2!C48 -> 0119 | D48: =Details2!D48 -> Hill AFB (75th Medical Group) | E48: =Details2!E48 -> C | F48: =Details2!F48 -> NULL | G48: =Details2!G48 -> NULL | H48: =Details2!H48 -> NULL | I48: =Details2!I48 -> NULL | ... K48: =Details2!K48 -> NULL
B49: =Details2!B49 -> Air Force | C49: =Details2!C49 -> 0120 | D49: =Details2!D49 -> Langley AFB (1st Medical Group) | E49: =Details2!E49 -> H | F49: =Details2!F49 -> 0 | G49: =Details2!G49 -> 23160.71 | H49: =Details2!H49 -> 27393.4 | I49: =Details2!I49 -> 39482.95 | ... K49: =Details2!K49 -> 9818.38
B50: =Details2!B50 -> Air Force | C50: =Details2!C50 -> 0128 | D50: =Details2!D50 -> Fairchild AFB (92nd Medical Group) | E50: =Details2!E50 -> C | F50: =Details2!F50 -> NULL | G50: =Details2!G50 -> NULL | H50: =Details2!H50 -> NULL | I50: =Details2!I50 -> NULL | ... K50: =Details2!K50 -> NULL
B51: =Details2!B51 -> Air Force | C51: =Details2!C51 -> 0129 | D51: =Details2!D51 -> F.E. Warren AFB (90th Medical Group) | E51: =Details2!E51 -> C | F51: =Details2!F51 -> NULL | G51: =Details2!G51 -> NULL | H51: =Details2!H51 -> NULL | I51: =Details2!I51 -> NULL | ... K51: =Details2!K51 -> NULL
B52: =Details2!B52 -> Air Force | C52: =Details2!C52 -> 0203 | D52: =Details2!D52 -> Eielson AFB (354th Medical Group) | E52: =Details2!E52 -> C | F52: =Details2!F52 -> NULL | G52: =Details2!G52 -> NULL | H52: =Details2!H52 -> NULL | I52: =Details2!I52 -> NULL | ... K52: =Details2!K52 -> NULL
B53: =Details2!B53 -> Air Force | C53: =Details2!C53 -> 0248 | D53: =Details2!D53 -> Los Angeles AFB (61st Medical Squad) | E53: =Details2!E53 -> C | F53: =Details2!F53 -> NULL | G53: =Details2!G53 -> NULL | H53: =Details2!H53 -> NULL | I53: =Details2!I53 -> NULL | ... K53: =Details2!K53 -> NULL
B54: =Details2!B54 -> Air Force | C54: =Details2!C54 -> 0250 | D54: =Details2!D54 -> McClellan AFB (77th Medical Group) | E54: =Details2!E54 -> I | F54: =Details2!F54 -> NULL | G54: =Details2!G54 -> NULL | H54: =Details2!H54 -> NULL | I54: =Details2!I54 -> NULL | ... K54: =Details2!K54 -> NULL
B55: =Details2!B55 -> Air Force | C55: =Details2!C55 -> 0252 | D55: =Details2!D55 -> Peterson AFB (21st Medical Group) | E55: =Details2!E55 -> C | F55: =Details2!F55 -> NULL | G55: =Details2!G55 -> NULL | H55: =Details2!H55 -> NULL | I55: =Details2!I55 -> NULL | ... K55: =Details2!K55 -> NULL
B56: =Details2!B56 -> Air Force | C56: =Details2!C56 -> 0287 | D56: =Details2!D56 -> Hickam AFB (15th Medical Group) | E56: =Details2!E56 -> C | F56: =Details2!F56 -> NULL | G56: =Details2!G56 -> NULL | H56: =Details2!H56 -> NULL | I56: =Details2!I56 -> NULL | ... K56: =Details2!K56 -> NULL
B57: =Details2!B57 -> Air Force | C57: =Details2!C57 -> 0310 | D57: =Details2!D57 -> Hanscom AFB (66th Medical Group) | E57: =Details2!E57 -> C | F57: =Details2!F57 -> NULL | G57: =Details2!G57 -> NULL | H57: =Details2!H57 -> NULL | I57: =Details2!I57 -> NULL | ... K57: =Details2!K57 -> NULL
B58: =Details2!B58 -> Air Force | C58: =Details2!C58 -> 0326 | D58: =Details2!D58 -> McGuire AFB (305th Medical Group) | E58: =Details2!E58 -> C | F58: =Details2!F58 -> NULL | G58: =Details2!G58 -> NULL | H58: =Details2!H58 -> NULL | I58: =Details2!I58 -> NULL | ... K58: =Details2!K58 -> NULL
B59: =Details2!B59 -> Air Force | C59: =Details2!C59 -> 0335 | D59: =Details2!D59 -> Pope AFB (43rd Medical Group) | E59: =Details2!E59 -> C | F59: =Details2!F59 -> NULL | G59: =Details2!G59 -> NULL | H59: =Details2!H59 -> NULL | I59: =Details2!I59 -> NULL | ... K59: =Details2!K59 -> NULL
... B72: =Details2!B72 -> Army | C72: =Details2!C72 -> 0002 | D72: =Details2!D72 -> Ft. McClellan (Patterson ACH) | E72: =Details2!E72 -> I | F72: =Details2!F72 -> NULL | G72: =Details2!G72 -> NULL | H72: =Details2!H72 -> NULL | I72: =Details2!I72 -> NULL | ... K72: =Details2!K72 -> NULL
B73: =Details2!B73 -> Army | C73: =Details2!C73 -> 0003 | D73: =Details2!D73 -> Ft. Rucker (Lyster Army Health Clinic) | E73: =Details2!E73 -> C | F73: =Details2!F73 -> NULL | G73: =Details2!G73 -> NULL | H73: =Details2!H73 -> NULL | I73: =Details2!I73 -> NULL | ... K73: =Details2!K73 -> NULL | L73: Inpatient closed down
B74: =Details2!B74 -> Army | C74: =Details2!C74 -> 0005 | D74: =Details2!D74 -> Ft. Wainwright (Bassett Army Community Hospital) | E74: =Details2!E74 -> H | F74: =Details2!F74 -> 79666.23 | G74: =Details2!G74 -> 206589.64 | H74: =Details2!H74 -> 104289.83 | I74: =Details2!I74 -> 115686.07 | ... K74: =Details2!K74 -> 150251.44 | M74: =IF(AND(J74*0.6 <=K74, K74<= J74*1.4)," ","review") -> review
B75: =Details2!B75 -> Army | C75: =Details2!C75 -> 0008 | D75: =Details2!D75 -> Ft. Huachuca (Bliss Army Health Clinic) | E75: =Details2!E75 -> C | F75: =Details2!F75 -> NULL | G75: =Details2!G75 -> NULL | H75: =Details2!H75 -> NULL | I75: =Details2!I75 -> NULL | ... K75: =Details2!K75 -> NULL
B76: =Details2!B76 -> Army | C76: =Details2!C76 -> 0032 | D76: =Details2!D76 -> Ft. Carson (Evans Army Community Hospital) | E76: =Details2!E76 -> H | F76: =Details2!F76 -> 40187.19 | G76: =Details2!G76 -> 22089.48 | H76: =Details2!H76 -> 30249.84 | I76: =Details2!I76 -> 38924.96 | ... K76: =Details2!K76 -> 61183.73 | M76: =IF(AND(J76*0.6 <=K76, K76<= J76*1.4)," ","review")
B77: =Details2!B77 -> Army | C77: =Details2!C77 -> 0037 | D77: =Details2!D77 -> Washington D.C. (Walter Reed Army Medical Center) | E77: =Details2!E77 -> H | F77: =Details2!F77 -> 156638.35 | G77: =Details2!G77 -> 195442.15 | H77: =Details2!H77 -> 1802505.1 | I77: =Details2!I77 -> 1206434.8 | ... K77: =Details2!K77 -> 1410232.9 | M77: =IF(AND(J77*0.6 <=K77, K77<= J77*1.4)," ","review")
B78: =Details2!B78 -> Army | C78: =Details2!C78 -> 0047 | D78: =Details2!D78 -> Ft. Gordon (Eisenhower Army Medical Center) | E78: =Details2!E78 -> H | F78: =Details2!F78 -> 299415.94 | G78: =Details2!G78 -> 381013.26 | H78: =Details2!H78 -> 504291.24 | I78: =Details2!I78 -> 180524.63 | ... K78: =Details2!K78 -> 182914.48 | M78: =IF(AND(J78*0.6 <=K78, K78<= J78*1.4)," ","review")
B79: =Details2!B79 -> Army | C79: =Details2!C79 -> 0048 | D79: =Details2!D79 -> Ft. Benning (Martin Army Community Hospital) | E79: =Details2!E79 -> H | F79: =Details2!F79 -> 74193.29 | G79: =Details2!G79 -> 53279.67 | H79: =Details2!H79 -> 30992 | I79: =Details2!I79 -> 29191.55 | ... K79: =Details2!K79 -> 10950.32 | M79: =IF(AND(J79*0.6 <=K79, K79<= J79*1.4)," ","review") -> review | N79: ok
B80: =Details2!B80 -> Army | C80: =Details2!C80 -> 0049 | D80: =Details2!D80 -> Ft. Stewart (Winn Army Community Hospital) | E80: =Details2!E80 -> H | F80: =Details2!F80 -> 5861.14 | G80: =Details2!G80 -> 27849.01 | H80: =Details2!H80 -> 26763.55 | I80: =Details2!I80 -> 10978.78 | ... K80: =Details2!K80 -> 6980.53 | M80: =IF(AND(J80*0.6 <=K80, K80<= J80*1.4)," ","review")
B81: =Details2!B81 -> Army | C81: =Details2!C81 -> 0052 | D81: =Details2!D81 -> Ft. Shafter (Tripler Army Medical Center) | E81: =Details2!E81 -> H | F81: =Details2!F81 -> 614620.13 | G81: =Details2!G81 -> 696562.35 | H81: =Details2!H81 -> 883038.62 | I81: =Details2!I81 -> 527267.34 | ... K81: =Details2!K81 -> 712257.9 | M81: =IF(AND(J81*0.6 <=K81, K81<= J81*1.4)," ","review")
B82: =Details2!B82 -> Army | C82: =Details2!C82 -> 0057 | D82: =Details2!D82 -> Ft. Riley (Irwin Army Community Hospital) | E82: =Details2!E82 -> H | F82: =Details2!F82 -> 0 | G82: =Details2!G82 -> 53419.42 | H82: =Details2!H82 -> 17676.62 | I82: =Details2!I82 -> 0 | ... K82: =Details2!K82 -> 13570.86 | M82: =IF(AND(J82*0.6 <=K82, K82<= J82*1.4)," ","review") -> review | N82: ok
B83: =Details2!B83 -> Army | C83: =Details2!C83 -> 0058 | D83: =Details2!D83 -> Ft. Leavenworth (Munson Army Health Clinic) | E83: =Details2!E83 -> C | F83: =Details2!F83 -> NULL | G83: =Details2!G83 -> NULL | H83: =Details2!H83 -> NULL | I83: =Details2!I83 -> NULL | ... K83: =Details2!K83 -> NULL
B84: =Details2!B84 -> Army | C84: =Details2!C84 -> 0060 | D84: =Details2!D84 -> Ft. Campbell (Blanchfield Army Comm Hospital) | E84: =Details2!E84 -> H | F84: =Details2!F84 -> 41338.44 | G84: =Details2!G84 -> 131980.58 | H84: =Details2!H84 -> 21857.11 | I84: =Details2!I84 -> 30569.15 | ... K84: =Details2!K84 -> 22859.2 | M84: =IF(AND(J84*0.6 <=K84, K84<= J84*1.4)," ","review") -> review
B85: =Details2!B85 -> Army | C85: =Details2!C85 -> 0061 | D85: =Details2!D85 -> Ft. Knox (Ireland Army Community Hospital) | E85: =Details2!E85 -> H | F85: =Details2!F85 -> 18260.01 | G85: =Details2!G85 -> 14440.04 | H85: =Details2!H85 -> 8249.54 | I85: =Details2!I85 -> 877.57 | ... K85: =Details2!K85 -> 0 | M85: =IF(AND(J85*0.6 <=K85, K85<= J85*1.4)," ","review") -> review | N85: ok
B86: =Details2!B86 -> Army | C86: =Details2!C86 -> 0064 | D86: =Details2!D86 -> Ft. Polk (Bayne-Jones Army Community Hospital) | E86: =Details2!E86 -> H | F86: =Details2!F86 -> 8268.63 | G86: =Details2!G86 -> 0 | H86: =Details2!H86 -> 31816.76 | I86: =Details2!I86 -> NULL | ... K86: =Details2!K86 -> 0 | M86: =IF(AND(J86*0.6 <=K86, K86<= J86*1.4)," ","review") | N86: ok
B87: =Details2!B87 -> Army | C87: =Details2!C87 -> 0069 | D87: =Details2!D87 -> Ft. Meade (Kimbrough Ambulatory Care Center) | E87: =Details2!E87 -> C | F87: =Details2!F87 -> NULL | G87: =Details2!G87 -> NULL | H87: =Details2!H87 -> NULL | I87: =Details2!I87 -> NULL | ... K87: =Details2!K87 -> NULL
B88: =Details2!B88 -> Army | C88: =Details2!C88 -> 0075 | D88: =Details2!D88 -> Ft. Leonard Wood (Wood Army Community Hospital) | E88: =Details2!E88 -> H | F88: =Details2!F88 -> 8504.68 | G88: =Details2!G88 -> 36488.12 | H88: =Details2!H88 -> 4903.09 | I88: =Details2!I88 -> 698.21 | ... K88: =Details2!K88 -> 2460.29 | M88: =IF(AND(J88*0.6 <=K88, K88<= J88*1.4)," ","review") -> review
B89: =Details2!B89 -> Army | C89: =Details2!C89 -> 0081 | D89: =Details2!D89 -> Ft. Monmouth (Patterson Army Health Clinic) | E89: =Details2!E89 -> C | F89: =Details2!F89 -> NULL | G89: =Details2!G89 -> NULL | H89: =Details2!H89 -> NULL | I89: =Details2!I89 -> NULL | ... K89: =Details2!K89 -> NULL
B90: =Details2!B90 -> Army | C90: =Details2!C90 -> 0086 | D90: =Details2!D90 -> West Point (Keller Army Community Hospital) | E90: =Details2!E90 -> H | F90: =Details2!F90 -> 29763.34 | G90: =Details2!G90 -> 992 | H90: =Details2!H90 -> 19477.27 | I90: =Details2!I90 -> 0 | ... K90: =Details2!K90 -> 3300 | M90: =IF(AND(J90*0.6 <=K90, K90<= J90*1.4)," ","review") -> review
B91: =Details2!B91 -> Army | C91: =Details2!C91 -> 0089 | D91: =Details2!D91 -> Ft. Bragg (Womack Army Medical Center) | E91: =Details2!E91 -> H | F91: =Details2!F91 -> 159544.53 | G91: =Details2!G91 -> 516568.81 | H91: =Details2!H91 -> 467410.09 | I91: =Details2!I91 -> 146946.05 | ... K91: =Details2!K91 -> 131085.63 | M91: =IF(AND(J91*0.6 <=K91, K91<= J91*1.4)," ","review") -> review
B92: =Details2!B92 -> Army | C92: =Details2!C92 -> 0098 | D92: =Details2!D92 -> Ft. Sill (Reynolds Army Community Hospital) | E92: =Details2!E92 -> H | F92: =Details2!F92 -> 18803.87 | G92: =Details2!G92 -> 15391.7 | H92: =Details2!H92 -> 22250.59 | I92: =Details2!I92 -> 21732.57 | ... K92: =Details2!K92 -> 33918.24 | M92: =IF(AND(J92*0.6 <=K92, K92<= J92*1.4)," ","review") -> review | N92: ok
B93: =Details2!B93 -> Army | C93: =Details2!C93 -> 0105 | D93: =Details2!D93 -> Ft. Jackson (Moncrief Army Community Hospital) | E93: =Details2!E93 -> H | F93: =Details2!F93 -> 1673.64 | G93: =Details2!G93 -> 14803.07 | H93: =Details2!H93 -> 40665.57 | I93: =Details2!I93 -> 0 | ... K93: =Details2!K93 -> 16471.12 | M93: =IF(AND(J93*0.6 <=K93, K93<= J93*1.4)," ","review") -> review
B94: =Details2!B94 -> Army | C94: =Details2!C94 -> 0108 | D94: =Details2!D94 -> Ft. Bliss (William Beaumont Army Medical Center) | E94: =Details2!E94 -> H | F94: =Details2!F94 -> 109648.99 | G94: =Details2!G94 -> 354889.8 | H94: =Details2!H94 -> 709185.63 | I94: =Details2!I94 -> 354366.2 | ... K94: =Details2!K94 -> 215901.4 | M94: =IF(AND(J94*0.6 <=K94, K94<= J94*1.4)," ","review") -> review | N94: ok
B95: =Details2!B95 -> Army | C95: =Details2!C95 -> 0109 | D95: =Details2!D95 -> Ft. Sam Houston (Brooke Army Medical Center) | E95: =Details2!E95 -> H | F95: =Details2!F95 -> 738106.91 | G95: =Details2!G95 -> 736264.73 | H95: =Details2!H95 -> 1701848.1 | I95: =Details2!I95 -> 786407.2 | ... K95: =Details2!K95 -> 1405776.5 | M95: =IF(AND(J95*0.6 <=K95, K95<= J95*1.4)," ","review") -> review
B96: =Details2!B96 -> Army | C96: =Details2!C96 -> 0110 | D96: =Details2!D96 -> Ft. Hood (C.R. Darnall Army Medical Center) | E96: =Details2!E96 -> H | F96: =Details2!F96 -> 107349.16 | G96: =Details2!G96 -> 89626.64 | H96: =Details2!H96 -> 103149.02 | I96: =Details2!I96 -> 62152.7 | ... K96: =Details2!K96 -> 61857.64 | M96: =IF(AND(J96*0.6 <=K96, K96<= J96*1.4)," ","review") | N96: ok
B97: =Details2!B97 -> Army | C97: =Details2!C97 -> 0121 | D97: =Details2!D97 -> Ft. Eustis (McDonald Army Health Center) | E97: =Details2!E97 -> H | F97: =Details2!F97 -> 0 | G97: =Details2!G97 -> 0 | H97: =Details2!H97 -> NULL | I97: =Details2!I97 -> NULL | ... K97: =Details2!K97 -> NULL | L97: Inpatient will close down May 2006
B98: =Details2!B98 -> Army | C98: =Details2!C98 -> 0122 | D98: =Details2!D98 -> Ft. Lee (Kenner Army Health Clinic) | E98: =Details2!E98 -> C | F98: =Details2!F98 -> NULL | G98: =Details2!G98 -> NULL | H98: =Details2!H98 -> NULL | I98: =Details2!I98 -> NULL | ... K98: =Details2!K98 -> NULL
B99: =Details2!B99 -> Army | C99: =Details2!C99 -> 0123 | D99: =Details2!D99 -> Ft. Belvoir (FT. Belvoir Community Hospital) | E99: =Details2!E99 -> H | F99: =Details2!F99 -> 28564.13 | G99: =Details2!G99 -> 87936.83 | H99: =Details2!H99 -> 37529.32 | I99: =Details2!I99 -> 15826.37 | ... K99: =Details2!K99 -> 40806.51 | M99: =IF(AND(J99*0.6 <=K99, K99<= J99*1.4)," ","review") -> review | N99: ok
B100: =Details2!B100 -> Army | C100: =Details2!C100 -> 0125 | D100: =Details2!D100 -> Ft. Lewis (Madigan Army Medical Center) | E100: =Details2!E100 -> H | F100: =Details2!F100 -> 908428.82 | G100: =Details2!G100 -> 1111544.8 | H100: =Details2!H100 -> 1165089.9 | I100: =Details2!I100 -> 931928.54 | ... K100: =Details2!K100 -> 439194.16 | M100: =IF(AND(J100*0.6 <=K100, K100<= J100*1.4)," ","review") -> review
B101: =Details2!B101 -> Army | C101: =Details2!C101 -> 0131 | D101: =Details2!D101 -> Ft. Irwin (Weed Army Community Hospital) | E101: =Details2!E101 -> H | F101: =Details2!F101 -> 0 | G101: =Details2!G101 -> 0 | H101: =Details2!H101 -> 5482.78 | I101: =Details2!I101 -> 0 | ... K101: =Details2!K101 -> 0
B102: =Details2!B102 -> Army | C102: =Details2!C102 -> 0206 | D102: =Details2!D102 -> Yuma Proving Grounds | E102: =Details2!E102 -> I | F102: =Details2!F102 -> NULL | G102: =Details2!G102 -> NULL | H102: =Details2!H102 -> NULL | I102: =Details2!I102 -> NULL | ... K102: =Details2!K102 -> NULL
B103: =Details2!B103 -> Army | C103: =Details2!C103 -> 0256 | D103: =Details2!D103 -> Pentagon Army Health Clinic | E103: =Details2!E103 -> I | F103: =Details2!F103 -> NULL | G103: =Details2!G103 -> NULL | H103: =Details2!H103 -> NULL | I103: =Details2!I103 -> NULL | ... K103: =Details2!K103 -> NULL
B104: =Details2!B104 -> Army | C104: =Details2!C104 -> 0273 | D104: =Details2!D104 -> Ft. McPherson (Lawrence Joel Army Health Clinic) | E104: =Details2!E104 -> I | F104: =Details2!F104 -> NULL | G104: =Details2!G104 -> NULL | H104: =Details2!H104 -> NULL | I104: =Details2!I104 -> NULL | ... K104: =Details2!K104 -> NULL
B105: =Details2!B105 -> Army | C105: =Details2!C105 -> 0308 | D105: =Details2!D105 -> Aberdeen Proving Grounds (Kirk Army Health Clinic) | E105: =Details2!E105 -> I | F105: =Details2!F105 -> NULL | G105: =Details2!G105 -> NULL | H105: =Details2!H105 -> NULL | I105: =Details2!I105 -> NULL | ... K105: =Details2!K105 -> NULL
B106: =Details2!B106 -> Army | C106: =Details2!C106 -> 0309 | D106: =Details2!D106 -> Ft. Detrick US Army Health Clinic | E106: =Details2!E106 -> I | F106: =Details2!F106 -> NULL | G106: =Details2!G106 -> NULL | H106: =Details2!H106 -> NULL | I106: =Details2!I106 -> NULL | ... K106: =Details2!K106 -> NULL
B107: =Details2!B107 -> Army | C107: =Details2!C107 -> 0330 | D107: =Details2!D107 -> Ft. Drum (Guthrie Army Health Clinic) | E107: =Details2!E107 -> C | F107: =Details2!F107 -> NULL | G107: =Details2!G107 -> NULL | H107: =Details2!H107 -> NULL | I107: =Details2!I107 -> NULL | ... K107: =Details2!K107 -> NULL
B108: =Details2!B108 -> Army | C108: =Details2!C108 -> 0350 | D108: =Details2!D108 -> Ft. Indiantown Gap US Army Health Clinic | E108: =Details2!E108 -> I | F108: =Details2!F108 -> NULL | G108: =Details2!G108 -> NULL | H108: =Details2!H108 -> NULL | I108: =Details2!I108 -> NULL | ... K108: =Details2!K108 -> NULL
B109: =Details2!B109 -> Army | C109: =Details2!C109 -> 0351 | D109: =Details2!D109 -> Letterkenny US Army Health Clinic | E109: =Details2!E109 -> I | F109: =Details2!F109 -> NULL | G109: =Details2!G109 -> NULL | H109: =Details2!H109 -> NULL | I109: =Details2!I109 -> NULL | ... K109: =Details2!K109 -> NULL
B110: =Details2!B110 -> Army | C110: =Details2!C110 -> 0352 | D110: =Details2!D110 -> Carlisle (Dunham Army Health Clinic) | E110: =Details2!E110 -> C | F110: =Details2!F110 -> NULL | G110: =Details2!G110 -> NULL | H110: =Details2!H110 -> NULL | I110: =Details2!I110 -> NULL | ... K110: =Details2!K110 -> NULL
B111: =Details2!B111 -> Army | C111: =Details2!C111 -> 0353 | D111: =Details2!D111 -> Tobyhanna US Army Health Clinic | E111: =Details2!E111 -> I | F111: =Details2!F111 -> NULL | G111: =Details2!G111 -> NULL | H111: =Details2!H111 -> NULL | I111: =Details2!I111 -> NULL | ... K111: =Details2!K111 -> NULL
B112: =Details2!B112 -> Army | C112: =Details2!C112 -> 0371 | D112: =Details2!D112 -> Dugway Proving Ground | E112: =Details2!E112 -> I | F112: =Details2!F112 -> NULL | G112: =Details2!G112 -> NULL | H112: =Details2!H112 -> NULL | I112: =Details2!I112 -> NULL | ... K112: =Details2!K112 -> NULL
B113: =Details2!B113 -> Army | C113: =Details2!C113 -> 0441 | D113: =Details2!D113 -> New Cumberland US Army Health Clinic | E113: =Details2!E113 -> I | F113: =Details2!F113 -> NULL | G113: =Details2!G113 -> NULL | H113: =Details2!H113 -> NULL | I113: =Details2!I113 -> NULL | ... K113: =Details2!K113 -> NULL
...

Sheet IP $ Billings by DMIS
A1: Total Collections metric QC by DMIS ID
B3: Service | C3: dmis_id | D3: dmis_name | E3: facility_type | G3: Total IP Billings for CY by DMIS ID
F4: FY2007 | G4: FY2008 | H4: FY2009 | I4: FY2010 | J4: FY2011 | K4: FY2012
B5: =Details2!B301 -> Air Force | C5: =Details2!C301 -> 0004 | D5: =Details2!D301 -> Maxwell AFB (42nd Medical Group) | E5: =Details2!E301 -> C | F5: =Details2!F301 -> NULL | G5: =Details2!G301 -> NULL | H5: =Details2!H301 -> NULL | I5: =Details2!I301 -> NULL | ... K5: =Details2!K301 -> NULL | L5: =IF(AND(E5<>"H",K5="NULL")," ","review")
B6: =Details2!B302 -> Air Force | C6: =Details2!C302 -> 0006 | D6: =Details2!D302 -> Elmendorf AFB (3rd Medical group) | E6: =Details2!E302 -> H | F6: =Details2!F302 -> 176261.07 | G6: =Details2!G302 -> 87289.58 | H6: =Details2!H302 -> 0 | I6: =Details2!I302 -> 0 | ... K6: =Details2!K302 -> 23641.48
B7: =Details2!B303 -> Air Force | C7: =Details2!C303 -> 0009 | D7: =Details2!D303 -> Luke AFB (56th Medical Group) | E7: =Details2!E303 -> C | F7: =Details2!F303 -> NULL | G7: =Details2!G303 -> NULL | H7: =Details2!H303 -> NULL | I7: =Details2!I303 -> NULL | ... K7: =Details2!K303 -> NULL
B8: =Details2!B304 -> Air Force | C8: =Details2!C304 -> 0010 | D8: =Details2!D304 -> Davis Monthan AFB (355th Medical Group) | E8: =Details2!E304 -> C | F8: =Details2!F304 -> NULL | G8: =Details2!G304 -> NULL | H8: =Details2!H304 -> NULL | I8: =Details2!I304 -> NULL | ... K8: =Details2!K304 -> NULL
B9: =Details2!B305 -> Air Force | C9: =Details2!C305 -> 0013 | D9: =Details2!D305 -> Little Rock AFB (314th Medical Group) | E9: =Details2!E305 -> C | F9: =Details2!F305 -> NULL | G9: =Details2!G305 -> NULL | H9: =Details2!H305 -> NULL | I9: =Details2!I305 -> NULL | ... K9: =Details2!K305 -> NULL
B10: =Details2!B306 -> Air Force | C10: =Details2!C306 -> 0014 | D10: =Details2!D306 -> Travis AFB (60th Medical Group) | E10: =Details2!E306 -> H | F10: =Details2!F306 -> 219272.02 | G10: =Details2!G306 -> 155626.97 | H10: =Details2!H306 -> 512601.68 | I10: =Details2!I306 -> 303297.64 | ... K10: =Details2!K306 -> 537100.21
B11: =Details2!B307 -> Air Force | C11: =Details2!C307 -> 0015 | D11: =Details2!D307 -> Beale AFB (9th Medical Group) | E11: =Details2!E307 -> C | F11: =Details2!F307 -> NULL | G11: =Details2!G307 -> NULL | H11: =Details2!H307 -> NULL | I11: =Details2!I307 -> NULL | ... K11: =Details2!K307 -> NULL
B12: =Details2!B308 -> Air Force | C12: =Details2!C308 -> 0018 | D12: =Details2!D308 -> Vandenberg AFB (30th Medical Group) | E12: =Details2!E308 -> C | F12: =Details2!F308 -> NULL | G12: =Details2!G308 -> NULL | H12: =Details2!H308 -> NULL | I12: =Details2!I308 -> NULL | ... K12: =Details2!K308 -> NULL
B13: =Details2!B309 -> Air Force | C13: =Details2!C309 -> 0019 | D13: =Details2!D309 -> Edwards AFB (95th Medical Group) | E13: =Details2!E309 -> C | F13: =Details2!F309 -> NULL | G13: =Details2!G309 -> NULL | H13: =Details2!H309 -> NULL | I13: =Details2!I309 -> NULL | ... K13: =Details2!K309 -> NULL
B14: =Details2!B310 -> Air Force | C14: =Details2!C310 -> 0033 | D14: =Details2!D310 -> USAF Academy (10th Medical Group) | E14: =Details2!E310 -> H | F14: =Details2!F310 -> 64874.58 | G14: =Details2!G310 -> 37288.79 | H14: =Details2!H310 -> 0 | I14: =Details2!I310 -> 0 | ... K14: =Details2!K310 -> NULL
B15: =Details2!B311 -> Air Force | C15: =Details2!C311 -> 0036 | D15: =Details2!D311 -> Dover AFB (436th Medical Group) | E15: =Details2!E311 -> C | F15: =Details2!F311 -> NULL | G15: =Details2!G311 -> NULL | H15: =Details2!H311 -> NULL | I15: =Details2!I311 -> NULL | ... K15: =Details2!K311 -> NULL
B16: =Details2!B312 -> Air Force | C16: =Details2!C312 -> 0042 | D16: =Details2!D312 -> Eglin AFB (96th Medical Group) | E16: =Details2!E312 -> H | F16: =Details2!F312 -> 106074.4 | G16: =Details2!G312 -> 155859.56 | H16: =Details2!H312 -> 208941.22 | I16: =Details2!I312 -> 0 | ... K16: =Details2!K312 -> 246576.01
B17: =Details2!B313 -> Air Force | C17: =Details2!C313 -> 0043 | D17: =Details2!D313 -> Tyndall AFB (325th Medical Group) | E17: =Details2!E313 -> C | F17: =Details2!F313 -> NULL | G17: =Details2!G313 -> NULL | H17: =Details2!H313 -> NULL | I17: =Details2!I313 -> NULL | ... K17: =Details2!K313 -> NULL
... B72: =Details2!B368 -> Army | C72: =Details2!C368 -> 0002 | D72: =Details2!D368 -> Ft. McClellan (Patterson ACH) | E72: =Details2!E368 -> I | F72: =Details2!F368 -> NULL | G72: =Details2!G368 -> NULL | H72: =Details2!H368 -> NULL | I72: =Details2!I368 -> NULL | ... K72: =Details2!K368 -> NULL
B73: =Details2!B369 -> Army | C73: =Details2!C369 -> 0003 | D73: =Details2!D369 -> Ft. Rucker (Lyster Army Health Clinic) | E73: =Details2!E369 -> C | F73: =Details2!F369 -> NULL | G73: =Details2!G369 -> NULL | H73: =Details2!H369 -> NULL | I73: =Details2!I369 -> NULL | ... K73: =Details2!K369 -> NULL | L73: ='IP $ Collections by DMIS'!L73 -> Inpatient closed down
B74: =Details2!B370 -> Army | C74: =Details2!C370 -> 0005 | D74: =Details2!D370 -> Ft. Wainwright (Bassett Army Community Hospital) | E74: =Details2!E370 -> H | F74: =Details2!F370 -> 113479.17 | G74: =Details2!G370 -> 167719.83 | H74: =Details2!H370 -> 0 | I74: =Details2!I370 -> 16690.61 | ... K74: =Details2!K370 -> 95670.96
B75: =Details2!B371 -> Army | C75: =Details2!C371 -> 0008 | D75: =Details2!D371 -> Ft. Huachuca (Bliss Army Health Clinic) | E75: =Details2!E371 -> C | F75: =Details2!F371 -> NULL | G75: =Details2!G371 -> NULL | H75: =Details2!H371 -> NULL | I75: =Details2!I371 -> NULL | ... K75: =Details2!K371 -> NULL
B76: =Details2!B372 -> Army | C76: =Details2!C372 -> 0032 | D76: =Details2!D372 -> Ft. Carson (Evans Army Community Hospital) | E76: =Details2!E372 -> H | F76: =Details2!F372 -> 83312.27 | G76: =Details2!G372 -> 26732.88 | H76: =Details2!H372 -> 19825.67 | I76: =Details2!I372 -> 0 | ... K76: =Details2!K372 -> 113745.6
B77: =Details2!B373 -> Army | C77: =Details2!C373 -> 0037 | D77: =Details2!D373 -> Washington D.C. (Walter Reed Army Medical Center) | E77: =Details2!E373 -> H | F77: =Details2!F373 -> 2316399.8 | G77: =Details2!G373 -> 2795140.4 | H77: =Details2!H373 -> 2031294.4 | I77: =Details2!I373 -> 13996.65 | ... K77: =Details2!K373 -> 0
B78: =Details2!B374 -> Army | C78: =Details2!C374 -> 0047 | D78: =Details2!D374 -> Ft. Gordon (Eisenhower Army Medical Center) | E78: =Details2!E374 -> H | F78: =Details2!F374 -> 551408.98 | G78: =Details2!G374 -> 731690.91 | H78: =Details2!H374 -> 566998.22 | I78: =Details2!I374 -> 0 | ... K78: =Details2!K374 -> 326279.32
B79: =Details2!B375 -> Army | C79: =Details2!C375 -> 0048 | D79: =Details2!D375 -> Ft. Benning (Martin Army Community Hospital) | E79: =Details2!E375 -> H | F79: =Details2!F375 -> 78260.94 | G79: =Details2!G375 -> 190028.89 | H79: =Details2!H375 -> 238572.33 | I79: =Details2!I375 -> 0 | ... K79: =Details2!K375 -> 83008.6
B80: =Details2!B376 -> Army | C80: =Details2!C376 -> 0049 | D80: =Details2!D376 -> Ft. Stewart (Winn Army Community Hospital) | E80: =Details2!E376 -> H | F80: =Details2!F376 -> 17986.57 | G80: =Details2!G376 -> 28158.7 | H80: =Details2!H376 -> 20491.6 | I80: =Details2!I376 -> 14321.93 | ... K80: =Details2!K376 -> 23531.13
B81: =Details2!B377 -> Army | C81: =Details2!C377 -> 0052 | D81: =Details2!D377 -> Ft. Shafter (Tripler Army Medical Center) | E81: =Details2!E377 -> H | F81: =Details2!F377 -> 688133.58 | G81: =Details2!G377 -> 1898006.9 | H81: =Details2!H377 -> 386848.64 | I81: =Details2!I377 -> 0 | ... K81: =Details2!K377 -> 1633064.6
B82: =Details2!B378 -> Army | C82: =Details2!C378 -> 0057 | D82: =Details2!D378 -> Ft. Riley (Irwin Army Community Hospital) | E82: =Details2!E378 -> H | F82: =Details2!F378 -> 26452.83 | G82: =Details2!G378 -> 31948.2 | H82: =Details2!H378 -> 13342.4 | I82: =Details2!I378 -> 33236.11 | ... K82: =Details2!K378 -> 44231.49
B83: =Details2!B379 -> Army | C83: =Details2!C379 -> 0058 | D83: =Details2!D379 -> Ft. Leavenworth (Munson Army Health Clinic) | E83: =Details2!E379 -> C | F83: =Details2!F379 -> NULL | G83: =Details2!G379 -> NULL | H83: =Details2!H379 -> NULL | I83: =Details2!I379 -> NULL | ... K83: =Details2!K379 -> NULL
B84: =Details2!B380 -> Army | C84: =Details2!C380 -> 0060 | D84: =Details2!D380 -> Ft. Campbell (Blanchfield Army Comm Hospital) | E84: =Details2!E380 -> H | F84: =Details2!F380 -> 76338.74 | G84: =Details2!G380 -> 112509.02 | H84: =Details2!H380 -> 144494.12 | I84: =Details2!I380 -> 0 | ... K84: =Details2!K380 -> 28685.02
B85: =Details2!B381 -> Army | C85: =Details2!C381 -> 0061 | D85: =Details2!D381 -> Ft. Knox (Ireland Army Community Hospital) | E85: =Details2!E381 -> H | F85: =Details2!F381 -> 20983.37 | G85: =Details2!G381 -> 0 | H85: =Details2!H381 -> 0 | I85: =Details2!I381 -> 0 | ... K85: =Details2!K381 -> 0
... B96: =Details2!B392 -> Army | C96: =Details2!C392 -> 0110 | D96: =Details2!D392 -> Ft. Hood (C.R. Darnall Army Medical Center) | E96: =Details2!E392 -> H | F96: =Details2!F392 -> 162806.01 | G96: =Details2!G392 -> 149103.12 | H96: =Details2!H392 -> 120201.17 | I96: =Details2!I392 -> NULL | ... K96: =Details2!K392 -> 60134.57
B97: =Details2!B393 -> Army | C97: =Details2!C393 -> 0121 | D97: =Details2!D393 -> Ft. Eustis (McDonald Army Health Center) | E97: =Details2!E393 -> H | F97: =Details2!F393 -> 0 | G97: =Details2!G393 -> 0 | H97: =Details2!H393 -> NULL | I97: =Details2!I393 -> NULL | ... K97: =Details2!K393 -> NULL | L97: ='IP $ Collections by DMIS'!L97 -> Inpatient will close down May 2006
B98: =Details2!B394 -> Army | C98: =Details2!C394 -> 0122 | D98: =Details2!D394 -> Ft. Lee (Kenner Army Health Clinic) | E98: =Details2!E394 -> C | F98: =Details2!F394 -> NULL | G98: =Details2!G394 -> NULL | H98: =Details2!H394 -> NULL | I98: =Details2!I394 -> NULL | ... K98: =Details2!K394 -> NULL
B99: =Details2!B395 -> Army | C99: =Details2!C395 -> 0123 | D99: =Details2!D395 -> Ft. Belvoir (FT. Belvoir Community Hospital) | E99: =Details2!E395 -> H | F99: =Details2!F395 -> 124922.09 | G99: =Details2!G395 -> 249107.32 | H99: =Details2!H395 -> 0 | I99: =Details2!I395 -> 0 | ... K99: =Details2!K395 -> 0
B100: =Details2!B396 -> Army | C100: =Details2!C396 -> 0125 | D100: =Details2!D396 -> Ft. Lewis (Madigan Army Medical Center) | E100: =Details2!E396 -> H | F100: =Details2!F396 -> 1616889.8 | G100: =Details2!G396 -> 1883126.1 | H100: =Details2!H396 -> 1795732.6 | I100: =Details2!I396 -> 0 | ... K100: =Details2!K396 -> 1379601.8
B101: =Details2!B397 -> Army | C101: =Details2!C397 -> 0131 | D101: =Details2!D397 -> Ft. Irwin (Weed Army Community Hospital) | E101: =Details2!E397 -> H | F101: =Details2!F397 -> 4941.23 | G101: =Details2!G397 -> 0 | H101: =Details2!H397 -> 0 | I101: =Details2!I397 -> 0 | ... K101: =Details2!K397 -> 0
B102: =Details2!B398 -> Army | C102: =Details2!C398 -> 0206 | D102: =Details2!D398 -> Yuma Proving Grounds | E102: =Details2!E398 -> I | F102: =Details2!F398 -> NULL | G102: =Details2!G398 -> NULL | H102: =Details2!H398 -> NULL | I102: =Details2!I398 -> NULL | ... K102: =Details2!K398 -> NULL
B103: =Details2!B399 -> Army | C103: =Details2!C399 -> 0256 | D103: =Details2!D399 -> Pentagon Army Health Clinic | E103: =Details2!E399 -> I | F103: =Details2!F399 -> NULL | G103: =Details2!G399 -> NULL | H103: =Details2!H399 -> NULL | I103: =Details2!I399 -> NULL | ... K103: =Details2!K399 -> NULL
B104: =Details2!B400 -> Army | C104: =Details2!C400 -> 0273 | D104: =Details2!D400 -> Ft. McPherson (Lawrence Joel Army Health Clinic) | E104: =Details2!E400 -> I | F104: =Details2!F400 -> NULL | G104: =Details2!G400 -> NULL | H104: =Details2!H400 -> NULL | I104: =Details2!I400 -> NULL | ... K104: =Details2!K400 -> NULL
B105: =Details2!B401 -> Army | C105: =Details2!C401 -> 0308 | D105: =Details2!D401 -> Aberdeen Proving Grounds (Kirk Army Health Clinic) | E105: =Details2!E401 -> I | F105: =Details2!F401 -> NULL | G105: =Details2!G401 -> NULL | H105: =Details2!H401 -> NULL | I105: =Details2!I401 -> NULL | ... K105: =Details2!K401 -> NULL
B106: =Details2!B402 -> Army | C106: =Details2!C402 -> 0309 | D106: =Details2!D402 -> Ft. Detrick US Army Health Clinic | E106: =Details2!E402 -> I | F106: =Details2!F402 -> NULL | G106: =Details2!G402 -> NULL | H106: =Details2!H402 -> NULL | I106: =Details2!I402 -> NULL | ... K106: =Details2!K402 -> NULL
B107: =Details2!B403 -> Army | C107: =Details2!C403 -> 0330 | D107: =Details2!D403 -> Ft. Drum (Guthrie Army Health Clinic) | E107: =Details2!E403 -> C | F107: =Details2!F403 -> NULL | G107: =Details2!G403 -> NULL | H107: =Details2!H403 -> NULL | I107: =Details2!I403 -> NULL | ... K107: =Details2!K403 -> NULL
B108: =Details2!B404 -> Army | C108: =Details2!C404 -> 0350 | D108: =Details2!D404 -> Ft. Indiantown Gap US Army Health Clinic | E108: =Details2!E404 -> I | F108: =Details2!F404 -> NULL | G108: =Details2!G404 -> NULL | H108: =Details2!H404 -> NULL | I108: =Details2!I404 -> NULL | ... K108: =Details2!K404 -> NULL
B109: =Details2!B405 -> Army | C109: =Details2!C405 -> 0351 | D109: =Details2!D405 -> Letterkenny US Army Health Clinic | E109: =Details2!E405 -> I | F109: =Details2!F405 -> NULL | G109: =Details2!G405 -> NULL | H109: =Details2!H405 -> NULL | I109: =Details2!I405 -> NULL | ... K109: =Details2!K405 -> NULL
... B130: =Details2!B426 -> Navy | C130: =Details2!C426 -> 0092 | D130: =Details2!D426 -> NHC Cherry Point | E130: =Details2!E426 -> H | F130: =Details2!F426 -> 0 | G130: =Details2!G426 -> 0 | H130: =Details2!H426 -> 0 | I130: =Details2!I426 -> 0 | ... K130: =Details2!K426 -> NULL
B131: =Details2!B427 -> Navy | C131: =Details2!C427 -> 0100 | D131: =Details2!D427 -> NBHC Newport | E131: =Details2!E427 -> C | F131: =Details2!F427 -> 0 | G131: =Details2!G427 -> 0 | H131: =Details2!H427 -> NULL | I131: =Details2!I427 -> NULL | ... K131: =Details2!K427 -> NULL | L131: ='IP $ Collections by DMIS'!L131 -> ok
B132: =Details2!B428 -> Navy | C132: =Details2!C428 -> 0103 | D132: =Details2!D428 -> NHC Charleston | E132: =Details2!E428 -> H | F132: =Details2!F428 -> NULL | G132: =Details2!G428 -> NULL | H132: =Details2!H428 -> NULL | I132: =Details2!I428 -> NULL | ... K132: =Details2!K428 -> NULL | L132: ='IP $ Collections by DMIS'!L132 -> does not report IP
B133: =Details2!B429 -> Navy | C133: =Details2!C429 -> 0104 | D133: =Details2!D429 -> NH Beaufort | E133: =Details2!E429 -> H | F133: =Details2!F429 -> 23056.4 | G133: =Details2!G429 -> 17517.95 | H133: =Details2!H429 -> 0 | I133: =Details2!I429 -> 0 | ... K133: =Details2!K429 -> 5771.2
B134: =Details2!B430 -> Navy | C134: =Details2!C430 -> 0107 | D134: =Details2!D430 -> NBHC NSA Mid-South | E134: =Details2!E430 -> C | F134: =Details2!F430 -> NULL | G134: =Details2!G430 -> NULL | H134: =Details2!H430 -> NULL | I134: =Details2!I430 -> NULL | ... K134: =Details2!K430 -> NULL
B135: =Details2!B431 -> Navy | C135: =Details2!C431 -> 0118 | D135: =Details2!D431 -> NHC Corpus Christi | E135: =Details2!E431 -> C | F135: =Details2!F431 -> NULL | G135: =Details2!G431 -> NULL | H135: =Details2!H431 -> NULL | I135: =Details2!I431 -> NULL | ... K135: =Details2!K431 -> NULL
B136: =Details2!B432 -> Navy | C136: =Details2!C432 -> 0124 | D136: =Details2!D432 -> NMC Portsmouth (VA) | E136: =Details2!E432 -> H | F136: =Details2!F432 -> 771750.98 | G136: =Details2!G432 -> 832565.04 | H136: =Details2!H432 -> 498908.74 | I136: =Details2!I432 -> 853883.35 | ... K136: =Details2!K432 -> 753784.8
B137: =Details2!B433 -> Navy | C137: =Details2!C433 -> 0126 | D137: =Details2!D433 -> NH Bremerton | E137: =Details2!E433 -> H | F137: =Details2!F433 -> 72196.85 | G137: =Details2!G433 -> 107223.51 | H137: =Details2!H433 -> 64511.91 | I137: =Details2!I433 -> 133849.73 | ... K137: =Details2!K433 -> 131466.59
B138: =Details2!B434 -> Navy | C138: =Details2!C434 -> 0127 | D138: =Details2!D434 -> NH Oak Harbor | E138: =Details2!E434 -> H | F138: =Details2!F434 -> 12018.91 | G138: =Details2!G434 -> 15848.81 | H138: =Details2!H434 -> 34574.22 | I138: =Details2!I434 -> 0 | ... K138: =Details2!K434 -> 0
B139: =Details2!B435 -> Navy | C139: =Details2!C435 -> 0280 | D139: =Details2!D435 -> NHC Hawaii | E139: =Details2!E435 -> C | F139: =Details2!F435 -> NULL | G139: =Details2!G435 -> NULL | H139: =Details2!H435 -> NULL | I139: =Details2!I435 -> NULL | ... K139: =Details2!K435 -> NULL
B140: =Details2!B436 -> Navy | C140: =Details2!C436 -> 0297 | D140: =Details2!D436 -> NACC New Orleans | E140: =Details2!E436 -> C | F140: =Details2!F436 -> NULL | G140: =Details2!G436 -> NULL | H140: =Details2!H436 -> NULL | I140: =Details2!I436 -> NULL | ... K140: =Details2!K436 -> NULL
B141: =Details2!B437 -> Navy | C141: =Details2!C437 -> 0306 | D141: =Details2!D437 -> NHC Annapolis | E141: =Details2!E437 -> C | F141: =Details2!F437 -> NULL | G141: =Details2!G437 -> NULL | H141: =Details2!H437 -> NULL | I141: =Details2!I437 -> NULL | ... K141: =Details2!K437 -> NULL
B142: =Details2!B438 -> Navy | C142: =Details2!C438 -> 0321 | D142: =Details2!D438 -> NBHC Portsmouth (NH) | E142: =Details2!E438 -> C | F142: =Details2!F438 -> NULL | G142: =Details2!G438 -> NULL | H142: =Details2!H438 -> NULL | I142: =Details2!I438 -> NULL | ... K142: =Details2!K438 -> NULL
B143: =Details2!B439 -> Navy | C143: =Details2!C439 -> 0385 | D143: =Details2!D439 -> NHC Quantico | E143: =Details2!E439 -> C | F143: =Details2!F439 -> NULL | G143: =Details2!G439 -> NULL | H143: =Details2!H439 -> NULL | I143: =Details2!I439 -> NULL | ... K143: =Details2!K439 -> NULL
B144: =Details2!B440 -> Navy | C144: =Details2!C440 -> 0616 | D144: =Details2!D440 -> NH Roosevelt Roads | E144: =Details2!E440 -> I | F144: =Details2!F440 -> NULL | G144: =Details2!G440 -> NULL | H144: =Details2!H440 -> NULL | I144: =Details2!I440 -> NULL | ... K144: =Details2!K440 -> NULL | L144: ='IP $ Collections by DMIS'!L144 -> closed
B145: =Details2!B441 -> Navy | C145: =Details2!C441 -> 0620 | D145: =Details2!D441 -> NH Guam | E145: =Details2!E441 -> H | F145: =Details2!F441 -> 0 | G145: =Details2!G441 -> 0 | H145: =Details2!H441 -> 150779.04 | I145: =Details2!I441 -> 370943.15 | ... K145: =Details2!K441 -> 0
B146: =Details2!B442 -> Navy | C146: =Details2!C442 -> 0621 | D146: =Details2!D442 -> NH Okinawa | E146: =Details2!E442 -> I | F146: =Details2!F442 -> NULL | G146: =Details2!G442 -> NULL | H146: =Details2!H442 -> NULL | I146: =Details2!I442 -> NULL | ... K146: =Details2!K442 -> NULL | L146: ='IP $ Collections by DMIS'!L146 -> not reporting TPC
B147: =Details2!B443 -> Navy | C147: =Details2!C443 -> 0622 | D147: =Details2!D443 -> NH Yokosuka | E147: =Details2!E443 -> I | F147: =Details2!F443 -> NULL | G147: =Details2!G443 -> NULL | H147: =Details2!H443 -> NULL | I147: =Details2!I443 -> NULL | ... K147: =Details2!K443 -> NULL | L147: ='IP $ Collections by DMIS'!L147 -> not reporting TPC
B151: Air Force total | F151: =SUM(F5:F69) -> 3284438.8 | G151: =SUM(G5:G69) -> 4881711.6 | H151: =SUM(H5:H69) -> 3790827.9 | I151: =SUM(I5:I69) -> 410806.97 | J151: =SUM(J5:J69) -> 2949124.8 | K151: =SUM(K5:K69) -> 2811704
B152: Army total | F152: =SUM(F71:F118) -> 6687548.2 | G152: =SUM(G71:G118) -> 11460686 | H152: =SUM(H71:H118) -> 7865228.6 | I152: =SUM(I71:I118) -> 204899.92 | J152: =SUM(J71:J118) -> 11777074 | K152: =SUM(K71:K118) -> 8090686.8
B153: Navy total - OK and YO* | F153: =SUM(F119:F145) -> 3583937.7 | G153: =SUM(G119:G145) -> 3867275.5 | H153: =SUM(H119:H145) -> 2201263.1 | I153: =SUM(I119:I145) -> 1859532.2 | J153: =SUM(J119:J145) -> 3581438.3 | K153: =SUM(K119:K145) -> 3693980.4 | L153: *excludes NH Okinawa and NH Yokosuka data
B154: All Services total | F154: =SUM(F5:F145) -> 13555925 | G154: =SUM(G5:G145) -> 20209673 | H154: =SUM(H5:H145) -> 13857320 | I154: =SUM(I5:I145) -> 2475239.1 | J154: =SUM(J5:J145) -> 18307637 | K154: =SUM(K5:K145) -> 14596371
B156: Is AF total for a FY equal to Total Billings tab? | F156: =IF(F151='Total Billings'!C6,"yes","no") -> yes | G156: =IF(G151='Total Billings'!D6,"yes","no") -> yes | H156: =IF(H151='Total Billings'!E6,"yes","no") -> yes | I156: =IF(I151='Total Billings'!F6,"yes","no") -> yes | J156: =IF(J151='Total Billings'!G6,"yes","no") -> yes | K156: =IF(K151='Total Billings'!H6,"yes","no") -> yes
B157: Is A total for a FY equal to Total Billings tab? | F157: =IF(F152='Total Billings'!C7,"yes","no") -> yes | G157: =IF(G152='Total Billings'!D7,"yes","no") -> yes | H157: =IF(H152='Total Billings'!E7,"yes","no") -> yes | I157: =IF(I152='Total Billings'!F7,"yes","no") -> yes | J157: =IF(J152='Total Billings'!G7,"yes","no") -> yes | K157: =IF(K152='Total Billings'!H7,"yes","no") -> yes
B158: Is N total for a FY equal to Total Billings tab? | F158: =IF(F153='Total Billings'!C8,"yes","no") -> yes | G158: =IF(G153='Total Billings'!D8,"yes","no") -> yes | H158: =IF(H153='Total Billings'!E8,"yes","no") -> yes | I158: =IF(I153='Total Billings'!F8,"yes","no") -> yes | J158: =IF(J153='Total Billings'!G8,"yes","no") -> yes | K158: =IF(K153='Total Billings'!H8,"yes","no") -> yes | L158: *excludes NH Okinawa and NH Yokosuka data
B159: Is All Services total for a FY equal to Total Billings tab? | F159: =IF(F154='Total Billings'!C9,"yes","no") -> yes | G159: =IF(G154='Total Billings'!D9,"yes","no") -> yes | H159: =IF(H154='Total Billings'!E9,"yes","no") -> yes | I159: =IF(I154='Total Billings'!F9,"yes","no") -> yes | J159: =IF(J154='Total Billings'!G9,"yes","no") -> yes | K159: =IF(K154='Total Billings'!H9,"yes","no") -> yes

Sheet IP Collections by DMIS ID
A1: Total Collections metric QC by DMIS ID
B3: Service | C3: dmis_id | D3: dmis_name | E3: facility_type | G3: Number of IP Collections for CFY
F4: FY2007 | G4: FY2008 | H4: FY2009 | I4: FY2010 | J4: FY2011 | K4: FY2012
B5: =Details2!B597 -> Air Force | C5: =Details2!C597 -> 0004 | D5: =Details2!D597 -> Maxwell AFB (42nd Medical Group) | E5: =Details2!E597 -> C | F5: =Details2!F597 -> NULL | G5: =Details2!G597 -> NULL | H5: =Details2!H597 -> NULL | I5: =Details2!I597 -> NULL | ... K5: =Details2!K597 -> NULL | L5: =IF(AND(E5<>"H",K5="NULL")," ","review")
B6: =Details2!B598 -> Air Force | C6: =Details2!C598 -> 0006 | D6: =Details2!D598 -> Elmendorf AFB (3rd Medical group) | E6: =Details2!E598 -> H | F6: =Details2!F598 -> 1 | G6: =Details2!G598 -> 1 | H6: =Details2!H598 -> 0 | I6: =Details2!I598 -> 0 | ... K6: =Details2!K598 -> 0
B7: =Details2!B599 -> Air Force | C7: =Details2!C599 -> 0009 | D7: =Details2!D599 -> Luke AFB (56th Medical Group) | E7: =Details2!E599 -> C | F7: =Details2!F599 -> NULL | G7: =Details2!G599 -> NULL | H7: =Details2!H599 -> NULL | I7: =Details2!I599 -> NULL | ... K7: =Details2!K599 -> NULL
B8: =Details2!B600 -> Air Force | C8: =Details2!C600 -> 0010 | D8: =Details2!D600 -> Davis Monthan AFB (355th Medical Group) | E8: =Details2!E600 -> C | F8: =Details2!F600 -> NULL | G8: =Details2!G600 -> NULL | H8: =Details2!H600 -> NULL | I8: =Details2!I600 -> NULL | ... K8: =Details2!K600 -> NULL
B9: =Details2!B601 -> Air Force | C9: =Details2!C601 -> 0013 | D9: =Details2!D601 -> Little Rock AFB (314th Medical Group) | E9: =Details2!E601 -> C | F9: =Details2!F601 -> NULL | G9: =Details2!G601 -> NULL | H9: =Details2!H601 -> NULL | I9: =Details2!I601 -> NULL | ... K9: =Details2!K601 -> NULL
B10: =Details2!B602 -> Air Force | C10: =Details2!C602 -> 0014 | D10: =Details2!D602 -> Travis AFB (60th Medical Group) | E10: =Details2!E602 -> H | F10: =Details2!F602 -> 0 | G10: =Details2!G602 -> 0 | H10: =Details2!H602 -> 0 | I10: =Details2!I602 -> 0 | ... K10: =Details2!K602 -> 0
B11: =Details2!B603 -> Air Force | C11: =Details2!C603 -> 0015 | D11: =Details2!D603 -> Beale AFB (9th Medical Group) | E11: =Details2!E603 -> C | F11: =Details2!F603 -> NULL | G11: =Details2!G603 -> NULL | H11: =Details2!H603 -> NULL | I11: =Details2!I603 -> NULL | ... K11: =Details2!K603 -> NULL
B12: =Details2!B604 -> Air Force | C12: =Details2!C604 -> 0018 | D12: =Details2!D604 -> Vandenberg AFB (30th Medical Group) | E12: =Details2!E604 -> C | F12: =Details2!F604 -> NULL | G12: =Details2!G604 -> NULL | H12: =Details2!H604 -> NULL | I12: =Details2!I604 -> NULL | ... K12: =Details2!K604 -> NULL
B13: =Details2!B605 -> Air Force | C13: =Details2!C605 -> 0019 | D13: =Details2!D605 -> Edwards AFB (95th Medical Group) | E13: =Details2!E605 -> C | F13: =Details2!F605 -> NULL | G13: =Details2!G605 -> NULL | H13: =Details2!H605 -> NULL | I13: =Details2!I605 -> NULL | ... K13: =Details2!K605 -> NULL
B14: =Details2!B606 -> Air Force | C14: =Details2!C606 -> 0033 | D14: =Details2!D606 -> USAF Academy (10th Medical Group) | E14: =Details2!E606 -> H | F14: =Details2!F606 -> 0 | G14: =Details2!G606 -> 0 | H14: =Details2!H606 -> 0 | I14: =Details2!I606 -> 0 | ... K14: =Details2!K606 -> NULL
B15: =Details2!B607 -> Air Force | C15: =Details2!C607 -> 0036 | D15: =Details2!D607 -> Dover AFB (436th Medical Group) | E15: =Details2!E607 -> C | F15: =Details2!F607 -> NULL | G15: =Details2!G607 -> NULL | H15: =Details2!H607 -> NULL | I15: =Details2!I607 -> NULL | ... K15: =Details2!K607 -> NULL
B16: =Details2!B608 -> Air Force | C16: =Details2!C608 -> 0042 | D16: =Details2!D608 -> Eglin AFB (96th Medical Group) | E16: =Details2!E608 -> H | F16: =Details2!F608 -> 2 | G16: =Details2!G608 -> 0 | H16: =Details2!H608 -> 0 | I16: =Details2!I608 -> 0 | ... K16: =Details2!K608 -> 0
B17: =Details2!B609 -> Air Force | C17: =Details2!C609 -> 0043 | D17: =Details2!D609 -> Tyndall AFB (325th Medical Group) | E17: =Details2!E609 -> C | F17: =Details2!F609 -> NULL | G17: =Details2!G609 -> NULL | H17: =Details2!H609 -> NULL | I17: =Details2!I609 -> NULL | ... K17: =Details2!K609 -> NULL
... B38: =Details2!B630 -> Air Force | C38: =Details2!C630 -> 0094 | D38: =Details2!D630 -> Minot AFB (5th Medical Group) | E38: =Details2!E630 -> C | F38: =Details2!F630 -> NULL | G38: =Details2!G630 -> NULL | H38: =Details2!H630 -> NULL | I38: =Details2!I630 -> NULL | ... K38: =Details2!K630 -> NULL
B39: =Details2!B631 -> Air Force | C39: =Details2!C631 -> 0095 | D39: =Details2!D631 -> Wright Patterson AFB (88th Medical Group) | E39: =Details2!E631 -> H | F39: =Details2!F631 -> 0 | G39: =Details2!G631 -> 12 | H39: =Details2!H631 -> 0 | I39: =Details2!I631 -> 0 | ... K39: =Details2!K631 -> 0 | N39: ok
B40: =Details2!B632 -> Air Force | C40: =Details2!C632 -> 0096 | D40: =Details2!D632 -> Tinker AFB (72th Medical Group) | E40: =Details2!E632 -> C | F40: =Details2!F632 -> NULL | G40: =Details2!G632 -> NULL | H40: =Details2!H632 -> NULL | I40: =Details2!I632 -> NULL | ... K40: =Details2!K632 -> NULL
B41: =Details2!B633 -> Air Force | C41: =Details2!C633 -> 0097 | D41: =Details2!D633 -> Altus AFB (97th Medical Group) | E41: =Details2!E633 -> C | F41: =Details2!F633 -> NULL | G41: =Details2!G633 -> NULL | H41: =Details2!H633 -> NULL | I41: =Details2!I633 -> NULL | ... K41: =Details2!K633 -> NULL
B42: =Details2!B634 -> Air Force | C42: =Details2!C634 -> 0101 | D42: =Details2!D634 -> Shaw AFB (20th Medical Group) | E42: =Details2!E634 -> C | F42: =Details2!F634 -> NULL | G42: =Details2!G634 -> NULL | H42: =Details2!H634 -> NULL | I42: =Details2!I634 -> NULL | ... K42: =Details2!K634 -> NULL
B43: =Details2!B635 -> Air Force | C43: =Details2!C635 -> 0106 | D43: =Details2!D635 -> Ellsworth AFB (28th Medical Group) | E43: =Details2!E635 -> C | F43: =Details2!F635 -> NULL | G43: =Details2!G635 -> NULL | H43: =Details2!H635 -> NULL | I43: =Details2!I635 -> NULL | ... K43: =Details2!K635 -> NULL
B44: =Details2!B636 -> Air Force | C44: =Details2!C636 -> 0112 | D44: =Details2!D636 -> Dyess AFB (7th Medical Group) | E44: =Details2!E636 -> C | F44: =Details2!F636 -> NULL | G44: =Details2!G636 -> NULL | H44: =Details2!H636 -> NULL | I44: =Details2!I636 -> NULL | ... K44: =Details2!K636 -> NULL
B45: =Details2!B637 -> Air Force | C45: =Details2!C637 -> 0113 | D45: =Details2!D637 -> Sheppard AFB (82nd Medical Group) | E45: =Details2!E637 -> C | F45: =Details2!F637 -> NULL | G45: =Details2!G637 -> NULL | H45: =Details2!H637 -> NULL | I45: =Details2!I637 -> NULL | ... K45: =Details2!K637 -> NULL
B46: =Details2!B638 -> Air Force | C46: =Details2!C638 -> 0114 | D46: =Details2!D638 -> Laughlin AFB (47th Medical Group) | E46: =Details2!E638 -> C | F46: =Details2!F638 -> NULL | G46: =Details2!G638 -> NULL | H46: =Details2!H638 -> NULL | I46: =Details2!I638 -> NULL | ... K46: =Details2!K638 -> NULL
B47: =Details2!B639 -> Air Force | C47: =Details2!C639 -> 0117 | D47: =Details2!D639 -> Lackland AFB (59th Medical Wing) | E47: =Details2!E639 -> H | F47: =Details2!F639 -> 0 | G47: =Details2!G639 -> 0 | H47: =Details2!H639 -> 1 | I47: =Details2!I639 -> 0 | ... K47: =Details2!K639 -> 0
B48: =Details2!B640 -> Air Force | C48: =Details2!C640 -> 0119 | D48: =Details2!D640 -> Hill AFB (75th Medical Group) | E48: =Details2!E640 -> C | F48: =Details2!F640 -> NULL | G48: =Details2!G640 -> NULL | H48: =Details2!H640 -> NULL | I48: =Details2!I640 -> NULL | ... K48: =Details2!K640 -> NULL
B49: =Details2!B641 -> Air Force | C49: =Details2!C641 -> 0120 | D49: =Details2!D641 -> Langley AFB (1st Medical Group) | E49: =Details2!E641 -> H | F49: =Details2!F641 -> 0 | G49: =Details2!G641 -> 0 | H49: =Details2!H641 -> 0 | I49: =Details2!I641 -> 0 | ... K49: =Details2!K641 -> 0
B50: =Details2!B642 -> Air Force | C50: =Details2!C642 -> 0128 | D50: =Details2!D642 -> Fairchild AFB (92nd Medical Group) | E50: =Details2!E642 -> C | F50: =Details2!F642 -> NULL | G50: =Details2!G642 -> NULL | H50: =Details2!H642 -> NULL | I50: =Details2!I642 -> NULL | ... K50: =Details2!K642 -> NULL
B51: =Details2!B643 -> Air Force | C51: =Details2!C643 -> 0129 | D51: =Details2!D643 -> F.E. Warren AFB (90th Medical Group) | E51: =Details2!E643 -> C | F51: =Details2!F643 -> NULL | G51: =Details2!G643 -> NULL | H51: =Details2!H643 -> NULL | I51: =Details2!I643 -> NULL | ... K51: =Details2!K643 -> NULL
... B130: =Details2!B722 -> Navy | C130: =Details2!C722 -> 0092 | D130: =Details2!D722 -> NHC Cherry Point | E130: =Details2!E722 -> H | F130: =Details2!F722 -> 0 | G130: =Details2!G722 -> 0 | H130: =Details2!H722 -> 0 | I130: =Details2!I722 -> 0 | ... K130: =Details2!K722 -> NULL
B131: =Details2!B723 -> Navy | C131: =Details2!C723 -> 0100 | D131: =Details2!D723 -> NBHC Newport | E131: =Details2!E723 -> C | F131: =Details2!F723 -> 0 | G131: =Details2!G723 -> 0 | H131: =Details2!H723 -> NULL | I131: =Details2!I723 -> NULL | ... K131: =Details2!K723 -> NULL | L131: ok
B132: =Details2!B724 -> Navy | C132: =Details2!C724 -> 0103 | D132: =Details2!D724 -> NHC Charleston | E132: =Details2!E724 -> H | F132: =Details2!F724 -> NULL | G132: =Details2!G724 -> NULL | H132: =Details2!H724 -> NULL | I132: =Details2!I724 -> NULL | ... K132: =Details2!K724 -> NULL | L132: does not report IP
B133: =Details2!B725 -> Navy | C133: =Details2!C725 -> 0104 | D133: =Details2!D725 -> NH Beaufort | E133: =Details2!E725 -> H | F133: =Details2!F725 -> 0 | G133: =Details2!G725 -> 0 | H133: =Details2!H725 -> 0 | I133: =Details2!I725 -> 0 | ... K133: =Details2!K725 -> 0
B134: =Details2!B726 -> Navy | C134: =Details2!C726 -> 0107 | D134: =Details2!D726 -> NBHC NSA Mid-South | E134: =Details2!E726 -> C | F134: =Details2!F726 -> NULL | G134: =Details2!G726 -> NULL | H134: =Details2!H726 -> NULL | I134: =Details2!I726 -> NULL | ... K134: =Details2!K726 -> NULL
B135: =Details2!B727 -> Navy | C135: =Details2!C727 -> 0118 | D135: =Details2!D727 -> NHC Corpus Christi | E135: =Details2!E727 -> C | F135: =Details2!F727 -> NULL | G135: =Details2!G727 -> NULL | H135: =Details2!H727 -> NULL | I135: =Details2!I727 -> NULL | ... K135: =Details2!K727 -> NULL
B136: =Details2!B728 -> Navy | C136: =Details2!C728 -> 0124 | D136: =Details2!D728 -> NMC Portsmouth (VA) | E136: =Details2!E728 -> H | F136: =Details2!F728 -> 3 | G136: =Details2!G728 -> 3 | H136: =Details2!H728 -> 0 | I136: =Details2!I728 -> 0 | ... K136: =Details2!K728 -> 0
B137: =Details2!B729 -> Navy | C137: =Details2!C729 -> 0126 | D137: =Details2!D729 -> NH Bremerton | E137: =Details2!E729 -> H | F137: =Details2!F729 -> 2 | G137: =Details2!G729 -> 3 | H137: =Details2!H729 -> 0 | I137: =Details2!I729 -> 3 | ... K137: =Details2!K729 -> 0
B138: =Details2!B730 -> Navy | C138: =Details2!C730 -> 0127 | D138: =Details2!D730 -> NH Oak Harbor | E138: =Details2!E730 -> H | F138: =Details2!F730 -> 0 | G138: =Details2!G730 -> 0 | H138: =Details2!H730 -> 0 | I138: =Details2!I730 -> 0 | ... K138: =Details2!K730 -> 0
B139: =Details2!B731 -> Navy | C139: =Details2!C731 -> 0280 | D139: =Details2!D731 -> NHC Hawaii | E139: =Details2!E731 -> C | F139: =Details2!F731 -> NULL | G139: =Details2!G731 -> NULL | H139: =Details2!H731 -> NULL | I139: =Details2!I731 -> NULL | ... K139: =Details2!K731 -> NULL
B140: =Details2!B732 -> Navy | C140: =Details2!C732 -> 0297 | D140: =Details2!D732 -> NACC New Orleans | E140: =Details2!E732 -> C | F140: =Details2!F732 -> NULL | G140: =Details2!G732 -> NULL | H140: =Details2!H732 -> NULL | I140: =Details2!I732 -> NULL | ... K140: =Details2!K732 -> NULL
B141: =Details2!B733 -> Navy | C141: =Details2!C733 -> 0306 | D141: =Details2!D733 -> NHC Annapolis | E141: =Details2!E733 -> C | F141: =Details2!F733 -> NULL | G141: =Details2!G733 -> NULL | H141: =Details2!H733 -> NULL | I141: =Details2!I733 -> NULL | ... K141: =Details2!K733 -> NULL
B142: =Details2!B734 -> Navy | C142: =Details2!C734 -> 0321 | D142: =Details2!D734 -> NBHC Portsmouth (NH) | E142: =Details2!E734 -> C | F142: =Details2!F734 -> NULL | G142: =Details2!G734 -> NULL | H142: =Details2!H734 -> NULL | I142: =Details2!I734 -> NULL | ... K142: =Details2!K734 -> NULL
B143: =Details2!B735 -> Navy | C143: =Details2!C735 -> 0385 | D143: =Details2!D735 -> NHC Quantico | E143: =Details2!E735 -> C | F143: =Details2!F735 -> NULL | G143: =Details2!G735 -> NULL | H143: =Details2!H735 -> NULL | I143: =Details2!I735 -> NULL | ... K143: =Details2!K735 -> NULL
B144: =Details2!B736 -> Navy | C144: =Details2!C736 -> 0616 | D144: =Details2!D736 -> NH Roosevelt Roads | E144: =Details2!E736 -> I | F144: =Details2!F736 -> NULL | G144: =Details2!G736 -> NULL | H144: =Details2!H736 -> NULL | I144: =Details2!I736 -> NULL | ... K144: =Details2!K736 -> NULL | L144: closed
B145: =Details2!B737 -> Navy | C145: =Details2!C737 -> 0620 | D145: =Details2!D737 -> NH Guam | E145: =Details2!E737 -> H | F145: =Details2!F737 -> 0 | G145: =Details2!G737 -> 0 | H145: =Details2!H737 -> 0 | I145: =Details2!I737 -> 0 | ... K145: =Details2!K737 -> 0
B146: =Details2!B738 -> Navy | C146: =Details2!C738 -> 0621 | D146: =Details2!D738 -> NH Okinawa | E146: =Details2!E738 -> I | F146: =Details2!F738 -> NULL | G146: =Details2!G738 -> NULL | H146: =Details2!H738 -> NULL | I146: =Details2!I738 -> NULL | ... K146: =Details2!K738 -> NULL | L146: not reporting TPC
B147: =Details2!B739 -> Navy | C147: =Details2!C739 -> 0622 | D147: =Details2!D739 -> NH Yokosuka | E147: =Details2!E739 -> I | F147: =Details2!F739 -> NULL | G147: =Details2!G739 -> NULL | H147: =Details2!H739 -> NULL | I147: =Details2!I739 -> NULL | ... K147: =Details2!K739 -> NULL | L147: not reporting TPC
B151: Air Force total | F151: =SUM(F5:F69) -> 6 | G151: =SUM(G5:G69) -> 13 | H151: =SUM(H5:H69) -> 1 | I151: =SUM(I5:I69) -> 0 | J151: =SUM(J5:J69) -> 0 | K151: =SUM(K5:K69) -> 0
B152: Army total | F152: =SUM(F71:F118) -> 51 | G152: =SUM(G71:G118) -> 60 | H152: =SUM(H71:H118) -> 15 | I152: =SUM(I71:I118) -> 2 | J152: =SUM(J71:J118) -> 52 | K152: =SUM(K71:K118) -> 11
B153: Navy total - OK and YO | F153: =SUM(F119:F145) -> 42 | G153: =SUM(G119:G145) -> 22 | H153: =SUM(H119:H145) -> 5 | I153: =SUM(I119:I145) -> 17 | J153: =SUM(J119:J145) -> 24 | K153: =SUM(K119:K145) -> 6 | L153: *excludes NH Okinawa and NH Yokosuka data
B154: All Services total | F154: =SUM(F5:F145) -> 99 | G154: =SUM(G5:G145) -> 95 | H154: =SUM(H5:H145) -> 21 | I154: =SUM(I5:I145) -> 19 | J154: =SUM(J5:J145) -> 76 | K154: =SUM(K5:K145) -> 17
B156: Is AF total for a FY equal to Collected to Claims Ratio Rpt tab? | F156: =IF(F151='Collected to Claims Ratio'!C7,"yes","no") -> yes | G156: =IF(G151='Collected to Claims Ratio'!D7,"yes","no") -> yes | H156: =IF(H151='Collected to Claims Ratio'!E7,"yes","no") -> yes | I156: =IF(I151='Collected to Claims Ratio'!F7,"yes","no") -> yes | J156: =IF(J151='Collected to Claims Ratio'!G7,"yes","no") -> yes | K156: =IF(K151='Collected to Claims Ratio'!H7,"yes","no") -> yes
B157: Is A total for a FY equal to Collected to Claims Ratio Rpt tab? | F157: =IF(F152='Collected to Claims Ratio'!C8,"yes","no") -> yes | G157: =IF(G152='Collected to Claims Ratio'!D8,"yes","no") -> yes | H157: =IF(H152='Collected to Claims Ratio'!E8,"yes","no") -> yes | I157: =IF(I152='Collected to Claims Ratio'!F8,"yes","no") -> yes | J157: =IF(J152='Collected to Claims Ratio'!G8,"yes","no") -> yes | K157: =IF(K152='Collected to Claims Ratio'!H8,"yes","no") -> yes
B158: Is N total for a FY equal to Collected to Claims Ratio Rpt tab? | F158: =IF(F153='Collected to Claims Ratio'!C9,"yes","no") -> yes | G158: =IF(G153='Collected to Claims Ratio'!D9,"yes","no") -> yes | H158: =IF(H153='Collected to Claims Ratio'!E9,"yes","no") -> yes | I158: =IF(I153='Collected to Claims Ratio'!F9,"yes","no") -> yes | J158: =IF(J153='Collected to Claims Ratio'!G9,"yes","no") -> yes | K158: =IF(K153='Collected to Claims Ratio'!H9,"yes","no") -> yes | L158: *excludes NH Okinawa and NH Yokosuka data
B159: Is All Services total for a FY equal to Collected to Claims Ratio Rpt tab? | F159: =IF(F154='Collected to Claims Ratio'!C10,"yes","no") -> yes | G159: =IF(G154='Collected to Claims Ratio'!D10,"yes","no") -> yes | H159: =IF(H154='Collected to Claims Ratio'!E10,"yes","no") -> yes | I159: =IF(I154='Collected to Claims Ratio'!F10,"yes","no") -> yes | J159: =IF(J154='Collected to Claims Ratio'!G10,"yes","no") -> yes | K159: =IF(K154='Collected to Claims Ratio'!H10,"yes","no") -> yes

Sheet IP Claims by DMIS ID
A1: Total Collections metric QC by DMIS ID
B3: Service | C3: dmis_id | D3: dmis_name | E3: facility_type | G3: Number of IP Claims for CFY
F4: FY2007 | G4: FY2008 | H4: FY2009 | I4: FY2010 | J4: FY2011 | K4: FY2012
B5: =Details2!B745 -> Air Force | C5: =Details2!C745 -> 0004 | D5: =Details2!D745 -> Maxwell AFB (42nd Medical Group) | E5: =Details2!E745 -> C | F5: =Details2!F745 -> NULL | G5: =Details2!G745 -> NULL | H5: =Details2!H745 -> NULL | I5: =Details2!I745 -> NULL | ... K5: =Details2!K745 -> NULL | L5: =IF(AND(E5<>"H",K5="NULL")," ","review")
B6: =Details2!B746 -> Air Force | C6: =Details2!C746 -> 0006 | D6: =Details2!D746 -> Elmendorf AFB (3rd Medical group) | E6: =Details2!E746 -> H | F6: =Details2!F746 -> 19 | G6: =Details2!G746 -> 8 | H6: =Details2!H746 -> 0 | I6: =Details2!I746 -> 0 | ... K6: =Details2!K746 -> 2
B7: =Details2!B747 -> Air Force | C7: =Details2!C747 -> 0009 | D7: =Details2!D747 -> Luke AFB (56th Medical Group) | E7: =Details2!E747 -> C | F7: =Details2!F747 -> NULL | G7: =Details2!G747 -> NULL | H7: =Details2!H747 -> NULL | I7: =Details2!I747 -> NULL | ... K7: =Details2!K747 -> NULL | L7: ='IP $ Collections by DMIS'!L7 -> Inpatient closed down
B8: =Details2!B748 -> Air Force | C8: =Details2!C748 -> 0010 | D8: =Details2!D748 -> Davis Monthan AFB (355th Medical Group) | E8: =Details2!E748 -> C | F8: =Details2!F748 -> NULL | G8: =Details2!G748 -> NULL | H8: =Details2!H748 -> NULL | I8: =Details2!I748 -> NULL | ... K8: =Details2!K748 -> NULL
B9: =Details2!B749 -> Air Force | C9: =Details2!C749 -> 0013 | D9: =Details2!D749 -> Little Rock AFB (314th Medical Group) | E9: =Details2!E749 -> C | F9: =Details2!F749 -> NULL | G9: =Details2!G749 -> NULL | H9: =Details2!H749 -> NULL | I9: =Details2!I749 -> NULL | ... K9: =Details2!K749 -> NULL
B10: =Details2!B750 -> Air Force | C10: =Details2!C750 -> 0014 | D10: =Details2!D750 -> Travis AFB (60th Medical Group) | E10: =Details2!E750 -> H | F10: =Details2!F750 -> 16 | G10: =Details2!G750 -> 7 | H10: =Details2!H750 -> 3 | I10: =Details2!I750 -> 0 | ... K10: =Details2!K750 -> 16
B11: =Details2!B751 -> Air Force | C11: =Details2!C751 -> 0015 | D11: =Details2!D751 -> Beale AFB (9th Medical Group) | E11: =Details2!E751 -> C | F11: =Details2!F751 -> NULL | G11: =Details2!G751 -> NULL | H11: =Details2!H751 -> NULL | I11: =Details2!I751 -> NULL | ... K11: =Details2!K751 -> NULL
B12: =Details2!B752 -> Air Force | C12: =Details2!C752 -> 0018 | D12: =Details2!D752 -> Vandenberg AFB (30th Medical Group) | E12: =Details2!E752 -> C | F12: =Details2!F752 -> NULL | G12: =Details2!G752 -> NULL | H12: =Details2!H752 -> NULL | I12: =Details2!I752 -> NULL | ... K12: =Details2!K752 -> NULL
B13: =Details2!B753 -> Air Force | C13: =Details2!C753 -> 0019 | D13: =Details2!D753 -> Edwards AFB (95th Medical Group) | E13: =Details2!E753 -> C | F13: =Details2!F753 -> NULL | G13: =Details2!G753 -> NULL | H13: =Details2!H753 -> NULL | I13: =Details2!I753 -> NULL | ... K13: =Details2!K753 -> NULL
B14: =Details2!B754 -> Air Force | C14: =Details2!C754 -> 0033 | D14: =Details2!D754 -> USAF Academy (10th Medical Group) | E14: =Details2!E754 -> H | F14: =Details2!F754 -> 6 | G14: =Details2!G754 -> 0 | H14: =Details2!H754 -> 0 | I14: =Details2!I754 -> 0 | ... K14: =Details2!K754 -> NULL
B15: =Details2!B755 -> Air Force | C15: =Details2!C755 -> 0036 | D15: =Details2!D755 -> Dover AFB (436th Medical Group) | E15: =Details2!E755 -> C | F15: =Details2!F755 -> NULL | G15: =Details2!G755 -> NULL | H15: =Details2!H755 -> NULL | I15: =Details2!I755 -> NULL | ... K15: =Details2!K755 -> NULL
B16: =Details2!B756 -> Air Force | C16: =Details2!C756 -> 0042 | D16: =Details2!D756 -> Eglin AFB (96th Medical Group) | E16: =Details2!E756 -> H | F16: =Details2!F756 -> 8 | G16: =Details2!G756 -> 13 | H16: =Details2!H756 -> 4 | I16: =Details2!I756 -> 0 | ... K16: =Details2!K756 -> 19
B17: =Details2!B757 -> Air Force | C17: =Details2!C757 -> 0043 | D17: =Details2!D757 -> Tyndall AFB (325th Medical Group) | E17: =Details2!E757 -> C | F17: =Details2!F757 -> NULL | G17: =Details2!G757 -> NULL | H17: =Details2!H757 -> NULL | I17: =Details2!I757 -> NULL | ... K17: =Details2!K757 -> NULL
B18: =Details2!B758 -> Air Force | C18: =Details2!C758 -> 0045 | D18: =Details2!D758 -> MacDill AFB (6th Medical Group) | E18: =Details2!E758 -> C | F18: =Details2!F758 -> NULL | G18: =Details2!G758 -> 0 | H18: =Details2!H758 -> NULL | I18: =Details2!I758 -> NULL | ... K18: =Details2!K758 -> NULL | L18: ='IP $ Collections by DMIS'!L18 -> Inpatient closed down
B19: =Details2!B759 -> Air Force | C19: =Details2!C759 -> 0046 | D19: =Details2!D759 -> Patrick AFB (45th Medical Group) | E19: =Details2!E759 -> C | F19: =Details2!F759 -> NULL | G19: =Details2!G759 -> NULL | H19: =Details2!H759 -> NULL | I19: =Details2!I759 -> NULL | ... K19: =Details2!K759 -> NULL
B20: =Details2!B760 -> Air Force | C20: =Details2!C760 -> 0050 | D20: =Details2!D760 -> Moody AFB (347th Medical Group) | E20: =Details2!E760 -> C | F20: =Details2!F760 -> NULL | G20: =Details2!G760 -> NULL | H20: =Details2!H760 -> NULL | I20: =Details2!I760 -> NULL | ... K20: =Details2!K760 -> NULL
B21: =Details2!B761 -> Air Force | C21: =Details2!C761 -> 0051 | D21: =Details2!D761 -> Robins AFB (78th Medical Group) | E21: =Details2!E761 -> C | F21: =Details2!F761 -> NULL | G21: =Details2!G761 -> NULL | H21: =Details2!H761 -> NULL | I21: =Details2!I761 -> NULL | ... K21: =Details2!K761 -> NULL
B22: =Details2!B762 -> Air Force | C22: =Details2!C762 -> 0053 | D22: =Details2!D762 -> Mountain Home AFB (366th Medical Group) | E22: =Details2!E762 -> H | F22: =Details2!F762 -> 0 | G22: =Details2!G762 -> 2 | H22: =Details2!H762 -> 0 | I22: =Details2!I762 -> 0 | ... K22: =Details2!K762 -> 0
B23: =Details2!B763 -> Air Force | C23: =Details2!C763 -> 0055 | D23: =Details2!D763 -> Scott AFB (375th Medical Group) | E23: =Details2!E763 -> C | F23: =Details2!F763 -> 0 | G23: =Details2!G763 -> NULL | H23: =Details2!H763 -> NULL | I23: =Details2!I763 -> NULL | ... K23: =Details2!K763 -> NULL
B24: =Details2!B764 -> Air Force | C24: =Details2!C764 -> 0059 | D24: =Details2!D764 -> McConnell AFB (22nd Medical Group) | E24: =Details2!E764 -> C | F24: =Details2!F764 -> NULL | G24: =Details2!G764 -> NULL | H24: =Details2!H764 -> NULL | I24: =Details2!I764 -> NULL | ... K24: =Details2!K764 -> NULL
B25: =Details2!B765 -> Air Force | C25: =Details2!C765 -> 0062 | D25: =Details2!D765 -> Barksdale AFB (2nd Medical Group) | E25: =Details2!E765 -> C | F25: =Details2!F765 -> NULL | G25: =Details2!G765 -> NULL | H25: =Details2!H765 -> NULL | I25: =Details2!I765 -> NULL | ... K25: =Details2!K765 -> NULL
B26: =Details2!B766 -> Air Force | C26: =Details2!C766 -> 0066 | D26: =Details2!D766 -> Andrews AFB (79th Medical Group) | E26: =Details2!E766 -> H | F26: =Details2!F766 -> 0 | G26: =Details2!G766 -> 6 | H26: =Details2!H766 -> 0 | I26: =Details2!I766 -> 0 | ... K26: =Details2!K766 -> 0
B27: =Details2!B767 -> Air Force | C27: =Details2!C767 -> 0073 | D27: =Details2!D767 -> Keesler AFB (81st Medical Group) | E27: =Details2!E767 -> H | F27: =Details2!F767 -> 2 | G27: =Details2!G767 -> 14 | H27: =Details2!H767 -> 4 | I27: =Details2!I767 -> 0 | ... K27: =Details2!K767 -> 14 | L27: ='IP $ Collections by DMIS'!L27 -> Inpatient closed down
B28: =Details2!B768 -> Air Force | C28: =Details2!C768 -> 0074 | D28: =Details2!D768 -> Columbus AFB (14th Medical Group) | E28: =Details2!E768 -> C | F28: =Details2!F768 -> NULL | G28: =Details2!G768 -> NULL | H28: =Details2!H768 -> NULL | I28: =Details2!I768 -> NULL | ... K28: =Details2!K768 -> NULL
B29: =Details2!B769 -> Air Force | C29: =Details2!C769 -> 0076 | D29: =Details2!D769 -> Whiteman AFB (509th Medical Group) | E29: =Details2!E769 -> C | F29: =Details2!F769 -> NULL | G29: =Details2!G769 -> NULL | H29: =Details2!H769 -> NULL | I29: =Details2!I769 -> NULL | ... K29: =Details2!K769 -> NULL
B30: =Details2!B770 -> Air Force | C30: =Details2!C770 -> 0077 | D30: =Details2!D770 -> Malmstrom AFB (341st Medical Group) | E30: =Details2!E770 -> C | F30: =Details2!F770 -> NULL | G30: =Details2!G770 -> NULL | H30: =Details2!H770 -> NULL | I30: =Details2!I770 -> NULL | ... K30: =Details2!K770 -> NULL
B31: =Details2!B771 -> Air Force | C31: =Details2!C771 -> 0078 | D31: =Details2!D771 -> Offutt AFB (55th Medical Group) | E31: =Details2!E771 -> C | F31: =Details2!F771 -> 0 | G31: =Details2!G771 -> NULL | H31: =Details2!H771 -> NULL | I31: =Details2!I771 -> NULL | ... K31: =Details2!K771 -> NULL | L31: ='IP $ Collections by DMIS'!L31 -> Inpatient closed down
B32: =Details2!B772 -> Air Force | C32: =Details2!C772 -> 0079 | D32: =Details2!D772 -> Nellis AFB (99th Medical Group) | E32: =Details2!E772 -> H | F32: =Details2!F772 -> 17 | G32: =Details2!G772 -> 11 | H32: =Details2!H772 -> 5 | I32: =Details2!I772 -> 0 | ... K32: =Details2!K772 -> 31
B33: =Details2!B773 -> Air Force | C33: =Details2!C773 -> 0083 | D33: =Details2!D773 -> Kirtland AFB (377th Medical Group) | E33: =Details2!E773 -> C | F33: =Details2!F773 -> NULL | G33: =Details2!G773 -> NULL | H33: =Details2!H773 -> NULL | I33: =Details2!I773 -> NULL | ... K33: =Details2!K773 -> NULL
B34: =Details2!B774 -> Air Force | C34: =Details2!C774 -> 0084 | D34: =Details2!D774 -> Holloman AFB (49th Medical Group) | E34: =Details2!E774 -> C | F34: =Details2!F774 -> NULL | G34: =Details2!G774 -> NULL | H34: =Details2!H774 -> NULL | I34: =Details2!I774 -> NULL | ... K34: =Details2!K774 -> NULL
B35: =Details2!B775 -> Air Force | C35: =Details2!C775 -> 0085 | D35: =Details2!D775 -> Cannon AFB (27th Medical Group) | E35: =Details2!E775 -> C | F35: =Details2!F775 -> NULL | G35: =Details2!G775 -> NULL | H35: =Details2!H775 -> NULL | I35: =Details2!I775 -> NULL | ... K35: =Details2!K775 -> NULL
B36: =Details2!B776 -> Air Force | C36: =Details2!C776 -> 0090 | D36: =Details2!D776 -> Seymour Johnson AFB (4th Medical Group) | E36: =Details2!E776 -> C | F36: =Details2!F776 -> NULL | G36: =Details2!G776 -> NULL | H36: =Details2!H776 -> NULL | I36: =Details2!I776 -> NULL | ... K36: =Details2!K776 -> NULL
B37: =Details2!B777 -> Air Force | C37: =Details2!C777 -> 0093 | D37: =Details2!D777 -> Grand Forks AFB (319th Medical Group) | E37: =Details2!E777 -> C | F37: =Details2!F777 -> NULL | G37: =Details2!G777 -> NULL | H37: =Details2!H777 -> NULL | I37: =Details2!I777 -> NULL | ... K37: =Details2!K777 -> NULL
B38: =Details2!B778 -> Air Force | C38: =Details2!C778 -> 0094 | D38: =Details2!D778 -> Minot AFB (5th Medical Group) | E38: =Details2!E778 -> C | F38: =Details2!F778 -> NULL | G38: =Details2!G778 -> NULL | H38: =Details2!H778 -> NULL | I38: =Details2!I778 -> NULL | ... K38: =Details2!K778 -> NULL
B39: =Details2!B779 -> Air Force | C39: =Details2!C779 -> 0095 | D39: =Details2!D779 -> Wright Patterson AFB (88th Medical Group) | E39: =Details2!E779 -> H | F39: =Details2!F779 -> 37 | G39: =Details2!G779 -> 71 | H39: =Details2!H779 -> 0 | I39: =Details2!I779 -> 0 | ... K39: =Details2!K779 -> 81
B40: =Details2!B780 -> Air Force | C40: =Details2!C780 -> 0096 | D40: =Details2!D780 -> Tinker AFB (72th Medical Group) | E40: =Details2!E780 -> C | F40: =Details2!F780 -> NULL | G40: =Details2!G780 -> NULL | H40: =Details2!H780 -> NULL | I40: =Details2!I780 -> NULL | ... K40: =Details2!K780 -> NULL
B41: =Details2!B781 -> Air Force | C41: =Details2!C781 -> 0097 | D41: =Details2!D781 -> Altus AFB (97th Medical Group) | E41: =Details2!E781 -> C | F41: =Details2!F781 -> NULL | G41: =Details2!G781 -> NULL | H41: =Details2!H781 -> NULL | I41: =Details2!I781 -> NULL | ... K41: =Details2!K781 -> NULL
B42: =Details2!B782 -> Air Force | C42: =Details2!C782 -> 0101 | D42: =Details2!D782 -> Shaw AFB (20th Medical Group) | E42: =Details2!E782 -> C | F42: =Details2!F782 -> NULL | G42: =Details2!G782 -> NULL | H42: =Details2!H782 -> NULL | I42: =Details2!I782 -> NULL | ... K42: =Details2!K782 -> NULL
B43: =Details2!B783 -> Air Force | C43: =Details2!C783 -> 0106 | D43: =Details2!D783 -> Ellsworth AFB (28th Medical Group) | E43: =Details2!E783 -> C | F43: =Details2!F783 -> NULL | G43: =Details2!G783 -> NULL | H43: =Details2!H783 -> NULL | I43: =Details2!I783 -> NULL | ... K43: =Details2!K783 -> NULL
... B72: =Details2!B812 -> Army | C72: =Details2!C812 -> 0002 | D72: =Details2!D812 -> Ft. McClellan (Patterson ACH) | E72: =Details2!E812 -> I | F72: =Details2!F812 -> NULL | G72: =Details2!G812 -> NULL | H72: =Details2!H812 -> NULL | I72: =Details2!I812 -> NULL | ... K72: =Details2!K812 -> NULL
B73: =Details2!B813 -> Army | C73: =Details2!C813 -> 0003 | D73: =Details2!D813 -> Ft. Rucker (Lyster Army Health Clinic) | E73: =Details2!E813 -> C | F73: =Details2!F813 -> NULL | G73: =Details2!G813 -> NULL | H73: =Details2!H813 -> NULL | I73: =Details2!I813 -> NULL | ... K73: =Details2!K813 -> NULL | L73: ='IP $ Collections by DMIS'!L73 -> Inpatient closed down
B74: =Details2!B814 -> Army | C74: =Details2!C814 -> 0005 | D74: =Details2!D814 -> Ft. Wainwright (Bassett Army Community Hospital) | E74: =Details2!E814 -> H | F74: =Details2!F814 -> 16 | G74: =Details2!G814 -> 17 | H74: =Details2!H814 -> 0 | I74: =Details2!I814 -> 1 | ... K74: =Details2!K814 -> 16
B75: =Details2!B815 -> Army | C75: =Details2!C815 -> 0008 | D75: =Details2!D815 -> Ft. Huachuca (Bliss Army Health Clinic) | E75: =Details2!E815 -> C | F75: =Details2!F815 -> NULL | G75: =Details2!G815 -> NULL | H75: =Details2!H815 -> NULL | I75: =Details2!I815 -> NULL | ... K75: =Details2!K815 -> NULL
B76: =Details2!B816 -> Army | C76: =Details2!C816 -> 0032 | D76: =Details2!D816 -> Ft. Carson (Evans Army Community Hospital) | E76: =Details2!E816 -> H | F76: =Details2!F816 -> 10 | G76: =Details2!G816 -> 4 | H76: =Details2!H816 -> 3 | I76: =Details2!I816 -> 0 | ... K76: =Details2!K816 -> 10
B77: =Details2!B817 -> Army | C77: =Details2!C817 -> 0037 | D77: =Details2!D817 -> Washington D.C. (Walter Reed Army Medical Center) | E77: =Details2!E817 -> H | F77: =Details2!F817 -> 74 | G77: =Details2!G817 -> 66 | H77: =Details2!H817 -> 93 | I77: =Details2!I817 -> 1 | ... K77: =Details2!K817 -> 0
B78: =Details2!B818 -> Army | C78: =Details2!C818 -> 0047 | D78: =Details2!D818 -> Ft. Gordon (Eisenhower Army Medical Center) | E78: =Details2!E818 -> H | F78: =Details2!F818 -> 29 | G78: =Details2!G818 -> 33 | H78: =Details2!H818 -> 16 | I78: =Details2!I818 -> 0 | ... K78: =Details2!K818 -> 16
B79: =Details2!B819 -> Army | C79: =Details2!C819 -> 0048 | D79: =Details2!D819 -> Ft. Benning (Martin Army Community Hospital) | E79: =Details2!E819 -> H | F79: =Details2!F819 -> 10 | G79: =Details2!G819 -> 16 | H79: =Details2!H819 -> 22 | I79: =Details2!I819 -> 0 | ... K79: =Details2!K819 -> 8
B80: =Details2!B820 -> Army | C80: =Details2!C820 -> 0049 | D80: =Details2!D820 -> Ft. Stewart (Winn Army Community Hospital) | E80: =Details2!E820 -> H | F80: =Details2!F820 -> 5 | G80: =Details2!G820 -> 10 | H80: =Details2!H820 -> 7 | I80: =Details2!I820 -> 5 | ... K80: =Details2!K820 -> 5
B81: =Details2!B821 -> Army | C81: =Details2!C821 -> 0052 | D81: =Details2!D821 -> Ft. Shafter (Tripler Army Medical Center) | E81: =Details2!E821 -> H | F81: =Details2!F821 -> 47 | G81: =Details2!G821 -> 52 | H81: =Details2!H821 -> 22 | I81: =Details2!I821 -> 0 | ... K81: =Details2!K821 -> 53
B82: =Details2!B822 -> Army | C82: =Details2!C822 -> 0057 | D82: =Details2!D822 -> Ft. Riley (Irwin Army Community Hospital) | E82: =Details2!E822 -> H | F82: =Details2!F822 -> 4 | G82: =Details2!G822 -> 3 | H82: =Details2!H822 -> 2 | I82: =Details2!I822 -> 5 | ... K82: =Details2!K822 -> 5
B83: =Details2!B823 -> Army | C83: =Details2!C823 -> 0058 | D83: =Details2!D823 -> Ft. Leavenworth (Munson Army Health Clinic) | E83: =Details2!E823 -> C | F83: =Details2!F823 -> NULL | G83: =Details2!G823 -> NULL | H83: =Details2!H823 -> NULL | I83: =Details2!I823 -> NULL | ... K83: =Details2!K823 -> NULL
B84: =Details2!B824 -> Army | C84: =Details2!C824 -> 0060 | D84: =Details2!D824 -> Ft. Campbell (Blanchfield Army Comm Hospital) | E84: =Details2!E824 -> H | F84: =Details2!F824 -> 11 | G84: =Details2!G824 -> 4 | H84: =Details2!H824 -> 13 | I84: =Details2!I824 -> 0 | ... K84: =Details2!K824 -> 4
B85: =Details2!B825 -> Army | C85: =Details2!C825 -> 0061 | D85: =Details2!D825 -> Ft. Knox (Ireland Army Community Hospital) | E85: =Details2!E825 -> H | F85: =Details2!F825 -> 2 | G85: =Details2!G825 -> 0 | H85: =Details2!H825 -> 0 | I85: =Details2!I825 -> 0 | ... K85: =Details2!K825 -> 0
... B131: =Details2!B871 -> Navy | C131: =Details2!C871 -> 0100 | D131: =Details2!D871 -> NBHC Newport | E131: =Details2!E871 -> C | F131: =Details2!F871 -> 0 | G131: =Details2!G871 -> 0 | H131: =Details2!H871 -> NULL | I131: =Details2!I871 -> NULL | ... K131: =Details2!K871 -> NULL
B132: =Details2!B872 -> Navy | C132: =Details2!C872 -> 0103 | D132: =Details2!D872 -> NHC Charleston | E132: =Details2!E872 -> H | F132: =Details2!F872 -> NULL | G132: =Details2!G872 -> NULL | H132: =Details2!H872 -> NULL | I132: =Details2!I872 -> NULL | ... K132: =Details2!K872 -> NULL | L132: does not report IP
B133: =Details2!B873 -> Navy | C133: =Details2!C873 -> 0104 | D133: =Details2!D873 -> NH Beaufort | E133: =Details2!E873 -> H | F133: =Details2!F873 -> 2 | G133: =Details2!G873 -> 2 | H133: =Details2!H873 -> 0 | I133: =Details2!I873 -> 0 | ... K133: =Details2!K873 -> 1
B134: =Details2!B874 -> Navy | C134: =Details2!C874 -> 0107 | D134: =Details2!D874 -> NBHC NSA Mid-South | E134: =Details2!E874 -> C | F134: =Details2!F874 -> NULL | G134: =Details2!G874 -> NULL | H134: =Details2!H874 -> NULL | I134: =Details2!I874 -> NULL | ... K134: =Details2!K874 -> NULL
B135: =Details2!B875 -> Navy | C135: =Details2!C875 -> 0118 | D135: =Details2!D875 -> NHC Corpus Christi | E135: =Details2!E875 -> C | F135: =Details2!F875 -> NULL | G135: =Details2!G875 -> NULL | H135: =Details2!H875 -> NULL | I135: =Details2!I875 -> NULL | ... K135: =Details2!K875 -> NULL
B136: =Details2!B876 -> Navy | C136: =Details2!C876 -> 0124 | D136: =Details2!D876 -> NMC Portsmouth (VA) | E136: =Details2!E876 -> H | F136: =Details2!F876 -> 37 | G136: =Details2!G876 -> 51 | H136: =Details2!H876 -> 38 | I136: =Details2!I876 -> 47 | ... K136: =Details2!K876 -> 40
B137: =Details2!B877 -> Navy | C137: =Details2!C877 -> 0126 | D137: =Details2!D877 -> NH Bremerton | E137: =Details2!E877 -> H | F137: =Details2!F877 -> 10 | G137: =Details2!G877 -> 9 | H137: =Details2!H877 -> 3 | I137: =Details2!I877 -> 15 | ... K137: =Details2!K877 -> 12
B138: =Details2!B878 -> Navy | C138: =Details2!C878 -> 0127 | D138: =Details2!D878 -> NH Oak Harbor | E138: =Details2!E878 -> H | F138: =Details2!F878 -> 0 | G138: =Details2!G878 -> 2 | H138: =Details2!H878 -> 3 | I138: =Details2!I878 -> 0 | ... K138: =Details2!K878 -> 0
B139: =Details2!B879 -> Navy | C139: =Details2!C879 -> 0280 | D139: =Details2!D879 -> NHC Hawaii | E139: =Details2!E879 -> C | F139: =Details2!F879 -> NULL | G139: =Details2!G879 -> NULL | H139: =Details2!H879 -> NULL | I139: =Details2!I879 -> NULL | ... K139: =Details2!K879 -> NULL
B140: =Details2!B880 -> Navy | C140: =Details2!C880 -> 0297 | D140: =Details2!D880 -> NACC New Orleans | E140: =Details2!E880 -> C | F140: =Details2!F880 -> NULL | G140: =Details2!G880 -> NULL | H140: =Details2!H880 -> NULL | I140: =Details2!I880 -> NULL | ... K140: =Details2!K880 -> NULL
B141: =Details2!B881 -> Navy | C141: =Details2!C881 -> 0306 | D141: =Details2!D881 -> NHC Annapolis | E141: =Details2!E881 -> C | F141: =Details2!F881 -> NULL | G141: =Details2!G881 -> NULL | H141: =Details2!H881 -> NULL | I141: =Details2!I881 -> NULL | ... K141: =Details2!K881 -> NULL
B142: =Details2!B882 -> Navy | C142: =Details2!C882 -> 0321 | D142: =Details2!D882 -> NBHC Portsmouth (NH) | E142: =Details2!E882 -> C | F142: =Details2!F882 -> NULL | G142: =Details2!G882 -> NULL | H142: =Details2!H882 -> NULL | I142: =Details2!I882 -> NULL | ... K142: =Details2!K882 -> NULL
B143: =Details2!B883 -> Navy | C143: =Details2!C883 -> 0385 | D143: =Details2!D883 -> NHC Quantico | E143: =Details2!E883 -> C | F143: =Details2!F883 -> NULL | G143: =Details2!G883 -> NULL | H143: =Details2!H883 -> NULL | I143: =Details2!I883 -> NULL | ... K143: =Details2!K883 -> NULL
B144: =Details2!B884 -> Navy | C144: =Details2!C884 -> 0616 | D144: =Details2!D884 -> NH Roosevelt Roads | E144: =Details2!E884 -> I | F144: =Details2!F884 -> NULL | G144: =Details2!G884 -> NULL | H144: =Details2!H884 -> NULL | I144: =Details2!I884 -> NULL | ... K144: =Details2!K884 -> NULL | L144: closed
B145: =Details2!B885 -> Navy | C145: =Details2!C885 -> 0620 | D145: =Details2!D885 -> NH Guam | E145: =Details2!E885 -> H | F145: =Details2!F885 -> 0 | G145: =Details2!G885 -> 0 | H145: =Details2!H885 -> 14 | I145: =Details2!I885 -> 20 | ... K145: =Details2!K885 -> 0
B146: =Details2!B886 -> Navy | C146: =Details2!C886 -> 0621 | D146: =Details2!D886 -> NH Okinawa | E146: =Details2!E886 -> I | F146: =Details2!F886 -> NULL | G146: =Details2!G886 -> NULL | H146: =Details2!H886 -> NULL | I146: =Details2!I886 -> NULL | ... K146: =Details2!K886 -> NULL | L146: not reporting TPC
B147: =Details2!B887 -> Navy | C147: =Details2!C887 -> 0622 | D147: =Details2!D887 -> NH Yokosuka | E147: =Details2!E887 -> I | F147: =Details2!F887 -> NULL | G147: =Details2!G887 -> NULL | H147: =Details2!H887 -> NULL | I147: =Details2!I887 -> NULL | ... K147: =Details2!K887 -> NULL | L147: not reporting TPC
B151: Air Force total | F151: =SUM(F5:F69) -> 200 | G151: =SUM(G5:G69) -> 215 | H151: =SUM(H5:H69) -> 102 | I151: =SUM(I5:I69) -> 0 | J151: =SUM(J5:J69) -> 177 | K151: =SUM(K5:K69) -> 164
B152: Army total | F152: =SUM(F71:F118) -> 390 | G152: =SUM(G71:G118) -> 471 | H152: =SUM(H71:H118) -> 429 | I152: =SUM(I71:I118) -> 20 | J152: =SUM(J71:J118) -> 543 | K152: =SUM(K71:K118) -> 364
B153: Navy total - OK and YO | F153: =SUM(F119:F145) -> 206 | G153: =SUM(G119:G145) -> 231 | H153: =SUM(H119:H145) -> 147 | I153: =SUM(I119:I145) -> 128 | J153: =SUM(J119:J145) -> 181 | K153: =SUM(K119:K145) -> 155 | L153: *excludes NH Okinawa and NH Yokosuka data
B154: All Services total | F154: =SUM(F5:F145) -> 796 | G154: =SUM(G5:G145) -> 917 | H154: =SUM(H5:H145) -> 678 | I154: =SUM(I5:I145) -> 148 | J154: =SUM(J5:J145) -> 901 | K154: =SUM(K5:K145) -> 683
B156: Is AF total for a FY equal toClaims per Disp or Visits rpt tab? | F156: =IF(F151='Collected to Claims Ratio'!C14,"yes","no") -> yes | G156: =IF(G151='Collected to Claims Ratio'!D14,"yes","no") -> yes | H156: =IF(H151='Collected to Claims Ratio'!E14,"yes","no") -> yes | I156: =IF(I151='Collected to Claims Ratio'!F14,"yes","no") -> yes | J156: =IF(J151='Collected to Claims Ratio'!G14,"yes","no") -> yes | K156: =IF(K151='Collected to Claims Ratio'!H14,"yes","no") -> yes
B157: Is A total for a FY equal to Claims per Disp or Visits rpt tab? | F157: =IF(F152='Collected to Claims Ratio'!C15,"yes","no") -> yes | G157: =IF(G152='Collected to Claims Ratio'!D15,"yes","no") -> yes | H157: =IF(H152='Collected to Claims Ratio'!E15,"yes","no") -> yes | I157: =IF(I152='Collected to Claims Ratio'!F15,"yes","no") -> yes | J157: =IF(J152='Collected to Claims Ratio'!G15,"yes","no") -> yes | K157: =IF(K152='Collected to Claims Ratio'!H15,"yes","no") -> yes
B158: Is N total for a FY equal to Claims per Disp or Visits rpt tab? | F158: =IF(F153='Collected to Claims Ratio'!C16,"yes","no") -> yes | G158: =IF(G153='Collected to Claims Ratio'!D16,"yes","no") -> yes | H158: =IF(H153='Collected to Claims Ratio'!E16,"yes","no") -> yes | I158: =IF(I153='Collected to Claims Ratio'!F16,"yes","no") -> yes | J158: =IF(J153='Collected to Claims Ratio'!G16,"yes","no") -> yes | K158: =IF(K153='Collected to Claims Ratio'!H16,"yes","no") -> yes | L158: *excludes NH Okinawa and NH Yokosuka data
B159: Is All Services total for a FY equal to Claims per Disp or Visits rpt tab? | F159: =IF(F154='Collected to Claims Ratio'!C17,"yes","no") -> yes | G159: =IF(G154='Collected to Claims Ratio'!D17,"yes","no") -> yes | H159: =IF(H154='Collected to Claims Ratio'!E17,"yes","no") -> yes | I159: =IF(I154='Collected to Claims Ratio'!F17,"yes","no") -> yes | J159: =IF(J154='Collected to Claims Ratio'!G17,"yes","no") -> yes | K159: =IF(K154='Collected to Claims Ratio'!H17,"yes","no") -> yes

Sheet IP Disp by DMISID
A1: Total Collections metric QC by DMIS ID
B3: Service | C3: dmis_id | D3: dmis_name | E3: facility_type | G3: Number of IP Dispositions for CFY
F4: FY2007 | G4: FY2008 | H4: FY2009 | I4: FY2010 | J4: FY2011 | K4: FY2012
B5: =Details2!B893 -> Air Force | C5: =Details2!C893 -> 0004 | D5: =Details2!D893 -> Maxwell AFB (42nd Medical Group) | E5: =Details2!E893 -> C | F5: =Details2!F893 -> NULL | G5: =Details2!G893 -> NULL | H5: =Details2!H893 -> NULL | I5: =Details2!I893 -> NULL | ... K5: =Details2!K893 -> NULL | L5: =IF(AND(E5<>"H",K5="NULL")," ","review")
B6: =Details2!B894 -> Air Force | C6: =Details2!C894 -> 0006 | D6: =Details2!D894 -> Elmendorf AFB (3rd Medical group) | E6: =Details2!E894 -> H | F6: =Details2!F894 -> 553 | G6: =Details2!G894 -> 725 | H6: =Details2!H894 -> 750 | I6: =Details2!I894 -> 723 | ... K6: =Details2!K894 -> 792
B7: =Details2!B895 -> Air Force | C7: =Details2!C895 -> 0009 | D7: =Details2!D895 -> Luke AFB (56th Medical Group) | E7: =Details2!E895 -> C | F7: =Details2!F895 -> NULL | G7: =Details2!G895 -> NULL | H7: =Details2!H895 -> NULL | I7: =Details2!I895 -> NULL | ... K7: =Details2!K895 -> NULL | L7: ='IP $ Collections by DMIS'!L7 -> Inpatient closed down
B8: =Details2!B896 -> Air Force | C8: =Details2!C896 -> 0010 | D8: =Details2!D896 -> Davis Monthan AFB (355th Medical Group) | E8: =Details2!E896 -> C | F8: =Details2!F896 -> NULL | G8: =Details2!G896 -> NULL | H8: =Details2!H896 -> NULL | I8: =Details2!I896 -> NULL | ... K8: =Details2!K896 -> NULL
B9: =Details2!B897 -> Air Force | C9: =Details2!C897 -> 0013 | D9: =Details2!D897 -> Little Rock AFB (314th Medical Group) | E9: =Details2!E897 -> C | F9: =Details2!F897 -> NULL | G9: =Details2!G897 -> NULL | H9: =Details2!H897 -> NULL | I9: =Details2!I897 -> NULL | ... K9: =Details2!K897 -> NULL
B10: =Details2!B898 -> Air Force | C10: =Details2!C898 -> 0014 | D10: =Details2!D898 -> Travis AFB (60th Medical Group) | E10: =Details2!E898 -> H | F10: =Details2!F898 -> 978 | G10: =Details2!G898 -> 771 | H10: =Details2!H898 -> 718 | I10: =Details2!I898 -> 1065 | ... K10: =Details2!K898 -> 1311
B11: =Details2!B899 -> Air Force | C11: =Details2!C899 -> 0015 | D11: =Details2!D899 -> Beale AFB (9th Medical Group) | E11: =Details2!E899 -> C | F11: =Details2!F899 -> NULL | G11: =Details2!G899 -> NULL | H11: =Details2!H899 -> NULL | I11: =Details2!I899 -> NULL | ... K11: =Details2!K899 -> NULL
B12: =Details2!B900 -> Air Force | C12: =Details2!C900 -> 0018 | D12: =Details2!D900 -> Vandenberg AFB (30th Medical Group) | E12: =Details2!E900 -> C | F12: =Details2!F900 -> NULL | G12: =Details2!G900 -> NULL | H12: =Details2!H900 -> NULL | I12: =Details2!I900 -> NULL | ... K12: =Details2!K900 -> NULL
B13: =Details2!B901 -> Air Force | C13: =Details2!C901 -> 0019 | D13: =Details2!D901 -> Edwards AFB (95th Medical Group) | E13: =Details2!E901 -> C | F13: =Details2!F901 -> NULL | G13: =Details2!G901 -> NULL | H13: =Details2!H901 -> NULL | I13: =Details2!I901 -> NULL | ... K13: =Details2!K901 -> NULL
B14: =Details2!B902 -> Air Force | C14: =Details2!C902 -> 0033 | D14: =Details2!D902 -> USAF Academy (10th Medical Group) | E14: =Details2!E902 -> H | F14: =Details2!F902 -> 210 | G14: =Details2!G902 -> 86 | H14: =Details2!H902 -> 0 | I14: =Details2!I902 -> 0 | ... K14: =Details2!K902 -> NULL
B15: =Details2!B903 -> Air Force | C15: =Details2!C903 -> 0036 | D15: =Details2!D903 -> Dover AFB (436th Medical Group) | E15: =Details2!E903 -> C | F15: =Details2!F903 -> NULL | G15: =Details2!G903 -> NULL | H15: =Details2!H903 -> NULL | I15: =Details2!I903 -> NULL | ... K15: =Details2!K903 -> NULL
B16: =Details2!B904 -> Air Force | C16: =Details2!C904 -> 0042 | D16: =Details2!D904 -> Eglin AFB (96th Medical Group) | E16: =Details2!E904 -> H | F16: =Details2!F904 -> 788 | G16: =Details2!G904 -> 836 | H16: =Details2!H904 -> 752 | I16: =Details2!I904 -> 738 | ... K16: =Details2!K904 -> 860
B17: =Details2!B905 -> Air Force | C17: =Details2!C905 -> 0043 | D17: =Details2!D905 -> Tyndall AFB (325th Medical Group) | E17: =Details2!E905 -> C | F17: =Details2!F905 -> NULL | G17: =Details2!G905 -> NULL | H17: =Details2!H905 -> NULL | I17: =Details2!I905 -> NULL | ... K17: =Details2!K905 -> NULL
B18: =Details2!B906 -> Air Force | C18: =Details2!C906 -> 0045 | D18: =Details2!D906 -> MacDill AFB (6th Medical Group) | E18: =Details2!E906 -> C | F18: =Details2!F906 -> NULL | G18: =Details2!G906 -> 0 | H18: =Details2!H906 -> NULL | I18: =Details2!I906 -> NULL | ... K18: =Details2!K906 -> NULL | L18: ='IP $ Collections by DMIS'!L18 -> Inpatient closed down
B19: =Details2!B907 -> Air Force | C19: =Details2!C907 -> 0046 | D19: =Details2!D907 -> Patrick AFB (45th Medical Group) | E19: =Details2!E907 -> C | F19: =Details2!F907 -> NULL | G19: =Details2!G907 -> NULL | H19: =Details2!H907 -> NULL | I19: =Details2!I907 -> NULL | ... K19: =Details2!K907 -> NULL
B20: =Details2!B908 -> Air Force | C20: =Details2!C908 -> 0050 | D20: =Details2!D908 -> Moody AFB (347th Medical Group) | E20: =Details2!E908 -> C | F20: =Details2!F908 -> NULL | G20: =Details2!G908 -> NULL | H20: =Details2!H908 -> NULL | I20: =Details2!I908 -> NULL | ... K20: =Details2!K908 -> NULL
B21: =Details2!B909 -> Air Force | C21: =Details2!C909 -> 0051 | D21: =Details2!D909 -> Robins AFB (78th Medical Group) | E21: =Details2!E909 -> C | F21: =Details2!F909 -> NULL | G21: =Details2!G909 -> NULL | H21: =Details2!H909 -> NULL | I21: =Details2!I909 -> NULL | ... K21: =Details2!K909 -> NULL
B22: =Details2!B910 -> Air Force | C22: =Details2!C910 -> 0053 | D22: =Details2!D910 -> Mountain Home AFB (366th Medical Group) | E22: =Details2!E910 -> H | F22: =Details2!F910 -> 145 | G22: =Details2!G910 -> 111 | H22: =Details2!H910 -> 100 | I22: =Details2!I910 -> 126 | ... K22: =Details2!K910 -> 119
B23: =Details2!B911 -> Air Force | C23: =Details2!C911 -> 0055 | D23: =Details2!D911 -> Scott AFB (375th Medical Group) | E23: =Details2!E911 -> C | F23: =Details2!F911 -> 0 | G23: =Details2!G911 -> NULL | H23: =Details2!H911 -> NULL | I23: =Details2!I911 -> NULL | ... K23: =Details2!K911 -> NULL
B24: =Details2!B912 -> Air Force | C24: =Details2!C912 -> 0059 | D24: =Details2!D912 -> McConnell AFB (22nd Medical Group) | E24: =Details2!E912 -> C | F24: =Details2!F912 -> NULL | G24: =Details2!G912 -> NULL | H24: =Details2!H912 -> NULL | I24: =Details2!I912 -> NULL | ... K24: =Details2!K912 -> NULL
B25: =Details2!B913 -> Air Force | C25: =Details2!C913 -> 0062 | D25: =Details2!D913 -> Barksdale AFB (2nd Medical Group) | E25: =Details2!E913 -> C | F25: =Details2!F913 -> NULL | G25: =Details2!G913 -> NULL | H25: =Details2!H913 -> NULL | I25: =Details2!I913 -> NULL | ... K25: =Details2!K913 -> NULL
B26: =Details2!B914 -> Air Force | C26: =Details2!C914 -> 0066 | D26: =Details2!D914 -> Andrews AFB (79th Medical Group) | E26: =Details2!E914 -> H | F26: =Details2!F914 -> 419 | G26: =Details2!G914 -> 239 | H26: =Details2!H914 -> 278 | I26: =Details2!I914 -> 323 | ... K26: =Details2!K914 -> 2
B27: =Details2!B915 -> Air Force | C27: =Details2!C915 -> 0073 | D27: =Details2!D915 -> Keesler AFB (81st Medical Group) | E27: =Details2!E915 -> H | F27: =Details2!F915 -> 201 | G27: =Details2!G915 -> 607 | H27: =Details2!H915 -> 655 | I27: =Details2!I915 -> 693 | ... K27: =Details2!K915 -> 896 | L27: ='IP $ Collections by DMIS'!L27 -> Inpatient closed down
B28: =Details2!B916 -> Air Force | C28: =Details2!C916 -> 0074 | D28: =Details2!D916 -> Columbus AFB (14th Medical Group) | E28: =Details2!E916 -> C | F28: =Details2!F916 -> NULL | G28: =Details2!G916 -> NULL | H28: =Details2!H916 -> NULL | I28: =Details2!I916 -> NULL | ... K28: =Details2!K916 -> NULL
B29: =Details2!B917 -> Air Force | C29: =Details2!C917 -> 0076 | D29: =Details2!D917 -> Whiteman AFB (509th Medical Group) | E29: =Details2!E917 -> C | F29: =Details2!F917 -> NULL | G29: =Details2!G917 -> NULL | H29: =Details2!H917 -> NULL | I29: =Details2!I917 -> NULL | ... K29: =Details2!K917 -> NULL
B30: =Details2!B918 -> Air Force | C30: =Details2!C918 -> 0077 | D30: =Details2!D918 -> Malmstrom AFB (341st Medical Group) | E30: =Details2!E918 -> C | F30: =Details2!F918 -> NULL | G30: =Details2!G918 -> NULL | H30: =Details2!H918 -> NULL | I30: =Details2!I918 -> NULL | ... K30: =Details2!K918 -> NULL
B31: =Details2!B919 -> Air Force | C31: =Details2!C919 -> 0078 | D31: =Details2!D919 -> Offutt AFB (55th Medical Group) | E31: =Details2!E919 -> C | F31: =Details2!F919 -> 0 | G31: =Details2!G919 -> NULL | H31: =Details2!H919 -> NULL | I31: =Details2!I919 -> NULL | ... K31: =Details2!K919 -> NULL | L31: ='IP $ Collections by DMIS'!L31 -> Inpatient closed down
B32: =Details2!B920 -> Air Force | C32: =Details2!C920 -> 0079 | D32: =Details2!D920 -> Nellis AFB (99th Medical Group) | E32: =Details2!E920 -> H | F32: =Details2!F920 -> 675 | G32: =Details2!G920 -> 608 | H32: =Details2!H920 -> 616 | I32: =Details2!I920 -> 696 | ... K32: =Details2!K920 -> 771
B33: =Details2!B921 -> Air Force | C33: =Details2!C921 -> 0083 | D33: =Details2!D921 -> Kirtland AFB (377th Medical Group) | E33: =Details2!E921 -> C | F33: =Details2!F921 -> NULL | G33: =Details2!G921 -> NULL | H33: =Details2!H921 -> NULL | I33: =Details2!I921 -> NULL | ... K33: =Details2!K921 -> NULL
B34: =Details2!B922 -> Air Force | C34: =Details2!C922 -> 0084 | D34: =Details2!D922 -> Holloman AFB (49th Medical Group) | E34: =Details2!E922 -> C | F34: =Details2!F922 -> NULL | G34: =Details2!G922 -> NULL | H34: =Details2!H922 -> NULL | I34: =Details2!I922 -> NULL | ... K34: =Details2!K922 -> NULL
B35: =Details2!B923 -> Air Force | C35: =Details2!C923 -> 0085 | D35: =Details2!D923 -> Cannon AFB (27th Medical Group) | E35: =Details2!E923 -> C | F35: =Details2!F923 -> NULL | G35: =Details2!G923 -> NULL | H35: =Details2!H923 -> NULL | I35: =Details2!I923 -> NULL | ... K35: =Details2!K923 -> NULL
B36: =Details2!B924 -> Air Force | C36: =Details2!C924 -> 0090 | D36: =Details2!D924 -> Seymour Johnson AFB (4th Medical Group) | E36: =Details2!E924 -> C | F36: =Details2!F924 -> NULL | G36: =Details2!G924 -> NULL | H36: =Details2!H924 -> NULL | I36: =Details2!I924 -> NULL | ... K36: =Details2!K924 -> NULL
B37: =Details2!B925 -> Air Force | C37: =Details2!C925 -> 0093 | D37: =Details2!D925 -> Grand Forks AFB (319th Medical Group) | E37: =Details2!E925 -> C | F37: =Details2!F925 -> NULL | G37: =Details2!G925 -> NULL | H37: =Details2!H925 -> NULL | I37: =Details2!I925 -> NULL | ... K37: =Details2!K925 -> NULL
B38: =Details2!B926 -> Air Force | C38: =Details2!C926 -> 0094 | D38: =Details2!D926 -> Minot AFB (5th Medical Group) | E38: =Details2!E926 -> C | F38: =Details2!F926 -> NULL | G38: =Details2!G926 -> NULL | H38: =Details2!H926 -> NULL | I38: =Details2!I926 -> NULL | ... K38: =Details2!K926 -> NULL
B39: =Details2!B927 -> Air Force | C39: =Details2!C927 -> 0095 | D39: =Details2!D927 -> Wright Patterson AFB (88th Medical Group) | E39: =Details2!E927 -> H | F39: =Details2!F927 -> 862 | G39: =Details2!G927 -> 885 | H39: =Details2!H927 -> 907 | I39: =Details2!I927 -> 946 | ... K39: =Details2!K927 -> 871
B40: =Details2!B928 -> Air Force | C40: =Details2!C928 -> 0096 | D40: =Details2!D928 -> Tinker AFB (72th Medical Group) | E40: =Details2!E928 -> C | F40: =Details2!F928 -> NULL | G40: =Details2!G928 -> NULL | H40: =Details2!H928 -> NULL | I40: =Details2!I928 -> NULL | ... K40: =Details2!K928 -> NULL
B41: =Details2!B929 -> Air Force | C41: =Details2!C929 -> 0097 | D41: =Details2!D929 -> Altus AFB (97th Medical Group) | E41: =Details2!E929 -> C | F41: =Details2!F929 -> NULL | G41: =Details2!G929 -> NULL | H41: =Details2!H929 -> NULL | I41: =Details2!I929 -> NULL | ... K41: =Details2!K929 -> NULL
B42: =Details2!B930 -> Air Force | C42: =Details2!C930 -> 0101 | D42: =Details2!D930 -> Shaw AFB (20th Medical Group) | E42: =Details2!E930 -> C | F42: =Details2!F930 -> NULL | G42: =Details2!G930 -> NULL | H42: =Details2!H930 -> NULL | I42: =Details2!I930 -> NULL | ... K42: =Details2!K930 -> NULL
B43: =Details2!B931 -> Air Force | C43: =Details2!C931 -> 0106 | D43: =Details2!D931 -> Ellsworth AFB (28th Medical Group) | E43: =Details2!E931 -> C | F43: =Details2!F931 -> NULL | G43: =Details2!G931 -> NULL | H43: =Details2!H931 -> NULL | I43: =Details2!I931 -> NULL | ... K43: =Details2!K931 -> NULL
... B72: =Details2!B960 -> Army | C72: =Details2!C960 -> 0002 | D72: =Details2!D960 -> Ft. McClellan (Patterson ACH) | E72: =Details2!E960 -> I | F72: =Details2!F960 -> NULL | G72: =Details2!G960 -> NULL | H72: =Details2!H960 -> NULL | I72: =Details2!I960 -> NULL | ... K72: =Details2!K960 -> NULL
B73: =Details2!B961 -> Army | C73: =Details2!C961 -> 0003 | D73: =Details2!D961 -> Ft. Rucker (Lyster Army Health Clinic) | E73: =Details2!E961 -> C | F73: =Details2!F961 -> NULL | G73: =Details2!G961 -> NULL | H73: =Details2!H961 -> NULL | I73: =Details2!I961 -> NULL | ... K73: =Details2!K961 -> NULL | L73: ='IP $ Collections by DMIS'!L73 -> Inpatient closed down
B74: =Details2!B962 -> Army | C74: =Details2!C962 -> 0005 | D74: =Details2!D962 -> Ft. Wainwright (Bassett Army Community Hospital) | E74: =Details2!E962 -> H | F74: =Details2!F962 -> 341 | G74: =Details2!G962 -> 475 | H74: =Details2!H962 -> 398 | I74: =Details2!I962 -> 363 | ... K74: =Details2!K962 -> 387
B75: =Details2!B963 -> Army | C75: =Details2!C963 -> 0008 | D75: =Details2!D963 -> Ft. Huachuca (Bliss Army Health Clinic) | E75: =Details2!E963 -> C | F75: =Details2!F963 -> NULL | G75: =Details2!G963 -> NULL | H75: =Details2!H963 -> NULL | I75: =Details2!I963 -> NULL | ... K75: =Details2!K963 -> NULL
B76: =Details2!B964 -> Army | C76: =Details2!C964 -> 0032 | D76: =Details2!D964 -> Ft. Carson (Evans Army Community Hospital) | E76: =Details2!E964 -> H | F76: =Details2!F964 -> 1035 | G76: =Details2!G964 -> 1177 | H76: =Details2!H964 -> 1080 | I76: =Details2!I964 -> 1370 | ... K76: =Details2!K964 -> 1467
B77: =Details2!B965 -> Army | C77: =Details2!C965 -> 0037 | D77: =Details2!D965 -> Washington D.C. (Walter Reed Army Medical Center) | E77: =Details2!E965 -> H | F77: =Details2!F965 -> 1790 | G77: =Details2!G965 -> 1769 | H77: =Details2!H965 -> 1850 | I77: =Details2!I965 -> 1693 | ... K77: =Details2!K965 -> 0
B78: =Details2!B966 -> Army | C78: =Details2!C966 -> 0047 | D78: =Details2!D966 -> Ft. Gordon (Eisenhower Army Medical Center) | E78: =Details2!E966 -> H | F78: =Details2!F966 -> 724 | G78: =Details2!G966 -> 771 | H78: =Details2!H966 -> 799 | I78: =Details2!I966 -> 788 | ... K78: =Details2!K966 -> 738
B79: =Details2!B967 -> Army | C79: =Details2!C967 -> 0048 | D79: =Details2!D967 -> Ft. Benning (Martin Army Community Hospital) | E79: =Details2!E967 -> H | F79: =Details2!F967 -> 862 | G79: =Details2!G967 -> 716 | H79: =Details2!H967 -> 714 | I79: =Details2!I967 -> 740 | ... K79: =Details2!K967 -> 806
B80: =Details2!B968 -> Army | C80: =Details2!C968 -> 0049 | D80: =Details2!D968 -> Ft. Stewart (Winn Army Community Hospital) | E80: =Details2!E968 -> H | F80: =Details2!F968 -> 889 | G80: =Details2!G968 -> 788 | H80: =Details2!H968 -> 537 | I80: =Details2!I968 -> 731 | ... K80: =Details2!K968 -> 907
B81: =Details2!B969 -> Army | C81: =Details2!C969 -> 0052 | D81: =Details2!D969 -> Ft. Shafter (Tripler Army Medical Center) | E81: =Details2!E969 -> H | F81: =Details2!F969 -> 2110 | G81: =Details2!G969 -> 2709 | H81: =Details2!H969 -> 2960 | I81: =Details2!I969 -> 2997 | ... K81: =Details2!K969 -> 3282
B82: =Details2!B970 -> Army | C82: =Details2!C970 -> 0057 | D82: =Details2!D970 -> Ft. Riley (Irwin Army Community Hospital) | E82: =Details2!E970 -> H | F82: =Details2!F970 -> 507 | G82: =Details2!G970 -> 507 | H82: =Details2!H970 -> 478 | I82: =Details2!I970 -> 587 | ... K82: =Details2!K970 -> 668
B83: =Details2!B971 -> Army | C83: =Details2!C971 -> 0058 | D83: =Details2!D971 -> Ft. Leavenworth (Munson Army Health Clinic) | E83: =Details2!E971 -> C | F83: =Details2!F971 -> NULL | G83: =Details2!G971 -> NULL | H83: =Details2!H971 -> NULL | I83: =Details2!I971 -> NULL | ... K83: =Details2!K971 -> NULL
B84: =Details2!B972 -> Army | C84: =Details2!C972 -> 0060 | D84: =Details2!D972 -> Ft. Campbell (Blanchfield Army Comm Hospital) | E84: =Details2!E972 -> H | F84: =Details2!F972 -> 1077 | G84: =Details2!G972 -> 1450 | H84: =Details2!H972 -> 1024 | I84: =Details2!I972 -> 1157 | ... K84: =Details2!K972 -> 1159
B85: =Details2!B973 -> Army | C85: =Details2!C973 -> 0061 | D85: =Details2!D973 -> Ft. Knox (Ireland Army Community Hospital) | E85: =Details2!E973 -> H | F85: =Details2!F973 -> 389 | G85: =Details2!G973 -> 335 | H85: =Details2!H973 -> 321 | I85: =Details2!I973 -> 398 | ... K85: =Details2!K973 -> 255
... B130: =Details2!B1018 -> Navy | C130: =Details2!C1018 -> 0092 | D130: =Details2!D1018 -> NHC Cherry Point | E130: =Details2!E1018 -> H | F130: =Details2!F1018 -> 186 | G130: =Details2!G1018 -> 0 | H130: =Details2!H1018 -> 0 | I130: =Details2!I1018 -> 0 | ... K130: =Details2!K1018 -> NULL
B131: =Details2!B1019 -> Navy | C131: =Details2!C1019 -> 0100 | D131: =Details2!D1019 -> NBHC Newport | E131: =Details2!E1019 -> C | F131: =Details2!F1019 -> 79 | G131: =Details2!G1019 -> 0 | H131: =Details2!H1019 -> NULL | I131: =Details2!I1019 -> NULL | ... K131: =Details2!K1019 -> NULL | L131: ok
B132: =Details2!B1020 -> Navy | C132: =Details2!C1020 -> 0103 | D132: =Details2!D1020 -> NHC Charleston | E132: =Details2!E1020 -> H | F132: =Details2!F1020 -> NULL | G132: =Details2!G1020 -> NULL | H132: =Details2!H1020 -> NULL | I132: =Details2!I1020 -> NULL | ... K132: =Details2!K1020 -> NULL | L132: does not report IP
B133: =Details2!B1021 -> Navy | C133: =Details2!C1021 -> 0104 | D133: =Details2!D1021 -> NH Beaufort | E133: =Details2!E1021 -> H | F133: =Details2!F1021 -> 66 | G133: =Details2!G1021 -> 92 | H133: =Details2!H1021 -> 47 | I133: =Details2!I1021 -> 43 | ... K133: =Details2!K1021 -> 13
B134: =Details2!B1022 -> Navy | C134: =Details2!C1022 -> 0107 | D134: =Details2!D1022 -> NBHC NSA Mid-South | E134: =Details2!E1022 -> C | F134: =Details2!F1022 -> NULL | G134: =Details2!G1022 -> NULL | H134: =Details2!H1022 -> NULL | I134: =Details2!I1022 -> NULL | ... K134: =Details2!K1022 -> NULL
B135: =Details2!B1023 -> Navy | C135: =Details2!C1023 -> 0118 | D135: =Details2!D1023 -> NHC Corpus Christi | E135: =Details2!E1023 -> C | F135: =Details2!F1023 -> NULL | G135: =Details2!G1023 -> NULL | H135: =Details2!H1023 -> NULL | I135: =Details2!I1023 -> NULL | ... K135: =Details2!K1023 -> NULL
B136: =Details2!B1024 -> Navy | C136: =Details2!C1024 -> 0124 | D136: =Details2!D1024 -> NMC Portsmouth (VA) | E136: =Details2!E1024 -> H | F136: =Details2!F1024 -> 3308 | G136: =Details2!G1024 -> 3306 | H136: =Details2!H1024 -> 3218 | I136: =Details2!I1024 -> 3155 | ... K136: =Details2!K1024 -> 3164
B137: =Details2!B1025 -> Navy | C137: =Details2!C1025 -> 0126 | D137: =Details2!D1025 -> NH Bremerton | E137: =Details2!E1025 -> H | F137: =Details2!F1025 -> 577 | G137: =Details2!G1025 -> 560 | H137: =Details2!H1025 -> 583 | I137: =Details2!I1025 -> 493 | ... K137: =Details2!K1025 -> 620
B138: =Details2!B1026 -> Navy | C138: =Details2!C1026 -> 0127 | D138: =Details2!D1026 -> NH Oak Harbor | E138: =Details2!E1026 -> H | F138: =Details2!F1026 -> 227 | G138: =Details2!G1026 -> 189 | H138: =Details2!H1026 -> 173 | I138: =Details2!I1026 -> 210 | ... K138: =Details2!K1026 -> 199
B139: =Details2!B1027 -> Navy | C139: =Details2!C1027 -> 0280 | D139: =Details2!D1027 -> NHC Hawaii | E139: =Details2!E1027 -> C | F139: =Details2!F1027 -> NULL | G139: =Details2!G1027 -> NULL | H139: =Details2!H1027 -> NULL | I139: =Details2!I1027 -> NULL | ... K139: =Details2!K1027 -> NULL
B140: =Details2!B1028 -> Navy | C140: =Details2!C1028 -> 0297 | D140: =Details2!D1028 -> NACC New Orleans | E140: =Details2!E1028 -> C | F140: =Details2!F1028 -> NULL | G140: =Details2!G1028 -> NULL | H140: =Details2!H1028 -> NULL | I140: =Details2!I1028 -> NULL | ... K140: =Details2!K1028 -> NULL
B141: =Details2!B1029 -> Navy | C141: =Details2!C1029 -> 0306 | D141: =Details2!D1029 -> NHC Annapolis | E141: =Details2!E1029 -> C | F141: =Details2!F1029 -> NULL | G141: =Details2!G1029 -> NULL | H141: =Details2!H1029 -> NULL | I141: =Details2!I1029 -> NULL | ... K141: =Details2!K1029 -> NULL
B142: =Details2!B1030 -> Navy | C142: =Details2!C1030 -> 0321 | D142: =Details2!D1030 -> NBHC Portsmouth (NH) | E142: =Details2!E1030 -> C | F142: =Details2!F1030 -> NULL | G142: =Details2!G1030 -> NULL | H142: =Details2!H1030 -> NULL | I142: =Details2!I1030 -> NULL | ... K142: =Details2!K1030 -> NULL
B143: =Details2!B1031 -> Navy | C143: =Details2!C1031 -> 0385 | D143: =Details2!D1031 -> NHC Quantico | E143: =Details2!E1031 -> C | F143: =Details2!F1031 -> NULL | G143: =Details2!G1031 -> NULL | H143: =Details2!H1031 -> NULL | I143: =Details2!I1031 -> NULL | ... K143: =Details2!K1031 -> NULL
B144: =Details2!B1032 -> Navy | C144: =Details2!C1032 -> 0616 | D144: =Details2!D1032 -> NH Roosevelt Roads | E144: =Details2!E1032 -> I | F144: =Details2!F1032 -> NULL | G144: =Details2!G1032 -> NULL | H144: =Details2!H1032 -> NULL | I144: =Details2!I1032 -> NULL | ... K144: =Details2!K1032 -> NULL | L144: closed
B145: =Details2!B1033 -> Navy | C145: =Details2!C1033 -> 0620 | D145: =Details2!D1033 -> NH Guam | E145: =Details2!E1033 -> H | F145: =Details2!F1033 -> 519 | G145: =Details2!G1033 -> 498 | H145: =Details2!H1033 -> 463 | I145: =Details2!I1033 -> 531 | ... K145: =Details2!K1033 -> 481
B146: =Details2!B1034 -> Navy | C146: =Details2!C1034 -> 0621 | D146: =Details2!D1034 -> NH Okinawa | E146: =Details2!E1034 -> I | F146: =Details2!F1034 -> NULL | G146: =Details2!G1034 -> NULL | H146: =Details2!H1034 -> NULL | I146: =Details2!I1034 -> NULL | ... K146: =Details2!K1034 -> NULL | L146: not reporting TPC
B147: =Details2!B1035 -> Navy | C147: =Details2!C1035 -> 0622 | D147: =Details2!D1035 -> NH Yokosuka | E147: =Details2!E1035 -> I | F147: =Details2!F1035 -> NULL | G147: =Details2!G1035 -> NULL | H147: =Details2!H1035 -> NULL | I147: =Details2!I1035 -> NULL | ... K147: =Details2!K1035 -> NULL | L147: not reporting TPC
B151: Air Force total | F151: =SUM(F5:F69) -> 8518 | G151: =SUM(G5:G69) -> 8689 | H151: =SUM(H5:H69) -> 8827 | I151: =SUM(I5:I69) -> 9064 | J151: =SUM(J5:J69) -> 7955 | K151: =SUM(K5:K69) -> 6290
B152: Army total | F152: =SUM(F71:F118) -> 24059 | G152: =SUM(G71:G118) -> 24711 | H152: =SUM(H71:H118) -> 24998 | I152: =SUM(I71:I118) -> 25654 | J152: =SUM(J71:J118) -> 26843 | K152: =SUM(K71:K118) -> 27509
B153: Navy total - OK and YO | F153: =SUM(F119:F145) -> 14636 | G153: =SUM(G119:G145) -> 14213 | H153: =SUM(H119:H145) -> 13241 | I153: =SUM(I119:I145) -> 13884 | J153: =SUM(J119:J145) -> 13580 | K153: =SUM(K119:K145) -> 14359 | L153: *excludes NH Okinawa and NH Yokosuka data
B154: All Services total | F154: =SUM(F5:F145) -> 47213 | G154: =SUM(G5:G145) -> 47613 | H154: =SUM(H5:H145) -> 47066 | I154: =SUM(I5:I145) -> 48602 | J154: =SUM(J5:J145) -> 48378 | K154: =SUM(K5:K145) -> 48158
B156: Is AF total for a FY equal to Claims per Disp or Visits rpt tab? | F156: =IF(F151='Claims per Disp or Visits'!C13,"yes","no") -> yes | G156: =IF(G151='Claims per Disp or Visits'!D13,"yes","no") -> yes | H156: =IF(H151='Claims per Disp or Visits'!E13,"yes","no") -> yes | I156: =IF(I151='Claims per Disp or Visits'!F13,"yes","no") -> yes | J156: =IF(J151='Claims per Disp or Visits'!G13,"yes","no") -> yes | K156: =IF(K151='Claims per Disp or Visits'!H13,"yes","no") -> yes
B157: Is A total for a FY equal to Claims per Disp or Visits rpt tab? | F157: =IF(F152='Claims per Disp or Visits'!C14,"yes","no") -> yes | G157: =IF(G152='Claims per Disp or Visits'!D14,"yes","no") -> yes | H157: =IF(H152='Claims per Disp or Visits'!E14,"yes","no") -> yes | I157: =IF(I152='Claims per Disp or Visits'!F14,"yes","no") -> yes | J157: =IF(J152='Claims per Disp or Visits'!G14,"yes","no") -> yes | K157: =IF(K152='Claims per Disp or Visits'!H14,"yes","no") -> yes
B158: Is N total for a FY equal to Claims per Disp or Visits rpt tab? | F158: =IF(F153='Claims per Disp or Visits'!C15,"yes","no") -> yes | G158: =IF(G153='Claims per Disp or Visits'!D15,"yes","no") -> yes | H158: =IF(H153='Claims per Disp or Visits'!E15,"yes","no") -> yes | I158: =IF(I153='Claims per Disp or Visits'!F15,"yes","no") -> yes | J158: =IF(J153='Claims per Disp or Visits'!G15,"yes","no") -> yes | K158: =IF(K153='Claims per Disp or Visits'!H15,"yes","no") -> yes | L158: *excludes NH Okinawa and NH Yokosuka data
B159: Is All Services total for a FY equal to Claims per Disp or Visits rpt tab? | F159: =IF(F154='Claims per Disp or Visits'!C16,"yes","no") -> yes | G159: =IF(G154='Claims per Disp or Visits'!D16,"yes","no") -> yes | H159: =IF(H154='Claims per Disp or Visits'!E16,"yes","no") -> yes | I159: =IF(I154='Claims per Disp or Visits'!F16,"yes","no") -> yes | J159: =IF(J154='Claims per Disp or Visits'!G16,"yes","no") -> yes | K159: =IF(K154='Claims per Disp or Visits'!H16,"yes","no") -> yes

Sheet IP Claims per Disp by DMISID
A1: Total Collections metric QC by DMIS ID
B3: Service | C3: dmis_id | D3: dmis_name | E3: facility_type | G3: Number of IP Dispositions for CFY
F4: FY2007 | G4: FY2008 | H4: FY2009 | I4: FY2010 | J4: FY2011 | K4: FY2012
B5: =Details2!B893 -> Air Force | C5: =Details2!C893 -> 0004 | D5: =Details2!D893 -> Maxwell AFB (42nd Medical Group) | E5: =Details2!E893 -> C | J5: =IF(E5="h",'IP Claims by DMIS ID'!J5/'IP Disp by DMISID'!J5," ") | K5: =IF(E5="h",'IP Claims by DMIS ID'!K5/'IP Disp by DMISID'!K5," ")
B6: =Details2!B894 -> Air Force | C6: =Details2!C894 -> 0006 | D6: =Details2!D894 -> Elmendorf AFB (3rd Medical group) | E6: =Details2!E894 -> H | F6: =IF($E6="h",'IP Claims by DMIS ID'!F6/'IP Disp by DMISID'!F6," ") -> 0.034358047 | G6: =IF($E6="h",'IP Claims by DMIS ID'!G6/'IP Disp by DMISID'!G6," ") -> 0.011034483 | H6: =IF($E6="h",'IP Claims by DMIS ID'!H6/'IP Disp by DMISID'!H6," ") -> 0 | I6: =IF($E6="h",'IP Claims by DMIS ID'!I6/'IP Disp by DMISID'!I6," ") -> 0 | J6: =IF($E6="h",'IP Claims by DMIS ID'!J6/'IP Disp by DMISID'!J6," ") -> 0.043333333 | K6: =IF($E6="h",'IP Claims by DMIS ID'!K6/'IP Disp by DMISID'!K6," ") -> 0.0025252525
B7: =Details2!B895 -> Air Force | C7: =Details2!C895 -> 0009 | D7: =Details2!D895 -> Luke AFB (56th Medical Group) | E7: =Details2!E895 -> C | F7: =IF($E7="h",'IP Claims by DMIS ID'!F7/'IP Disp by DMISID'!F7," ") | G7: =IF($E7="h",'IP Claims by DMIS ID'!G7/'IP Disp by DMISID'!G7," ") | H7: =IF($E7="h",'IP Claims by DMIS ID'!H7/'IP Disp by DMISID'!H7," ") | I7: =IF($E7="h",'IP Claims by DMIS ID'!I7/'IP Disp by DMISID'!I7," ") | J7: =IF($E7="h",'IP Claims by DMIS ID'!J7/'IP Disp by DMISID'!J7," ") | K7: =IF(E7="h",'IP Claims by DMIS ID'!K7/'IP Disp by DMISID'!K7," ") | L7: ='IP $ Collections by DMIS'!L7 -> Inpatient closed down
B8: =Details2!B896 -> Air Force | C8: =Details2!C896 -> 0010 | D8: =Details2!D896 -> Davis Monthan AFB (355th Medical Group) | E8: =Details2!E896 -> C | F8: =IF($E8="h",'IP Claims by DMIS ID'!F8/'IP Disp by DMISID'!F8," ") | G8: =IF($E8="h",'IP Claims by DMIS ID'!G8/'IP Disp by DMISID'!G8," ") | H8: =IF($E8="h",'IP Claims by DMIS ID'!H8/'IP Disp by DMISID'!H8," ") | I8: =IF($E8="h",'IP Claims by DMIS ID'!I8/'IP Disp by DMISID'!I8," ") | J8: =IF($E8="h",'IP Claims by DMIS ID'!J8/'IP Disp by DMISID'!J8," ") | K8: =IF(E8="h",'IP Claims by DMIS ID'!K8/'IP Disp by DMISID'!K8," ")
B9: =Details2!B897 -> Air Force | C9: =Details2!C897 -> 0013 | D9: =Details2!D897 -> Little Rock AFB (314th Medical Group) | E9: =Details2!E897 -> C | F9: =IF($E9="h",'IP Claims by DMIS ID'!F9/'IP Disp by DMISID'!F9," ") | G9: =IF($E9="h",'IP Claims by DMIS ID'!G9/'IP Disp by DMISID'!G9," ") | H9: =IF($E9="h",'IP Claims by DMIS ID'!H9/'IP Disp by DMISID'!H9," ") | I9: =IF($E9="h",'IP Claims by DMIS ID'!I9/'IP Disp by DMISID'!I9," ") | J9: =IF($E9="h",'IP Claims by DMIS ID'!J9/'IP Disp by DMISID'!J9," ") | K9: =IF(E9="h",'IP Claims by DMIS ID'!K9/'IP Disp by DMISID'!K9," ")
B10: =Details2!B898 -> Air Force | C10: =Details2!C898 -> 0014 | D10: =Details2!D898 -> Travis AFB (60th Medical Group) | E10: =Details2!E898 -> H | F10: =IF($E10="h",'IP Claims by DMIS ID'!F10/'IP Disp by DMISID'!F10," ") -> 0.016359918 | G10: =IF($E10="h",'IP Claims by DMIS ID'!G10/'IP Disp by DMISID'!G10," ") -> 0.009079118 | H10: =IF($E10="h",'IP Claims by DMIS ID'!H10/'IP Disp by DMISID'!H10," ") -> 0.004178273 | I10: =IF($E10="h",'IP Claims by DMIS ID'!I10/'IP Disp by DMISID'!I10," ") -> 0 | J10: =IF($E10="h",'IP Claims by DMIS ID'!J10/'IP Disp by DMISID'!J10," ") -> 0.007646559 | K10: =IF(E10="h",'IP Claims by DMIS ID'!K10/'IP Disp by DMISID'!K10," ") -> 0.012204424
B11: =Details2!B899 -> Air Force | C11: =Details2!C899 -> 0015 | D11: =Details2!D899 -> Beale AFB (9th Medical Group) | E11: =Details2!E899 -> C | F11: =IF($E11="h",'IP Claims by DMIS ID'!F11/'IP Disp by DMISID'!F11," ") | G11: =IF($E11="h",'IP Claims by DMIS ID'!G11/'IP Disp by DMISID'!G11," ") | H11: =IF($E11="h",'IP Claims by DMIS ID'!H11/'IP Disp by DMISID'!H11," ") | I11: =IF($E11="h",'IP Claims by DMIS ID'!I11/'IP Disp by DMISID'!I11," ") | J11: =IF($E11="h",'IP Claims by DMIS ID'!J11/'IP Disp by DMISID'!J11," ") | K11: =IF(E11="h",'IP Claims by DMIS ID'!K11/'IP Disp by DMISID'!K11," ")
B12: =Details2!B900 -> Air Force | C12: =Details2!C900 -> 0018 | D12: =Details2!D900 -> Vandenberg AFB (30th Medical Group) | E12: =Details2!E900 -> C | F12: =IF($E12="h",'IP Claims by DMIS ID'!F12/'IP Disp by DMISID'!F12," ") | G12: =IF($E12="h",'IP Claims by DMIS ID'!G12/'IP Disp by DMISID'!G12," ") | H12: =IF($E12="h",'IP Claims by DMIS ID'!H12/'IP Disp by DMISID'!H12," ") | I12: =IF($E12="h",'IP Claims by DMIS ID'!I12/'IP Disp by DMISID'!I12," ") | J12: =IF($E12="h",'IP Claims by DMIS ID'!J12/'IP Disp by DMISID'!J12," ") | K12: =IF(E12="h",'IP Claims by DMIS ID'!K12/'IP Disp by DMISID'!K12," ")
B13: =Details2!B901 -> Air Force | C13: =Details2!C901 -> 0019 | D13: =Details2!D901 -> Edwards AFB (95th Medical Group) | E13: =Details2!E901 -> C | F13: =IF($E13="h",'IP Claims by DMIS ID'!F13/'IP Disp by DMISID'!F13," ") | G13: =IF($E13="h",'IP Claims by DMIS ID'!G13/'IP Disp by DMISID'!G13," ") | H13: =IF($E13="h",'IP Claims by DMIS ID'!H13/'IP Disp by DMISID'!H13," ") | I13: =IF($E13="h",'IP Claims by DMIS ID'!I13/'IP Disp by DMISID'!I13," ") | J13: =IF($E13="h",'IP Claims by DMIS ID'!J13/'IP Disp by DMISID'!J13," ") | K13: =IF(E13="h",'IP Claims by DMIS ID'!K13/'IP Disp by DMISID'!K13," ")
B14: =Details2!B902 -> Air Force | C14: =Details2!C902 -> 0033 | D14: =Details2!D902 -> USAF Academy (10th Medical Group) | E14: =Details2!E902 -> H | F14: =IF($E14="h",'IP Claims by DMIS ID'!F14/'IP Disp by DMISID'!F14," ") -> 0.028571429 | G14: =IF($E14="h",'IP Claims by DMIS ID'!G14/'IP Disp by DMISID'!G14," ") -> 0 | H14: =IF($E14="h",'IP Claims by DMIS ID'!H14/'IP Disp by DMISID'!H14," ") -> #DIV/0! | I14: =IF($E14="h",'IP Claims by DMIS ID'!I14/'IP Disp by DMISID'!I14," ") -> #DIV/0! | J14: =IF($E14="h",'IP Claims by DMIS ID'!J14/'IP Disp by DMISID'!J14," ") -> #VALUE! | K14: =IF(E14="h",'IP Claims by DMIS ID'!K14/'IP Disp by DMISID'!K14," ") -> #VALUE!
B15: =Details2!B903 -> Air Force | C15: =Details2!C903 -> 0036 | D15: =Details2!D903 -> Dover AFB (436th Medical Group) | E15: =Details2!E903 -> C | F15: =IF($E15="h",'IP Claims by DMIS ID'!F15/'IP Disp by DMISID'!F15," ") | G15: =IF($E15="h",'IP Claims by DMIS ID'!G15/'IP Disp by DMISID'!G15," ") | H15: =IF($E15="h",'IP Claims by DMIS ID'!H15/'IP Disp by DMISID'!H15," ") | I15: =IF($E15="h",'IP Claims by DMIS ID'!I15/'IP Disp by DMISID'!I15," ") | J15: =IF($E15="h",'IP Claims by DMIS ID'!J15/'IP Disp by DMISID'!J15," ") | K15: =IF(E15="h",'IP Claims by DMIS ID'!K15/'IP Disp by DMISID'!K15," ")
B16: =Details2!B904 -> Air Force | C16: =Details2!C904 -> 0042 | D16: =Details2!D904 -> Eglin AFB (96th Medical Group) | E16: =Details2!E904 -> H | F16: =IF($E16="h",'IP Claims by DMIS ID'!F16/'IP Disp by DMISID'!F16," ") -> 0.010152284 | G16: =IF($E16="h",'IP Claims by DMIS ID'!G16/'IP Disp by DMISID'!G16," ") -> 0.015550239 | H16: =IF($E16="h",'IP Claims by DMIS ID'!H16/'IP Disp by DMISID'!H16," ") -> 0.0053191489 | I16: =IF($E16="h",'IP Claims by DMIS ID'!I16/'IP Disp by DMISID'!I16," ") -> 0 | J16: =IF($E16="h",'IP Claims by DMIS ID'!J16/'IP Disp by DMISID'!J16," ") -> 0 | K16: =IF(E16="h",'IP Claims by DMIS ID'!K16/'IP Disp by DMISID'!K16," ") -> 0.022093023
B17: =Details2!B905 -> Air Force | C17: =Details2!C905 -> 0043 | D17: =Details2!D905 -> Tyndall AFB (325th Medical Group) | E17: =Details2!E905 -> C | F17: =IF($E17="h",'IP Claims by DMIS ID'!F17/'IP Disp by DMISID'!F17," ") | G17: =IF($E17="h",'IP Claims by DMIS ID'!G17/'IP Disp by DMISID'!G17," ") | H17: =IF($E17="h",'IP Claims by DMIS ID'!H17/'IP Disp by DMISID'!H17," ") | I17: =IF($E17="h",'IP Claims by DMIS ID'!I17/'IP Disp by DMISID'!I17," ") | J17: =IF($E17="h",'IP Claims by DMIS ID'!J17/'IP Disp by DMISID'!J17," ") | K17: =IF(E17="h",'IP Claims by DMIS ID'!K17/'IP Disp by DMISID'!K17," ")
B18: =Details2!B906 -> Air Force | C18: =Details2!C906 -> 0045 | D18: =Details2!D906 -> MacDill AFB (6th Medical Group) | E18: =Details2!E906 -> C | F18: =IF($E18="h",'IP Claims by DMIS ID'!F18/'IP Disp by DMISID'!F18," ") | G18: =IF($E18="h",'IP Claims by DMIS ID'!G18/'IP Disp by DMISID'!G18," ") | H18: =IF($E18="h",'IP Claims by DMIS ID'!H18/'IP Disp by DMISID'!H18," ") | I18: =IF($E18="h",'IP Claims by DMIS ID'!I18/'IP Disp by DMISID'!I18," ") | J18: =IF($E18="h",'IP Claims by DMIS ID'!J18/'IP Disp by DMISID'!J18," ") | K18: =IF(E18="h",'IP Claims by DMIS ID'!K18/'IP Disp by DMISID'!K18," ") | L18: ='IP $ Collections by DMIS'!L18 -> Inpatient closed down
B19: =Details2!B907 -> Air Force | C19: =Details2!C907 -> 0046 | D19: =Details2!D907 -> Patrick AFB (45th Medical Group) | E19: =Details2!E907 -> C | F19: =IF($E19="h",'IP Claims by DMIS ID'!F19/'IP Disp by DMISID'!F19," ") | G19: =IF($E19="h",'IP Claims by DMIS ID'!G19/'IP Disp by DMISID'!G19," ") | H19: =IF($E19="h",'IP Claims by DMIS ID'!H19/'IP Disp by DMISID'!H19," ") | I19: =IF($E19="h",'IP Claims by DMIS ID'!I19/'IP Disp by DMISID'!I19," ") | J19: =IF($E19="h",'IP Claims by DMIS ID'!J19/'IP Disp by DMISID'!J19," ") | K19: =IF(E19="h",'IP Claims by DMIS ID'!K19/'IP Disp by DMISID'!K19," ")
B20: =Details2!B908 -> Air Force | C20: =Details2!C908 -> 0050 | D20: =Details2!D908 -> Moody AFB (347th Medical Group) | E20: =Details2!E908 -> C | F20: =IF($E20="h",'IP Claims by DMIS ID'!F20/'IP Disp by DMISID'!F20," ") | G20: =IF($E20="h",'IP Claims by DMIS ID'!G20/'IP Disp by DMISID'!G20," ") | H20: =IF($E20="h",'IP Claims by DMIS ID'!H20/'IP Disp by DMISID'!H20," ") | I20: =IF($E20="h",'IP Claims by DMIS ID'!I20/'IP Disp by DMISID'!I20," ") | J20: =IF($E20="h",'IP Claims by DMIS ID'!J20/'IP Disp by DMISID'!J20," ") | K20: =IF(E20="h",'IP Claims by DMIS ID'!K20/'IP Disp by DMISID'!K20," ")
B21: =Details2!B909 -> Air Force | C21: =Details2!C909 -> 0051 | D21: =Details2!D909 -> Robins AFB (78th Medical Group) | E21: =Details2!E909 -> C | F21: =IF($E21="h",'IP Claims by DMIS ID'!F21/'IP Disp by DMISID'!F21," ") | G21: =IF($E21="h",'IP Claims by DMIS ID'!G21/'IP Disp by DMISID'!G21," ") | H21: =IF($E21="h",'IP Claims by DMIS ID'!H21/'IP Disp by DMISID'!H21," ") | I21: =IF($E21="h",'IP Claims by DMIS ID'!I21/'IP Disp by DMISID'!I21," ") | J21: =IF($E21="h",'IP Claims by DMIS ID'!J21/'IP Disp by DMISID'!J21," ") | K21: =IF(E21="h",'IP Claims by DMIS ID'!K21/'IP Disp by DMISID'!K21," ")
B22: =Details2!B910 -> Air Force | C22: =Details2!C910 -> 0053 | D22: =Details2!D910 -> Mountain Home AFB (366th Medical Group) | E22: =Details2!E910 -> H | F22: =IF($E22="h",'IP Claims by DMIS ID'!F22/'IP Disp by DMISID'!F22," ") -> 0 | G22: =IF($E22="h",'IP Claims by DMIS ID'!G22/'IP Disp by DMISID'!G22," ") -> 0.018018018 | H22: =IF($E22="h",'IP Claims by DMIS ID'!H22/'IP Disp by DMISID'!H22," ") -> 0 | I22: =IF($E22="h",'IP Claims by DMIS ID'!I22/'IP Disp by DMISID'!I22," ") -> 0 | J22: =IF($E22="h",'IP Claims by DMIS ID'!J22/'IP Disp by DMISID'!J22," ") -> 0 | K22: =IF(E22="h",'IP Claims by DMIS ID'!K22/'IP Disp by DMISID'!K22," ") -> 0
B23: =Details2!B911 -> Air Force | C23: =Details2!C911 -> 0055 | D23: =Details2!D911 -> Scott AFB (375th Medical Group) | E23: =Details2!E911 -> C | F23: =IF($E23="h",'IP Claims by DMIS ID'!F23/'IP Disp by DMISID'!F23," ") | G23: =IF($E23="h",'IP Claims by DMIS ID'!G23/'IP Disp by DMISID'!G23," ") | H23: =IF($E23="h",'IP Claims by DMIS ID'!H23/'IP Disp by DMISID'!H23," ") | I23: =IF($E23="h",'IP Claims by DMIS ID'!I23/'IP Disp by DMISID'!I23," ") | J23: =IF($E23="h",'IP Claims by DMIS ID'!J23/'IP Disp by DMISID'!J23," ") | K23: =IF(E23="h",'IP Claims by DMIS ID'!K23/'IP Disp by DMISID'!K23," ")
B24: =Details2!B912 -> Air Force | C24: =Details2!C912 -> 0059 | D24: =Details2!D912 -> McConnell AFB (22nd Medical Group) | E24: =Details2!E912 -> C | F24: =IF($E24="h",'IP Claims by DMIS ID'!F24/'IP Disp by DMISID'!F24," ") | G24: =IF($E24="h",'IP Claims by DMIS ID'!G24/'IP Disp by DMISID'!G24," ") | H24: =IF($E24="h",'IP Claims by DMIS ID'!H24/'IP Disp by DMISID'!H24," ") | I24: =IF($E24="h",'IP Claims by DMIS ID'!I24/'IP Disp by DMISID'!I24," ") | J24: =IF($E24="h",'IP Claims by DMIS ID'!J24/'IP Disp by DMISID'!J24," ") | K24: =IF(E24="h",'IP Claims by DMIS ID'!K24/'IP Disp by DMISID'!K24," ")
