Workbook

Sheet Collection Goals Summary
A1: Outpatient | E1: Inpatient | I1: Total Collections
B2: FY 12- Collections | C2: FY13- Goals | F2: FY 12- Collections | G2: FY13- Goals | J2: FY 12- Collections | K2: FY13- Goals
A3: Army | B3: ='OP Collections'!M68 -> 42230902 | C3: ='Army OP'!S44 -> 45021152 | E3: Army | F3: ='IP Collections'!M68 -> 22711774 | G3: ='Army IP'!M51 -> 21504863 | I3: Army | J3: =F3+B3 -> 64942676 | K3: =G3+C3 -> 66526016
A4: Navy | B4: ='OP Collections'!M116 -> 17971641 | C4: ='Navy OP'!S35 -> 25559049 | E4: Navy | F4: ='IP Collections'!M114 -> 4481079.2 | G4: ='Navy IP'!M32 -> 4953042.1 | I4: Navy | J4: =F4+B4 -> 22452720 | K4: =G4+C4 -> 30512091
A5: Air Force | B5: ='OP Collections'!M3 -> 58514320 | C5: ='Air Force OP'!S88 -> 59545554 | E5: Air Force | F5: ='IP Collections'!M3 -> 5353112.3 | G5: ='Air Force IP'!M69 -> 5554629.6 | I5: Air Force | J5: =F5+B5 -> 63867432 | K5: =G5+C5 -> 65100184
A6: JTF CapMed | B6: ='OP Collections'!M145 -> 12012004 | C6: ='JTF OP'!S4 -> 14597280 | E6: JTF CapMed | F6: ='IP Collections'!M143 -> 4839519.3 | G6: ='JTF IP'!L5 -> 4998453 | I6: JTF CapMed | J6: =SUM(B6,F6) -> 16851523 | K6: =SUM(C6,G6) -> 19595733
A7: Total | B7: =SUM(B3:B6) -> 1.3072887e+08 | C7: =SUM(C3:C6) -> 1.4472304e+08 | E7: Total | F7: =SUM(F3:F6) -> 37385485 | G7: =SUM(G3:G6) -> 37010988 | I7: Total | J7: =SUM(J3:J6) -> 1.6811435e+08 | K7: =SUM(K3:K6) -> 1.8173402e+08
A10: IP data
A11: service | B11: Sum of FY2011 | C11: Sum of FY2012
A12: AF | B12: 7878642 | C12: 5353112.3
A13: Army | B13: 22459465 | C13: 22711774
A14: JTF | B14: 2857159.3 | C14: 4839519.3
A15: Navy | B15: 4734503 | C15: 4481079.2
A16: Grand Total | B16: 37929769 | C16: 37385485
A18: OP data
A19: Service | B19: Sum of FY2011 | C19: Sum of FY2012
A20: AF | B20: 70875923 | C20: 58514320
A21: Army | B21: 56404211 | C21: 42230902
A22: JTF | B22: 9036245.7 | C22: 12012004
A23: Navy | B23: 25338993 | C23: 17971641
A24: Grand Total | B24: 1.6165537e+08 | C24: 1.3072887e+08
A26: Total
A27: Service | B27: Sum of FY2011 | C27: Sum of FY2012
A28: AF | B28: =SUM(B12,B20) -> 78754565 | C28: =SUM(C12,C20) -> 63867432
A29: Army | B29: =SUM(B13,B21) -> 78863677 | C29: =SUM(C13,C21) -> 64942676
A30: JTF | B30: =SUM(B14,B22) -> 11893405 | C30: =SUM(C14,C22) -> 16851523
A31: Navy | B31: =SUM(B15,B23) -> 30073496 | C31: =SUM(C15,C23) -> 22452720
A32: Grand Total | B32: =SUM(B16,B24) -> 1.9958514e+08 | C32: =SUM(C16,C24) -> 1.6811435e+08

Sheet Army IP
A1: dmis_id | B1: dmis_name | C1: facility_type | E1: Number of IP Dispositions for CFY
D2: FY2006 | E2: FY2007 | F2: FY2008 | G2: FY2009 | H2: FY2010 | I2: FY2011 | J2: FY2012 | K2: Factor Calculation | L2: FY 12 Collection | M2: FY 13 Goal | N2: Notes
A3: 0001 | B3: Redstone Arsenal (Fox Army Health Clinic) | C3: C | K3: =IF(I3<0.0242,0.0242/H3,0) -> 0 | M3: =IF(K3>0,L3*K3,L3) -> 0
A4: 0002 | B4: Ft. McClellan (Patterson ACH) | C4: I | K4: =IF(I4<0.0242,0.0242/H4,0) -> 0 | M4: =IF(K4>0,L4*K4,L4) -> 0
A5: 0003 | B5: Ft. Rucker (Lyster Army Health Clinic) | C5: C | K5: =IF(I5<0.0242,0.0242/H5,0) -> 0 | M5: =IF(K5>0,L5*K5,L5) -> 0
A6: 0005 | B6: Ft. Wainwright (Bassett Army Community Hospital) | C6: H | D6: 0.047988709 | E6: 0.030160858 | F6: 0.035363458 | G6: 0.051612903 | H6: 0.034009547 | I6: 0.032471437 | J6: 0.039085546 | K6: =IF(J6<J$51,J$51/J6,0) -> 0 | L6: 332689.02 | M6: =IF(K6>0,L6*K6,L6) -> 332689.02
A7: 0008 | B7: Ft. Huachuca (Bliss Army Health Clinic) | C7: C | K7: =IF(I7<0.0242,0.0242/H7,0) -> 0 | M7: =IF(K7>0,L7*K7,L7) -> 0
A8: 0032 | B8: Ft. Carson (Evans Army Community Hospital) | C8: H | D8: 0.010630587 | E8: 0.0083857442 | F8: 0.0068508287 | G8: 0.0045372051 | H8: 0.0058469475 | I8: 0.007825921 | J8: 0.0087248322 | K8: =IF(J8<J$51,J$51/J8,0) -> 2.5874209 | L8: 180700.69 | M8: =IF(K8>0,L8*K8,L8) -> 467548.74
A9: 0037 | B9: Washington D.C. (Walter Reed Army Medical Center) | C9: H | D9: 0.069897745 | E9: 0.076933626 | F9: 0.071181755 | G9: 0.077439195 | H9: 0.075211864 | I9: 0.10490512 | K9: =IF(J9<J$51,J$51/J9,0) -> #DIV/0! | L9: 2934040.7 | M9: 0 | N9: JTF
A10: 0047 | B10: Ft. Gordon (Eisenhower Army Medical Center) | C10: H | D10: 0.074769546 | E10: 0.075810003 | F10: 0.078316953 | G10: 0.061681048 | H10: 0.061468412 | I10: 0.051155116 | J10: 0.051522248 | K10: =IF(J10<J$51,J$51/J10,0) -> 0 | L10: 1085817.4 | M10: =IF(K10>0,L10*K10,L10) -> 1085817.4
A11: 0048 | B11: Ft. Benning (Martin Army Community Hospital) | C11: H | D11: 0.032354035 | E11: 0.021383228 | F11: 0.028244548 | G11: 0.026885246 | H11: 0.017343045 | I11: 0.016416845 | J11: 0.0094656489 | K11: =IF(J11<J$51,J$51/J11,0) -> 2.3849198 | L11: 71304.66 | M11: =IF(K11>0,L11*K11,L11) -> 170055.89
A12: 0049 | B12: Ft. Stewart (Winn Army Community Hospital) | C12: H | D12: 0.025344598 | E12: 0.011051374 | F12: 0.016638225 | G12: 0.018134715 | H12: 0.012879103 | I12: 0.017805582 | J12: 0.017514871 | K12: =IF(J12<J$51,J$51/J12,0) -> 1.288894 | L12: 73405.67 | M12: =IF(K12>0,L12*K12,L12) -> 94612.13
A13: 0052 | B13: Ft. Shafter (Tripler Army Medical Center) | C13: H | D13: 0.025562719 | E13: 0.023015182 | F13: 0.025415027 | G13: 0.029122954 | H13: 0.026773762 | I13: 0.030515118 | J13: 0.02902226 | K13: =IF(J13<J$51,J$51/J13,0) -> 0 | L13: 2662608.7 | M13: =IF(K13>0,L13*K13,L13) -> 2662608.7
A14: 0057 | B14: Ft. Riley (Irwin Army Community Hospital) | C14: H | D14: 0.0096371882 | E14: 0.012581547 | F14: 0.01161103 | G14: 0.0092307692 | H14: 0.0081300813 | I14: 0.0097474524 | J14: 0.0092833271 | K14: =IF(J14<J$51,J$51/J14,0) -> 2.4317588 | L14: 137148.51 | M14: =IF(K14>0,L14*K14,L14) -> 333512.1
A15: 0058 | B15: Ft. Leavenworth (Munson Army Health Clinic) | C15: C | K15: =IF(J15<J$51,J$51/J15,0) -> 0 | M15: =IF(K15>0,L15*K15,L15) -> 0
A16: 0060 | B16: Ft. Campbell (Blanchfield Army Comm Hospital) | C16: H | D16: 0.01275691 | E16: 0.014302981 | F16: 0.0097333074 | G16: 0.012467655 | H16: 0.0074759001 | I16: 0.0063229572 | J16: 0.0063252397 | K16: =IF(J16<J$51,J$51/J16,0) -> 3.5690051 | L16: 82726.87 | M16: =IF(K16>0,L16*K16,L16) -> 295252.62
A17: 0061 | B17: Ft. Knox (Ireland Army Community Hospital) | C17: H | D17: 0.016733068 | E17: 0.010159652 | F17: 0.011569053 | G17: 0.0068597561 | H17: 0.0047086521 | I17: 0.0060402685 | J17: 0.015205725 | K17: =IF(J17<J$51,J$51/J17,0) -> 1.4846259 | L17: 1255.35 | M17: =IF(K17>0,L17*K17,L17) -> 1863.7252
A18: 0064 | B18: Ft. Polk (Bayne-Jones Army Community Hospital) | C18: H | D18: 0.012820513 | E18: 0.0073746313 | F18: 0.011286682 | G18: 0.010172144 | H18: 0.0030487805 | I18: 0.0038729667 | J18: 0.004576659 | K18: =IF(J18<J$51,J$51/J18,0) -> 4.9325966 | L18: 6496.57 | M18: =IF(K18>0,L18*K18,L18) -> 32044.959
A19: 0069 | B19: Ft. Meade (Kimbrough Ambulatory Care Center) | C19: C | K19: =IF(J19<J$51,J$51/J19,0) -> 0 | M19: =IF(K19>0,L19*K19,L19) -> 0
A20: 0075 | B20: Ft. Leonard Wood (Wood Army Community Hospital) | C20: H | D20: 0.021794872 | E20: 0.024074074 | F20: 0.020174849 | G20: 0.013325257 | H20: 0.02244389 | I20: 0.010451045 | J20: 0.013513514 | K20: =IF(J20<J$51,J$51/J20,0) -> 1.6705362 | L20: 22241.09 | M20: =IF(K20>0,L20*K20,L20) -> 37154.545
A21: 0081 | B21: Ft. Monmouth (Patterson Army Health Clinic) | C21: C | K21: =IF(J21<J$51,J$51/J21,0) -> 0 | M21: =IF(K21>0,L21*K21,L21) -> 0
A22: 0086 | B22: West Point (Keller Army Community Hospital) | C22: H | D22: 0.041237113 | E22: 0.041297935 | F22: 0.041002278 | G22: 0.036585366 | H22: 0.025369979 | I22: 0.016528926 | J22: 0.017191977 | K22: =IF(J22<J$51,J$51/J22,0) -> 1.3131016 | L22: 4196.8 | M22: =IF(K22>0,L22*K22,L22) -> 5510.8249
A23: 0089 | B23: Ft. Bragg (Womack Army Medical Center) | C23: H | D23: 0.023541114 | E23: 0.025308311 | F23: 0.030616943 | G23: 0.030324689 | H23: 0.023399015 | I23: 0.022279434 | J23: 0.019055868 | K23: =IF(J23<J$51,J$51/J23,0) -> 1.1846646 | L23: 796878.58 | M23: =IF(K23>0,L23*K23,L23) -> 944033.86
A24: 0098 | B24: Ft. Sill (Reynolds Army Community Hospital) | C24: H | D24: 0.013629283 | E24: 0.013184179 | F24: 0.012792236 | G24: 0.013053613 | H24: 0.0086992543 | I24: 0.013856813 | J24: 0.016897081 | K24: =IF(J24<J$51,J$51/J24,0) -> 1.3360185 | L24: 105095.86 | M24: =IF(K24>0,L24*K24,L24) -> 140410.01
A25: 0105 | B25: Ft. Jackson (Moncrief Army Community Hospital) | C25: H | D25: 0.013986014 | E25: 0.0375 | F25: 0.036144578 | G25: 0.018292683 | H25: 0.034013605 | I25: 0.048275862 | J25: 0.052083333 | K25: =IF(J25<J$51,J$51/J25,0) -> 0 | L25: 45187.82 | M25: =IF(K25>0,L25*K25,L25) -> 45187.82
A26: 0108 | B26: Ft. Bliss (William Beaumont Army Medical Center) | C26: H | D26: 0.030676838 | E26: 0.027079304 | F26: 0.03342528 | G26: 0.032006245 | H26: 0.027143473 | I26: 0.024214021 | J26: 0.025518634 | K26: =IF(J26<J$51,J$51/J26,0) -> 0 | L26: 850771.88 | M26: =IF(K26>0,L26*K26,L26) -> 850771.88
A27: 0109 | B27: Ft. Sam Houston (Brooke Army Medical Center) | C27: H | D27: 0.053866302 | E27: 0.05819398 | F27: 0.045765564 | G27: 0.050988554 | H27: 0.04929509 | I27: 0.048323055 | J27: 0.047563535 | K27: =IF(J27<J$51,J$51/J27,0) -> 0 | L27: 7268312.9 | M27: =IF(K27>0,L27*K27,L27) -> 7268312.9
A28: 0110 | B28: Ft. Hood (C.R. Darnall Army Medical Center) | C28: H | D28: 0.0086413188 | E28: 0.014473089 | F28: 0.0097799511 | G28: 0.0095541401 | H28: 0.0064258175 | I28: 0.008411072 | J28: 0.007195346 | K28: =IF(J28<J$51,J$51/J28,0) -> 3.1374187 | L28: 292481.76 | M28: =IF(K28>0,L28*K28,L28) -> 917637.74
A29: 0121 | B29: Ft. Eustis (McDonald Army Health Center) | C29: H | D29: 0.0091743119 | K29: =IF(J29<J$51,J$51/J29,0) -> #DIV/0! | M29: 0
A30: 0122 | B30: Ft. Lee (Kenner Army Health Clinic) | C30: C | K30: =IF(J30<J$51,J$51/J30,0) -> 0 | M30: =IF(K30>0,L30*K30,L30) -> 0
A31: 0123 | B31: Ft. Belvoir (FT. Belvoir Community Hospital) | C31: H | D31: 0.03307718 | E31: 0.025954765 | F31: 0.025008806 | G31: 0.016365496 | H31: 0.026089828 | I31: 0.021395655 | K31: =IF(J31<J$51,J$51/J31,0) -> #DIV/0! | L31: 0 | M31: 0 | N31: JTF
A32: 0125 | B32: Ft. Lewis (Madigan Army Medical Center) | C32: H | D32: 0.0329758 | E32: 0.047549777 | F32: 0.0428985 | G32: 0.036703903 | H32: 0.040270645 | I32: 0.032807003 | J32: 0.033505155 | K32: =IF(J32<J$51,J$51/J32,0) -> 0 | L32: 3805669.4 | M32: =IF(K32>0,L32*K32,L32) -> 3805669.4
A33: 0131 | B33: Ft. Irwin (Weed Army Community Hospital) | C33: H | D33: 0.0030075188 | E33: 0.0011990408 | F33: 0.0038363171 | G33: 0.0098452883 | H33: 0.0037593985 | I33: 0.0013513514 | K33: 0 | L33: 0 | M33: 0
A34: 0206 | B34: Yuma Proving Grounds | C34: I | K34: =IF(J34<J$51,J$51/J34,0) -> 0 | M34: =IF(K34>0,L34*K34,L34) -> 0
A35: 0256 | B35: Pentagon Army Health Clinic | C35: I | K35: =IF(J35<J$51,J$51/J35,0) -> 0 | M35: =IF(K35>0,L35*K35,L35) -> 0
A36: 0273 | B36: Ft. McPherson (Lawrence Joel Army Health Clinic) | C36: I | K36: =IF(J36<J$51,J$51/J36,0) -> 0 | M36: =IF(K36>0,L36*K36,L36) -> 0
A37: 0308 | B37: Aberdeen Proving Grounds (Kirk Army Health Clinic) | C37: I | K37: =IF(J37<J$51,J$51/J37,0) -> 0 | M37: =IF(K37>0,L37*K37,L37) -> 0
A38: 0309 | B38: Ft. Detrick US Army Health Clinic | C38: I | K38: =IF(J38<J$51,J$51/J38,0) -> 0 | M38: =IF(K38>0,L38*K38,L38) -> 0
A39: 0330 | B39: Ft. Drum (Guthrie Army Health Clinic) | C39: C | K39: =IF(J39<J$51,J$51/J39,0) -> 0 | M39: =IF(K39>0,L39*K39,L39) -> 0
A40: 0350 | B40: Ft. Indiantown Gap US Army Health Clinic | C40: I | K40: =IF(J40<J$51,J$51/J40,0) -> 0 | M40: =IF(K40>0,L40*K40,L40) -> 0
A41: 0351 | B41: Letterkenny US Army Health Clinic | C41: I | K41: =IF(J41<J$51,J$51/J41,0) -> 0 | M41: =IF(K41>0,L41*K41,L41) -> 0
A42: 0352 | B42: Carlisle (Dunham Army Health Clinic) | C42: C | K42: =IF(J42<J$51,J$51/J42,0) -> 0 | M42: =IF(K42>0,L42*K42,L42) -> 0
A43: 0353 | B43: Tobyhanna US Army Health Clinic | C43: I | K43: =IF(J43<J$51,J$51/J43,0) -> 0 | M43: =IF(K43>0,L43*K43,L43) -> 0
A44: 0371 | B44: Dugway Proving Ground | C44: I | K44: =IF(J44<J$51,J$51/J44,0) -> 0 | M44: =IF(K44>0,L44*K44,L44) -> 0
A45: 0441 | B45: New Cumberland US Army Health Clinic | C45: I | K45: =IF(J45<J$51,J$51/J45,0) -> 0 | M45: =IF(K45>0,L45*K45,L45) -> 0
A46: 0606 | B46: Heidelberg MEDDAC | C46: C | K46: =IF(J46<J$51,J$51/J46,0) -> 0 | M46: =IF(K46>0,L46*K46,L46) -> 0
A47: 0607 | B47: Landstuhl Regional Medical Center | C47: H | D47: 0.012881965 | E47: 0.01954023 | F47: 0.027374302 | G47: 0.030201342 | H47: 0.027963058 | I47: 0.033373063 | J47: 0.034172103 | K47: =IF(J47<J$51,J$51/J47,0) -> 0 | L47: 1780197.9 | M47: =IF(K47>0,L47*K47,L47) -> 1780197.9
A48: 0609 | B48: Bavaria MEDDAC | C48: C | K48: =IF(J48<J$51,J$51/J48,0) -> 0 | M48: =IF(K48>0,L48*K48,L48) -> 0
A49: 0610 | B49: MEDDAC Japan | C49: I | K49: =IF(J49<J$51,J$51/J49,0) -> 0 | M49: =IF(K49>0,L49*K49,L49) -> 0
A50: 0612 | B50: Brian Allgood ACH - Seoul | C50: H | D50: 0.017684887 | E50: 0.0096 | F50: 0.0039254171 | G50: 0.002970297 | H50: 0.0085984523 | I50: 0.011329305 | J50: 0.016648169 | K50: =IF(J50<J$51,J$51/J50,0) -> 1.3559938 | L50: 172545.96 | M50: =IF(K50>0,L50*K50,L50) -> 233971.25
H51: Average | I51: =AVERAGE(I6,I8:I14,I16:I18,I20,I22:I28,I31:I33,I47,I50) -> 0.024153141 | J51: =AVERAGE(J3:J50) -> 0.022574813 | K51: Total Collection | L51: =SUM(L3:L50) -> 22711774 | M51: =SUM(M3:M50) -> 21504863

Sheet Navy IP
A1: dmis_id | B1: dmis_name | C1: facility_type | E1: Number of IP Dispositions for CFY
D2: FY2006 | E2: FY2007 | F2: FY2008 | G2: FY2009 | H2: FY2010 | I2: FY2011 | J2: FY2012 | K2: Factor Calculation | L2: FY 12 Collection | M2: FY 12 Goal | N2: Notes
A3: 0024 | B3: NH Camp Pendelton | C3: H | D3: 0.0050352467 | E3: 0.0033783784 | F3: 0.0051254384 | G3: 0.0034400635 | H3: 0.0048605782 | I3: 0.0044455421 | J3: 0.006358926 | K3: =IF(J3<J$32,J$32/J3,0) -> 2.2068352 | L3: =VLOOKUP(A3,'IP Collections'!B$115:K$142,10,FALSE) -> 116204.17 | M3: =IF(K3>0,L3*K3,L3) -> 256443.45
A4: 0028 | B4: NH Lemoore | C4: H | D4: 0.013948498 | E4: 0.014054054 | F4: 0.014102564 | G4: 0.0014409222 | H4: 0 | I4: 0 | J4: 0.0035335689 | K4: =IF(J4<J$32,J$32/J4,0) -> 3.9713678 | L4: =VLOOKUP(A4,'IP Collections'!B$115:K$142,10,FALSE) -> 4064.7 | M4: =IF(K4>0,L4*K4,L4) -> 16142.419
A5: 0029 | B5: NMC San Diego | C5: H | D5: 0.013615119 | E5: 0.013813311 | F5: 0.019938541 | G5: 0.015498464 | H5: 0.014862554 | I5: 0.012381207 | J5: 0.01231125 | K5: =IF(J5<J$32,J$32/J5,0) -> 1.13986 | L5: =VLOOKUP(A5,'IP Collections'!B$115:K$142,10,FALSE) -> 1076025.9 | M5: =IF(K5>0,L5*K5,L5) -> 1226518.9
A6: 0030 | B6: NH 29 Palms | C6: H | D6: 0.0048543689 | E6: 0.005192108 | F6: 0.0041407867 | G6: 0.011764706 | H6: 0.0046367852 | I6: 0.0065466448 | J6: 0.0024252223 | K6: =IF(J6<J$32,J$32/J6,0) -> 5.7863156 | L6: =VLOOKUP(A6,'IP Collections'!B$115:K$142,10,FALSE) -> 14112.13 | M6: =IF(K6>0,L6*K6,L6) -> 81657.238
A7: 0035 | B7: NBHC Groton | C7: C | K7: =IF(I7<0.0199,0.0199/I7,0) -> 0 | L7: =VLOOKUP(A7,'IP Collections'!B$115:K$142,10,FALSE) -> NULL | M7: =IF(K7>0,L7*K7,L7) -> NULL
A8: 0038 | B8: NH Pensacola | C8: H | D8: 0.030352084 | E8: 0.026687598 | F8: 0.019371502 | G8: 0.017050691 | H8: 0.025773196 | I8: 0.02462203 | J8: 0.022862369 | K8: =IF(J8<J$32,J$32/J8,0) -> 0 | L8: =VLOOKUP(A8,'IP Collections'!B$115:K$142,10,FALSE) -> 105358.21 | M8: =IF(K8>0,L8*K8,L8) -> 105358.21
A9: 0039 | B9: NH Jacksonville | C9: H | D9: 0.021145165 | E9: 0.024077869 | F9: 0.025676807 | G9: 0.024051 | H9: 0.021944444 | I9: 0.026837806 | J9: 0.021276596 | K9: =IF(J9<J$32,J$32/J9,0) -> 0 | L9: =VLOOKUP(A9,'IP Collections'!B$115:K$142,10,FALSE) -> 550231.5 | M9: =IF(K9>0,L9*K9,L9) -> 550231.5
A10: 0056 | B10: NHC Great Lakes | C10: C | K10: =IF(I10<0.0199,0.0199/I10,0) -> 0 | L10: =VLOOKUP(A10,'IP Collections'!$B$3:$J$142,9,FALSE) -> NULL | M10: =IF(K10>0,L10*K10,L10) -> NULL
A11: 0067 | B11: Walter Reed National Military Medical Center | C11: H | D11: 0.052250592 | E11: 0.061967772 | F11: 0.058080808 | G11: 0.045913291 | H11: 0.045179813 | I11: 0.046960106 | K11: =IF(J11<J$32,J$32/J11,0) -> #DIV/0! | M11: 0 | N11: JTF
A12: 0068 | B12: NHC Patuxent River | C12: C | K12: =IF(I12<0.0199,0.0199/I12,0) -> 0 | L12: =VLOOKUP(A12,'IP Collections'!$B$3:$J$142,9,FALSE) -> NULL | M12: =IF(K12>0,L12*K12,L12) -> NULL
A13: 0091 | B13: NH Camp Lejeune | C13: H | D13: 0.011326097 | E13: 0.012673753 | F13: 0.013367282 | G13: 0.01162115 | H13: 0.0099217707 | I13: 0.012723658 | J13: 0.010927876 | K13: =IF(J13<J$32,J$32/J13,0) -> 1.2841564 | L13: =VLOOKUP(A13,'IP Collections'!B$115:K$142,10,FALSE) -> 312745.49 | M13: =IF(K13>0,L13*K13,L13) -> 401614.11
A14: 0092 | B14: NHC Cherry Point | C14: H | D14: 0.0060728745 | E14: 0.0085287846 | F14: #DIV/0! | G14: #DIV/0! | H14: #VALUE! | I14: #VALUE! | K14: 0 | L14: =VLOOKUP(A14,'IP Collections'!$B$3:$J$142,9,FALSE) -> NULL | M14: =IF(K14>0,L14*K14,L14) -> NULL
A15: 0100 | B15: NBHC Newport | C15: C | I15: #VALUE! | K15: 0 | L15: =VLOOKUP(A15,'IP Collections'!$B$3:$J$142,9,FALSE) -> NULL | M15: =IF(K15>0,L15*K15,L15) -> NULL
A16: 0103 | B16: NHC Charleston | C16: H | K16: 0 | L16: =VLOOKUP(A16,'IP Collections'!$B$3:$J$142,9,FALSE) -> NULL | M16: =IF(K16>0,L16*K16,L16) -> NULL
A17: 0104 | B17: NH Beaufort | C17: H | D17: 0.057142857 | E17: 0.014134276 | F17: 0.03202847 | G17: 0.012269939 | H17: 0 | I17: 0.058139535 | J17: 0.013157895 | K17: =IF(J17<J$32,J$32/J17,0) -> 1.0665157 | L17: =VLOOKUP(A17,'IP Collections'!B$115:K$142,10,FALSE) -> 8255.15 | M17: =IF(K17>0,L17*K17,L17) -> 8804.2473
A18: 0107 | B18: NBHC NSA Mid-South | C18: C | K18: =IF(I18<0.0199,0.0199/I18,0) -> 0 | L18: =VLOOKUP(A18,'IP Collections'!$B$3:$J$142,9,FALSE) -> NULL | M18: =IF(K18>0,L18*K18,L18) -> NULL
A19: 0118 | B19: NHC Corpus Christi | C19: C | K19: =IF(I19<0.0199,0.0199/I19,0) -> 0 | L19: =VLOOKUP(A19,'IP Collections'!$B$3:$J$142,9,FALSE) -> NULL | M19: =IF(K19>0,L19*K19,L19) -> NULL
A20: 0124 | B20: NMC Portsmouth (VA) | C20: H | D20: 0.014660443 | E20: 0.018267223 | F20: 0.017268683 | G20: 0.018069061 | H20: 0.017603988 | I20: 0.018272425 | J20: 0.019907995 | K20: =IF(J20<J$32,J$32/J20,0) -> 0 | L20: =VLOOKUP(A20,'IP Collections'!B$115:K$142,10,FALSE) -> 1592558.8 | M20: =IF(K20>0,L20*K20,L20) -> 1592558.8
A21: 0126 | B21: NH Bremerton | C21: H | D21: 0.023101018 | E21: 0.022509379 | F21: 0.023849372 | G21: 0.025723473 | H21: 0.029715762 | I21: 0.020618557 | J21: 0.024437548 | K21: =IF(J21<J$32,J$32/J21,0) -> 0 | L21: =VLOOKUP(A21,'IP Collections'!B$115:K$142,10,FALSE) -> 437167.77 | M21: =IF(K21>0,L21*K21,L21) -> 437167.77
A22: 0127 | B22: NH Oak Harbor | C22: H | D22: 0.0043956044 | E22: 0.0049455984 | F22: 0.010123735 | G22: 0.014705882 | H22: 0 | I22: 0.0027359781 | J22: 0.0053404539 | K22: =IF(J22<J$32,J$32/J22,0) -> 2.6276983 | L22: =VLOOKUP(A22,'IP Collections'!B$115:K$142,10,FALSE) -> 7489.16 | M22: =IF(K22>0,L22*K22,L22) -> 19679.253
A23: 0280 | B23: NHC Hawaii | C23: C | K23: =IF(I23<0.0199,0.0199/I23,0) -> 0 | L23: =VLOOKUP(A23,'IP Collections'!$B$3:$J$142,9,FALSE) -> NULL | M23: =IF(K23>0,L23*K23,L23) -> NULL
A24: 0297 | B24: NACC New Orleans | C24: C | K24: =IF(I24<0.0199,0.0199/I24,0) -> 0 | L24: =VLOOKUP(A24,'IP Collections'!$B$3:$J$142,9,FALSE) -> NULL | M24: =IF(K24>0,L24*K24,L24) -> NULL
A25: 0306 | B25: NHC Annapolis | C25: C | K25: =IF(I25<0.0199,0.0199/I25,0) -> 0 | L25: =VLOOKUP(A25,'IP Collections'!$B$3:$J$142,9,FALSE) -> NULL | M25: =IF(K25>0,L25*K25,L25) -> NULL
A26: 0321 | B26: NBHC Portsmouth (NH) | C26: C | K26: =IF(I26<0.0199,0.0199/I26,0) -> 0 | L26: =VLOOKUP(A26,'IP Collections'!$B$3:$J$142,9,FALSE) -> NULL | M26: =IF(K26>0,L26*K26,L26) -> NULL
A27: 0385 | B27: NHC Quantico | C27: C | K27: =IF(I27<0.0199,0.0199/I27,0) -> 0 | L27: =VLOOKUP(A27,'IP Collections'!$B$3:$J$142,9,FALSE) -> NULL | M27: =IF(K27>0,L27*K27,L27) -> NULL
A28: 0616 | B28: NH Roosevelt Roads | C28: I | K28: =IF(I28<0.0199,0.0199/I28,0) -> 0 | L28: =VLOOKUP(A28,'IP Collections'!$B$3:$J$142,9,FALSE) -> NULL | M28: =IF(K28>0,L28*K28,L28) -> NULL
A29: 0620 | B29: NH Guam | C29: H | D29: 0.033622007 | E29: 0.032581454 | F29: 0.03164557 | G29: 0.032325339 | H29: 0.037192004 | I29: 0.024841695 | J29: 0.02585752 | K29: =IF(J29<J$32,J$32/J29,0) -> 0 | L29: =VLOOKUP(A29,'IP Collections'!B$115:K$142,10,FALSE) -> 256866.18 | M29: =IF(K29>0,L29*K29,L29) -> 256866.18
A30: 0621 | B30: NH Okinawa | C30: I | K30: =IF(I30<0.0199,0.0199/I30,0) -> 0 | L30: =VLOOKUP(A30,'IP Collections'!$B$3:$J$142,9,FALSE) -> NULL | M30: =IF(K30>0,L30*K30,L30) -> NULL
A31: 0622 | B31: NH Yokosuka | C31: I | K31: =IF(I31<0.0199,0.0199/I31,0) -> 0 | L31: =VLOOKUP(A31,'IP Collections'!$B$3:$J$142,9,FALSE) -> NULL | M31: =IF(K31>0,L31*K31,L31) -> NULL
H32: Average | I32: =AVERAGE(I3:I6,I8:I9,I11,I13,I17,I20:I22,I29) -> 0.019932707 | J32: =AVERAGE(J3:J31) -> 0.014033102 | K32: Total Collections | L32: =SUM(L3:L31) -> 4481079.2 | M32: =SUM(M3:M31) -> 4953042.1

Sheet Air Force IP
A2: dmis_id | B2: dmis_name | C2: facility_type | E2: Number of IP Dispositions for CFY
D3: FY2006 | E3: FY2007 | F3: FY2008 | G3: FY2009 | H3: FY2010 | I3: FY2011 | J3: FY2012 | K3: Factor Calculation | L3: FY 12 Collection | M3: FY 13 Goal | N3: Notes
A4: 0004 | B4: Maxwell AFB (42nd Medical Group) | C4: C | K4: =IF(J4<J$69,J$69/J4,0) -> 0 | L4: =VLOOKUP(A4,'IP Collections'!B3:K67,10,FALSE) -> NULL | M4: =IF(K4>0,L4*K4,L4) -> NULL
A5: 0006 | B5: Elmendorf AFB (3rd Medical group) | C5: H | D5: 0.051382114 | E5: 0.063350036 | F5: 0.067977341 | G5: 0.054644809 | H5: 0.07415345 | I5: 0.060215947 | J5: 0.06737471 | K5: =IF(J5<J$69,J$69/J5,0) -> 0 | L5: =VLOOKUP(A5,'IP Collections'!B4:K67,10,FALSE) -> 833496.49 | M5: =IF(K5>0,L5*K5,L5) -> 833496.49
A6: 0009 | B6: Luke AFB (56th Medical Group) | C6: C | K6: =IF(J6<J$69,J$69/J6,0) -> 0 | L6: =VLOOKUP(A6,'IP Collections'!B5:K68,10,FALSE) -> NULL | M6: =IF(K6>0,L6*K6,L6) -> NULL
A7: 0010 | B7: Davis Monthan AFB (355th Medical Group) | C7: C | K7: =IF(J7<J$69,J$69/J7,0) -> 0 | L7: =VLOOKUP(A7,'IP Collections'!B6:K69,10,FALSE) -> NULL | M7: =IF(K7>0,L7*K7,L7) -> NULL
A8: 0013 | B8: Little Rock AFB (314th Medical Group) | C8: C | K8: =IF(J8<J$69,J$69/J8,0) -> 0 | L8: =VLOOKUP(A8,'IP Collections'!B7:K70,10,FALSE) -> NULL | M8: =IF(K8>0,L8*K8,L8) -> NULL
A9: 0014 | B9: Travis AFB (60th Medical Group) | C9: H | D9: 0.039368104 | E9: 0.042659975 | F9: 0.051970443 | G9: 0.044253782 | H9: 0.038478549 | I9: 0.031430277 | J9: 0.038268956 | K9: =IF(J9<J$69,J$69/J9,0) -> 1.223912 | L9: =VLOOKUP(A9,'IP Collections'!B8:K71,10,FALSE) -> 662855.11 | M9: =IF(K9>0,L9*K9,L9) -> 811276.33
A10: 0015 | B10: Beale AFB (9th Medical Group) | C10: C | K10: =IF(I10<0.0451,0.0451/I10,0) -> 0 | L10: =VLOOKUP(A10,'IP Collections'!B9:K72,10,FALSE) -> NULL | M10: =IF(K10>0,L10*K10,L10) -> NULL
A11: 0018 | B11: Vandenberg AFB (30th Medical Group) | C11: C | K11: =IF(I11<0.0451,0.0451/I11,0) -> 0 | L11: =VLOOKUP(A11,'IP Collections'!B10:K73,10,FALSE) -> NULL | M11: =IF(K11>0,L11*K11,L11) -> NULL
A12: 0019 | B12: Edwards AFB (95th Medical Group) | C12: C | K12: =IF(I12<0.0451,0.0451/I12,0) -> 0 | L12: =VLOOKUP(A12,'IP Collections'!B11:K74,10,FALSE) -> NULL | M12: =IF(K12>0,L12*K12,L12) -> NULL
A13: 0033 | B13: USAF Academy (10th Medical Group) | C13: H | D13: 0.029058116 | E13: 0.044 | F13: 0.034482759 | G13: #DIV/0! | H13: #VALUE! | I13: #VALUE! | K13: 0 | L13: =VLOOKUP(A13,'IP Collections'!B12:K75,10,FALSE) -> NULL | M13: 0
A14: 0036 | B14: Dover AFB (436th Medical Group) | C14: C | K14: =IF(I14<0.0451,0.0451/I14,0) -> 0 | L14: =VLOOKUP(A14,'IP Collections'!B13:K76,10,FALSE) -> NULL | M14: =IF(K14>0,L14*K14,L14) -> NULL
A15: 0042 | B15: Eglin AFB (96th Medical Group) | C15: H | D15: 0.026644916 | E15: 0.028014616 | F15: 0.028837209 | G15: 0.02488189 | H15: 0.034024627 | I15: 0.032258065 | J15: 0.02071251 | K15: =IF(J15<J$69,J$69/J15,0) -> 2.2613307 | L15: =VLOOKUP(A15,'IP Collections'!B14:K77,10,FALSE) -> 182718.14 | M15: =IF(K15>0,L15*K15,L15) -> 413186.13
A16: 0043 | B16: Tyndall AFB (325th Medical Group) | C16: C | K16: =IF(J16<J$69,J$69/J16,0) -> 0 | L16: =VLOOKUP(A16,'IP Collections'!B15:K78,10,FALSE) -> NULL | M16: =IF(K16>0,L16*K16,L16) -> NULL
A17: 0045 | B17: MacDill AFB (6th Medical Group) | C17: C | K17: =IF(J17<J$69,J$69/J17,0) -> 0 | L17: =VLOOKUP(A17,'IP Collections'!B16:K79,10,FALSE) -> NULL | M17: =IF(K17>0,L17*K17,L17) -> NULL
A18: 0046 | B18: Patrick AFB (45th Medical Group) | C18: C | K18: =IF(J18<J$69,J$69/J18,0) -> 0 | L18: =VLOOKUP(A18,'IP Collections'!B17:K80,10,FALSE) -> NULL | M18: =IF(K18>0,L18*K18,L18) -> NULL
A19: 0050 | B19: Moody AFB (347th Medical Group) | C19: C | K19: =IF(J19<J$69,J$69/J19,0) -> 0 | L19: =VLOOKUP(A19,'IP Collections'!B18:K81,10,FALSE) -> NULL | M19: =IF(K19>0,L19*K19,L19) -> NULL
A20: 0051 | B20: Robins AFB (78th Medical Group) | C20: C | K20: =IF(J20<J$69,J$69/J20,0) -> 0 | L20: =VLOOKUP(A20,'IP Collections'!B19:K82,10,FALSE) -> NULL | M20: =IF(K20>0,L20*K20,L20) -> NULL
A21: 0053 | B21: Mountain Home AFB (366th Medical Group) | C21: H | D21: 0.027480916 | E21: 0.030201342 | F21: 0.036637931 | G21: 0.0098039216 | H21: 0.019011407 | I21: 0.014492754 | L21: =VLOOKUP(A21,'IP Collections'!B20:K83,10,FALSE) -> 958.97
A22: 0055 | B22: Scott AFB (375th Medical Group) | C22: C | K22: =IF(J22<J$69,J$69/J22,0) -> 0 | L22: =VLOOKUP(A22,'IP Collections'!B21:K84,10,FALSE) -> NULL | M22: =IF(K22>0,L22*K22,L22) -> NULL
A23: 0059 | B23: McConnell AFB (22nd Medical Group) | C23: C | K23: =IF(J23<J$69,J$69/J23,0) -> 0 | L23: =VLOOKUP(A23,'IP Collections'!B22:K85,10,FALSE) -> NULL | M23: =IF(K23>0,L23*K23,L23) -> NULL
A24: 0062 | B24: Barksdale AFB (2nd Medical Group) | C24: C | K24: =IF(J24<J$69,J$69/J24,0) -> 0 | L24: =VLOOKUP(A24,'IP Collections'!B23:K86,10,FALSE) -> NULL | M24: =IF(K24>0,L24*K24,L24) -> NULL
A25: 0066 | B25: Andrews AFB (79th Medical Group) | C25: H | D25: 0.062854442 | E25: 0.08518754 | F25: 0.026943005 | G25: 0.056359482 | H25: 0.099889012 | I25: 0.099576271 | L25: =VLOOKUP(A25,'IP Collections'!B24:K87,10,FALSE) -> 57521.45
A26: 0073 | B26: Keesler AFB (81st Medical Group) | C26: H | D26: 0.098360656 | E26: 0.028653295 | F26: 0.037629351 | G26: 0.028203062 | H26: 0.029391425 | I26: 0.045439132 | J26: 0.045340751 | K26: =IF(J26<J$69,J$69/J26,0) -> 1.0330185 | L26: =VLOOKUP(A26,'IP Collections'!B25:K88,10,FALSE) -> 798730.07 | M26: =IF(K26>0,L26*K26,L26) -> 825102.94
A27: 0074 | B27: Columbus AFB (14th Medical Group) | C27: C | K27: =IF(J27<J$69,J$69/J27,0) -> 0 | L27: =VLOOKUP(A27,'IP Collections'!B26:K89,10,FALSE) -> NULL | M27: =IF(K27>0,L27*K27,L27) -> NULL
A28: 0076 | B28: Whiteman AFB (509th Medical Group) | C28: C | K28: =IF(J28<J$69,J$69/J28,0) -> 0 | L28: =VLOOKUP(A28,'IP Collections'!B27:K90,10,FALSE) -> NULL | M28: =IF(K28>0,L28*K28,L28) -> NULL
A29: 0077 | B29: Malmstrom AFB (341st Medical Group) | C29: C | K29: =IF(J29<J$69,J$69/J29,0) -> 0 | L29: =VLOOKUP(A29,'IP Collections'!B28:K91,10,FALSE) -> NULL | M29: =IF(K29>0,L29*K29,L29) -> NULL
A30: 0078 | B30: Offutt AFB (55th Medical Group) | C30: C | K30: =IF(J30<J$69,J$69/J30,0) -> 0 | L30: =VLOOKUP(A30,'IP Collections'!B29:K92,10,FALSE) -> NULL | M30: =IF(K30>0,L30*K30,L30) -> NULL
A31: 0079 | B31: Nellis AFB (99th Medical Group) | C31: H | D31: 0.042150039 | E31: 0.040260268 | F31: 0.037417763 | G31: 0.052820697 | H31: 0.047337278 | I31: 0.042406015 | J31: 0.049490102 | K31: =IF(J31<J$69,J$69/J31,0) -> 0 | L31: =VLOOKUP(A31,'IP Collections'!B30:K93,10,FALSE) -> 607968.58 | M31: =IF(K31>0,L31*K31,L31) -> 607968.58
A32: 0083 | B32: Kirtland AFB (377th Medical Group) | C32: C | K32: =IF(J32<J$69,J$69/J32,0) -> 0 | L32: =VLOOKUP(A32,'IP Collections'!B31:K94,10,FALSE) -> NULL | M32: =IF(K32>0,L32*K32,L32) -> NULL
A33: 0084 | B33: Holloman AFB (49th Medical Group) | C33: C | K33: =IF(J33<J$69,J$69/J33,0) -> 0 | L33: =VLOOKUP(A33,'IP Collections'!B32:K95,10,FALSE) -> NULL | M33: =IF(K33>0,L33*K33,L33) -> NULL
A34: 0085 | B34: Cannon AFB (27th Medical Group) | C34: C | K34: =IF(J34<J$69,J$69/J34,0) -> 0 | L34: =VLOOKUP(A34,'IP Collections'!B33:K143,10,FALSE) -> NULL | M34: =IF(K34>0,L34*K34,L34) -> NULL
A35: 0090 | B35: Seymour Johnson AFB (4th Medical Group) | C35: C | K35: =IF(J35<J$69,J$69/J35,0) -> 0 | L35: =VLOOKUP(A35,'IP Collections'!B34:K96,10,FALSE) -> NULL | M35: =IF(K35>0,L35*K35,L35) -> NULL
A36: 0093 | B36: Grand Forks AFB (319th Medical Group) | C36: C | K36: =IF(J36<J$69,J$69/J36,0) -> 0 | L36: =VLOOKUP(A36,'IP Collections'!B35:K97,10,FALSE) -> NULL | M36: =IF(K36>0,L36*K36,L36) -> NULL
A37: 0094 | B37: Minot AFB (5th Medical Group) | C37: C | K37: =IF(J37<J$69,J$69/J37,0) -> 0 | L37: =VLOOKUP(A37,'IP Collections'!B36:K98,10,FALSE) -> NULL | M37: =IF(K37>0,L37*K37,L37) -> NULL
A38: 0095 | B38: Wright Patterson AFB (88th Medical Group) | C38: H | D38: 0.078598485 | E38: 0.1047619 | F38: 0.10987172 | G38: 0.11081154 | H38: 0.10326873 | I38: 0.087593258 | J38: 0.094111172 | K38: =IF(J38<J$69,J$69/J38,0) -> 0 | L38: =VLOOKUP(A38,'IP Collections'!B37:K99,10,FALSE) -> 1780111.9 | M38: =IF(K38>0,L38*K38,L38) -> 1780111.9
A39: 0096 | B39: Tinker AFB (72th Medical Group) | C39: C | K39: =IF(J39<J$69,J$69/J39,0) -> 0 | L39: =VLOOKUP(A39,'IP Collections'!B38:K100,10,FALSE) -> NULL | M39: =IF(K39>0,L39*K39,L39) -> NULL
A40: 0097 | B40: Altus AFB (97th Medical Group) | C40: C | K40: =IF(J40<J$69,J$69/J40,0) -> 0 | L40: =VLOOKUP(A40,'IP Collections'!B39:K101,10,FALSE) -> NULL | M40: =IF(K40>0,L40*K40,L40) -> NULL
A41: 0101 | B41: Shaw AFB (20th Medical Group) | C41: C | K41: =IF(J41<J$69,J$69/J41,0) -> 0 | L41: =VLOOKUP(A41,'IP Collections'!B40:K102,10,FALSE) -> NULL | M41: =IF(K41>0,L41*K41,L41) -> NULL
A42: 0106 | B42: Ellsworth AFB (28th Medical Group) | C42: C | K42: =IF(J42<J$69,J$69/J42,0) -> 0 | L42: =VLOOKUP(A42,'IP Collections'!B41:K103,10,FALSE) -> NULL | M42: =IF(K42>0,L42*K42,L42) -> NULL
A43: 0112 | B43: Dyess AFB (7th Medical Group) | C43: C | K43: =IF(J43<J$69,J$69/J43,0) -> 0 | L43: =VLOOKUP(A43,'IP Collections'!B42:K104,10,FALSE) -> NULL | M43: =IF(K43>0,L43*K43,L43) -> NULL
A44: 0113 | B44: Sheppard AFB (82nd Medical Group) | C44: C | K44: =IF(J44<J$69,J$69/J44,0) -> 0 | L44: =VLOOKUP(A44,'IP Collections'!B43:K105,10,FALSE) -> NULL | M44: =IF(K44>0,L44*K44,L44) -> NULL
A45: 0114 | B45: Laughlin AFB (47th Medical Group) | C45: C | K45: =IF(J45<J$69,J$69/J45,0) -> 0 | L45: =VLOOKUP(A45,'IP Collections'!B44:K106,10,FALSE) -> NULL | M45: =IF(K45>0,L45*K45,L45) -> NULL
A46: 0117 | B46: Lackland AFB (59th Medical Wing) | C46: H | D46: 0.037337414 | E46: 0.038920324 | F46: 0.044446473 | G46: 0.038827131 | H46: 0.045219309 | I46: 0.026630971 | L46: =VLOOKUP(A46,'IP Collections'!B45:K107,10,FALSE) -> 352691.6 | M46: 0
A47: 0119 | B47: Hill AFB (75th Medical Group) | C47: C | K47: =IF(J47<J$69,J$69/J47,0) -> 0 | L47: =VLOOKUP(A47,'IP Collections'!B46:K108,10,FALSE) -> NULL | M47: =IF(K47>0,L47*K47,L47) -> NULL
A48: 0120 | B48: Langley AFB (1st Medical Group) | C48: H | D48: 0.0054374691 | E48: 0.0072007201 | F48: 0.0052886734 | G48: 0.0093976933 | H48: 0.0047355959 | I48: 0.011139059 | J48: 0.012566641 | K48: =IF(J48<J$69,J$69/J48,0) -> 3.7271562 | L48: =VLOOKUP(A48,'IP Collections'!B47:K109,10,FALSE) -> 76059.91 | M48: =IF(K48>0,L48*K48,L48) -> 283487.16
A49: 0128 | B49: Fairchild AFB (92nd Medical Group) | C49: C | K49: =IF(J49<J$69,J$69/J49,0) -> 0 | L49: =VLOOKUP(A49,'IP Collections'!B48:K110,10,FALSE) -> NULL | M49: =IF(K49>0,L49*K49,L49) -> NULL
A50: 0129 | B50: F.E. Warren AFB (90th Medical Group) | C50: C | K50: =IF(J50<J$69,J$69/J50,0) -> 0 | L50: =VLOOKUP(A50,'IP Collections'!B49:K111,10,FALSE) -> NULL | M50: =IF(K50>0,L50*K50,L50) -> NULL
A51: 0203 | B51: Eielson AFB (354th Medical Group) | C51: C | K51: =IF(J51<J$69,J$69/J51,0) -> 0 | L51: =VLOOKUP(A51,'IP Collections'!B50:K112,10,FALSE) -> NULL | M51: =IF(K51>0,L51*K51,L51) -> NULL
A52: 0248 | B52: Los Angeles AFB (61st Medical Squad) | C52: C | K52: =IF(J52<J$69,J$69/J52,0) -> 0 | L52: =VLOOKUP(A52,'IP Collections'!B51:K113,10,FALSE) -> NULL | M52: =IF(K52>0,L52*K52,L52) -> NULL
A53: 0250 | B53: McClellan AFB (77th Medical Group) | C53: I | K53: =IF(J53<J$69,J$69/J53,0) -> 0 | L53: =VLOOKUP(A53,'IP Collections'!B52:K114,10,FALSE) -> NULL | M53: =IF(K53>0,L53*K53,L53) -> NULL
A54: 0252 | B54: Peterson AFB (21st Medical Group) | C54: C | K54: =IF(J54<J$69,J$69/J54,0) -> 0 | L54: =VLOOKUP(A54,'IP Collections'!B53:K115,10,FALSE) -> NULL | M54: =IF(K54>0,L54*K54,L54) -> NULL
A55: 0287 | B55: Hickam AFB (15th Medical Group) | C55: C | K55: =IF(J55<J$69,J$69/J55,0) -> 0 | L55: =VLOOKUP(A55,'IP Collections'!B54:K116,10,FALSE) -> NULL | M55: =IF(K55>0,L55*K55,L55) -> NULL
A56: 0310 | B56: Hanscom AFB (66th Medical Group) | C56: C | K56: =IF(J56<J$69,J$69/J56,0) -> 0 | L56: =VLOOKUP(A56,'IP Collections'!B55:K117,10,FALSE) -> NULL | M56: =IF(K56>0,L56*K56,L56) -> NULL
A57: 0326 | B57: McGuire AFB (305th Medical Group) | C57: C | K57: =IF(J57<J$69,J$69/J57,0) -> 0 | L57: =VLOOKUP(A57,'IP Collections'!B56:K118,10,FALSE) -> NULL | M57: =IF(K57>0,L57*K57,L57) -> NULL
A58: 0335 | B58: Pope AFB (43rd Medical Group) | C58: C | K58: =IF(J58<J$69,J$69/J58,0) -> 0 | L58: =VLOOKUP(A58,'IP Collections'!B57:K119,10,FALSE) -> NULL | M58: =IF(K58>0,L58*K58,L58) -> NULL
A59: 0338 | B59: Vance AFB (71st Medical Group) | C59: C | K59: =IF(J59<J$69,J$69/J59,0) -> 0 | L59: =VLOOKUP(A59,'IP Collections'!B58:K120,10,FALSE) -> NULL | M59: =IF(K59>0,L59*K59,L59) -> NULL
A60: 0356 | B60: Charleston AFB (437th Medical Group) | C60: C | K60: =IF(J60<J$69,J$69/J60,0) -> 0 | L60: =VLOOKUP(A60,'IP Collections'!B59:K121,10,FALSE) -> NULL | M60: =IF(K60>0,L60*K60,L60) -> NULL
A61: 0363 | B61: Brooks AFB (311th Medical Squad) | C61: I | K61: =IF(J61<J$69,J$69/J61,0) -> 0 | L61: =VLOOKUP(A61,'IP Collections'!B60:K122,10,FALSE) -> NULL | M61: =IF(K61>0,L61*K61,L61) -> NULL
A62: 0364 | B62: Goodfellow AFB (17th Medical Group) | C62: C | K62: =IF(J62<J$69,J$69/J62,0) -> 0 | L62: =VLOOKUP(A62,'IP Collections'!B61:K144,10,FALSE) -> NULL | M62: =IF(K62>0,L62*K62,L62) -> NULL
A63: 0365 | B63: Kelly AFB | C63: I | K63: =IF(J63<J$69,J$69/J63,0) -> 0 | L63: =VLOOKUP(A63,'IP Collections'!B62:K123,10,FALSE) -> NULL | M63: =IF(K63>0,L63*K63,L63) -> NULL
A64: 0366 | B64: Randolph AFB (12 Medical Group) | C64: C | K64: =IF(J64<J$69,J$69/J64,0) -> 0 | L64: =VLOOKUP(A64,'IP Collections'!B63:K124,10,FALSE) -> NULL | M64: =IF(K64>0,L64*K64,L64) -> NULL
A65: 0395 | B65: McChord AFB (62nd Medical Group) | C65: C | K65: =IF(J65<J$69,J$69/J65,0) -> 0 | L65: =VLOOKUP(A65,'IP Collections'!B64:K125,10,FALSE) -> NULL | M65: =IF(K65>0,L65*K65,L65) -> NULL
A66: 0413 | B66: Bolling AFB (579th Medical Group) | C66: C | K66: =IF(J66<J$69,J$69/J66,0) -> 0 | L66: =VLOOKUP(A66,'IP Collections'!B65:K126,10,FALSE) -> NULL | M66: =IF(K66>0,L66*K66,L66) -> NULL
A67: 7139 | B67: Hurlburt FLD (1st Special Operations Medical Group) | C67: C | K67: =IF(J67<J$69,J$69/J67,0) -> 0 | L67: =VLOOKUP(A67,'IP Collections'!B66:K127,10,FALSE) -> NULL | M67: =IF(K67>0,L67*K67,L67) -> NULL
A68: 7200 | B68: Buckley AFB (460th Medical Squadron) | C68: C | K68: =IF(J68<J$69,J$69/J68,0) -> 0 | L68: =VLOOKUP(A68,'IP Collections'!B67:K128,10,FALSE) -> NULL | M68: =IF(K68>0,L68*K68,L68) -> NULL
H69: Average | I69: =AVERAGE(I5,I9,I15,I21,I25,I26,I31,I38,I46,I48) -> 0.045118175 | J69: =AVERAGE(J4:J68) -> 0.046837835 | K69: Total Collection | L69: =SUM(L4:L68) -> 5353112.3 | M69: =SUM(M4:M68) -> 5554629.6

Sheet JTF IP
A1: dmis_id | B1: dmis_name | C1: facility_type | E1: Number of IP Dispositions for CFY
D2: FY2007 | E2: FY2008 | F2: FY2009 | G2: FY2010 | H2: FY2011 | I2: FY2012 | J2: Factor Calculation | K2: FY 12 Collection | L2: FY 13 Goal
A3: 0123 | B3: Ft. Belvoir (FT. Belvoir Community Hospital) | C3: H | D3: 0.025954765 | E3: 0.025008806 | F3: 0.016365496 | G3: 0.026089828 | H3: 0.021395655 | I3: 0.035532995 | J3: =I5/I3 -> 1.2470191 | K3: 643406.23 | L3: =K3*J3 -> 802339.84
A4: 0067 | B4: Walter Reed National Military Medical Center | C4: H | D4: 0.061967772 | E4: 0.058080808 | F4: 0.045913291 | G4: 0.045179813 | H4: 0.046960106 | I4: 0.053087649 | J4: 1 | K4: 4196113.1 | L4: =K4*J4 -> 4196113.1
H5: Service Average | I5: =AVERAGE(I3:I4) -> 0.044310322 | K5: =SUM(K3:K4) -> 4839519.3 | L5: =SUM(L3:L4) -> 4998453

Sheet IP Collections
F1: Total IP Collections In CY by DMIS ID
A2: service | B2: dmis_id | C2: dmis_name | D2: facility_type | E2: FY2006 | F2: FY2007 | G2: FY2008 | H2: FY2009 | I2: FY2010 | J2: FY2011 | K2: FY2012
A3: AF | B3: 0004 | C3: Maxwell AFB (42nd Medical Group) | D3: C | E3: NULL | F3: NULL | G3: NULL | H3: NULL | I3: NULL | J3: NULL | K3: NULL | L3: Air Force Total | M3: =SUM(K3:K67) -> 5353112.3
A4: AF | B4: 0006 | C4: Elmendorf AFB (3rd Medical group) | D4: H | E4: 934576.62 | F4: 836996.44 | G4: 1200761.9 | H4: 845879.47 | I4: 532873.67 | J4: 892016.67 | K4: 833496.49
A5: AF | B5: 0009 | C5: Luke AFB (56th Medical Group) | D5: C | E5: 0 | F5: NULL | G5: NULL | H5: NULL | I5: NULL | J5: NULL | K5: NULL
A6: AF | B6: 0010 | C6: Davis Monthan AFB (355th Medical Group) | D6: C | E6: NULL | F6: NULL | G6: NULL | H6: NULL | I6: NULL | J6: NULL | K6: NULL
A7: AF | B7: 0013 | C7: Little Rock AFB (314th Medical Group) | D7: C | E7: NULL | F7: NULL | G7: NULL | H7: NULL | I7: NULL | J7: NULL | K7: NULL
A8: AF | B8: 0014 | C8: Travis AFB (60th Medical Group) | D8: H | E8: 1057445.9 | F8: 775419.54 | G8: 1211664.5 | H8: 1159290.3 | I8: 485099.36 | J8: 736686.4 | K8: 662855.11
A9: AF | B9: 0015 | C9: Beale AFB (9th Medical Group) | D9: C | E9: NULL | F9: NULL | G9: NULL | H9: NULL | I9: NULL | J9: NULL | K9: NULL
A10: AF | B10: 0018 | C10: Vandenberg AFB (30th Medical Group) | D10: C | E10: NULL | F10: NULL | G10: NULL | H10: NULL | I10: NULL | J10: NULL | K10: NULL
A11: AF | B11: 0019 | C11: Edwards AFB (95th Medical Group) | D11: C | E11: NULL | F11: NULL | G11: NULL | H11: NULL | I11: NULL | J11: NULL | K11: NULL
A12: AF | B12: 0033 | C12: USAF Academy (10th Medical Group) | D12: H | E12: 192217.64 | F12: 169788.01 | G12: 113708.48 | H12: 14075.28 | I12: NULL | J12: NULL | K12: NULL
A13: AF | B13: 0036 | C13: Dover AFB (436th Medical Group) | D13: C | E13: NULL | F13: NULL | G13: NULL | H13: NULL | I13: NULL | J13: NULL | K13: NULL
A14: AF | B14: 0042 | C14: Eglin AFB (96th Medical Group) | D14: H | E14: 402691.08 | F14: 618468.92 | G14: 696067.27 | H14: 363692.79 | I14: 476343.13 | J14: 320906.81 | K14: 182718.14
A15: AF | B15: 0043 | C15: Tyndall AFB (325th Medical Group) | D15: C | E15: NULL | F15: NULL | G15: NULL | H15: NULL | I15: NULL | J15: NULL | K15: NULL
A16: AF | B16: 0045 | C16: MacDill AFB (6th Medical Group) | D16: C | E16: 2067.03 | F16: 0 | G16: NULL | H16: NULL | I16: NULL | J16: NULL | K16: NULL
A17: AF | B17: 0046 | C17: Patrick AFB (45th Medical Group) | D17: C | E17: NULL | F17: NULL | G17: NULL | H17: NULL | I17: NULL | J17: NULL | K17: NULL
A18: AF | B18: 0050 | C18: Moody AFB (347th Medical Group) | D18: C | E18: NULL | F18: NULL | G18: NULL | H18: NULL | I18: NULL | J18: NULL | K18: NULL
A19: AF | B19: 0051 | C19: Robins AFB (78th Medical Group) | D19: C | E19: NULL | F19: NULL | G19: NULL | H19: NULL | I19: NULL | J19: NULL | K19: NULL
A20: AF | B20: 0053 | C20: Mountain Home AFB (366th Medical Group) | D20: H | E20: 119526.4 | F20: 77907.94 | G20: 45060.76 | H20: 24299.21 | I20: 35402.67 | J20: 29137.59 | K20: 958.97
A21: AF | B21: 0055 | C21: Scott AFB (375th Medical Group) | D21: C | E21: 251077.32 | F21: NULL | G21: NULL | H21: NULL | I21: NULL | J21: NULL | K21: NULL
A22: AF | B22: 0059 | C22: McConnell AFB (22nd Medical Group) | D22: C | E22: NULL | F22: NULL | G22: NULL | H22: NULL | I22: NULL | J22: NULL | K22: NULL
A23: AF | B23: 0062 | C23: Barksdale AFB (2nd Medical Group) | D23: C | E23: NULL | F23: NULL | G23: NULL | H23: NULL | I23: NULL | J23: NULL | K23: NULL
A24: AF | B24: 0066 | C24: Andrews AFB (79th Medical Group) | D24: H | E24: 1090765.5 | F24: 1179184.8 | G24: 267775.79 | H24: 262551.44 | I24: 356283.25 | J24: 267180.27 | K24: 57521.45
A25: AF | B25: 0073 | C25: Keesler AFB (81st Medical Group) | D25: H | E25: 585049.47 | F25: 128275.67 | G25: 244552.4 | H25: 274998.86 | I25: 340618.21 | J25: 835519.9 | K25: 798730.07
A26: AF | B26: 0074 | C26: Columbus AFB (14th Medical Group) | D26: C | E26: NULL | F26: NULL | G26: NULL | H26: NULL | I26: NULL | J26: NULL | K26: NULL
A27: AF | B27: 0076 | C27: Whiteman AFB (509th Medical Group) | D27: C | E27: NULL | F27: NULL | G27: NULL | H27: NULL | I27: NULL | J27: NULL | K27: NULL
A28: AF | B28: 0077 | C28: Malmstrom AFB (341st Medical Group) | D28: C | E28: NULL | F28: NULL | G28: NULL | H28: NULL | I28: NULL | J28: NULL | K28: NULL
A29: AF | B29: 0078 | C29: Offutt AFB (55th Medical Group) | D29: C | E29: 38124.58 | F29: NULL | G29: NULL | H29: NULL | I29: NULL | J29: NULL | K29: NULL
A30: AF | B30: 0079 | C30: Nellis AFB (99th Medical Group) | D30: H | E30: 561055.52 | F30: 637884.08 | G30: 443361.14 | H30: 392975.97 | I30: 680597.97 | J30: 705203.12 | K30: 607968.58
A31: AF | B31: 0083 | C31: Kirtland AFB (377th Medical Group) | D31: C | E31: NULL | F31: NULL | G31: NULL | H31: NULL | I31: NULL | J31: NULL | K31: NULL
A32: AF | B32: 0084 | C32: Holloman AFB (49th Medical Group) | D32: C | E32: NULL | F32: NULL | G32: NULL | H32: NULL | I32: NULL | J32: NULL | K32: NULL
A33: AF | B33: 0085 | C33: Cannon AFB (27th Medical Group) | D33: C | E33: NULL | F33: NULL | G33: NULL | H33: NULL | I33: NULL | J33: NULL | K33: NULL
A34: AF | B34: 0090 | C34: Seymour Johnson AFB (4th Medical Group) | D34: C | E34: NULL | F34: NULL | G34: NULL | H34: NULL | I34: NULL | J34: NULL | K34: NULL
A35: AF | B35: 0093 | C35: Grand Forks AFB (319th Medical Group) | D35: C | E35: NULL | F35: NULL | G35: NULL | H35: NULL | I35: NULL | J35: NULL | K35: NULL
A36: AF | B36: 0094 | C36: Minot AFB (5th Medical Group) | D36: C | E36: NULL | F36: NULL | G36: NULL | H36: NULL | I36: NULL | J36: NULL | K36: NULL
A37: AF | B37: 0095 | C37: Wright Patterson AFB (88th Medical Group) | D37: H | E37: 2019893.6 | F37: 1991882.6 | G37: 2582901 | H37: 2119004.6 | I37: 2513932.1 | J37: 1668902 | K37: 1780111.9
A38: AF | B38: 0096 | C38: Tinker AFB (72th Medical Group) | D38: C | E38: NULL | F38: NULL | G38: NULL | H38: NULL | I38: NULL | J38: NULL | K38: NULL
A39: AF | B39: 0097 | C39: Altus AFB (97th Medical Group) | D39: C | E39: NULL | F39: NULL | G39: NULL | H39: NULL | I39: NULL | J39: NULL | K39: NULL
A40: AF | B40: 0101 | C40: Shaw AFB (20th Medical Group) | D40: C | E40: NULL | F40: NULL | G40: NULL | H40: NULL | I40: NULL | J40: NULL | K40: NULL
A41: AF | B41: 0106 | C41: Ellsworth AFB (28th Medical Group) | D41: C | E41: NULL | F41: NULL | G41: NULL | H41: NULL | I41: NULL | J41: NULL | K41: NULL
A42: AF | B42: 0112 | C42: Dyess AFB (7th Medical Group) | D42: C | E42: NULL | F42: NULL | G42: NULL | H42: NULL | I42: NULL | J42: NULL | K42: NULL
A43: AF | B43: 0113 | C43: Sheppard AFB (82nd Medical Group) | D43: C | E43: NULL | F43: NULL | G43: NULL | H43: NULL | I43: NULL | J43: NULL | K43: NULL
A44: AF | B44: 0114 | C44: Laughlin AFB (47th Medical Group) | D44: C | E44: NULL | F44: NULL | G44: NULL | H44: NULL | I44: NULL | J44: NULL | K44: NULL
A45: AF | B45: 0117 | C45: Lackland AFB (59th Medical Wing) | D45: H | E45: 3960822.4 | F45: 5239922.5 | G45: 4176858.1 | H45: 4454788.2 | I45: 4581966.4 | J45: 2357969.2 | K45: 352691.6
A46: AF | B46: 0119 | C46: Hill AFB (75th Medical Group) | D46: C | E46: NULL | F46: NULL | G46: NULL | H46: NULL | I46: NULL | J46: NULL | K46: NULL
A47: AF | B47: 0120 | C47: Langley AFB (1st Medical Group) | D47: H | E47: 15068.88 | F47: 6842.84 | G47: 70692.11 | H47: 128108.32 | I47: 120712.09 | J47: 65120.07 | K47: 76059.91
A48: AF | B48: 0128 | C48: Fairchild AFB (92nd Medical Group) | D48: C | E48: NULL | F48: NULL | G48: NULL | H48: NULL | I48: NULL | J48: NULL | K48: NULL
A49: AF | B49: 0129 | C49: F.E. Warren AFB (90th Medical Group) | D49: C | E49: NULL | F49: NULL | G49: NULL | H49: NULL | I49: NULL | J49: NULL | K49: NULL
A50: AF | B50: 0203 | C50: Eielson AFB (354th Medical Group) | D50: C | E50: NULL | F50: NULL | G50: NULL | H50: NULL | I50: NULL | J50: NULL | K50: NULL
A51: AF | B51: 0248 | C51: Los Angeles AFB (61st Medical Squad) | D51: C | E51: NULL | F51: NULL | G51: NULL | H51: NULL | I51: NULL | J51: NULL | K51: NULL
A52: AF | B52: 0250 | C52: McClellan AFB (77th Medical Group) | D52: I | E52: NULL | F52: NULL | G52: NULL | H52: NULL | I52: NULL | J52: NULL | K52: NULL
A53: AF | B53: 0252 | C53: Peterson AFB (21st Medical Group) | D53: C | E53: NULL | F53: NULL | G53: NULL | H53: NULL | I53: NULL | J53: NULL | K53: NULL
A54: AF | B54: 0287 | C54: Hickam AFB (15th Medical Group) | D54: C | E54: NULL | F54: NULL | G54: NULL | H54: NULL | I54: NULL | J54: NULL | K54: NULL
A55: AF | B55: 0310 | C55: Hanscom AFB (66th Medical Group) | D55: C | E55: NULL | F55: NULL | G55: NULL | H55: NULL | I55: NULL | J55: NULL | K55: NULL
A56: AF | B56: 0326 | C56: McGuire AFB (305th Medical Group) | D56: C | E56: NULL | F56: NULL | G56: NULL | H56: NULL | I56: NULL | J56: NULL | K56: NULL
A57: AF | B57: 0335 | C57: Pope AFB (43rd Medical Group) | D57: C | E57: NULL | F57: NULL | G57: NULL | H57: NULL | I57: NULL | J57: NULL | K57: NULL
A58: AF | B58: 0338 | C58: Vance AFB (71st Medical Group) | D58: C | E58: NULL | F58: NULL | G58: NULL | H58: NULL | I58: NULL | J58: NULL | K58: NULL
A59: AF | B59: 0356 | C59: Charleston AFB (437th Medical Group) | D59: C | E59: NULL | F59: NULL | G59: NULL | H59: NULL | I59: NULL | J59: NULL | K59: NULL
... A67: AF | B67: 7200 | C67: Buckley AFB (460th Medical Squadron) | D67: C | E67: NULL | F67: NULL | G67: NULL | H67: NULL | I67: NULL | J67: NULL | K67: NULL
A68: Army | B68: 0001 | C68: Redstone Arsenal (Fox Army Health Clinic) | D68: C | E68: NULL | F68: NULL | G68: NULL | H68: NULL | I68: NULL | J68: NULL | K68: NULL | L68: Army Total | M68: =SUM(K68:K114) -> 22711774 | N68: NULL
A69: Army | B69: 0002 | C69: Ft. McClellan (Patterson ACH) | D69: I | E69: NULL | F69: NULL | G69: NULL | H69: NULL | I69: NULL | J69: NULL | K69: NULL | N69: NULL
A70: Army | B70: 0003 | C70: Ft. Rucker (Lyster Army Health Clinic) | D70: C | E70: 0 | F70: NULL | G70: NULL | H70: NULL | I70: NULL | J70: NULL | K70: NULL | N70: NULL
A71: Army | B71: 0005 | C71: Ft. Wainwright (Bassett Army Community Hospital) | D71: H | E71: 366479.21 | F71: 277816.3 | G71: 619632.31 | H71: 465193.78 | I71: 485276.46 | J71: 203001.13 | K71: 332689.02 | N71: 332689.02
A72: Army | B72: 0008 | C72: Ft. Huachuca (Bliss Army Health Clinic) | D72: C | E72: NULL | F72: NULL | G72: NULL | H72: NULL | I72: NULL | J72: NULL | K72: NULL | N72: NULL
A73: Army | B73: 0032 | C73: Ft. Carson (Evans Army Community Hospital) | D73: H | E73: 232797 | F73: 150165.54 | G73: 135722.48 | H73: 135603.22 | I73: 223403.77 | J73: 169925.2 | K73: 180700.69 | N73: 180700.69
A74: Army | B74: 0037 | C74: Washington D.C. (Walter Reed Army Medical Center) | D74: H | E74: 4508354.3 | F74: 2728885.7 | G74: 2773765.2 | H74: 7722785.2 | I74: 5022366.5 | J74: 3896703 | K74: 2934040.7 | N74: 2934040.7
A75: Army | B75: 0047 | C75: Ft. Gordon (Eisenhower Army Medical Center) | D75: H | E75: 1487988.2 | F75: 1658414.6 | G75: 2195460.1 | H75: 1711854.6 | I75: 1318403.5 | J75: 1010796.5 | K75: 1085817.4 | N75: 1085817.4
A76: Army | B76: 0048 | C76: Ft. Benning (Martin Army Community Hospital) | D76: H | E76: 459071.95 | F76: 362134.73 | G76: 330233.24 | H76: 295045.81 | I76: 231676.62 | J76: 144927.72 | K76: 71304.66 | N76: 71304.66
A77: Army | B77: 0049 | C77: Ft. Stewart (Winn Army Community Hospital) | D77: H | E77: 92067.62 | F77: 68138.12 | G77: 88362.34 | H77: 80419.83 | I77: 54230.76 | J77: 65250.26 | K77: 73405.67 | N77: 73405.67
A78: Army | B78: 0052 | C78: Ft. Shafter (Tripler Army Medical Center) | D78: H | E78: 1672425.1 | F78: 2144631.6 | G78: 2784583.3 | H78: 3018194.5 | I78: 2938628.1 | J78: 3405692.9 | K78: 2662608.7 | N78: 2662608.7
A79: Army | B79: 0057 | C79: Ft. Riley (Irwin Army Community Hospital) | D79: H | E79: 126789.44 | F79: 99884.66 | G79: 169915.95 | H79: 100830.65 | I79: 102771.3 | J79: 97741.47 | K79: 137148.51 | N79: 137148.51
A80: Army | B80: 0058 | C80: Ft. Leavenworth (Munson Army Health Clinic) | D80: C | E80: NULL | F80: NULL | G80: NULL | H80: NULL | I80: NULL | J80: NULL | K80: NULL | N80: NULL
A81: Army | B81: 0060 | C81: Ft. Campbell (Blanchfield Army Comm Hospital) | D81: H | E81: 192066.19 | F81: 253031.54 | G81: 314654.65 | H81: 295700.95 | I81: 169925.21 | J81: 85147.24 | K81: 82726.87 | N81: 82726.87
A82: Army | B82: 0061 | C82: Ft. Knox (Ireland Army Community Hospital) | D82: H | E82: 92891 | F82: 36553.56 | G82: 33368.67 | H82: 77732.83 | I82: 26630.53 | J82: 84744.54 | K82: 1255.35 | N82: 1255.35
A83: Army | B83: 0064 | C83: Ft. Polk (Bayne-Jones Army Community Hospital) | D83: H | E83: 63200.31 | F83: 52989.33 | G83: 44359.12 | H83: 98749.77 | I83: 50872.63 | J83: 17136.6 | K83: 6496.57 | N83: 6496.57
A84: Army | B84: 0069 | C84: Ft. Meade (Kimbrough Ambulatory Care Center) | D84: C | E84: NULL | F84: NULL | G84: NULL | H84: NULL | I84: NULL | J84: NULL | K84: NULL | N84: NULL
A85: Army | B85: 0075 | C85: Ft. Leonard Wood (Wood Army Community Hospital) | D85: H | E85: 47546.57 | F85: 37180.42 | G85: 88646.89 | H85: 91056.76 | I85: 23596.73 | J85: 13413.04 | K85: 22241.09 | N85: 22241.09
A86: Army | B86: 0081 | C86: Ft. Monmouth (Patterson Army Health Clinic) | D86: C | E86: NULL | F86: NULL | G86: NULL | H86: NULL | I86: NULL | J86: NULL | K86: NULL | N86: NULL
A87: Army | B87: 0086 | C87: West Point (Keller Army Community Hospital) | D87: H | E87: 59977.86 | F87: 59811.55 | G87: 27325.52 | H87: 32135.45 | I87: 37623.75 | J87: 4178.17 | K87: 4196.8 | N87: 4196.8
A88: Army | B88: 0089 | C88: Ft. Bragg (Womack Army Medical Center) | D88: H | E88: 857862.76 | F88: 947838 | G88: 1773425.9 | H88: 1517409.6 | I88: 1261222 | J88: 1401639.4 | K88: 796878.58 | N88: 796878.58
A89: Army | B89: 0098 | C89: Ft. Sill (Reynolds Army Community Hospital) | D89: H | E89: 82046.8 | F89: 159389.65 | G89: 115222.2 | H89: 133825.68 | I89: 121558.82 | J89: 94188.68 | K89: 105095.86 | N89: 105095.86
A90: Army | B90: 0105 | C90: Ft. Jackson (Moncrief Army Community Hospital) | D90: H | E90: 18149.33 | F90: 23595.53 | G90: 59494.22 | H90: 50168.61 | I90: 19169.97 | J90: 47559.46 | K90: 45187.82 | N90: 45187.82
A91: Army | B91: 0108 | C91: Ft. Bliss (William Beaumont Army Medical Center) | D91: H | E91: 1193600.3 | F91: 828486.45 | G91: 1646005.6 | H91: 1816712.4 | I91: 1323564.7 | J91: 1033602.2 | K91: 850771.88 | N91: 850771.88
A92: Army | B92: 0109 | C92: Ft. Sam Houston (Brooke Army Medical Center) | D92: H | E92: 3500452.9 | F92: 4752105.9 | G92: 4165779.2 | H92: 4934004.9 | I92: 6198627.2 | J92: 4127710 | K92: 7268312.9 | N92: 7268312.9
A93: Army | B93: 0110 | C93: Ft. Hood (C.R. Darnall Army Medical Center) | D93: H | E93: 299216.73 | F93: 566482.58 | G93: 434492.88 | H93: 341491.89 | I93: 259354.62 | J93: 331993.54 | K93: 292481.76 | N93: 292481.76
A94: Army | B94: 0121 | C94: Ft. Eustis (McDonald Army Health Center) | D94: H | E94: 0 | F94: 0 | G94: 0 | H94: NULL | I94: NULL | J94: NULL | K94: NULL | N94: NULL
A95: Army | B95: 0122 | C95: Ft. Lee (Kenner Army Health Clinic) | D95: C | E95: NULL | F95: NULL | G95: NULL | H95: NULL | I95: NULL | J95: NULL | K95: NULL | N95: NULL
A96: Army | B96: 0125 | C96: Ft. Lewis (Madigan Army Medical Center) | D96: H | E96: 3411109.9 | F96: 4708495.5 | G96: 5057732.7 | H96: 4589994.2 | I96: 5178954.6 | J96: 4499031.2 | K96: 3805669.4 | N96: 643406.23
A97: Army | B97: 0131 | C97: Ft. Irwin (Weed Army Community Hospital) | D97: H | E97: 0 | F97: 10190.63 | G97: 13519.05 | H97: 21189.64 | I97: 12981.39 | J97: 2276.58 | K97: 0 | N97: 3805669.4
A98: Army | B98: 0206 | C98: Yuma Proving Grounds | D98: I | E98: NULL | F98: NULL | G98: NULL | H98: NULL | I98: NULL | J98: NULL | K98: NULL | N98: 0
A99: Army | B99: 0256 | C99: Pentagon Army Health Clinic | D99: I | E99: NULL | F99: NULL | G99: NULL | H99: NULL | I99: NULL | J99: NULL | K99: NULL | N99: NULL
A100: Army | B100: 0273 | C100: Ft. McPherson (Lawrence Joel Army Health Clinic) | D100: I | E100: NULL | F100: NULL | G100: NULL | H100: NULL | I100: NULL | J100: NULL | K100: NULL | N100: NULL
A101: Army | B101: 0308 | C101: Aberdeen Proving Grounds (Kirk Army Health Clinic) | D101: I | E101: NULL | F101: NULL | G101: NULL | H101: NULL | I101: NULL | J101: NULL | K101: NULL | N101: NULL
A102: Army | B102: 0309 | C102: Ft. Detrick US Army Health Clinic | D102: I | E102: NULL | F102: NULL | G102: NULL | H102: NULL | I102: NULL | J102: NULL | K102: NULL | N102: NULL
A103: Army | B103: 0330 | C103: Ft. Drum (Guthrie Army Health Clinic) | D103: C | E103: NULL | F103: NULL | G103: NULL | H103: NULL | I103: NULL | J103: NULL | K103: NULL | N103: NULL
A104: Army | B104: 0350 | C104: Ft. Indiantown Gap US Army Health Clinic | D104: I | E104: NULL | F104: NULL | G104: NULL | H104: NULL | I104: NULL | J104: NULL | K104: NULL | N104: NULL
A105: Army | B105: 0351 | C105: Letterkenny US Army Health Clinic | D105: I | E105: NULL | F105: NULL | G105: NULL | H105: NULL | I105: NULL | J105: NULL | K105: NULL | N105: NULL
A106: Army | B106: 0352 | C106: Carlisle (Dunham Army Health Clinic) | D106: C | E106: NULL | F106: NULL | G106: NULL | H106: NULL | I106: NULL | J106: NULL | K106: NULL | N106: NULL
A107: Army | B107: 0353 | C107: Tobyhanna US Army Health Clinic | D107: I | E107: NULL | F107: NULL | G107: NULL | H107: NULL | I107: NULL | J107: NULL | K107: NULL | N107: NULL
...

Sheet Army OP
A1: 8c. DD-2569 forms Outpatient encounters:c) What percentage of completed and current (signed within the past 12 months) DD Form 2569s (TPC Insurance Info) is available for review?
A2: DMIS ID | B2: DMIS Facility Name | C2: Reporting Month | D2: 40827 | E2: 40848 | F2: 40878 | G2: 40909 | H2: 40940 | I2: 40969 | J2: 41000 | K2: 41030 | L2: 41061 | M2: 41091 | N2: 41122 | O2: 41153 | P2: Average | Q2: Factor (80%) | R2: FY 12 Collections | S2: FY 13 Collection Goal
C3: ARMY | D3: =AVERAGE(D5,D4,D18,D22,D34) -> 0.88965657 | E3: =AVERAGE(E5,E4,E18,E22,E34) -> 0.90024242 | F3: =AVERAGE(F5,F4,F18,F22,F34) -> 0.89322847 | G3: =AVERAGE(G5,G4,G18,G22,G34) -> 0.88402271 | H3: =AVERAGE(H5,H4,H18,H22,H34) -> 0.89139102 | I3: =AVERAGE(I5,I4,I18,I22,I34) -> 0.88221298 | J3: =AVERAGE(J5,J4,J18,J22,J34) -> 0.8839682 | K3: =AVERAGE(K5,K4,K18,K22,K34) -> 0.89185859 | ... O3: =AVERAGE(O5,O4,O18,O22,O34) -> 0.73738712 | P3: =AVERAGE(D3:O3) -> 0.85423691 | Q3: =IF(P3<0.8,0.8/P3,0) -> 0
C4: ERMC | D4: =AVERAGE(D5:D7) -> 0.85666667 | E4: =AVERAGE(E5:E7) -> 0.93666667 | F4: =AVERAGE(F5:F7) -> 0.90444444 | G4: =AVERAGE(G5:G7) -> 0.8792692 | H4: =AVERAGE(H5:H7) -> 0.90622638 | I4: =AVERAGE(I5:I7) -> 0.87333333 | J4: =AVERAGE(J5:J7) -> 0.94222222 | K4: =AVERAGE(K5:K7) -> 0.94977778 | ... O4: =AVERAGE(O5:O7) -> 0.73009907 | P4: =AVERAGE(D4:O4) -> 0.86407591 | Q4: =IF(P4<0.8,0.8/P4,0) -> 0
A5: 0606 | B5: HEIDELBERG MEDDAC | C5: 0606 - HEIDELBERG | D5: 1 | E5: 1 | F5: 1 | G5: 0.96666667 | H5: 1 | I5: 0.96666667 | J5: 1 | K5: 0.93333333 | L5: 0.83333333 | M5: 0.56666667 | N5: 0.45394737 | O5: 0.36 | P5: =AVERAGE(D5:O5) -> 0.84005117 | Q5: =IF(P5<0.8,0.8/P5,0) -> 0 | R5: =VLOOKUP(A5,'OP Collections'!B$3:K$144,10,FALSE) -> 555051.37 | S5: =IF(Q5>0,R5*Q5,R5) -> 555051.37
A6: 0607 | B6: LANDSTUHL REGIONAL MEDCEN | C6: 0607 - LANDSTUHL | D6: 0.91 | E6: 0.91 | F6: 0.80666667 | G6: 0.80536913 | H6: 0.81456954 | I6: 0.85333333 | J6: 0.96666667 | K6: 0.98 | L6: 0.98 | M6: 0.95394737 | N6: 0.95333333 | O6: 0.97315436 | P6: =AVERAGE(D6:O6) -> 0.90892003 | Q6: =IF(P6<0.8,0.8/P6,0) -> 0 | R6: =VLOOKUP(A6,'OP Collections'!B$3:K$144,10,FALSE) -> 2243329.7 | S6: =IF(Q6>0,R6*Q6,R6) -> 2243329.7
A7: 0609 | B7: BAVARIA MEDDAC | C7: 0609 - VILSECK | D7: 0.66 | E7: 0.9 | F7: 0.90666667 | G7: 0.86577181 | H7: 0.90410959 | I7: 0.8 | J7: 0.86 | K7: 0.936 | L7: 0.73026316 | M7: 0.94 | N7: 0.75912409 | O7: 0.85714286 | P7: =AVERAGE(D7:O7) -> 0.84325651 | Q7: =IF(P7<0.8,0.8/P7,0) -> 0 | R7: =VLOOKUP(A7,'OP Collections'!B$3:K$144,10,FALSE) -> 202738.15 | S7: =IF(Q7>0,R7*Q7,R7) -> 202738.15
C8: NRMC | D8: =AVERAGE(D10:D15,D17) -> 0.89571429 | E8: =AVERAGE(E10:E15,E17) -> 0.88571429 | F8: =AVERAGE(F10:F15,F17) -> 0.8838755 | G8: =AVERAGE(G10:G15,G17) -> 0.87611836 | H8: =AVERAGE(H10:H15,H17) -> 0.86845803 | I8: =AVERAGE(I10:I15,I17) -> 0.88699793 | J8: =AVERAGE(J10:J15,J17) -> 0.88358235 | K8: =AVERAGE(K10:K15,K17) -> 0.88549586 | ... O8: =AVERAGE(O10:O15,O17) -> 0.88799039 | P8: =AVERAGE(D8:O8) -> 0.87295609 | Q8: =IF(P8<0.8,0.8/P8,0) -> 0
A9: 0037 | B9: WALTER REED AMC-WASHINGTON DC | C9: 0037 - WASHINGTON DC | R9: 1125608.8 | S9: 0
A10: 0061 | B10: IRELAND ACH-FT. KNOX | C10: 0061 - FT. KNOX | D10: 0.97 | E10: 0.97 | F10: 0.96666667 | G10: 0.96666667 | H10: 0.96666667 | I10: 0.96666667 | J10: 0.96666667 | K10: 0.96666667 | L10: 0.96666667 | M10: 0.96666667 | N10: 0.96666667 | O10: 0.96666667 | P10: =AVERAGE(D10:O10) -> 0.96722222 | Q10: =IF(P10<0.8,0.8/P10,0) -> 0 | R10: =VLOOKUP(A10,'OP Collections'!B$3:K$144,10,FALSE) -> 1016964.6 | S10: =IF(Q10>0,R10*Q10,R10) -> 1016964.6
A11: 0069 | B11: KIMBROUGH AMB CAR CEN-FT MEADE | C11: 0069 - FT. MEADE | D11: 0.8 | E11: 0.88 | F11: 0.87304688 | G11: 0.85897436 | H11: 0.88029466 | I11: 0.86231884 | J11: 0.88045541 | K11: 0.91271347 | L11: 0.90485075 | M11: 0.92395437 | N11: 0.90018484 | O11: 0.91926606 | P11: =AVERAGE(D11:O11) -> 0.88300497 | Q11: =IF(P11<0.8,0.8/P11,0) -> 0 | R11: =VLOOKUP(A11,'OP Collections'!B$3:K$144,10,FALSE) -> 4706224.7 | S11: =IF(Q11>0,R11*Q11,R11) -> 4706224.7
A12: 0086 | B12: KELLER ACH-WEST POINT | C12: 0086 - WEST POINT | D12: 0.86 | E12: 0.87 | F12: 0.84693878 | G12: 0.84 | H12: 0.89795918 | I12: 0.91 | J12: 0.92929293 | K12: 0.90909091 | L12: 0.90909091 | M12: 0.81 | N12: 0.92708333 | O12: 0.94 | P12: =AVERAGE(D12:O12) -> 0.88745467 | Q12: =IF(P12<0.8,0.8/P12,0) -> 0 | R12: =VLOOKUP(A12,'OP Collections'!B$3:K$144,10,FALSE) -> 563290.39 | S12: =IF(Q12>0,R12*Q12,R12) -> 563290.39
A13: 0089 | B13: WOMACK AMC-FT. BRAGG | C13: 0089 - FT. BRAGG | D13: 0.69 | E13: 0.58 | F13: 0.69047619 | G13: 0.6171875 | H13: 0.66428571 | I13: 0.77 | J13: 0.70866142 | K13: 0.66 | L13: 0.76744186 | M13: 0.672 | N13: 0.6171875 | O13: 0.6 | P13: =AVERAGE(D13:O13) -> 0.66977002 | Q13: =IF(P13<0.8,0.8/P13,0) -> 1.1944399 | R13: =VLOOKUP(A13,'OP Collections'!B$3:K$144,10,FALSE) -> 2243145.6 | S13: =IF(Q13>0,R13*Q13,R13) -> 2679302.5
A14: 0121 | B14: MCDONALD AHC-FT. EUSTIS | C14: 0121 - FT. EUSTIS | D14: 1 | E14: 0.95 | F14: 0.9 | G14: 0.92 | H14: 0.93 | I14: 0.9 | J14: 0.9 | K14: 0.92 | L14: 0.94 | M14: 0.93 | N14: 0.95 | O14: 0.95 | P14: =AVERAGE(D14:O14) -> 0.9325 | Q14: =IF(P14<0.8,0.8/P14,0) -> 0 | R14: =VLOOKUP(A14,'OP Collections'!B$3:K$144,10,FALSE) -> 824429.1 | S14: =IF(Q14>0,R14*Q14,R14) -> 824429.1
A15: 0122 | B15: KENNER AHC-FT. LEE | C15: 0122 - FT. LEE | D15: 0.96 | E15: 0.97 | F15: 0.96 | G15: 0.95 | H15: 0.76 | I15: 0.85 | J15: 0.82 | K15: 0.85 | L15: 0.87 | M15: 0 | N15: 0.8 | O15: 0.85 | P15: =AVERAGE(D15:O15) -> 0.80333333 | Q15: =IF(P15<0.8,0.8/P15,0) -> 0 | R15: =VLOOKUP(A15,'OP Collections'!B$3:K$144,10,FALSE) -> 1046966.7 | S15: =IF(Q15>0,R15*Q15,R15) -> 1046966.7
A16: 0123 | B16: DEWITT ACH-FT. BELVOIR | C16: 0123 - FT. BELVOIR | S16: 0
A17: 0330 | B17: GUTHRIE AHC-FT. DRUM | C17: 0330 - FT. DRUM | D17: 0.99 | E17: 0.98 | F17: 0.95 | G17: 0.98 | H17: 0.98 | I17: 0.95 | J17: 0.98 | K17: 0.98 | L17: 0.96 | M17: 0.88888889 | N17: 0.98 | O17: 0.99 | P17: =AVERAGE(D17:O17) -> 0.96740741 | Q17: =IF(P17<0.8,0.8/P17,0) -> 0 | R17: =VLOOKUP(A17,'OP Collections'!B$3:K$144,10,FALSE) -> 178231.14 | S17: =IF(Q17>0,R17*Q17,R17) -> 178231.14
C18: PRMC | D18: =AVERAGE(D19:D21) -> 0.94666667 | E18: =AVERAGE(E19:E21) -> 0.89 | F18: =AVERAGE(F19:F21) -> 0.94222222 | G18: =AVERAGE(G19:G21) -> 0.9654321 | H18: =AVERAGE(H19:H21) -> 0.95264069 | I18: =AVERAGE(I19:I21) -> 0.95306122 | J18: =AVERAGE(J19:J21) -> 0.89750567 | K18: =AVERAGE(K19:K21) -> 1 | ... O18: =AVERAGE(O19:O21) -> 0.99224806 | P18: =AVERAGE(D18:O18) -> 0.95595213 | Q18: =IF(P18<0.8,0.8/P18,0) -> 0
A19: 0052 | B19: TRIPLER AMC-FT SHAFTER | C19: 0052 - FT. SHAFTER | D19: 0.9 | E19: 0.73 | F19: 0.86666667 | G19: 0.93333333 | H19: 0.91428571 | I19: 0.9 | J19: 0.73333333 | K19: 1 | L19: 0.96666667 | M19: 0.925 | N19: 0.96666667 | O19: 1 | P19: =AVERAGE(D19:O19) -> 0.90299603 | Q19: =IF(P19<0.8,0.8/P19,0) -> 0 | R19: =VLOOKUP(A19,'OP Collections'!B$3:K$144,10,FALSE) -> 2029622.1 | S19: =IF(Q19>0,R19*Q19,R19) -> 2029622.1
A20: 0610 | B20: BG CRAWFORD SAMS AHC-CAMP ZAMA | C20: 0610 - CAMP ZAMA | D20: 1 | E20: 0.98 | F20: 1 | G20: 1 | H20: 0.98 | I20: 0.95918367 | J20: 0.95918367 | K20: 1 | L20: 1 | M20: 0.95744681 | N20: 0.97916667 | O20: 0.97674419 | P20: =AVERAGE(D20:O20) -> 0.98264375 | Q20: =IF(P20<0.8,0.8/P20,0) -> 0 | R20: =VLOOKUP(A20,'OP Collections'!B$3:K$144,10,FALSE) -> 38048.78 | S20: =IF(Q20>0,R20*Q20,R20) -> 38048.78
A21: 0612 | B21: 121st CSH-SEOUL | C21: 0612 - SEOUL | D21: 0.94 | E21: 0.96 | F21: 0.96 | G21: 0.96296296 | H21: 0.96363636 | I21: 1 | J21: 1 | K21: 1 | L21: 1 | M21: 1 | N21: 1 | O21: 1 | P21: =AVERAGE(D21:O21) -> 0.98221661 | Q21: =IF(P21<0.8,0.8/P21,0) -> 0 | R21: =VLOOKUP(A21,'OP Collections'!B$3:K$144,10,FALSE) -> 395322.46 | S21: =IF(Q21>0,R21*Q21,R21) -> 395322.46
C22: SRMC | D22: =AVERAGE(D23:D33) -> 0.83272727 | E22: =AVERAGE(E23:E33) -> 0.83454545 | F22: =AVERAGE(F23:F33) -> 0.81954103 | G22: =AVERAGE(G23:G33) -> 0.84871685 | H22: =AVERAGE(H23:H33) -> 0.80851833 | I22: =AVERAGE(I23:I33) -> 0.81673695 | J22: =AVERAGE(J23:J33) -> 0.8004111 | K22: =AVERAGE(K23:K33) -> 0.81051733 | ... O22: =AVERAGE(O23:O33) -> 0.85164917 | P22: =AVERAGE(D22:O22) -> 0.82624217 | Q22: =IF(P22<0.8,0.8/P22,0) -> 0
A23: 0001 | B23: FOX AHC-REDSTONE ARSENAL | C23: 0001 - REDSTONE ARSENAL | D23: 0.94 | E23: 0.94 | F23: 0.89795918 | G23: 0.97959184 | H23: 0.94 | I23: 1 | J23: 1 | K23: 0.92156863 | L23: 0.96 | M23: 1 | N23: 1 | O23: 1 | P23: =AVERAGE(D23:O23) -> 0.96492664 | Q23: =IF(P23<0.8,0.8/P23,0) -> 0 | R23: =VLOOKUP(A23,'OP Collections'!B$3:K$144,10,FALSE) -> 2514373.7 | S23: =IF(Q23>0,R23*Q23,R23) -> 2514373.7
A24: 0003 | B24: LYSTER AHC-FT. RUCKER | C24: 0003 - FT. RUCKER | D24: 0.76 | E24: 0.76 | F24: 0.82 | G24: 0.88 | H24: 0.84 | I24: 0.8 | J24: 0.82 | K24: 0.82 | L24: 0.84 | M24: 0.82 | N24: 0.92 | O24: 0.85714286 | P24: =AVERAGE(D24:O24) -> 0.82809524 | Q24: =IF(P24<0.8,0.8/P24,0) -> 0 | R24: =VLOOKUP(A24,'OP Collections'!B$3:K$144,10,FALSE) -> 1816980.5 | S24: =IF(Q24>0,R24*Q24,R24) -> 1816980.5
A25: 0047 | B25: EISENHOWER AMC-FT. GORDON | C25: 0047 - FT. GORDON | D25: 0.82 | E25: 0.8 | F25: 0.785 | G25: 0.82 | H25: 0.74 | I25: 0.81 | J25: 0.83 | K25: 0.85 | L25: 0.865 | M25: 0.91 | N25: 0.86 | O25: 0.82 | P25: =AVERAGE(D25:O25) -> 0.82583333 | Q25: =IF(P25<0.8,0.8/P25,0) -> 0 | R25: =VLOOKUP(A25,'OP Collections'!B$3:K$144,10,FALSE) -> 1632052.2 | S25: =IF(Q25>0,R25*Q25,R25) -> 1632052.2
A26: 0048 | B26: MARTIN ACH-FT. BENNING | C26: 0048 - FT. BENNING | D26: 0.97 | E26: 0.97 | F26: 1 | G26: 0.96666667 | H26: 1 | I26: 1 | J26: 1 | K26: 1 | L26: 1 | M26: 1 | N26: 1 | O26: 1 | P26: =AVERAGE(D26:O26) -> 0.99222222 | Q26: =IF(P26<0.8,0.8/P26,0) -> 0 | R26: =VLOOKUP(A26,'OP Collections'!B$3:K$144,10,FALSE) -> 963107.58 | S26: =IF(Q26>0,R26*Q26,R26) -> 963107.58
A27: 0049 | B27: WINN ACH-FT. STEWART | C27: 0049 - FT. STEWART | D27: 0.72 | E27: 0.87 | F27: 0.66666667 | G27: 0.87096774 | H27: 0.76666667 | I27: 0.83870968 | J27: 0.63333333 | K27: 0.76666667 | L27: 0.56666667 | M27: 0.76666667 | N27: 0.73333333 | O27: 0.83333333 | P27: =AVERAGE(D27:O27) -> 0.7527509 | Q27: =IF(P27<0.8,0.8/P27,0) -> 1.0627686 | R27: =VLOOKUP(A27,'OP Collections'!B$3:K$144,10,FALSE) -> 1386229.9 | S27: =IF(Q27>0,R27*Q27,R27) -> 1473241.5
A28: 0060 | B28: BLANCHFIELD ACH-FT. CAMPBELL | C28: 0060 - FT. CAMPBELL | D28: 0.54 | E28: 0.56 | F28: 0.54 | G28: 0.72 | H28: 0.62 | I28: 0.62 | J28: 0.50943396 | K28: 0.65384615 | L28: 0.57407407 | M28: 0.43396226 | N28: 0.59259259 | O28: 0.47272727 | P28: =AVERAGE(D28:O28) -> 0.56971969 | Q28: =IF(P28<0.8,0.8/P28,0) -> 1.4041993 | R28: =VLOOKUP(A28,'OP Collections'!B$3:K$144,10,FALSE) -> 1168930.2 | S28: =IF(Q28>0,R28*Q28,R28) -> 1641411.1
A29: 0064 | B29: BAYNE-JONES ACH-FT. POLK | C29: 0064 - FT. POLK | D29: 0.87 | E29: 0.83 | F29: 0.9 | G29: 0.9 | H29: 0.93333333 | I29: 0.83333333 | J29: 0.86666667 | K29: 0.9 | L29: 0.93333333 | M29: 0.9 | N29: 0.9 | O29: 0.96666667 | P29: =AVERAGE(D29:O29) -> 0.89444444 | Q29: =IF(P29<0.8,0.8/P29,0) -> 0 | R29: =VLOOKUP(A29,'OP Collections'!B$3:K$144,10,FALSE) -> 381274.8 | S29: =IF(Q29>0,R29*Q29,R29) -> 381274.8
A30: 0098 | B30: REYNOLDS ACH-FT. SILL | C30: 0098 - FT. SILL | D30: 0.97 | E30: 0.97 | F30: 0.8 | G30: 0.76666667 | H30: 0.53333333 | I30: 0.71428571 | J30: 0.71875 | K30: 0.52 | L30: 0.81632653 | M30: 0.96666667 | N30: 0.68 | O30: 0.92307692 | P30: =AVERAGE(D30:O30) -> 0.78159215 | Q30: =IF(P30<0.8,0.8/P30,0) -> 1.0235517 | R30: =VLOOKUP(A30,'OP Collections'!B$3:K$144,10,FALSE) -> 722540.39 | S30: =IF(Q30>0,R30*Q30,R30) -> 739557.47
A31: 0105 | B31: MONCRIEF ACH-FT. JACKSON | C31: 0105 - FT. JACKSON | D31: 1 | E31: 0.97 | F31: 1 | G31: 1 | H31: 0.96666667 | I31: 1 | J31: 0.83333333 | K31: 1 | L31: 1 | M31: 0.96666667 | N31: 0.96666667 | O31: 0.93333333 | P31: =AVERAGE(D31:O31) -> 0.96972222 | Q31: =IF(P31<0.8,0.8/P31,0) -> 0 | R31: =VLOOKUP(A31,'OP Collections'!B$3:K$144,10,FALSE) -> 1170544.8 | S31: =IF(Q31>0,R31*Q31,R31) -> 1170544.8
A32: 0109 | B32: BROOKE AMC-FT. SAM HOUSTON | C32: 0109 - FT. SAM HOUSTON | D32: 0.62 | E32: 0.56 | F32: 0.7 | G32: 0.48979592 | H32: 0.62 | I32: 0.44 | J32: 0.64705882 | K32: 0.52830189 | L32: 0.54545455 | M32: 0.46875 | N32: 0.56862745 | O32: 0.62 | P32: =AVERAGE(D32:O32) -> 0.56733239 | Q32: =IF(P32<0.8,0.8/P32,0) -> 1.4101081 | R32: =VLOOKUP(A32,'OP Collections'!B$3:K$144,10,FALSE) -> 3400311.9 | S32: =IF(Q32>0,R32*Q32,R32) -> 4794807.4
A33: 0110 | B33: DARNALL AMC-FT. HOOD | C33: 0110 - FT. HOOD | D33: 0.95 | E33: 0.95 | F33: 0.90532544 | G33: 0.94219653 | H33: 0.93370166 | I33: 0.92777778 | J33: 0.94594595 | K33: 0.95530726 | L33: 0.94535519 | M33: 0.95854922 | N33: 0.94827586 | O33: 0.94186047 | P33: =AVERAGE(D33:O33) -> 0.94202461 | Q33: =IF(P33<0.8,0.8/P33,0) -> 0 | R33: =VLOOKUP(A33,'OP Collections'!B$3:K$144,10,FALSE) -> 805363.51 | S33: =IF(Q33>0,R33*Q33,R33) -> 805363.51
C34: WRMC | D34: =AVERAGE(D35:D43) -> 0.81222222 | E34: =AVERAGE(E35:E43) -> 0.84 | F34: =AVERAGE(F35:F43) -> 0.79993464 | G34: =AVERAGE(G35:G43) -> 0.76002874 | H34: =AVERAGE(H35:H43) -> 0.78956972 | I34: =AVERAGE(I35:I43) -> 0.80126675 | J34: =AVERAGE(J35:J43) -> 0.77970199 | K34: =AVERAGE(K35:K43) -> 0.76566449 | ... O34: =AVERAGE(O35:O43) -> 0.75293929 | P34: =AVERAGE(D34:O34) -> 0.7848632 | Q34: =IF(P34<0.8,0.8/P34,0) -> 1.0192859
A35: 0005 | B35: BASSETT ACH-FT. WAINWRIGHT | C35: 0005 - FT. WAINWRIGHT | D35: 0.95 | E35: 0.95 | F35: 0.87 | G35: 0.64 | H35: 0.875 | I35: 0.93851133 | J35: 0.95 | K35: 0.9 | L35: 0.89 | M35: 0.89 | N35: 0.85 | O35: 0.85 | P35: =AVERAGE(D35:O35) -> 0.87945928 | Q35: =IF(P35<0.8,0.8/P35,0) -> 0 | R35: =VLOOKUP(A35,'OP Collections'!B$3:K$144,10,FALSE) -> 1587733.5 | S35: =IF(Q35>0,R35*Q35,R35) -> 1587733.5
A36: 0008 | B36: R W BLISS AHC-FT. HUACHUCA | C36: 0008 - FT. HUACHUCA | D36: 0.76 | E36: 0.84 | F36: 0.7 | G36: 0.62 | H36: 0.6 | I36: 0.72 | J36: 0.8 | K36: 0.68 | L36: 0.78 | M36: 0.8 | N36: 0.66 | O36: 0.56 | P36: =AVERAGE(D36:O36) -> 0.71 | Q36: =IF(P36<0.8,0.8/P36,0) -> 1.1267606 | R36: =VLOOKUP(A36,'OP Collections'!B$3:K$144,10,FALSE) -> 374874.94 | S36: =IF(Q36>0,R36*Q36,R36) -> 422394.3
A37: 0032 | B37: EVANS ACH-FT. CARSON | C37: 0032 - FT. CARSON | D37: 0.9 | E37: 0.98 | F37: 0.96 | G37: 1 | H37: 1 | I37: 0.81132075 | J37: 0.89285714 | K37: 0.94117647 | L37: 0.9 | M37: 0 | N37: 0.90196078 | O37: 0.96 | P37: =AVERAGE(D37:O37) -> 0.85394293 | Q37: =IF(P37<0.8,0.8/P37,0) -> 0 | R37: =VLOOKUP(A37,'OP Collections'!B$3:K$144,10,FALSE) -> 975480.95 | S37: =IF(Q37>0,R37*Q37,R37) -> 975480.95
A38: 0057 | B38: IRWIN ACH-FT. RILEY | C38: 0057 - FT. RILEY | D38: 1 | E38: 1 | F38: 1 | G38: 0.96666667 | H38: 1 | I38: 1 | J38: 1 | K38: 1 | L38: 1 | M38: 1 | N38: 1 | O38: 0.83333333 | P38: =AVERAGE(D38:O38) -> 0.98333333 | Q38: =IF(P38<0.8,0.8/P38,0) -> 0 | R38: =VLOOKUP(A38,'OP Collections'!B$3:K$144,10,FALSE) -> 695185.3 | S38: =IF(Q38>0,R38*Q38,R38) -> 695185.3
A39: 0058 | B39: MUNSON AHC-FT. LEAVENWORTH | C39: 0058 - FT. LEAVENWORTH | D39: 0.8 | E39: 0.62 | F39: 0.72 | G39: 0.63829787 | H39: 0.89583333 | I39: 0.74 | J39: 0.66 | K39: 0.76 | L39: 0.71111111 | M39: 0.64583333 | N39: 0.7 | O39: 0.76595745 | P39: =AVERAGE(D39:O39) -> 0.72141942 | Q39: =IF(P39<0.8,0.8/P39,0) -> 1.108925 | R39: =VLOOKUP(A39,'OP Collections'!B$3:K$144,10,FALSE) -> 238790 | S39: =IF(Q39>0,R39*Q39,R39) -> 264800.19
A40: 0075 | B40: L. WOOD ACH-FT. LEONARD WOOD | C40: 0075 - FT. LEONARD WOOD | D40: 0.87 | E40: 0.87 | F40: 0.66666667 | G40: 0.73333333 | H40: 0.76666667 | I40: 0.8 | J40: 0.66666667 | K40: 0.66666667 | L40: 0.76666667 | M40: 1 | N40: 0.86666667 | O40: 0.76666667 | P40: =AVERAGE(D40:O40) -> 0.78666667 | Q40: =IF(P40<0.8,0.8/P40,0) -> 1.0169492 | R40: =VLOOKUP(A40,'OP Collections'!B$3:K$144,10,FALSE) -> 341338.76 | S40: =IF(Q40>0,R40*Q40,R40) -> 347124.16
A41: 0108 | B41: WILLIAM BEAUMONT AMC-FT. BLISS | C41: 0108 - FT. BLISS | D41: 0.52 | E41: 0.44 | F41: 0.42 | G41: 0.34 | H41: 0.4 | I41: 0.6 | J41: 0.5 | K41: 0.46 | L41: 0.48 | M41: 0.53061224 | N41: 0.6 | O41: 0.46666667 | P41: =AVERAGE(D41:O41) -> 0.47977324 | Q41: =IF(P41<0.8,0.8/P41,0) -> 1.6674544 | R41: =VLOOKUP(A41,'OP Collections'!B$3:K$144,10,FALSE) -> 1956589.2 | S41: =IF(Q41>0,R41*Q41,R41) -> 3262523.3
A42: 0125 | B42: MADIGAN AMC-FT. LEWIS | C42: 0125 - FT. LEWIS | D42: 0.69 | E42: 1 | F42: 1 | G42: 1 | H42: 0.66666667 | I42: 0.68 | J42: 0.64583333 | K42: 0.64 | L42: 0.66 | M42: 0.97297297 | N42: 0.62 | O42: 0.63265306 | P42: =AVERAGE(D42:O42) -> 0.76734384 | Q42: =IF(P42<0.8,0.8/P42,0) -> 1.0425574 | R42: =VLOOKUP(A42,'OP Collections'!B$3:K$144,10,FALSE) -> 2900746.2 | S42: =IF(Q42>0,R42*Q42,R42) -> 3024194.5
A43: 0131 | B43: WEED ACH-FT. IRWIN | C43: 0131 - FT. IRWIN | D43: 0.82 | E43: 0.86 | F43: 0.8627451 | G43: 0.90196078 | H43: 0.90196078 | I43: 0.92156863 | J43: 0.90196078 | K43: 0.84313725 | L43: 0.8627451 | M43: 0.90196078 | N43: 0.8627451 | O43: 0.94117647 | P43: =AVERAGE(D43:O43) -> 0.88183007 | Q43: =IF(P43<0.8,0.8/P43,0) -> 0 | R43: =VLOOKUP(A43,'OP Collections'!B$3:K$144,10,FALSE) -> 29479.99 | S43: =IF(Q43>0,R43*Q43,R43) -> 29479.99
Q44: Total Collection | R44: =SUM(R5:R43) -> 42230902 | S44: =SUM(S5:S43) -> 45021152

Sheet Navy OP
A1: 8c. DD-2569 forms Outpatient encounters:c) What percentage of completed and current (signed within the past 12 months) DD Form 2569s (TPC Insurance Info) is available for review?
A2: DMIS ID | B2: DMIS Facility Name | C2: Reporting Month | D2: 40817 | E2: 40848 | F2: 40878 | G2: 40909 | H2: 40940 | I2: 40969 | J2: 41000 | K2: 41030 | L2: 41061 | M2: 41091 | N2: 41122 | O2: 41153 | P2: Average | Q2: Factor (80%) | R2: FY 12 Collections | S2: FY 13 Collection Goal
C3: NAVY | P3: =AVERAGE(D3:O3) -> #DIV/0!
C4: NAVY MEDICINE EAST | D4: =AVERAGE(D6,D8:D14,D16) -> 0.83271605 | E4: =AVERAGE(E6,E8:E14,E16) -> 0.75698006 | F4: =AVERAGE(F6,F8:F14,F16) -> 0.73661828 | G4: =AVERAGE(G6,G8:G14,G16) -> 0.74497354 | H4: =AVERAGE(H6,H8:H14,H16) -> 0.68071093 | I4: =AVERAGE(I6,I8:I14,I16) -> 0.77470028 | J4: =AVERAGE(J6,J8:J14,J16) -> 0.74759816 | K4: =AVERAGE(K6,K8:K14,K16) -> 0.75683502 | ... O4: =AVERAGE(O6,O8:O14,O16) -> 0.86085671 | P4: =AVERAGE(D4:O4) -> 0.77620821 | Q4: =IF(P4<0.8,0.8/P4,0) -> 1.0306513
A5: 0038 | B5: NH PENSACOLA | C5: NH PENSACOLA | D5: 0.8 | E5: 0.8 | F5: 0.83333333 | G5: 0.8 | H5: 0.76666667 | I5: 0.83333333 | J5: 0.86666667 | K5: 0.8 | L5: 0.8 | M5: 0.76666667 | N5: 0.76666667 | O5: 0.76666667 | P5: =AVERAGE(D5:O5) -> 0.8 | Q5: =IF(P5<0.8,0.8/P5,0) -> 0 | R5: =VLOOKUP(A5,'OP Collections'!B$116:K$144,10,FALSE) -> 1698847.4 | S5: =IF(Q5>0,R5*Q5,R5) -> 1698847.4
A6: 0039 | B6: NH JACKSONVILLE | C6: NH JACKSONVILLE | D6: 0.76666667 | E6: 0.7 | F6: 0.6 | G6: 0.8 | H6: 0.56666667 | I6: 0.86666667 | J6: 1 | K6: 0.625 | L6: 1 | M6: 0.9 | N6: 0.96666667 | O6: 1 | P6: =AVERAGE(D6:O6) -> 0.81597222 | Q6: =IF(P6<0.8,0.8/P6,0) -> 0 | R6: =VLOOKUP(A6,'OP Collections'!B$116:K$144,10,FALSE) -> 3270391.3 | S6: =IF(Q6>0,R6*Q6,R6) -> 3270391.3
A7: 0056 | B7: NHC GREAT LAKES | C7: NHC GREAT LAKES | P7: =AVERAGE(D7:O7) -> #DIV/0! | R7: =VLOOKUP(A7,'OP Collections'!B$116:K$144,10,FALSE) -> NULL | S7: 0
A8: 0091 | B8: NH CAMP LEJEUNE | C8: NH CAMP LEJEUNE | D8: 1 | E8: 0.96666667 | F8: 0.93333333 | G8: 1 | H8: 0.93333333 | I8: 0.96666667 | J8: 0.96666667 | K8: 0.96666667 | L8: 1 | M8: 1 | N8: 0.96666667 | O8: 1 | P8: =AVERAGE(D8:O8) -> 0.975 | Q8: =IF(P8<0.8,0.8/P8,0) -> 0 | R8: =VLOOKUP(A8,'OP Collections'!B$116:K$144,10,FALSE) -> 1353210.9 | S8: =IF(Q8>0,R8*Q8,R8) -> 1353210.9
A9: 0092 | B9: NHC CHERRY POINT | C9: NH CHERRY POINT | D9: 0.84444444 | E9: 0.84615385 | F9: 0.89090909 | G9: 1 | H9: 0.84482759 | I9: 0.98305085 | J9: 0.93333333 | K9: 0.93103448 | L9: 0.89285714 | M9: 0.94915254 | N9: 0.84745763 | O9: 0.92592593 | P9: =AVERAGE(D9:O9) -> 0.90742891 | Q9: =IF(P9<0.8,0.8/P9,0) -> 0 | R9: =VLOOKUP(A9,'OP Collections'!B$116:K$144,10,FALSE) -> 511583.96 | S9: =IF(Q9>0,R9*Q9,R9) -> 511583.96
A10: 0100 | B10: NAVAL HLTH CLINIC NEW ENGLAND | C10: NAVAL HEALTH CARE NEW ENGLAND | D10: 0.91111111 | E10: 0.46666667 | F10: 0.5 | G10: 0.73333333 | H10: 0.6 | I10: 0.63333333 | J10: 0.66666667 | K10: 0.6 | L10: 0.53333333 | M10: 0.53333333 | N10: 0.66666667 | O10: 0.6 | P10: =AVERAGE(D10:O10) -> 0.62037037 | Q10: =IF(P10<0.8,0.8/P10,0) -> 1.2895522 | R10: =VLOOKUP(A10,'OP Collections'!B$116:K$144,10,FALSE) -> 253939.84 | S10: =IF(Q10>0,R10*Q10,R10) -> 327468.69
A11: 0103 | B11: NHC CHARLESTON | C11: NH CHARLESTON | D11: 1 | E11: 0.96666667 | F11: 0.85294118 | G11: 0.725 | H11: 0.7755102 | I11: 0.79591837 | J11: 0.87719298 | K11: 0.9245283 | L11: 0.875 | M11: 0.82 | N11: 0.66666667 | O11: 0.81355932 | P11: =AVERAGE(D11:O11) -> 0.84108197 | Q11: =IF(P11<0.8,0.8/P11,0) -> 0 | R11: =VLOOKUP(A11,'OP Collections'!B$116:K$144,10,FALSE) -> 549736.88 | S11: =IF(Q11>0,R11*Q11,R11) -> 549736.88
A12: 0104 | B12: NH BEAUFORT | C12: NH BEAUFORT | D12: 0.96666667 | E12: 1 | F12: 1 | G12: 1 | H12: 1 | I12: 1 | J12: 0.96666667 | K12: 1 | L12: 1 | M12: 1 | N12: 1 | O12: 1 | P12: =AVERAGE(D12:O12) -> 0.99444444 | Q12: =IF(P12<0.8,0.8/P12,0) -> 0 | R12: =VLOOKUP(A12,'OP Collections'!B$116:K$144,10,FALSE) -> 356198.15 | S12: =IF(Q12>0,R12*Q12,R12) -> 356198.15
A13: 0118 | B13: NHC CORPUS CHRISTI | C13: NH CORPUS CHRISTI | D13: 0.97222222 | E13: 0.96666667 | F13: 0.95238095 | G13: 0.94642857 | H13: 0.67272727 | I13: 0.96 | J13: 0.51785714 | K13: 0.96428571 | L13: 0.94545455 | M13: 0.95918367 | N13: 0.96226415 | O13: 0.94736842 | P13: =AVERAGE(D13:O13) -> 0.89723661 | Q13: =IF(P13<0.8,0.8/P13,0) -> 0 | R13: =VLOOKUP(A13,'OP Collections'!B$116:K$144,10,FALSE) -> 625954.97 | S13: =IF(Q13>0,R13*Q13,R13) -> 625954.97
A14: 0124 | B14: NMC PORTSMOUTH | C14: NMC PORTSMOUTH | D14: 0.23333333 | E14: 0.2 | F14: 0.23333333 | G14: 0.066666667 | H14: 0.13333333 | I14: 0.23333333 | J14: 0.23333333 | K14: 0.066666667 | L14: 0.1 | M14: 0.4 | N14: 0.46666667 | O14: 0.6 | P14: =AVERAGE(D14:O14) -> 0.24722222 | Q14: =IF(P14<0.8,0.8/P14,0) -> 3.2359551 | R14: =VLOOKUP(A14,'OP Collections'!B$116:K$144,10,FALSE) -> 3151416.9 | S14: =IF(Q14>0,R14*Q14,R14) -> 10197843
A15: 0615 | B15: NH GUANTANAMO BAY | C15: NH GUANTANAMO BAY | P15: 0 | R15: =VLOOKUP(A15,'OP Collections'!B$116:K$144,10,FALSE) -> #N/A | S15: =IF(Q15>0,R15*Q15,R15) -> #N/A
A16: 0617 | B16: NH NAPLES | C16: NH NAPLES | D16: 0.8 | E16: 0.7 | F16: 0.66666667 | G16: 0.43333333 | H16: 0.6 | I16: 0.53333333 | J16: 0.56666667 | K16: 0.73333333 | L16: 0.7 | M16: 0.83333333 | P16: =AVERAGE(D16:O16) -> 0.65666667 | Q16: =IF(P16<0.8,0.8/P16,0) -> 1.2182741 | R16: =VLOOKUP(A16,'OP Collections'!B$116:K$144,10,FALSE) -> #N/A | S16: =IF(Q16>0,R16*Q16,R16) -> #N/A
A17: 0618 | B17: NH ROTA | C17: NH ROTA | P17: 0 | R17: =VLOOKUP(A17,'OP Collections'!B$116:K$144,10,FALSE) -> #N/A | S17: =IF(Q17>0,R17*Q17,R17) -> #N/A
A18: 0624 | B18: NH SIGONELLA | C18: NH SIGONELLA | P18: 0 | R18: =VLOOKUP(A18,'OP Collections'!B$116:K$144,10,FALSE) -> #N/A | S18: =IF(Q18>0,R18*Q18,R18) -> #N/A
C19: NATIONAL CAPITAL REGION | D19: =AVERAGE(D21:D23) -> 0.86111111 | E19: =AVERAGE(E21:E23) -> 0.94444444 | F19: =AVERAGE(F21:F23) -> 0.83333333 | G19: =AVERAGE(G21:G23) -> 0.61111111 | H19: =AVERAGE(H21:H23) -> 0.7861678 | I19: =AVERAGE(I21:I23) -> 0.79090909 | J19: =AVERAGE(J21:J23) -> 0.74444444 | K19: =AVERAGE(K21:K23) -> 0.87777778 | ... O19: =AVERAGE(O21:O23) -> 0.67777778 | P19: =AVERAGE(D19:O19) -> 0.77112215 | Q19: =IF(P19<0.8,0.8/P19,0) -> 1.0374491 | R19: =VLOOKUP(A19,'OP Collections'!B$116:K$144,10,FALSE) -> #N/A
A20: 0067 | B20: NNMC BETHESDA | C20: NNMC BETHESDA | D20: 0.5 | E20: 0.66666667 | P20: =AVERAGE(D20:O20) -> 0.58333333 | Q20: =IF(P20<0.8,0.8/P20,0) -> 1.3714286 | R20: =VLOOKUP(A20,'OP Collections'!B$116:K$144,10,FALSE) -> 0 | S20: 0 | T20: JTF
A21: 0068 | B21: NHC PATUXENT RIVER | C21: NHC PATUXENT RIVER | D21: 0.95 | E21: 0.93333333 | F21: 0.83333333 | G21: 0.4 | H21: 0.76666667 | I21: 0.76666667 | J21: 0.46666667 | K21: 0.83333333 | L21: 0.66666667 | M21: 0.83333333 | N21: 0.66666667 | O21: 0.86666667 | P21: =AVERAGE(D21:O21) -> 0.74861111 | Q21: =IF(P21<0.8,0.8/P21,0) -> 1.0686456 | R21: =VLOOKUP(A21,'OP Collections'!B$116:K$144,10,FALSE) -> 337169.21 | S21: =IF(Q21>0,R21*Q21,R21) -> 360314.41
A22: 0306 | B22: NHC ANNAPOLIS | C22: NHC ANNAPOLIS | D22: 0.63333333 | E22: 0.9 | F22: 0.66666667 | G22: 0.43333333 | H22: 0.59183673 | I22: 0.60606061 | J22: 0.76666667 | K22: 0.8 | L22: 0.8125 | M22: 0.8 | N22: 0.86666667 | O22: 0.9 | P22: =AVERAGE(D22:O22) -> 0.731422 | Q22: =IF(P22<0.8,0.8/P22,0) -> 1.0937598 | R22: =VLOOKUP(A22,'OP Collections'!B$116:K$144,10,FALSE) -> 257512.79 | S22: =IF(Q22>0,R22*Q22,R22) -> 281657.14
A23: 0385 | B23: NHC QUANTICO | C23: NHC QUANTICO | D23: 1 | E23: 1 | F23: 1 | G23: 1 | H23: 1 | I23: 1 | J23: 1 | K23: 1 | L23: 1 | M23: 0.13333333 | N23: 0.6 | O23: 0.26666667 | P23: =AVERAGE(D23:O23) -> 0.83333333 | Q23: =IF(P23<0.8,0.8/P23,0) -> 0 | R23: =VLOOKUP(A23,'OP Collections'!B$116:K$144,10,FALSE) -> 185902.97 | S23: =IF(Q23>0,R23*Q23,R23) -> 185902.97
C24: NAVY MEDICINE WEST | D24: =AVERAGE(D25:D32) -> 0.88463542 | E24: =AVERAGE(E25:E32) -> 0.90636261 | F24: =AVERAGE(F25:F32) -> 0.90678146 | G24: =AVERAGE(G25:G32) -> 0.8025 | H24: =AVERAGE(H25:H32) -> 0.77778367 | I24: =AVERAGE(I25:I32) -> 0.82857143 | J24: =AVERAGE(J25:J32) -> 0.87491883 | K24: =AVERAGE(K25:K32) -> 0.89791667 | ... O24: =AVERAGE(O25:O32) -> 0.84703947 | P24: =AVERAGE(D24:O24) -> 0.8645153 | Q24: =IF(P24<0.8,0.8/P24,0) -> 0 | R24: =VLOOKUP(A24,'OP Collections'!B$116:K$144,10,FALSE) -> #N/A
A25: 0024 | B25: NH CAMP PENDLETON | C25: NH CAMP PENDLETON | D25: 0.96666667 | E25: 0.96666667 | F25: 1 | G25: 0.6 | H25: 0.56666667 | I25: 0.73333333 | J25: 0.86666667 | K25: 1 | L25: 0.83333333 | M25: 0.96666667 | N25: 0.93333333 | O25: 0.8 | P25: =AVERAGE(D25:O25) -> 0.85277778 | Q25: =IF(P25<0.8,0.8/P25,0) -> 0 | R25: =VLOOKUP(A25,'OP Collections'!B$116:K$144,10,FALSE) -> 254375.22 | S25: =IF(Q25>0,R25*Q25,R25) -> 254375.22
A26: 0028 | B26: NH LEMOORE | C26: NH LEMOORE | D26: 0.84375 | E26: 0.93333333 | F26: 0.93333333 | G26: 0.93333333 | H26: 0.93333333 | I26: 0.96666667 | J26: 1 | K26: 0.96666667 | L26: 1 | M26: 1 | N26: 0.96666667 | O26: 1 | P26: =AVERAGE(D26:O26) -> 0.95642361 | Q26: =IF(P26<0.8,0.8/P26,0) -> 0 | R26: =VLOOKUP(A26,'OP Collections'!B$116:K$144,10,FALSE) -> 638257.53 | S26: =IF(Q26>0,R26*Q26,R26) -> 638257.53
A27: 0029 | B27: NMC SAN DIEGO | C27: NMC SAN DIEGO | D27: 0.7 | E27: 0.56756757 | F27: 0.625 | G27: 0.46666667 | H27: 0.51612903 | I27: 0.66666667 | J27: 0.6969697 | K27: 0.75 | L27: 0.76666667 | M27: 0.5 | N27: 0.57575758 | O27: 0.6 | P27: =AVERAGE(D27:O27) -> 0.61928532 | Q27: =IF(P27<0.8,0.8/P27,0) -> 1.2918117 | R27: =VLOOKUP(A27,'OP Collections'!B$116:K$144,10,FALSE) -> 1142267.3 | S27: =IF(Q27>0,R27*Q27,R27) -> 1475594.2
A28: 0030 | B28: NH TWENTYNINE PALMS | C28: NH TWENTYNINE PALMS | D28: 0.96666667 | E28: 1 | F28: 0.96666667 | G28: 1 | H28: 0.96666667 | I28: 0.96666667 | J28: 0.96666667 | K28: 1 | L28: 0.96666667 | M28: 1 | N28: 0.96666667 | O28: 0.96666667 | P28: =AVERAGE(D28:O28) -> 0.97777778 | Q28: =IF(P28<0.8,0.8/P28,0) -> 0 | R28: =VLOOKUP(A28,'OP Collections'!B$116:K$144,10,FALSE) -> 309446.87 | S28: =IF(Q28>0,R28*Q28,R28) -> 309446.87
A29: 0126 | B29: NH BREMERTON | C29: NH BREMERTON | D29: 0.83333333 | E29: 0.9 | F29: 0.93333333 | G29: 0.96666667 | H29: 0.9 | I29: 0.96666667 | J29: 1 | K29: 0.96666667 | L29: 1 | M29: 0.96666667 | N29: 0.96666667 | O29: 1 | P29: =AVERAGE(D29:O29) -> 0.95 | Q29: =IF(P29<0.8,0.8/P29,0) -> 0 | R29: =VLOOKUP(A29,'OP Collections'!B$116:K$144,10,FALSE) -> 1883424.2 | S29: =IF(Q29>0,R29*Q29,R29) -> 1883424.2
A30: 0127 | B30: NH OAK HARBOR | C30: NH OAK HARBOR | D30: 0.9 | E30: 1 | F30: 1 | G30: 0.93333333 | H30: 0.88333333 | I30: 0.9 | J30: 0.96666667 | K30: 0.91666667 | L30: 0.91666667 | M30: 0.98333333 | N30: 1 | O30: 0.95 | P30: =AVERAGE(D30:O30) -> 0.94583333 | Q30: =IF(P30<0.8,0.8/P30,0) -> 0 | R30: =VLOOKUP(A30,'OP Collections'!B$116:K$144,10,FALSE) -> 316004.88 | S30: =IF(Q30>0,R30*Q30,R30) -> 316004.88
A31: 0280 | B31: NHC HAWAII | C31: NHC HAWAII | D31: 0.86666667 | E31: 0.88333333 | F31: 0.79591837 | G31: 0.52 | H31: 0.45614035 | I31: 0.42857143 | J31: 0.53571429 | K31: 0.58333333 | L31: 0.6779661 | M31: 0.75862069 | N31: 0.53571429 | O31: 0.52631579 | P31: =AVERAGE(D31:O31) -> 0.63069122 | Q31: =IF(P31<0.8,0.8/P31,0) -> 1.2684496 | R31: =VLOOKUP(A31,'OP Collections'!B$116:K$144,10,FALSE) -> 323471.47 | S31: =IF(Q31>0,R31*Q31,R31) -> 410307.24
A32: 0620 | B32: NH GUAM-AGANA | C32: NH GUAM | D32: 1 | E32: 1 | F32: 1 | G32: 1 | H32: 1 | I32: 1 | J32: 0.96666667 | K32: 1 | L32: 0.96666667 | M32: 0.93333333 | N32: 1 | O32: 0.93333333 | P32: =AVERAGE(D32:O32) -> 0.98333333 | Q32: =IF(P32<0.8,0.8/P32,0) -> 0 | R32: =VLOOKUP(A32,'OP Collections'!B$116:K$144,10,FALSE) -> 181025.59 | S32: =IF(Q32>0,R32*Q32,R32) -> 181025.59
A33: 0621 | B33: NH OKINAWA | C33: NH OKINAWA | P33: 0 | R33: =VLOOKUP(A33,'OP Collections'!B$116:K$144,10,FALSE) -> NULL | S33: =IF(Q33>0,R33*Q33,R33) -> NULL
A34: 0622 | B34: NH YOKOSUKA | C34: NH YOKOSUKA | P34: 0 | R34: =VLOOKUP(A34,'OP Collections'!B$116:K$144,10,FALSE) -> NULL | S34: =IF(Q34>0,R34*Q34,R34) -> NULL
P35: Total Collection | R35: =SUM(R5:R14,R20:R23,R25:R32) -> 17600138 | S35: =SUM(S5:S14,S20:S23,S25:S32,R42) -> 25559049
O36: Notes:
O37: DMISID | P37: Facility Name | Q37: FY 12- Collections
O38: 0035 | P38: NBHC Groton | R38: 327890.04
O39: 0107 | P39: NBHC NSA Mid-South | R39: NULL
O40: 0297 | P40: NACC New Orleans | R40: NULL
O41: 0321 | P41: NBHC Portsmouth (NH) | R41: 43612.79
P42: Subtotal | R42: =SUM(R38:R41) -> 371502.83
P43: Navy OP Total | R43: =SUM(R42,R35) -> 17971641

Sheet Air Force OP
A1: 8c. DD-2569 forms Outpatient encounters:c) What percentage of completed and current (signed within the past 12 months) DD Form 2569s (TPC Insurance Info) is available for review?
A2: DMIS ID | B2: DMIS Facility Name | C2: Reporting Month | D2: 40817 | E2: 40848 | F2: 40878 | G2: 40909 | H2: 40940 | I2: 40969 | J2: 41000 | K2: 41030 | L2: 41061 | M2: 41091 | N2: 41122 | O2: 41153 | P2: Average | Q2: Factor (80%) | R2: FY 12 Collections | S2: FY 13 Collection Goal
C3: AIR FORCE | P3: =AVERAGE(D3:O3) -> #DIV/0!
C4: ACC | P4: =AVERAGE(D4:O4) -> #DIV/0!
A5: 0015 | B5: 9th MED GRP-BEALE | C5: Beale | D5: 0.82706767 | E5: 0.85276074 | F5: 0.82716049 | G5: 0.84023669 | H5: 0.86419753 | I5: 0.68200837 | J5: 0.79 | K5: 0.95073892 | L5: 0.98584906 | M5: 0.97890295 | N5: 1 | O5: 0.99685535 | P5: =AVERAGE(D5:O5) -> 0.88298148 | Q5: =IF(P5<0.8,0.8/P5,0) -> 0 | R5: 204172.12 | S5: =IF(Q5>0,R5*Q5,R5) -> 204172.12
A6: 0010 | B6: 355th MED GRP-DAVIS MONTHAN | C6: DM | D6: 0.83673469 | E6: 0.65853659 | F6: 0.96666667 | G6: 0.7962963 | H6: 0.69491525 | I6: 0.74576271 | J6: 0.60655738 | K6: 0.60655738 | L6: 0.72222222 | M6: 0.80882353 | N6: 0.8125 | O6: 0.69491525 | P6: =AVERAGE(D6:O6) -> 0.745874 | Q6: =IF(P6<0.8,0.8/P6,0) -> 1.0725672 | R6: 563434.69 | S6: =IF(Q6>0,R6*Q6,R6) -> 604321.58
A7: 0112 | B7: 7th MED GRP-DYESS | C7: Dyess | D7: 0.94285714 | E7: 1 | F7: 1 | G7: 1 | H7: 0.97222222 | I7: 0.97058824 | J7: 1 | K7: 1 | L7: 0.97435897 | M7: 0.97368421 | N7: 1 | O7: 0.94871795 | P7: =AVERAGE(D7:O7) -> 0.98186906 | Q7: =IF(P7<0.8,0.8/P7,0) -> 0 | R7: 367942.26 | S7: =IF(Q7>0,R7*Q7,R7) -> 367942.26
A8: 0106 | B8: 28th MED GRP-ELLSWORTH | C8: Ellsworth | D8: 0.94545455 | E8: 0.89583333 | F8: 0.95454545 | G8: 0.975 | H8: 0.97959184 | I8: 0.96153846 | J8: 0.95238095 | K8: 1 | L8: 0.92 | M8: 0.033333333 | N8: 0.93258427 | O8: 1 | P8: =AVERAGE(D8:O8) -> 0.87918852 | Q8: =IF(P8<0.8,0.8/P8,0) -> 0 | R8: 376331.29 | S8: =IF(Q8>0,R8*Q8,R8) -> 376331.29
A9: 0084 | B9: 49th MED GRP-HOLLOMAN | C9: Holloman | D9: 0.87755102 | E9: 0.92982456 | F9: 0.94339623 | G9: 0.95384615 | H9: 0.95384615 | I9: 1 | J9: 0.98333333 | K9: 0.96 | L9: 0.98275862 | M9: 0.93846154 | N9: 0.92857143 | O9: 0.96363636 | P9: =AVERAGE(D9:O9) -> 0.95126878 | Q9: =IF(P9<0.8,0.8/P9,0) -> 0 | R9: 182096.52 | S9: =IF(Q9>0,R9*Q9,R9) -> 182096.52
A10: 0120 | B10: 1st MED GRP-LANGLEY | C10: Langley | D10: 0.96470588 | E10: 0.95333333 | F10: 0.95238095 | G10: 0.94690265 | H10: 0.80909091 | I10: 0.87719298 | J10: 0.55882353 | K10: 0.66666667 | L10: 0.55660377 | M10: 0.58653846 | N10: 0.67647059 | O10: 0.5826087 | P10: =AVERAGE(D10:O10) -> 0.7609432 | Q10: =IF(P10<0.8,0.8/P10,0) -> 1.0513268 | R10: 1222102.8 | S10: =IF(Q10>0,R10*Q10,R10) -> 1284829.5
A11: 0053 | B11: 366th MED GRP-MOUNTAIN HOME | C11: Mt Home | D11: 0.96923077 | E11: 0.98461538 | F11: 0.90697674 | G11: 0.95555556 | H11: 0.96 | I11: 0.96363636 | J11: 0.69354839 | K11: 0.95555556 | L11: 0.97727273 | M11: 0.97368421 | N11: 1 | O11: 1 | P11: =AVERAGE(D11:O11) -> 0.94500631 | Q11: =IF(P11<0.8,0.8/P11,0) -> 0 | R11: 503571.64 | S11: =IF(Q11>0,R11*Q11,R11) -> 503571.64
A12: 0050 | B12: 23rd MED GRP-MOODY | C12: Moody | D12: 0.93617021 | E12: 0.92857143 | F12: 0.98076923 | G12: 0.91071429 | H12: 0.9382716 | I12: 0.95121951 | J12: 0.95283019 | K12: 0.94897959 | L12: 0.9625 | M12: 0.98823529 | N12: 0.98648649 | O12: 0.91666667 | P12: =AVERAGE(D12:O12) -> 0.95011788 | Q12: =IF(P12<0.8,0.8/P12,0) -> 0 | R12: 241451.27 | S12: =IF(Q12>0,R12*Q12,R12) -> 241451.27
A13: 0079 | B13: 99th MED GRP-O'CALLAGHAN HOSP | C13: Nellis | D13: 1 | E13: 0.96923077 | F13: 0.92718447 | G13: 0.9520202 | H13: 0.96028037 | I13: 0.9522673 | J13: 0.95477387 | K13: 0.95238095 | L13: 0.95098039 | M13: 0.95320197 | N13: 0.95053763 | O13: 0.95374449 | P13: =AVERAGE(D13:O13) -> 0.95638354 | Q13: =IF(P13<0.8,0.8/P13,0) -> 0 | R13: 1735174.6 | S13: =IF(Q13>0,R13*Q13,R13) -> 1735174.6
A14: 0078 | B14: 55th MED GRP-OFFUTT | C14: Offutt | D14: 0.9537037 | E14: 0.98125 | F14: 0.99354839 | G14: 0.98425197 | H14: 0.99259259 | I14: 0.9787234 | J14: 0.99264706 | K14: 0.9787234 | L14: 0.97037037 | M14: 0.98550725 | N14: 0.98639456 | O14: 0.99275362 | P14: =AVERAGE(D14:O14) -> 0.98253886 | Q14: =IF(P14<0.8,0.8/P14,0) -> 0 | R14: 1679502.9 | S14: =IF(Q14>0,R14*Q14,R14) -> 1679502.9
A15: 0090 | B15: 4th MED GRP-SEYMOUR JOHNSON | C15: Sey-John | D15: 0.84444444 | E15: 0.83333333 | F15: 0.97826087 | G15: 0.95918367 | H15: 0.97777778 | I15: 0.92753623 | J15: 0.93650794 | K15: 0.93220339 | L15: 0.88 | M15: 0.87272727 | N15: 0.86666667 | O15: 0.97916667 | P15: =AVERAGE(D15:O15) -> 0.91565069 | Q15: =IF(P15<0.8,0.8/P15,0) -> 0 | R15: 646375.36 | S15: =IF(Q15>0,R15*Q15,R15) -> 646375.36
A16: 0101 | B16: 20th MED GRP-SHAW | C16: Shaw | D16: 0.96923077 | E16: 0.94827586 | F16: 0.94117647 | G16: 0.91803279 | H16: 0.95238095 | I16: 0.94827586 | J16: 0.95238095 | K16: 0.95833333 | L16: 0.86363636 | M16: 0.94545455 | N16: 0.75609756 | O16: 0.83333333 | P16: =AVERAGE(D16:O16) -> 0.91555073 | Q16: =IF(P16<0.8,0.8/P16,0) -> 0 | R16: 839863.08 | S16: =IF(Q16>0,R16*Q16,R16) -> 839863.08
C17: AETC | P17: =AVERAGE(D17:O17) -> #DIV/0!
A18: 0097 | B18: 97th MED GRP-ALTUS | C18: Altus | D18: 1 | E18: 1 | F18: 1 | G18: 1 | H18: 1 | I18: 1 | J18: 0.93333333 | K18: 0.76666667 | L18: 0.83333333 | M18: 0.9 | N18: 1 | O18: 0.95744681 | P18: =AVERAGE(D18:O18) -> 0.94923168 | Q18: =IF(P18<0.8,0.8/P18,0) -> 0 | R18: 181935.59 | S18: =IF(Q18>0,R18*Q18,R18) -> 181935.59
A19: 0074 | B19: 14th MED GRP-COLUMBUS | C19: Columbus | D19: 0.97297297 | E19: 0.96551724 | F19: 0.79 | G19: 0.95348837 | H19: 0.92682927 | I19: 0.92105263 | J19: 0.88888889 | K19: 0.80487805 | L19: 0.95833333 | M19: 0.93939394 | N19: 0.925 | O19: 0.94117647 | P19: =AVERAGE(D19:O19) -> 0.9156276 | Q19: =IF(P19<0.8,0.8/P19,0) -> 0 | R19: 326174.95 | S19: =IF(Q19>0,R19*Q19,R19) -> 326174.95
A20: 0364 | B20: 17th MED GRP-GOODFELLOW | C20: Goodfellow | D20: 0.83333333 | E20: 0.8 | F20: 0.97222222 | G20: 1 | H20: 1 | I20: 1 | J20: 1 | K20: 0.51515152 | L20: 0.7 | M20: 0.69230769 | N20: 0.75 | O20: 0.76666667 | P20: =AVERAGE(D20:O20) -> 0.83580679 | Q20: =IF(P20<0.8,0.8/P20,0) -> 0 | R20: 355258.03 | S20: =IF(Q20>0,R20*Q20,R20) -> 355258.03
A21: 0073 | B21: 81st MED GRP-KEESLER | C21: Keesler | D21: 0.96832579 | E21: 1 | F21: 0.033333333 | G21: 0.97159091 | H21: 0.95973154 | I21: 0.96178344 | J21: 0.96067416 | K21: 0.96153846 | L21: 0.95566502 | M21: 0.96391753 | N21: 0.63917526 | O21: 0.74033149 | P21: =AVERAGE(D21:O21) -> 0.84300558 | Q21: =IF(P21<0.8,0.8/P21,0) -> 0 | R21: 2229560.9 | S21: =IF(Q21>0,R21*Q21,R21) -> 2229560.9
A22: 0117 | B22: 59th MED WING-LACKLAND | C22: Lackland (Wilford Hall) | D22: 0.74206349 | E22: 0.65914787 | F22: 0.67692308 | G22: 0.69587629 | H22: 0.70833333 | I22: 0.675 | J22: 0.70967742 | K22: 0.70854271 | L22: 0.74193548 | M22: 0.74940334 | N22: 0.84688995 | O22: 0.75 | P22: =AVERAGE(D22:O22) -> 0.72198275 | Q22: =IF(P22<0.8,0.8/P22,0) -> 1.1080597 | R22: 4464052.6 | S22: =IF(Q22>0,R22*Q22,R22) -> 4946436.9
A23: 0114 | B23: 47th MED GRP-LAUGHLIN | C23: Laughlin | D23: 0.8627451 | E23: 0.78125 | F23: 0.78125 | G23: 0.91891892 | H23: 0.67647059 | I23: 0.78571429 | J23: 0.75 | K23: 1 | L23: 0.81081081 | M23: 0.91111111 | N23: 0.95652174 | O23: 0.92592593 | P23: =AVERAGE(D23:O23) -> 0.84672654 | Q23: =IF(P23<0.8,0.8/P23,0) -> 0 | R23: 194689.64 | S23: =IF(Q23>0,R23*Q23,R23) -> 194689.64
A24: 0009 | B24: 56th MED GRP-LUKE | C24: Luke | D24: 0.95049505 | E24: 0.95138889 | F24: 0.95070423 | G24: 0.95041322 | H24: 0.95454545 | I24: 0.95081967 | J24: 0.95121951 | K24: 0.95035461 | L24: 0.94776119 | M24: 0.95683453 | N24: 0.93430657 | O24: 0.94160584 | P24: =AVERAGE(D24:O24) -> 0.94920406 | Q24: =IF(P24<0.8,0.8/P24,0) -> 0 | R24: 1023634.5 | S24: =IF(Q24>0,R24*Q24,R24) -> 1023634.5
A25: 0004 | B25: 42ND MEDICAL GROUP-MAXWELL | C25: Maxwell | D25: 0.75324675 | E25: 0.67816092 | F25: 0.67647059 | G25: 0.58064516 | H25: 0.77011494 | I25: 1 | J25: 0.95890411 | K25: 0.95384615 | L25: 1 | M25: 0.86153846 | N25: 0.91764706 | O25: 1 | P25: =AVERAGE(D25:O25) -> 0.84588118 | Q25: =IF(P25<0.8,0.8/P25,0) -> 0 | R25: 2513887 | S25: =IF(Q25>0,R25*Q25,R25) -> 2513887
A26: 0366 | B26: 12th MED GRP-RANDOLPH | C26: Randolph | D26: 0.8989899 | E26: 0.92708333 | F26: 0.92307692 | G26: 1 | H26: 0.97894737 | I26: 0.96666667 | J26: 0.92913386 | K26: 1 | L26: 1 | M26: 0.95714286 | N26: 0.95744681 | O26: 0.95918367 | P26: =AVERAGE(D26:O26) -> 0.95813928 | Q26: =IF(P26<0.8,0.8/P26,0) -> 0 | R26: 839547.27 | S26: =IF(Q26>0,R26*Q26,R26) -> 839547.27
A27: 0113 | B27: 82nd MED GRP-SHEPPARD | C27: Sheppard | D27: 1 | E27: 1 | F27: 1 | G27: 1 | H27: 1 | I27: 1 | J27: 1 | K27: 1 | L27: 1 | M27: 0.95384615 | N27: 1 | O27: 0.97222222 | P27: =AVERAGE(D27:O27) -> 0.99383903 | Q27: =IF(P27<0.8,0.8/P27,0) -> 0 | R27: 801634.67 | S27: =IF(Q27>0,R27*Q27,R27) -> 801634.67
A28: 0043 | B28: 325th MED GRP-TYNDALL | C28: Tyndall | D28: 1 | E28: 1 | F28: 1 | G28: 0.97333333 | H28: 1 | I28: 0.98214286 | J28: 0.98 | K28: 0.95121951 | L28: 0.9375 | M28: 0.94285714 | N28: 0.88888889 | O28: 0.79661017 | P28: =AVERAGE(D28:O28) -> 0.95437933 | Q28: =IF(P28<0.8,0.8/P28,0) -> 0 | R28: 712438.96 | S28: =IF(Q28>0,R28*Q28,R28) -> 712438.96
A29: 0338 | B29: 71st MED GRP-VANCE | C29: Vance | D29: 0.96296296 | E29: 0.95 | F29: 0.96078431 | G29: 0.92982456 | H29: 0.97435897 | I29: 0.83333333 | J29: 0.85714286 | K29: 0.95454545 | L29: 0.98076923 | M29: 0.97727273 | N29: 0.97916667 | O29: 1 | P29: =AVERAGE(D29:O29) -> 0.94668009 | Q29: =IF(P29<0.8,0.8/P29,0) -> 0 | R29: 189573.69 | S29: =IF(Q29>0,R29*Q29,R29) -> 189573.69
C30: AFDW | P30: =AVERAGE(D30:O30) -> #DIV/0!
A31: 0066 | B31: 779th MED GRP-ANDREWS | C31: Andrews | D31: 1 | E31: 0.86363636 | F31: 0.93333333 | G31: 0.83333333 | H31: 0.93333333 | I31: 0.93333333 | J31: 0.91701245 | K31: 1 | L31: 0.94949495 | M31: 0.97307692 | N31: 0.74733096 | O31: 0.73033708 | P31: =AVERAGE(D31:O31) -> 0.90118517 | Q31: =IF(P31<0.8,0.8/P31,0) -> 0 | R31: 2001332.3 | S31: =IF(Q31>0,R31*Q31,R31) -> 2001332.3
A32: 0413 | B32: 579TH MED GROUP-BOLLING | C32: Bolling | D32: 0.88349515 | E32: 0.94520548 | F32: 0.9 | G32: 0.96078431 | H32: 0.86666667 | I32: 0.81818182 | J32: 0.9 | K32: 0.86842105 | L32: 0.82352941 | M32: 0.875 | N32: 0.75 | O32: 0.76923077 | P32: =AVERAGE(D32:O32) -> 0.86337622 | Q32: =IF(P32<0.8,0.8/P32,0) -> 0 | R32: 224243.73 | S32: =IF(Q32>0,R32*Q32,R32) -> 224243.73
C33: AFGSC | P33: =AVERAGE(D33:O33) -> #DIV/0!
A34: 0062 | B34: 2nd MED GRP-BARKSDALE | C34: Barksdale | D34: 0.60606061 | E34: 0.65853659 | F34: 0.69230769 | G34: 0.69767442 | H34: 0.69444444 | I34: 0.825 | J34: 0.6 | K34: 0.48192771 | L34: 0.82539683 | M34: 0.90384615 | N34: 0.88 | O34: 0.73333333 | P34: =AVERAGE(D34:O34) -> 0.71654398 | Q34: =IF(P34<0.8,0.8/P34,0) -> 1.1164702 | R34: 920292.56 | S34: =IF(Q34>0,R34*Q34,R34) -> 1027479.2
A35: 0129 | B35: 90th MED GRP-F.E. WARREN | C35: FE Warren | D35: 0.92857143 | E35: 1 | F35: 1 | G35: 1 | H35: 1 | I35: 1 | J35: 1 | K35: 0.97297297 | L35: 1 | M35: 0.97368421 | N35: 0.88636364 | O35: 1 | P35: =AVERAGE(D35:O35) -> 0.98013269 | Q35: =IF(P35<0.8,0.8/P35,0) -> 0 | R35: 431618.75 | S35: =IF(Q35>0,R35*Q35,R35) -> 431618.75
A36: 0077 | B36: 341st MED GRP-MALMSTROM | C36: Malmstrom | D36: 0.91525424 | E36: 0.91666667 | F36: 0.86567164 | G36: 0.89189189 | H36: 0.83333333 | I36: 0.92 | J36: 1 | K36: 0.975 | L36: 0.86567164 | M36: 0.95 | N36: 0.95833333 | O36: 1 | P36: =AVERAGE(D36:O36) -> 0.92431856 | Q36: =IF(P36<0.8,0.8/P36,0) -> 0 | R36: 226515.26 | S36: =IF(Q36>0,R36*Q36,R36) -> 226515.26
A37: 0094 | B37: 5th MED GRP-MINOT | C37: Minot | D37: 0.84444444 | E37: 0.9 | F37: 0.97916667 | G37: 0.98076923 | H37: 0.92156863 | I37: 0.93333333 | J37: 0.98412698 | K37: 0.98333333 | L37: 0.94827586 | M37: 0.95454545 | N37: 0.92857143 | O37: 0.95384615 | P37: =AVERAGE(D37:O37) -> 0.94266513 | Q37: =IF(P37<0.8,0.8/P37,0) -> 0 | R37: 193652.23 | S37: =IF(Q37>0,R37*Q37,R37) -> 193652.23
A38: 0076 | B38: 509th MED GRP-WHITEMAN | C38: Whiteman | D38: 0.93333333 | E38: 0.96296296 | F38: 0.97368421 | G38: 0.98484848 | H38: 0.97826087 | I38: 0.97674419 | J38: 0.97959184 | K38: 0.975 | L38: 0.984375 | M38: 0.975 | N38: 0.98461538 | O38: 0.975 | P38: =AVERAGE(D38:O38) -> 0.97361802 | Q38: =IF(P38<0.8,0.8/P38,0) -> 0 | R38: 272043.15 | S38: =IF(Q38>0,R38*Q38,R38) -> 272043.15
C39: AFMC | P39: =AVERAGE(D39:O39) -> #DIV/0!
A40: 0019 | B40: 95th MED GRP-EDWARDS | C40: Edwards | D40: 0.96666667 | E40: 0.96666667 | F40: 1 | G40: 0.96666667 | H40: 0.75757576 | I40: 0.77880184 | J40: 0.91764706 | K40: 0.81557377 | L40: 0.80314961 | M40: 0.69565217 | N40: 0.84782609 | O40: 0.70731707 | P40: =AVERAGE(D40:O40) -> 0.85196195 | Q40: =IF(P40<0.8,0.8/P40,0) -> 0 | R40: 237208.39 | S40: =IF(Q40>0,R40*Q40,R40) -> 237208.39
A41: 0042 | B41: 96th MED GRP-EGLIN | C41: Elgin | D41: 0.953125 | E41: 0.92207792 | F41: 0.95575221 | G41: 0.95726496 | H41: 0.88461538 | I41: 0.95652174 | J41: 0.96638655 | K41: 0.90196078 | L41: 0.82183908 | M41: 0.96174863 | N41: 0.69911504 | O41: 0.72868217 | P41: =AVERAGE(D41:O41) -> 0.89242412 | Q41: =IF(P41<0.8,0.8/P41,0) -> 0 | R41: 1526259.6 | S41: =IF(Q41>0,R41*Q41,R41) -> 1526259.6
A42: 0310 | B42: 66th MED GRP-HANSCOM | C42: Hanscom | D42: 1 | E42: 1 | F42: 0.94736842 | G42: 1 | H42: 1 | I42: 0.97142857 | J42: 1 | K42: 0.97058824 | L42: 0.91428571 | M42: 0.95 | N42: 0.89189189 | O42: 0.90123457 | P42: =AVERAGE(D42:O42) -> 0.96223312 | Q42: =IF(P42<0.8,0.8/P42,0) -> 0 | R42: 263278.55 | S42: =IF(Q42>0,R42*Q42,R42) -> 263278.55
A43: 0119 | B43: 75th MED GRP-HILL | C43: Hill | D43: 0.95 | E43: 0.97674419 | F43: 0.97777778 | G43: 0.97777778 | H43: 0.97777778 | I43: 0.97777778 | J43: 0.98214286 | K43: 0.98 | L43: 0.95555556 | M43: 0.96491228 | N43: 0.98076923 | O43: 0.97560976 | P43: =AVERAGE(D43:O43) -> 0.97307041 | Q43: =IF(P43<0.8,0.8/P43,0) -> 0 | R43: 1815455.5 | S43: =IF(Q43>0,R43*Q43,R43) -> 1815455.5
A44: 0083 | B44: 377th MED GRP-KIRTLAND | C44: Kirtland | D44: 0.97674419 | E44: 0.92982456 | F44: 0.97959184 | G44: 0.92682927 | H44: 0.90909091 | I44: 0.033333333 | J44: 0.033333333 | K44: 0.033333333 | L44: 0.033333333 | M44: 0.033333333 | N44: 0.033333333 | O44: 0.640625 | P44: =AVERAGE(D44:O44) -> 0.46355881 | Q44: =IF(P44<0.8,0.8/P44,0) -> 1.7257789 | R44: 297164.59 | S44: =IF(Q44>0,R44*Q44,R44) -> 512840.37
A45: 0051 | B45: 78th MED GRP-ROBINS | C45: Robins | D45: 0 | E45: 0.96666667 | F45: 1 | G45: 1 | H45: 0.86666667 | I45: 0.9 | J45: 0.94594595 | K45: 0.93617021 | L45: 0.95 | M45: 1 | N45: 0.97297297 | O45: 1 | P45: =AVERAGE(D45:O45) -> 0.87820187 | Q45: =IF(P45<0.8,0.8/P45,0) -> 0 | R45: 1122963.3 | S45: =IF(Q45>0,R45*Q45,R45) -> 1122963.3
A46: 0096 | B46: 72nd MED GRP-TINKER | C46: Tinker | D46: 0.98305085 | E46: 0.96078431 | F46: 0.98181818 | G46: 1 | H46: 0.97297297 | I46: 0.95238095 | J46: 1 | K46: 0.95854922 | L46: 0.89119171 | M46: 0.96363636 | N46: 0.96551724 | O46: 0.96153846 | P46: =AVERAGE(D46:O46) -> 0.96595336 | Q46: =IF(P46<0.8,0.8/P46,0) -> 0 | R46: 1492117.8 | S46: =IF(Q46>0,R46*Q46,R46) -> 1492117.8
A47: 0095 | B47: 88th MED GRP-WRIGHT-PATTERSON | C47: W Pat | D47: 0.95316804 | E47: 0.96078431 | F47: 0.95701357 | G47: 0.97350993 | H47: 0.95110024 | I47: 0.97053407 | J47: 0.97142857 | K47: 0.9765625 | L47: 0.97445255 | M47: 0.97142857 | N47: 0.96289062 | O47: 1 | P47: =AVERAGE(D47:O47) -> 0.96857275 | Q47: =IF(P47<0.8,0.8/P47,0) -> 0 | R47: 4980739.5 | S47: =IF(Q47>0,R47*Q47,R47) -> 4980739.5
C48: AFSOC | P48: =AVERAGE(D48:O48) -> #DIV/0!
A49: 7139 | B49: 1st SPEC OPS MED GRP-HURLBURT | C49: Hurlburt | D49: 1 | E49: 1 | F49: 0.84745763 | G49: 0.76923077 | H49: 0.77419355 | I49: 0.85714286 | J49: 0.80882353 | K49: 1 | L49: 1 | M49: 1 | N49: 1 | O49: 0.80882353 | P49: =AVERAGE(D49:O49) -> 0.90547266 | Q49: =IF(P49<0.8,0.8/P49,0) -> 0 | R49: 263713.9 | S49: =IF(Q49>0,R49*Q49,R49) -> 263713.9
A50: 0085 | B50: 27th SPEC OPS MED GRP-CANNON | C50: Cannon | D50: 1 | E50: 0.725 | F50: 1 | G50: 1 | H50: 1 | I50: 1 | J50: 1 | K50: 1 | L50: 1 | M50: 0.92 | N50: 1 | O50: 1 | P50: =AVERAGE(D50:O50) -> 0.97041667 | Q50: =IF(P50<0.8,0.8/P50,0) -> 0 | R50: 173846.37 | S50: =IF(Q50>0,R50*Q50,R50) -> 173846.37
C51: AFSPC | P51: =AVERAGE(D51:O51) -> #DIV/0!
A52: 7200 | B52: 460th MED GRP-BUCKLEY AFB | C52: Buckley | D52: 0.98571429 | E52: 0.98571429 | F52: 1 | G52: 1 | H52: 1 | I52: 0.46666667 | J52: 0.43333333 | K52: 0.6 | L52: 0.66666667 | M52: 0.72972973 | N52: 0.57142857 | O52: 0.65909091 | P52: =AVERAGE(D52:O52) -> 0.75819537 | Q52: =IF(P52<0.8,0.8/P52,0) -> 1.055137 | R52: 761239.16 | S52: =IF(Q52>0,R52*Q52,R52) -> 803211.61
A53: 0248 | B53: 61st MED GROUP-LOS ANGELES | C53: LA | D53: 1 | E53: 1 | F53: 1 | G53: 1 | H53: 1 | I53: 1 | J53: 0.033333333 | K53: 1 | L53: 1 | M53: 0.81443299 | N53: 0.73333333 | O53: 0.63157895 | P53: =AVERAGE(D53:O53) -> 0.85105655 | Q53: =IF(P53<0.8,0.8/P53,0) -> 0 | R53: 342286.37 | S53: =IF(Q53>0,R53*Q53,R53) -> 342286.37
A54: 0252 | B54: 21st MED GRP-PETERSON | C54: Peterson | D54: 0.9 | E54: 0.9 | F54: 1 | G54: 1 | H54: 1 | I54: 1 | J54: 1 | K54: 1 | L54: 1 | M54: 1 | N54: 1 | O54: 1 | P54: =AVERAGE(D54:O54) -> 0.98333333 | Q54: =IF(P54<0.8,0.8/P54,0) -> 0 | R54: 777681.77 | S54: =IF(Q54>0,R54*Q54,R54) -> 777681.77
A55: 0046 | B55: 45th MED GRP-PATRICK | C55: Patrick | D55: 1 | E55: 1 | F55: 0.96666667 | G55: 0.86666667 | H55: 0.7 | I55: 0.83333333 | J55: 0.77272727 | K55: 0.91666667 | L55: 0.75 | M55: 0.98666667 | N55: 0.97826087 | O55: 0.83333333 | P55: =AVERAGE(D55:O55) -> 0.88369346 | Q55: =IF(P55<0.8,0.8/P55,0) -> 0 | R55: 1670884.6 | S55: =IF(Q55>0,R55*Q55,R55) -> 1670884.6
A56: 0018 | B56: 30th MED GRP-VANDENBERG | C56: Vandenberg | D56: 0.95744681 | E56: 0.95454545 | F56: 0.94 | G56: 0.92982456 | H56: 0.77192982 | I56: 0.95890411 | J56: 0.87012987 | K56: 0.7 | L56: 0.87654321 | M56: 0.875 | N56: 0.87 | O56: 0.89622642 | P56: =AVERAGE(D56:O56) -> 0.88337919 | Q56: =IF(P56<0.8,0.8/P56,0) -> 0 | R56: 168461.3 | S56: =IF(Q56>0,R56*Q56,R56) -> 168461.3
C57: AMC | P57: =AVERAGE(D57:O57) -> #DIV/0!
A58: 0356 | B58: 437th MED GRP-CHARLESTON | C58: Charleston | D58: 0.96666667 | E58: 0.93333333 | F58: 0.7 | G58: 0.93333333 | H58: 0.96666667 | I58: 0.96666667 | J58: 0.93333333 | K58: 1 | L58: 1 | M58: 1 | N58: 1 | O58: 0.83333333 | P58: =AVERAGE(D58:O58) -> 0.93611111 | Q58: =IF(P58<0.8,0.8/P58,0) -> 0 | R58: 490613.61 | S58: =IF(Q58>0,R58*Q58,R58) -> 490613.61
A59: 0036 | B59: 436th MED GRP-DOVER | C59: Dover | D59: 0.95890411 | E59: 0.95945946 | F59: 0.875 | G59: 0.97619048 | H59: 0.98113208 | I59: 0.9516129 | J59: 0.9047619 | K59: 0.86538462 | L59: 0.87142857 | M59: 0.85714286 | N59: 0.87096774 | O59: 0.96491228 | P59: =AVERAGE(D59:O59) -> 0.91974142 | Q59: =IF(P59<0.8,0.8/P59,0) -> 0 | R59: 2091283.8 | S59: =IF(Q59>0,R59*Q59,R59) -> 2091283.8
A60: 0128 | B60: 92nd MED GRP-FAIRCHILD | C60: Fairchild | D60: 0.94565217 | E60: 0.97101449 | F60: 0.94805195 | G60: 0.97701149 | H60: 0.97674419 | I60: 0.95180723 | J60: 0.95833333 | K60: 0.91044776 | L60: 0.92222222 | M60: 0.90243902 | N60: 0.97619048 | O60: 0.9625 | P60: =AVERAGE(D60:O60) -> 0.9502012 | Q60: =IF(P60<0.8,0.8/P60,0) -> 0 | R60: 518245.25 | S60: =IF(Q60>0,R60*Q60,R60) -> 518245.25
A61: 0093 | B61: 319th MED GRP-GRAND FORKS | C61: Grand Forks | D61: 0.96666667 | E61: 0.033333333 | F61: 0.79032258 | G61: 0.90123457 | H61: 1 | I61: 1 | J61: 0.89705882 | K61: 0.96202532 | L61: 0.97333333 | M61: 0.96491228 | N61: 0.90625 | O61: 0.98412698 | P61: =AVERAGE(D61:O61) -> 0.86493866 | Q61: =IF(P61<0.8,0.8/P61,0) -> 0 | R61: 196314.01 | S61: =IF(Q61>0,R61*Q61,R61) -> 196314.01
A62: 0013 | B62: 19th MEDICAL GROUP-LITTLE ROCK | C62: Little Rock | D62: 0.7804878 | E62: 0.40625 | F62: 0.87878788 | G62: 1 | H62: 1 | I62: 0.95238095 | J62: 0.86666667 | K62: 0.97435897 | L62: 0.90322581 | M62: 0.91489362 | N62: 0.91666667 | O62: 0.85365854 | P62: =AVERAGE(D62:O62) -> 0.87061474 | Q62: =IF(P62<0.8,0.8/P62,0) -> 0 | R62: 745469.09 | S62: =IF(Q62>0,R62*Q62,R62) -> 745469.09
A63: 0045 | B63: 6th MED GRP-MACDILL | C63: MacDill | D63: 0.98019802 | E63: 1 | F63: 1 | G63: 1 | H63: 1 | I63: 1 | J63: 1 | K63: 1 | L63: 1 | M63: 1 | N63: 0.98 | O63: 0.89285714 | P63: =AVERAGE(D63:O63) -> 0.9877546 | Q63: =IF(P63<0.8,0.8/P63,0) -> 0 | R63: 1697816.3 | S63: =IF(Q63>0,R63*Q63,R63) -> 1697816.3
A64: 0059 | B64: 22nd MED GRP-MCCONNELL | C64: McConnell | D64: 0.921875 | E64: 0.88095238 | F64: 0.91666667 | G64: 0.96551724 | H64: 0.97674419 | I64: 0.97727273 | J64: 0.97674419 | K64: 0.97727273 | L64: 0.97959184 | M64: 0.97959184 | N64: 0.91111111 | O64: 1 | P64: =AVERAGE(D64:O64) -> 0.95527833 | Q64: =IF(P64<0.8,0.8/P64,0) -> 0 | R64: 594116.86 | S64: =IF(Q64>0,R64*Q64,R64) -> 594116.86
A65: 0326 | B65: 305th MED GRP-MCGUIRE | C65: McGuire | D65: 0.94117647 | E65: 0.82608696 | F65: 0.71794872 | G65: 0.88571429 | H65: 0.91891892 | I65: 0.86111111 | J65: 0.94736842 | K65: 0.97058824 | L65: 0.97142857 | M65: 0.92307692 | N65: 0.82978723 | O65: 0.83783784 | P65: =AVERAGE(D65:O65) -> 0.88592031 | Q65: =IF(P65<0.8,0.8/P65,0) -> 0 | R65: 997325.17 | S65: =IF(Q65>0,R65*Q65,R65) -> 997325.17
A66: 0335 | B66: 43RD MEDICAL GROUP-POPE | C66: Pope | P66: =AVERAGE(D66:O66) -> #DIV/0! | R66: 330.49
A67: 0055 | B67: 375th MED GRP-SCOTT | C67: Scott | D67: 1 | E67: 1 | F67: 1 | G67: 1 | H67: 1 | I67: 1 | J67: 0.96666667 | K67: 0.93333333 | L67: 0.98571429 | M67: 1 | N67: 0.9 | O67: 1 | P67: =AVERAGE(D67:O67) -> 0.98214286 | Q67: =IF(P67<0.8,0.8/P67,0) -> 0 | R67: 1651755.5 | S67: =IF(Q67>0,R67*Q67,R67) -> 1651755.5
A68: 0014 | B68: 60th MED GRP-TRAVIS | C68: Travis | D68: 1 | E68: 0.96 | F68: 0.96 | G68: 1 | H68: 1 | I68: 1 | J68: 0.96 | K68: 0.98 | L68: 0.97 | M68: 0.97 | N68: 0.74570447 | O68: 0.90041494 | P68: =AVERAGE(D68:O68) -> 0.95384328 | Q68: =IF(P68<0.8,0.8/P68,0) -> 0 | R68: 1855684 | S68: =IF(Q68>0,R68*Q68,R68) -> 1855684
C69: PACAF | P69: =AVERAGE(D69:O69) -> #DIV/0!
A70: 0802 | B70: 36th MED GRP-ANDERSEN | C70: Andersen | D70: 0.73913043 | E70: 0.69767442 | F70: 0.82857143 | G70: 0.78571429 | H70: 0.75 | I70: 0.83333333 | J70: 0.92682927 | K70: 0.87096774 | L70: 0.6 | M70: 0.66666667 | N70: 0.5 | O70: 0.76666667 | P70: =AVERAGE(D70:O70) -> 0.74712952 | Q70: =IF(P70<0.8,0.8/P70,0) -> 1.0707648 | S70: =IF(Q70>0,R70*Q70,R70) -> 0
A71: 0203 | B71: 354th MED GRP-EIELSON | C71: Eielson | D71: 0.9 | E71: 0.93333333 | F71: 0.93333333 | G71: 1 | H71: 1 | I71: 1 | J71: 0.65217391 | K71: 0.74468085 | L71: 0.71428571 | M71: 0.54347826 | N71: 0.85714286 | O71: 0.85714286 | P71: =AVERAGE(D71:O71) -> 0.84463093 | Q71: =IF(P71<0.8,0.8/P71,0) -> 0 | R71: 78946.97 | S71: =IF(Q71>0,R71*Q71,R71) -> 78946.97
A72: 0006 | B72: 3rd MED GRP-ELMENDORF | C72: Elmendorf | D72: 0.85542169 | E72: 0.93301435 | F72: 0.81818182 | G72: 0.93150685 | H72: 0.90610329 | I72: 0.91147541 | J72: 0.86857143 | K72: 0.94270833 | L72: 1 | M72: 0.9296875 | N72: 0.95633188 | O72: 0.8592233 | P72: =AVERAGE(D72:O72) -> 0.90935215 | Q72: =IF(P72<0.8,0.8/P72,0) -> 0 | R72: 3930839.3 | S72: =IF(Q72>0,R72*Q72,R72) -> 3930839.3
A73: 0287 | B73: 15th MED GRP-HICKAM | C73: Hickam | D73: 0.96103896 | E73: 1 | F73: 0.96610169 | G73: 0.98245614 | H73: 0.92857143 | I73: 0.96428571 | J73: 0.98529412 | K73: 0.93846154 | L73: 1 | M73: 0.96721311 | N73: 0.82258065 | O73: 0.82758621 | P73: =AVERAGE(D73:O73) -> 0.94529913 | Q73: =IF(P73<0.8,0.8/P73,0) -> 0 | R73: 253608 | S73: =IF(Q73>0,R73*Q73,R73) -> 253608
A74: 0804 | B74: 18th MED GRP-KADENA AB | C74: Kadena | D74: 0.040816327 | E74: 0.075 | F74: 0.073170732 | G74: 0.52272727 | H74: 0.72093023 | I74: 0.10869565 | J74: 0.033333333 | K74: 0.066666667 | L74: 0.012820513 | M74: 0 | N74: 0.24324324 | O74: 0.014084507 | P74: =AVERAGE(D74:O74) -> 0.15929071 | Q74: =IF(P74<0.8,0.8/P74,0) -> 5.0222641 | S74: =IF(Q74>0,R74*Q74,R74) -> 0
A75: 0637 | B75: 8th MED GRP-KUNSAN AB | C75: Kunsan | D75: 0 | E75: 1 | F75: 0.16666667 | G75: 1 | H75: 1 | I75: 1 | J75: 1 | K75: 1 | L75: 1 | M75: 1 | N75: 1 | O75: 1 | P75: =AVERAGE(D75:O75) -> 0.84722222 | Q75: =IF(P75<0.8,0.8/P75,0) -> 0 | S75: =IF(Q75>0,R75*Q75,R75) -> 0
A76: 0639 | B76: 35th MED GRP-MISAWA | C76: Misawa | D76: 0.36666667 | E76: 0.1 | F76: 0.7 | G76: 0.73333333 | H76: 0.36666667 | I76: 0.36666667 | J76: 0.4 | K76: 0.46666667 | L76: 0.46666667 | M76: 0.6 | N76: 0.4 | O76: 0.5 | P76: =AVERAGE(D76:O76) -> 0.45555556 | Q76: =IF(P76<0.8,0.8/P76,0) -> 1.7560976 | S76: =IF(Q76>0,R76*Q76,R76) -> 0
A77: 0638 | B77: 51st MED GRP-OSAN AB | C77: Osan | D77: 0.96666667 | E77: 1 | F77: 0.97142857 | G77: 0.23333333 | H77: 0.91428571 | I77: 1 | J77: 0.42307692 | K77: 0.15909091 | L77: 0.55 | M77: 0.60465116 | N77: 0.78125 | O77: 0.6 | P77: =AVERAGE(D77:O77) -> 0.68364861 | Q77: =IF(P77<0.8,0.8/P77,0) -> 1.1701918 | S77: =IF(Q77>0,R77*Q77,R77) -> 0
A78: 0640 | B78: 374th MED GRP-YOKOTA AB | C78: Yokota | D78: 0.83333333 | F78: 0.7679558 | G78: 0.8253012 | H78: 0.88741722 | I78: 0.92528736 | J78: 0.93333333 | K78: 0.96296296 | L78: 0.94680851 | M78: 0.95628415 | N78: 0.95628415 | O78: 0.9516129 | P78: =AVERAGE(D78:O78) -> 0.90423463 | Q78: =IF(P78<0.8,0.8/P78,0) -> 0 | S78: =IF(Q78>0,R78*Q78,R78) -> 0
C79: USAFA | P79: =AVERAGE(D79:O79) -> #DIV/0!
A80: 0033 | B80: 10th MED GROUP-USAF ACADEMY CO | C80: Academy | D80: 0.8907563 | E80: 0.93233083 | F80: 0.81132075 | G80: 0.7311828 | H80: 0.60368664 | I80: 0.6728972 | J80: 0.66326531 | K80: 0.72294372 | L80: 0.7254902 | M80: 0.72767857 | N80: 0.59821429 | O80: 0.69158879 | P80: =AVERAGE(D80:O80) -> 0.73094628 | Q80: =IF(P80<0.8,0.8/P80,0) -> 1.0944717 | R80: 854566.48 | S80: =IF(Q80>0,R80*Q80,R80) -> 935298.81
C81: USAFE | P81: =AVERAGE(D81:O81) -> #DIV/0!
A82: 0808 | B82: 31st MED GRP-AVIANO | C82: Aviano | D82: 0.43333333 | E82: 0.6 | F82: 0.8 | G82: 0.8 | H82: 0.8 | I82: 0.84375 | J82: 0.84375 | K82: 0.81818182 | L82: 0.83333333 | M82: 0.96666667 | N82: 0.96666667 | O82: 0.96666667 | P82: =AVERAGE(D82:O82) -> 0.80602904 | Q82: =IF(P82<0.8,0.8/P82,0) -> 0 | S82: =IF(Q82>0,R82*Q82,R82) -> 0
A83: 0635 | B83: 39th MED GROUP-INCIRLIK | C83: Incirlik | D83: 0.26666667 | E83: 0.43333333 | F83: 0.43333333 | G83: 0.56666667 | H83: 0.53333333 | I83: 0.56666667 | J83: 0.56666667 | K83: 0.86666667 | L83: 0.5 | M83: 0.76666667 | N83: 0.86666667 | O83: 0.9 | P83: =AVERAGE(D83:O83) -> 0.60555556 | Q83: =IF(P83<0.8,0.8/P83,0) -> 1.3211009 | S83: =IF(Q83>0,R83*Q83,R83) -> 0
A84: 0629 | B84: 65th MED GRP-LAJES | C84: Lajes | D84: 0.9 | E84: 0.9 | F84: 0.96666667 | G84: 0.86666667 | H84: 0.76666667 | I84: 0.9 | J84: 0.63333333 | K84: 0.73333333 | L84: 0.8 | M84: 0.83333333 | N84: 0.54285714 | O84: 0.8 | P84: =AVERAGE(D84:O84) -> 0.80357143 | Q84: =IF(P84<0.8,0.8/P84,0) -> 0 | S84: =IF(Q84>0,R84*Q84,R84) -> 0
A85: 0633 | B85: 48th MED GRP-LAKENHEATH | C85: Lakenheath | D85: 1 | E85: 1 | F85: 1 | G85: 1 | H85: 1 | I85: 1 | J85: 0 | K85: 0 | L85: 0.033333333 | M85: 0 | N85: 0.82608696 | O85: 0.30645161 | P85: =AVERAGE(D85:O85) -> 0.59715599 | Q85: =IF(P85<0.8,0.8/P85,0) -> 1.3396835 | S85: =IF(Q85>0,R85*Q85,R85) -> 0
A86: 0806 | B86: 435th MEDICAL GROUP-RAMSTEIN | C86: Ramstein | D86: 0.63829787 | E86: 0.71794872 | F86: 0.82051282 | G86: 0.64285714 | H86: 0.63414634 | I86: 0.65853659 | J86: 0.63636364 | K86: 0.5862069 | L86: 0.63829787 | M86: 0.71111111 | N86: 0.43333333 | O86: 0.17777778 | P86: =AVERAGE(D86:O86) -> 0.60794918 | Q86: =IF(P86<0.8,0.8/P86,0) -> 1.3158995 | S86: =IF(Q86>0,R86*Q86,R86) -> 0
A87: 0805 | B87: 52nd MED GROUP-SPANGDAHLEM | C87: Spangdahlem | D87: 0.42592593 | E87: 0.23333333 | F87: 0.2 | G87: 0.2 | H87: 0.6 | I87: 0.5 | J87: 0.5 | K87: 0.23076923 | L87: 0.31578947 | M87: 0.35064935 | N87: 0.34375 | O87: 0.29824561 | P87: =AVERAGE(D87:O87) -> 0.34987191 | Q87: =IF(P87<0.8,0.8/P87,0) -> 2.2865511 | S87: =IF(Q87>0,R87*Q87,R87) -> 0
Q88: Total Collection | R88: =SUM(R3:R87) -> 58514320 | S88: =SUM(S3:S87) -> 59545554

Sheet JTF OP
A1: DMIS ID | B1: DMIS Facility Name | C1: Reporting Month | D1: 40817 | E1: 40848 | F1: 40878 | G1: 40909 | H1: 40940 | I1: 40969 | J1: 41000 | K1: 41030 | L1: 41061 | M1: 41091 | N1: 41122 | O1: 41153 | P1: Average | Q1: Factor (80%) | R1: FY 12 Collections | S1: FY 13 Collection Goal
A2: 0067 | B2: NATIONAL CAPITAL REGION | C2: WALTER REED NATIONAL MILITARY MEDICAL CNTR | D2: 0.5 | E2: 0.66666667 | F2: 0.63333333 | G2: 0.5 | H2: 0.76666667 | I2: 0.66666667 | J2: 0.63333333 | K2: 0.7 | L2: 0.63333333 | M2: 0.36666667 | N2: 0.33333333 | O2: 0.26666667 | P2: =AVERAGE(F2:O2) -> 0.55 | Q2: =IF(P2<0.8,0.8/P2,0) -> 1.4545455 | R2: 5687608 | S2: =IF(Q2>0,R2*Q2,R2) -> 8272884.3
A3: 0123 | C3: FT BELVOIR COMMUNITY HOSPITAL-FBCH | D3: 0.87 | E3: 0.85 | F3: 0.82 | G3: 0.87 | H3: 0.83 | I3: 0.95 | J3: 0.95 | K3: 0.95 | L3: 0.88 | M3: 0.9 | N3: 0.94 | O3: 0.85 | P3: =AVERAGE(F3:O3) -> 0.894 | Q3: =IF(P3<0.8,0.8/P3,0) -> 0 | R3: 6324396 | S3: =IF(Q3>0,R3*Q3,R3) -> 6324396
R4: =SUM(R2:R3) -> 12012004 | S4: =SUM(S2:S3) -> 14597280

Sheet Sheet2
B3: Data
A4: Service | B4: Sum of FY2011 | C4: Sum of FY2012
A5: AF | B5: 70875923 | C5: 58514320
A6: Army | B6: 56404211 | C6: 42230902
A7: JTF | B7: 9036245.7 | C7: 12012004
A8: Navy | B8: 25338993 | C8: 17971641
A9: Grand Total | B9: 1.6165537e+08 | C9: 1.3072887e+08

Sheet OP Collections
F1: Total OP Collections In CY by DMIS ID
A2: Service | B2: dmis_id | C2: dmis_name | D2: facility_type | E2: FY2006 | F2: FY2007 | G2: FY2008 | H2: FY2009 | I2: FY2010 | J2: FY2011 | K2: FY2012
A3: AF | B3: 0004 | C3: Maxwell AFB (42nd Medical Group) | D3: C | E3: 588757.23 | F3: 1547160.8 | G3: 1026271 | H3: 1991703.9 | I3: 1675334.7 | J3: 1328542.9 | K3: 2513887 | L3: AF OP Total | M3: =SUM(K3:K67) -> 58514320
A4: AF | B4: 0006 | C4: Elmendorf AFB (3rd Medical group) | D4: H | E4: 2653344.4 | F4: 3502856.2 | G4: 6123664 | H4: 6084582.3 | I4: 5726719.6 | J4: 5440482.9 | K4: 3930839.3
A5: AF | B5: 0009 | C5: Luke AFB (56th Medical Group) | D5: C | E5: 517023.62 | F5: 1180901.3 | G5: 1542210.4 | H5: 1693734.4 | I5: 1523699.9 | J5: 1279321.7 | K5: 1023634.5
A6: AF | B6: 0010 | C6: Davis Monthan AFB (355th Medical Group) | D6: C | E6: 140293.38 | F6: 452789.94 | G6: 692360.03 | H6: 799594.86 | I6: 557816.76 | J6: 538027.69 | K6: 563434.69
A7: AF | B7: 0013 | C7: Little Rock AFB (314th Medical Group) | D7: C | E7: 171595.04 | F7: 896429.71 | G7: 1186643.1 | H7: 1282679 | I7: 763103.96 | J7: 1191044.5 | K7: 745469.09
A8: AF | B8: 0014 | C8: Travis AFB (60th Medical Group) | D8: H | E8: 1020723.2 | F8: 1356280.6 | G8: 1475116.1 | H8: 1862256.5 | I8: 1914512.5 | J8: 1638485.6 | K8: 1855684
A9: AF | B9: 0015 | C9: Beale AFB (9th Medical Group) | D9: C | E9: 53218.83 | F9: 64558.37 | G9: 127451.74 | H9: 227432.95 | I9: 348305.99 | J9: 215463.94 | K9: 204172.12
A10: AF | B10: 0018 | C10: Vandenberg AFB (30th Medical Group) | D10: C | E10: 21314.61 | F10: 47564.59 | G10: 174444.12 | H10: 239713.19 | I10: 198651.59 | J10: 199311.95 | K10: 168461.3
A11: AF | B11: 0019 | C11: Edwards AFB (95th Medical Group) | D11: C | E11: 43285.67 | F11: 134325.97 | G11: 256958.1 | H11: 437264.24 | I11: 322075.19 | J11: 253376.34 | K11: 237208.39
A12: AF | B12: 0033 | C12: USAF Academy (10th Medical Group) | D12: H | E12: 381350.87 | F12: 673416.44 | G12: 482906.19 | H12: 479765.62 | I12: 1027031.5 | J12: 868684.81 | K12: 854566.48
A13: AF | B13: 0036 | C13: Dover AFB (436th Medical Group) | D13: C | E13: 804149.35 | F13: 1156359.6 | G13: 1817331.1 | H13: 1850207.2 | I13: 2424705.3 | J13: 2091283.8 | K13: 2091283.8
A14: AF | B14: 0042 | C14: Eglin AFB (96th Medical Group) | D14: H | E14: 858891.82 | F14: 2017858 | G14: 3281987.8 | H14: 2819136.4 | I14: 2860793.4 | J14: 1965044.4 | K14: 1526259.6
A15: AF | B15: 0043 | C15: Tyndall AFB (325th Medical Group) | D15: C | E15: 325665.22 | F15: 937316.94 | G15: 1072895.6 | H15: 1425638.8 | I15: 1045586.6 | J15: 931156.72 | K15: 712438.96
... A51: AF | B51: 0248 | C51: Los Angeles AFB (61st Medical Squad) | D51: C | E51: 64700.45 | F51: 285855.39 | G51: 488327.98 | H51: 745102.7 | I51: 485950.22 | J51: 386052.77 | K51: 342286.37
A52: AF | B52: 0250 | C52: McClellan AFB (77th Medical Group) | D52: I | E52: NULL | F52: NULL | G52: NULL | H52: NULL | I52: NULL | J52: NULL | K52: NULL
A53: AF | B53: 0252 | C53: Peterson AFB (21st Medical Group) | D53: C | E53: 214019.14 | F53: 801902 | G53: 1043757.8 | H53: 1226497.5 | I53: 872241.48 | J53: 652917.47 | K53: 777681.77
A54: AF | B54: 0287 | C54: Hickam AFB (15th Medical Group) | D54: C | E54: 90016.29 | F54: 319961.93 | G54: 407496.26 | H54: 586075.63 | I54: 15632.72 | J54: 277824.54 | K54: 253608
A55: AF | B55: 0310 | C55: Hanscom AFB (66th Medical Group) | D55: C | E55: 2818.93 | F55: 424306.87 | G55: 815829.06 | H55: 914391.81 | I55: 613661.3 | J55: 445258.05 | K55: 263278.55
A56: AF | B56: 0326 | C56: McGuire AFB (305th Medical Group) | D56: C | E56: 276987.79 | F56: 1008549 | G56: 1557430.3 | H56: 1721242.5 | I56: 1483941.7 | J56: 1346568 | K56: 997325.17
A57: AF | B57: 0335 | C57: Pope AFB (43rd Medical Group) | D57: C | E57: 16253.62 | F57: 52210.62 | G57: 72099.73 | H57: 115887.99 | I57: 92959 | J57: 3609.89 | K57: 330.49
A58: AF | B58: 0338 | C58: Vance AFB (71st Medical Group) | D58: C | E58: 45800.16 | F58: 147080.42 | G58: 215861.59 | H58: 368037.98 | I58: 329251.25 | J58: 260895.09 | K58: 189573.69
A59: AF | B59: 0356 | C59: Charleston AFB (437th Medical Group) | D59: C | E59: 278452.79 | F59: 593939.55 | G59: 647093.42 | H59: 938566.39 | I59: 690198.77 | J59: 516161.21 | K59: 490613.61
A60: AF | B60: 0363 | C60: Brooks AFB (311th Medical Squad) | D60: I | E60: 18896.89 | F60: NULL | G60: NULL | H60: NULL | I60: NULL | J60: NULL | K60: NULL
A61: AF | B61: 0364 | C61: Goodfellow AFB (17th Medical Group) | D61: C | E61: 51837.98 | F61: 170172.54 | G61: 244821.98 | H61: 382154.95 | I61: 336422.66 | J61: 383631.62 | K61: 355258.03
A62: AF | B62: 0365 | C62: Kelly AFB | D62: I | E62: NULL | F62: NULL | G62: NULL | H62: NULL | I62: NULL | J62: NULL | K62: NULL
A63: AF | B63: 0366 | C63: Randolph AFB (12 Medical Group) | D63: C | E63: 165093.31 | F63: 421073.28 | G63: 664840.65 | H63: 863301.68 | I63: 901373.28 | J63: 970448.02 | K63: 839547.27
A64: AF | B64: 0395 | C64: McChord AFB (62nd Medical Group) | D64: C | E64: 188787.38 | F64: 421383.28 | G64: 818116.26 | H64: NULL | I64: NULL | J64: NULL | K64: NULL
A65: AF | B65: 0413 | C65: Bolling AFB (579th Medical Group) | D65: C | E65: 64884.57 | F65: 131282.38 | G65: 134057.34 | H65: 219708.74 | I65: 223793.39 | J65: 206708.63 | K65: 224243.73
A66: AF | B66: 7139 | C66: Hurlburt FLD (1st Special Operations Medical Group) | D66: C | E66: 48141.68 | F66: 175338.92 | G66: 259177.55 | H66: 285625.47 | I66: 266575.78 | J66: 224341.03 | K66: 263713.9
A67: AF | B67: 7200 | C67: Buckley AFB (460th Medical Squadron) | D67: C | E67: 428205.82 | F67: 983224.44 | G67: 1999210.2 | H67: 1802899.5 | I67: 1346641.5 | J67: 933909.28 | K67: 761239.16
A68: Army | B68: 0001 | C68: Redstone Arsenal (Fox Army Health Clinic) | D68: C | E68: 649254.8 | F68: 1614588.1 | G68: 3006651.9 | H68: 4426286.2 | I68: 4762528.9 | J68: 4142376.4 | K68: 2514373.7 | L68: Army OP Total | M68: =SUM(K68:K115) -> 42230902
A69: Army | B69: 0002 | C69: Ft. McClellan (Patterson ACH) | D69: I | E69: NULL | F69: NULL | G69: NULL | H69: NULL | I69: NULL | J69: NULL | K69: NULL
A70: Army | B70: 0003 | C70: Ft. Rucker (Lyster Army Health Clinic) | D70: C | E70: 869026.75 | F70: 1924252.8 | G70: 1949987.9 | H70: 1936972.7 | I70: 1685481.5 | J70: 1998326.5 | K70: 1816980.5
A71: Army | B71: 0005 | C71: Ft. Wainwright (Bassett Army Community Hospital) | D71: H | E71: 652546.75 | F71: 657960.1 | G71: 811056.41 | H71: 1978697.7 | I71: 2387326.7 | J71: 1632774.5 | K71: 1587733.5
A72: Army | B72: 0008 | C72: Ft. Huachuca (Bliss Army Health Clinic) | D72: C | E72: 161512.76 | F72: 315570.4 | G72: 478588.89 | H72: 768025.16 | I72: 544127.94 | J72: 435073.28 | K72: 374874.94
A73: Army | B73: 0032 | C73: Ft. Carson (Evans Army Community Hospital) | D73: H | E73: 356197.77 | F73: 624108.32 | G73: 759433.87 | H73: 979087.42 | I73: 917722.55 | J73: 1037821.8 | K73: 975480.95
A74: Army | B74: 0037 | C74: Washington D.C. (Walter Reed Army Medical Center) | D74: H | E74: 1942467.2 | F74: 3287268.8 | G74: 2707981.7 | H74: 4407388.2 | I74: 3913632 | J74: 5114286.7 | K74: 1125608.8
A75: Army | B75: 0047 | C75: Ft. Gordon (Eisenhower Army Medical Center) | D75: H | E75: 1585450.7 | F75: 2917428.8 | G75: 3551674.6 | H75: 3777048.2 | I75: 3090374.6 | J75: 2279346.1 | K75: 1632052.2
A76: Army | B76: 0048 | C76: Ft. Benning (Martin Army Community Hospital) | D76: H | E76: 803297.53 | F76: 1338946.4 | G76: 1495423.6 | H76: 1744836 | I76: 1417908.7 | J76: 1366944.5 | K76: 963107.58
A77: Army | B77: 0049 | C77: Ft. Stewart (Winn Army Community Hospital) | D77: H | E77: 939000.12 | F77: 1881683.1 | G77: 2245761 | H77: 2282782.4 | I77: 1954424.4 | J77: 1461298.5 | K77: 1386229.9
A78: Army | B78: 0052 | C78: Ft. Shafter (Tripler Army Medical Center) | D78: H | E78: 1327585.8 | F78: 2261820.6 | G78: 2416229.3 | H78: 3166214 | I78: 3736753.9 | J78: 2532241.2 | K78: 2029622.1
A79: Army | B79: 0057 | C79: Ft. Riley (Irwin Army Community Hospital) | D79: H | E79: 417204.2 | F79: 598832.35 | G79: 729839.95 | H79: 921140.11 | I79: 872227.65 | J79: 744379.87 | K79: 695185.3
A80: Army | B80: 0058 | C80: Ft. Leavenworth (Munson Army Health Clinic) | D80: C | E80: 144890.52 | F80: 302060.03 | G80: 499099.93 | H80: 587935.76 | I80: 560744.35 | J80: 329295.19 | K80: 238790
A81: Army | B81: 0060 | C81: Ft. Campbell (Blanchfield Army Comm Hospital) | D81: H | E81: 867528.86 | F81: 1664724.1 | G81: 2496280 | H81: 2299900.5 | I81: 1920332.6 | J81: 1249465.1 | K81: 1168930.2
... A85: Army | B85: 0075 | C85: Ft. Leonard Wood (Wood Army Community Hospital) | D85: H | E85: 240031.06 | F85: 317044.42 | G85: 411390.13 | H85: 617095.62 | I85: 879094.34 | J85: 492347.27 | K85: 341338.76
A86: Army | B86: 0081 | C86: Ft. Monmouth (Patterson Army Health Clinic) | D86: C | E86: 270575.9 | F86: 490109.12 | G86: 616949.76 | H86: 657708.23 | I86: NULL | J86: NULL | K86: NULL
A87: Army | B87: 0086 | C87: West Point (Keller Army Community Hospital) | D87: H | E87: 140983.2 | F87: 257265.01 | G87: 185810.89 | H87: 588454.37 | I87: 1066248.8 | J87: 692862.99 | K87: 563290.39
A88: Army | B88: 0089 | C88: Ft. Bragg (Womack Army Medical Center) | D88: H | E88: 2069284.1 | F88: 2554276.8 | G88: 4171084.8 | H88: 4466863.1 | I88: 4213924.2 | J88: 4466076.4 | K88: 2243145.6
A89: Army | B89: 0098 | C89: Ft. Sill (Reynolds Army Community Hospital) | D89: H | E89: 351966.63 | F89: 858964.52 | G89: 947016.62 | H89: 1045776.3 | I89: 900544.74 | J89: 692523.69 | K89: 722540.39
A90: Army | B90: 0105 | C90: Ft. Jackson (Moncrief Army Community Hospital) | D90: H | E90: 430447.61 | F90: 925966.11 | G90: 1104695.1 | H90: 1450087.7 | I90: 1521366.1 | J90: 2009263.7 | K90: 1170544.8
A91: Army | B91: 0108 | C91: Ft. Bliss (William Beaumont Army Medical Center) | D91: H | E91: 1169578.3 | F91: 1616805.6 | G91: 1790331.5 | H91: 2752222.6 | I91: 2096775.3 | J91: 1495994.4 | K91: 1956589.2
A92: Army | B92: 0109 | C92: Ft. Sam Houston (Brooke Army Medical Center) | D92: H | E92: 1844085.4 | F92: 2641740.3 | G92: 3780494.8 | H92: 4150019.6 | I92: 4868935.9 | J92: 3549885.3 | K92: 3400311.9
A93: Army | B93: 0110 | C93: Ft. Hood (C.R. Darnall Army Medical Center) | D93: H | E93: 582724.88 | F93: 934011.55 | G93: 1107031.2 | H93: 1167421 | I93: 839461.86 | J93: 1092622.4 | K93: 805363.51
A94: Army | B94: 0121 | C94: Ft. Eustis (McDonald Army Health Center) | D94: H | E94: 178282.43 | F94: 261380.06 | G94: 587407.4 | H94: 610352.5 | I94: 1392480.9 | J94: 932365.75 | K94: 824429.1
A95: Army | B95: 0122 | C95: Ft. Lee (Kenner Army Health Clinic) | D95: C | E95: 139568.09 | F95: 309853.75 | G95: 393721.52 | H95: 327377.93 | I95: 493136.02 | J95: 1027471.7 | K95: 1046966.7
A96: Army | B96: 0123 | C96: Ft. Belvoir (FT. Belvoir Community Hospital) | D96: H | E96: 1576437 | F96: 2441555.4 | G96: 5290493.5 | H96: 6254557.5 | I96: 5321738.5 | J96: 4936184 | K96: 0
A97: Army | B97: 0125 | C97: Ft. Lewis (Madigan Army Medical Center) | D97: H | E97: 1594492.6 | F97: 1633655.4 | G97: 3742473.3 | H97: 5042106.4 | I97: 3689094.8 | J97: 3281202.8 | K97: 2900746.2
A98: Army | B98: 0131 | C98: Ft. Irwin (Weed Army Community Hospital) | D98: H | E98: 24759.66 | F98: 18385.65 | G98: 23277.51 | H98: 52104.95 | I98: 47555.58 | J98: 26217.85 | K98: 29479.99
A99: Army | B99: 0206 | C99: Yuma Proving Grounds | D99: I | E99: NULL | F99: NULL | G99: NULL | H99: NULL | I99: NULL | J99: NULL | K99: NULL
A100: Army | B100: 0256 | C100: Pentagon Army Health Clinic | D100: I | E100: NULL | F100: NULL | G100: NULL | H100: NULL | I100: NULL | J100: NULL | K100: NULL
A101: Army | B101: 0273 | C101: Ft. McPherson (Lawrence Joel Army Health Clinic) | D101: I | E101: NULL | F101: NULL | G101: NULL | H101: NULL | I101: NULL | J101: NULL | K101: NULL
A102: Army | B102: 0308 | C102: Aberdeen Proving Grounds (Kirk Army Health Clinic) | D102: I | E102: 62670.33 | F102: NULL | G102: NULL | H102: NULL | I102: NULL | J102: NULL | K102: NULL
A103: Army | B103: 0309 | C103: Ft. Detrick US Army Health Clinic | D103: I | E103: 75584.63 | F103: NULL | G103: NULL | H103: NULL | I103: NULL | J103: NULL | K103: NULL
A104: Army | B104: 0330 | C104: Ft. Drum (Guthrie Army Health Clinic) | D104: C | E104: 53834.76 | F104: 251535.03 | G104: 430870.31 | H104: 346951.85 | I104: 250817.62 | J104: 218178.91 | K104: 178231.14
A105: Army | B105: 0350 | C105: Ft. Indiantown Gap US Army Health Clinic | D105: I | E105: NULL | F105: NULL | G105: NULL | H105: NULL | I105: NULL | J105: NULL | K105: NULL
A106: Army | B106: 0351 | C106: Letterkenny US Army Health Clinic | D106: I | E106: NULL | F106: NULL | G106: NULL | H106: NULL | I106: NULL | J106: NULL | K106: NULL
A107: Army | B107: 0352 | C107: Carlisle (Dunham Army Health Clinic) | D107: C | E107: 317245.28 | F107: 499859.63 | G107: 1252093.2 | H107: NULL | I107: NULL | J107: NULL | K107: NULL
A108: Army | B108: 0353 | C108: Tobyhanna US Army Health Clinic | D108: I | E108: NULL | F108: NULL | G108: NULL | H108: NULL | I108: NULL | J108: NULL | K108: NULL
A109: Army | B109: 0371 | C109: Dugway Proving Ground | D109: I | E109: NULL | F109: NULL | G109: NULL | H109: NULL | I109: NULL | J109: NULL | K109: NULL
A110: Army | B110: 0441 | C110: New Cumberland US Army Health Clinic | D110: I | E110: NULL | F110: NULL | G110: NULL | H110: NULL | I110: NULL | J110: NULL | K110: NULL
A111: Army | B111: 0606 | C111: Heidelberg MEDDAC | D111: C | E111: 247281.84 | F111: 275253.94 | G111: 447172.08 | H111: 661353.17 | I111: 521060.38 | J111: 344218.65 | K111: 555051.37
A112: Army | B112: 0607 | C112: Landstuhl Regional Medical Center | D112: H | E112: 399520.69 | F112: 666311.1 | G112: 991639.89 | H112: 1151663.3 | I112: 1026510 | J112: 1134417.4 | K112: 2243329.7
A113: Army | B113: 0609 | C113: Bavaria MEDDAC | D113: C | E113: 94197.19 | F113: 90750.2 | G113: 153869.74 | H113: 154163.97 | I113: 186227.57 | J113: 153689.3 | K113: 202738.15
A114: Army | B114: 0610 | C114: MEDDAC Japan | D114: I | E114: NULL | F114: NULL | G114: NULL | H114: NULL | I114: NULL | J114: NULL | K114: 38048.78
A115: Army | B115: 0612 | C115: Brian Allgood ACH - Seoul | D115: H | E115: 4681.57 | F115: 48284.32 | G115: 7476.04 | H115: 68024.74 | I115: 370107.11 | J115: 382897.5 | K115: 395322.46
A116: Navy | B116: 0024 | C116: NH Camp Pendelton | D116: H | E116: 212151.38 | F116: 267399.38 | G116: 425026.25 | H116: 364631.47 | I116: 308398.39 | J116: 321081.73 | K116: 254375.22 | L116: Navy OP Total | M116: =SUM(K116:K144) -> 17971641
A117: Navy | B117: 0028 | C117: NH Lemoore | D117: H | E117: 317431.05 | F117: 413709.73 | G117: 499688.63 | H117: 1332340.5 | I117: 977655.39 | J117: 604724.01 | K117: 638257.53
A118: Navy | B118: 0029 | C118: NMC San Diego | D118: H | E118: 709685.78 | F118: 811495.26 | G118: 1431228.5 | H118: 2136909.4 | I118: 2144509.2 | J118: 1375746.8 | K118: 1142267.3
A119: Navy | B119: 0030 | C119: NH 29 Palms | D119: H | E119: 71956.07 | F119: 219178.77 | G119: 237345.48 | H119: 192596.49 | I119: 239552 | J119: 373945.71 | K119: 309446.87
A120: Navy | B120: 0035 | C120: NBHC Groton | D120: C | E120: 107563.46 | F120: 279215.14 | G120: 220263.3 | H120: 262300.78 | I120: 331057.21 | J120: 278050.2 | K120: 327890.04
A121: Navy | B121: 0038 | C121: NH Pensacola | D121: H | E121: 858379.5 | F121: 1719626.3 | G121: 1554144 | H121: 1950475.4 | I121: 1389430.3 | J121: 1845871.9 | K121: 1698847.4
A122: Navy | B122: 0039 | C122: NH Jacksonville | D122: H | E122: 1468733.5 | F122: 2556277 | G122: 4871868.5 | H122: 5482608 | I122: 5186234.6 | J122: 3709337.4 | K122: 3270391.3
A123: Navy | B123: 0056 | C123: NHC Great Lakes | D123: C | E123: 575840.9 | F123: 1049071.9 | G123: 1556985.7 | H123: 1803593.4 | I123: 1864631 | J123: 1190789.7 | K123: NULL
A124: Navy | B124: 0067 | C124: Walter Reed National Military Medical Center | D124: H | E124: 1842682.6 | F124: 3426903.2 | G124: 3985155 | H124: 4072632.4 | I124: 3840128.8 | J124: 4100061.6 | K124: 0
A125: Navy | B125: 0068 | C125: NHC Patuxent River | D125: C | E125: 201066.47 | F125: 297327.82 | G125: 358305.63 | H125: 645170.47 | I125: 531051.73 | J125: 464068.62 | K125: 337169.21
A126: Navy | B126: 0091 | C126: NH Camp Lejeune | D126: H | E126: 511211.54 | F126: 1241664.3 | G126: 1538067.3 | H126: 1568900.9 | I126: 1365493.4 | J126: 1318356.8 | K126: 1353210.9
A127: Navy | B127: 0092 | C127: NHC Cherry Point | D127: H | E127: 322730.32 | F127: 441003.12 | G127: 1045327.2 | H127: 926735.09 | I127: 792262.12 | J127: 791756.54 | K127: 511583.96
A128: Navy | B128: 0100 | C128: NBHC Newport | D128: C | E128: 167263 | F128: 344200 | G128: 457845 | H128: 416572 | I128: 399629.15 | J128: 223199.76 | K128: 253939.84
A129: Navy | B129: 0103 | C129: NHC Charleston | D129: H | E129: 726188.09 | F129: 1179988.9 | G129: 2327379.1 | H129: 2313899.8 | I129: 1285597.3 | J129: 678688.75 | K129: 549736.88
A130: Navy | B130: 0104 | C130: NH Beaufort | D130: H | E130: 403148.76 | F130: 609159.86 | G130: 884466.98 | H130: 892220.19 | I130: 710152.87 | J130: 465225.42 | K130: 356198.15
A131: Navy | B131: 0107 | C131: NBHC NSA Mid-South | D131: C | E131: 284108.19 | F131: 829860.34 | G131: 901898.85 | H131: 1372912.9 | I131: 1012196.2 | J131: 113645.58 | K131: NULL
A132: Navy | B132: 0118 | C132: NHC Corpus Christi | D132: C | E132: 129398.65 | F132: 366249.54 | G132: 415482.81 | H132: 414017.99 | I132: 828464.3 | J132: 622381.5 | K132: 625954.97
A133: Navy | B133: 0124 | C133: NMC Portsmouth (VA) | D133: H | E133: 1711421.6 | F133: 2755006.6 | G133: 3283709.4 | H133: 3531458.2 | I133: 4034156 | J133: 3603987.1 | K133: 3151416.9
A134: Navy | B134: 0126 | C134: NH Bremerton | D134: H | E134: 947644.45 | F134: 1610254.4 | G134: 2761369.5 | H134: 2828324.8 | I134: 2338564.6 | J134: 1902229.7 | K134: 1883424.2
A135: Navy | B135: 0127 | C135: NH Oak Harbor | D135: H | E135: 220838.03 | F135: 351331.5 | G135: 502436.71 | H135: 449661.26 | I135: 517508.71 | J135: 329285.19 | K135: 316004.88
A136: Navy | B136: 0280 | C136: NHC Hawaii | D136: C | E136: 87479.6 | F136: 197280.26 | G136: 455274.49 | H136: 704563.18 | I136: 513053.38 | J136: 322500.86 | K136: 323471.47
A137: Navy | B137: 0297 | C137: NACC New Orleans | D137: C | E137: 22675.69 | F137: 96763.38 | G137: 61124.93 | H137: 74298.94 | I137: 67982.92 | J137: 4422.48 | K137: NULL
A138: Navy | B138: 0306 | C138: NHC Annapolis | D138: C | E138: 92155.07 | F138: 252168.06 | G138: 378918.45 | H138: 394079.08 | I138: 332604.54 | J138: 260463.89 | K138: 257512.79
...
