Workbook

Sheet Collection Goals Summary
A1: Outpatient | E1: Inpatient | I1: Total Collections
B2: FY 12- Collections | C2: FY13- Goals | F2: FY 12- Collections | G2: FY13- Goals | J2: FY 12- Collections | K2: FY13- Goals
A3: Army | B3: ='OP Collections'!M68 -> 42230902 | C3: ='Army OP'!S44 -> 45021152 | E3: Army | F3: ='IP Collections'!M68 -> 22711774 | G3: ='Army IP'!M51 -> 21504863 | I3: Army | J3: =F3+B3 -> 64942676 | K3: =G3+C3 -> 66526016
A4: Navy | B4: ='OP Collections'!M116 -> 17971641 | C4: ='Navy OP'!S35 -> 25559049 | E4: Navy | F4: ='IP Collections'!M114 -> 4481079.2 | G4: ='Navy IP'!M32 -> 4953042.1 | I4: Navy | J4: =F4+B4 -> 22452720 | K4: =G4+C4 -> 30512091
A5: Air Force | B5: ='OP Collections'!M3 -> 58514320 | C5: ='Air Force OP'!S88 -> 59545554 | E5: Air Force | F5: ='IP Collections'!M3 -> 5353112.3 | G5: ='Air Force IP'!M69 -> 5554629.6 | I5: Air Force | J5: =F5+B5 -> 63867432 | K5: =G5+C5 -> 65100184
A6: JTF CapMed | B6: ='OP Collections'!M145 -> 12012004 | C6: ='JTF OP'!S4 -> 14597280 | E6: JTF CapMed | F6: ='IP Collections'!M143 -> 4839519.3 | G6: ='JTF IP'!L5 -> 4998453 | I6: JTF CapMed | J6: =SUM(B6,F6) -> 16851523 | K6: =SUM(C6,G6) -> 19595733
A7: Total | B7: =SUM(B3:B6) -> 1.3072887e+08 | C7: =SUM(C3:C6) -> 1.4472304e+08 | E7: Total | F7: =SUM(F3:F6) -> 37385485 | G7: =SUM(G3:G6) -> 37010988 | I7: Total | J7: =SUM(J3:J6) -> 1.6811435e+08 | K7: =SUM(K3:K6) -> 1.8173402e+08
A10: IP data
A11: service | B11: Sum of FY2011 | C11: Sum of FY2012
A12: AF | B12: 7878642 | C12: 5353112.3
A13: Army | B13: 22459465 | C13: 22711774
A14: JTF | B14: 2857159.3 | C14: 4839519.3
A15: Navy | B15: 4734503 | C15: 4481079.2
A16: Grand Total | B16: 37929769 | C16: 37385485
A18: OP data
A19: Service | B19: Sum of FY2011 | C19: Sum of FY2012
A20: AF | B20: 70875923 | C20: 58514320
A21: Army | B21: 56404211 | C21: 42230902
A22: JTF | B22: 9036245.7 | C22: 12012004
A23: Navy | B23: 25338993 | C23: 17971641
A24: Grand Total | B24: 1.6165537e+08 | C24: 1.3072887e+08
A26: Total
A27: Service | B27: Sum of FY2011 | C27: Sum of FY2012
A28: AF | B28: =SUM(B12,B20) -> 78754565 | C28: =SUM(C12,C20) -> 63867432
A29: Army | B29: =SUM(B13,B21) -> 78863677 | C29: =SUM(C13,C21) -> 64942676
A30: JTF | B30: =SUM(B14,B22) -> 11893405 | C30: =SUM(C14,C22) -> 16851523
A31: Navy | B31: =SUM(B15,B23) -> 30073496 | C31: =SUM(C15,C23) -> 22452720
A32: Grand Total | B32: =SUM(B16,B24) -> 1.9958514e+08 | C32: =SUM(C16,C24) -> 1.6811435e+08

Sheet Army IP
A1: dmis_id | B1: dmis_name | C1: facility_type | E1: Number of IP Dispositions for CFY
D2: FY2006 | E2: FY2007 | F2: FY2008 | G2: FY2009 | H2: FY2010 | I2: FY2011 | J2: FY2012 | K2: Factor Calculation | L2: FY 12 Collection | M2: FY 13 Goal | N2: Notes
A3: 0001 | B3: Redstone Arsenal (Fox Army Health Clinic) | C3: C | K3: =IF(I3<0.0242,0.0242/H3,0) -> 0 | M3: =IF(K3>0,L3*K3,L3) -> 0
A4: 0002 | B4: Ft. McClellan (Patterson ACH) | C4: I | K4: =IF(I4<0.0242,0.0242/H4,0) -> 0 | M4: =IF(K4>0,L4*K4,L4) -> 0
A5: 0003 | B5: Ft. Rucker (Lyster Army Health Clinic) | C5: C | K5: =IF(I5<0.0242,0.0242/H5,0) -> 0 | M5: =IF(K5>0,L5*K5,L5) -> 0
A6: 0005 | B6: Ft. Wainwright (Bassett Army Community Hospital) | C6: H | D6: 0.047988709 | E6: 0.030160858 | F6: 0.035363458 | G6: 0.051612903 | H6: 0.034009547 | I6: 0.032471437 | J6: 0.039085546 | K6: =IF(J6<J$51,J$51/J6,0) -> 0 | L6: 332689.02 | M6: =IF(K6>0,L6*K6,L6) -> 332689.02
A7: 0008 | B7: Ft. Huachuca (Bliss Army Health Clinic) | C7: C | K7: =IF(I7<0.0242,0.0242/H7,0) -> 0 | M7: =IF(K7>0,L7*K7,L7) -> 0
A8: 0032 | B8: Ft. Carson (Evans Army Community Hospital) | C8: H | D8: 0.010630587 | E8: 0.0083857442 | F8: 0.0068508287 | G8: 0.0045372051 | H8: 0.0058469475 | I8: 0.007825921 | J8: 0.0087248322 | K8: =IF(J8<J$51,J$51/J8,0) -> 2.5874209 | L8: 180700.69 | M8: =IF(K8>0,L8*K8,L8) -> 467548.74
A9: 0037 | B9: Washington D.C. (Walter Reed Army Medical Center) | C9: H | D9: 0.069897745 | E9: 0.076933626 | F9: 0.071181755 | G9: 0.077439195 | H9: 0.075211864 | I9: 0.10490512 | K9: =IF(J9<J$51,J$51/J9,0) -> #DIV/0! | L9: 2934040.7 | M9: 0 | N9: JTF
A10: 0047 | B10: Ft. Gordon (Eisenhower Army Medical Center) | C10: H | D10: 0.074769546 | E10: 0.075810003 | F10: 0.078316953 | G10: 0.061681048 | H10: 0.061468412 | I10: 0.051155116 | J10: 0.051522248 | K10: =IF(J10<J$51,J$51/J10,0) -> 0 | L10: 1085817.4 | M10: =IF(K10>0,L10*K10,L10) -> 1085817.4
A11: 0048 | B11: Ft. Benning (Martin Army Community Hospital) | C11: H | D11: 0.032354035 | E11: 0.021383228 | F11: 0.028244548 | G11: 0.026885246 | H11: 0.017343045 | I11: 0.016416845 | J11: 0.0094656489 | K11: =IF(J11<J$51,J$51/J11,0) -> 2.3849198 | L11: 71304.66 | M11: =IF(K11>0,L11*K11,L11) -> 170055.89
A12: 0049 | B12: Ft. Stewart (Winn Army Community Hospital) | C12: H | D12: 0.025344598 | E12: 0.011051374 | F12: 0.016638225 | G12: 0.018134715 | H12: 0.012879103 | I12: 0.017805582 | J12: 0.017514871 | K12: =IF(J12<J$51,J$51/J12,0) -> 1.288894 | L12: 73405.67 | M12: =IF(K12>0,L12*K12,L12) -> 94612.13
A13: 0052 | B13: Ft. Shafter (Tripler Army Medical Center) | C13: H | D13: 0.025562719 | E13: 0.023015182 | F13: 0.025415027 | G13: 0.029122954 | H13: 0.026773762 | I13: 0.030515118 | J13: 0.02902226 | K13: =IF(J13<J$51,J$51/J13,0) -> 0 | L13: 2662608.7 | M13: =IF(K13>0,L13*K13,L13) -> 2662608.7
A14: 0057 | B14: Ft. Riley (Irwin Army Community Hospital) | C14: H | D14: 0.0096371882 | E14: 0.012581547 | F14: 0.01161103 | G14: 0.0092307692 | H14: 0.0081300813 | I14: 0.0097474524 | J14: 0.0092833271 | K14: =IF(J14<J$51,J$51/J14,0) -> 2.4317588 | L14: 137148.51 | M14: =IF(K14>0,L14*K14,L14) -> 333512.1
A15: 0058 | B15: Ft. Leavenworth (Munson Army Health Clinic) | C15: C | K15: =IF(J15<J$51,J$51/J15,0) -> 0 | M15: =IF(K15>0,L15*K15,L15) -> 0
A16: 0060 | B16: Ft. Campbell (Blanchfield Army Comm Hospital) | C16: H | D16: 0.01275691 | E16: 0.014302981 | F16: 0.0097333074 | G16: 0.012467655 | H16: 0.0074759001 | I16: 0.0063229572 | J16: 0.0063252397 | K16: =IF(J16<J$51,J$51/J16,0) -> 3.5690051 | L16: 82726.87 | M16: =IF(K16>0,L16*K16,L16) -> 295252.62
A17: 0061 | B17: Ft. Knox (Ireland Army Community Hospital) | C17: H | D17: 0.016733068 | E17: 0.010159652 | F17: 0.011569053 | G17: 0.0068597561 | H17: 0.0047086521 | I17: 0.0060402685 | J17: 0.015205725 | K17: =IF(J17<J$51,J$51/J17,0) -> 1.4846259 | L17: 1255.35 | M17: =IF(K17>0,L17*K17,L17) -> 1863.7252
A18: 0064 | B18: Ft. Polk (Bayne-Jones Army Community Hospital) | C18: H | D18: 0.012820513 | E18: 0.0073746313 | F18: 0.011286682 | G18: 0.010172144 | H18: 0.0030487805 | I18: 0.0038729667 | J18: 0.004576659 | K18: =IF(J18<J$51,J$51/J18,0) -> 4.9325966 | L18: 6496.57 | M18: =IF(K18>0,L18*K18,L18) -> 32044.959
A19: 0069 | B19: Ft. Meade (Kimbrough Ambulatory Care Center) | C19: C | K19: =IF(J19<J$51,J$51/J19,0) -> 0 | M19: =IF(K19>0,L19*K19,L19) -> 0
A20: 0075 | B20: Ft. Leonard Wood (Wood Army Community Hospital) | C20: H | D20: 0.021794872 | E20: 0.024074074 | F20: 0.020174849 | G20: 0.013325257 | H20: 0.02244389 | I20: 0.010451045 | J20: 0.013513514 | K20: =IF(J20<J$51,J$51/J20,0) -> 1.6705362 | L20: 22241.09 | M20: =IF(K20>0,L20*K20,L20) -> 37154.545
A21: 0081 | B21: Ft. Monmouth (Patterson Army Health Clinic) | C21: C | K21: =IF(J21<J$51,J$51/J21,0) -> 0 | M21: =IF(K21>0,L21*K21,L21) -> 0
A22: 0086 | B22: West Point (Keller Army Community Hospital) | C22: H | D22: 0.041237113 | E22: 0.041297935 | F22: 0.041002278 | G22: 0.036585366 | H22: 0.025369979 | I22: 0.016528926 | J22: 0.017191977 | K22: =IF(J22<J$51,J$51/J22,0) -> 1.3131016 | L22: 4196.8 | M22: =IF(K22>0,L22*K22,L22) -> 5510.8249
A23: 0089 | B23: Ft. Bragg (Womack Army Medical Center) | C23: H | D23: 0.023541114 | E23: 0.025308311 | F23: 0.030616943 | G23: 0.030324689 | H23: 0.023399015 | I23: 0.022279434 | J23: 0.019055868 | K23: =IF(J23<J$51,J$51/J23,0) -> 1.1846646 | L23: 796878.58 | M23: =IF(K23>0,L23*K23,L23) -> 944033.86
A24: 0098 | B24: Ft. Sill (Reynolds Army Community Hospital) | C24: H | D24: 0.013629283 | E24: 0.013184179 | F24: 0.012792236 | G24: 0.013053613 | H24: 0.0086992543 | I24: 0.013856813 | J24: 0.016897081 | K24: =IF(J24<J$51,J$51/J24,0) -> 1.3360185 | L24: 105095.86 | M24: =IF(K24>0,L24*K24,L24) -> 140410.01
A25: 0105 | B25: Ft. Jackson (Moncrief Army Community Hospital) | C25: H | D25: 0.013986014 | E25: 0.0375 | F25: 0.036144578 | G25: 0.018292683 | H25: 0.034013605 | I25: 0.048275862 | J25: 0.052083333 | K25: =IF(J25<J$51,J$51/J25,0) -> 0 | L25: 45187.82 | M25: =IF(K25>0,L25*K25,L25) -> 45187.82
A26: 0108 | B26: Ft. Bliss (William Beaumont Army Medical Center) | C26: H | D26: 0.030676838 | E26: 0.027079304 | F26: 0.03342528 | G26: 0.032006245 | H26: 0.027143473 | I26: 0.024214021 | J26: 0.025518634 | K26: =IF(J26<J$51,J$51/J26,0) -> 0 | L26: 850771.88 | M26: =IF(K26>0,L26*K26,L26) -> 850771.88
A27: 0109 | B27: Ft. Sam Houston (Brooke Army Medical Center) | C27: H | D27: 0.053866302 | E27: 0.05819398 | F27: 0.045765564 | G27: 0.050988554 | H27: 0.04929509 | I27: 0.048323055 | J27: 0.047563535 | K27: =IF(J27<J$51,J$51/J27,0) -> 0 | L27: 7268312.9 | M27: =IF(K27>0,L27*K27,L27) -> 7268312.9
A28: 0110 | B28: Ft. Hood (C.R. Darnall Army Medical Center) | C28: H | D28: 0.0086413188 | E28: 0.014473089 | F28: 0.0097799511 | G28: 0.0095541401 | H28: 0.0064258175 | I28: 0.008411072 | J28: 0.007195346 | K28: =IF(J28<J$51,J$51/J28,0) -> 3.1374187 | L28: 292481.76 | M28: =IF(K28>0,L28*K28,L28) -> 917637.74
A29: 0121 | B29: Ft. Eustis (McDonald Army Health Center) | C29: H | D29: 0.0091743119 | K29: =IF(J29<J$51,J$51/J29,0) -> #DIV/0! | M29: 0
A30: 0122 | B30: Ft. Lee (Kenner Army Health Clinic) | C30: C | K30: =IF(J30<J$51,J$51/J30,0) -> 0 | M30: =IF(K30>0,L30*K30,L30) -> 0
A31: 0123 | B31: Ft. Belvoir (FT. Belvoir Community Hospital) | C31: H | D31: 0.03307718 | E31: 0.025954765 | F31: 0.025008806 | G31: 0.016365496 | H31: 0.026089828 | I31: 0.021395655 | K31: =IF(J31<J$51,J$51/J31,0) -> #DIV/0! | L31: 0 | M31: 0 | N31: JTF
A32: 0125 | B32: Ft. Lewis (Madigan Army Medical Center) | C32: H | D32: 0.0329758 | E32: 0.047549777 | F32: 0.0428985 | G32: 0.036703903 | H32: 0.040270645 | I32: 0.032807003 | J32: 0.033505155 | K32: =IF(J32<J$51,J$51/J32,0) -> 0 | L32: 3805669.4 | M32: =IF(K32>0,L32*K32,L32) -> 3805669.4
A33: 0131 | B33: Ft. Irwin (Weed Army Community Hospital) | C33: H | D33: 0.0030075188 | E33: 0.0011990408 | F33: 0.0038363171 | G33: 0.0098452883 | H33: 0.0037593985 | I33: 0.0013513514 | K33: 0 | L33: 0 | M33: 0
A34: 0206 | B34: Yuma Proving Grounds | C34: I | K34: =IF(J34<J$51,J$51/J34,0) -> 0 | M34: =IF(K34>0,L34*K34,L34) -> 0
A35: 0256 | B35: Pentagon Army Health Clinic | C35: I | K35: =IF(J35<J$51,J$51/J35,0) -> 0 | M35: =IF(K35>0,L35*K35,L35) -> 0
A36: 0273 | B36: Ft. McPherson (Lawrence Joel Army Health Clinic) | C36: I | K36: =IF(J36<J$51,J$51/J36,0) -> 0 | M36: =IF(K36>0,L36*K36,L36) -> 0
A37: 0308 | B37: Aberdeen Proving Grounds (Kirk Army Health Clinic) | C37: I | K37: =IF(J37<J$51,J$51/J37,0) -> 0 | M37: =IF(K37>0,L37*K37,L37) -> 0
A38: 0309 | B38: Ft. Detrick US Army Health Clinic | C38: I | K38: =IF(J38<J$51,J$51/J38,0) -> 0 | M38: =IF(K38>0,L38*K38,L38) -> 0
A39: 0330 | B39: Ft. Drum (Guthrie Army Health Clinic) | C39: C | K39: =IF(J39<J$51,J$51/J39,0) -> 0 | M39: =IF(K39>0,L39*K39,L39) -> 0
A40: 0350 | B40: Ft. Indiantown Gap US Army Health Clinic | C40: I | K40: =IF(J40<J$51,J$51/J40,0) -> 0 | M40: =IF(K40>0,L40*K40,L40) -> 0
...

Sheet Navy IP
A1: dmis_id | B1: dmis_name | C1: facility_type | E1: Number of IP Dispositions for CFY
D2: FY2006 | E2: FY2007 | F2: FY2008 | G2: FY2009 | H2: FY2010 | I2: FY2011 | J2: FY2012 | K2: Factor Calculation | L2: FY 12 Collection | M2: FY 12 Goal | N2: Notes
A3: 0024 | B3: NH Camp Pendelton | C3: H | D3: 0.0050352467 | E3: 0.0033783784 | F3: 0.0051254384 | G3: 0.0034400635 | H3: 0.0048605782 | I3: 0.0044455421 | J3: 0.006358926 | K3: =IF(J3<J$32,J$32/J3,0) -> 2.2068352 | L3: =VLOOKUP(A3,'IP Collections'!B$115:K$142,10,FALSE) -> 116204.17 | M3: =IF(K3>0,L3*K3,L3) -> 256443.45
A4: 0028 | B4: NH Lemoore | C4: H | D4: 0.013948498 | E4: 0.014054054 | F4: 0.014102564 | G4: 0.0014409222 | H4: 0 | I4: 0 | J4: 0.0035335689 | K4: =IF(J4<J$32,J$32/J4,0) -> 3.9713678 | L4: =VLOOKUP(A4,'IP Collections'!B$115:K$142,10,FALSE) -> 4064.7 | M4: =IF(K4>0,L4*K4,L4) -> 16142.419
A5: 0029 | B5: NMC San Diego | C5: H | D5: 0.013615119 | E5: 0.013813311 | F5: 0.019938541 | G5: 0.015498464 | H5: 0.014862554 | I5: 0.012381207 | J5: 0.01231125 | K5: =IF(J5<J$32,J$32/J5,0) -> 1.13986 | L5: =VLOOKUP(A5,'IP Collections'!B$115:K$142,10,FALSE) -> 1076025.9 | M5: =IF(K5>0,L5*K5,L5) -> 1226518.9
A6: 0030 | B6: NH 29 Palms | C6: H | D6: 0.0048543689 | E6: 0.005192108 | F6: 0.0041407867 | G6: 0.011764706 | H6: 0.0046367852 | I6: 0.0065466448 | J6: 0.0024252223 | K6: =IF(J6<J$32,J$32/J6,0) -> 5.7863156 | L6: =VLOOKUP(A6,'IP Collections'!B$115:K$142,10,FALSE) -> 14112.13 | M6: =IF(K6>0,L6*K6,L6) -> 81657.238
A7: 0035 | B7: NBHC Groton | C7: C | K7: =IF(I7<0.0199,0.0199/I7,0) -> 0 | L7: =VLOOKUP(A7,'IP Collections'!B$115:K$142,10,FALSE) -> NULL | M7: =IF(K7>0,L7*K7,L7) -> NULL
A8: 0038 | B8: NH Pensacola | C8: H | D8: 0.030352084 | E8: 0.026687598 | F8: 0.019371502 | G8: 0.017050691 | H8: 0.025773196 | I8: 0.02462203 | J8: 0.022862369 | K8: =IF(J8<J$32,J$32/J8,0) -> 0 | L8: =VLOOKUP(A8,'IP Collections'!B$115:K$142,10,FALSE) -> 105358.21 | M8: =IF(K8>0,L8*K8,L8) -> 105358.21
A9: 0039 | B9: NH Jacksonville | C9: H | D9: 0.021145165 | E9: 0.024077869 | F9: 0.025676807 | G9: 0.024051 | H9: 0.021944444 | I9: 0.026837806 | J9: 0.021276596 | K9: =IF(J9<J$32,J$32/J9,0) -> 0 | L9: =VLOOKUP(A9,'IP Collections'!B$115:K$142,10,FALSE) -> 550231.5 | M9: =IF(K9>0,L9*K9,L9) -> 550231.5
A10: 0056 | B10: NHC Great Lakes | C10: C | K10: =IF(I10<0.0199,0.0199/I10,0) -> 0 | L10: =VLOOKUP(A10,'IP Collections'!$B$3:$J$142,9,FALSE) -> NULL | M10: =IF(K10>0,L10*K10,L10) -> NULL
A11: 0067 | B11: Walter Reed National Military Medical Center | C11: H | D11: 0.052250592 | E11: 0.061967772 | F11: 0.058080808 | G11: 0.045913291 | H11: 0.045179813 | I11: 0.046960106 | K11: =IF(J11<J$32,J$32/J11,0) -> #DIV/0! | M11: 0 | N11: JTF
A12: 0068 | B12: NHC Patuxent River | C12: C | K12: =IF(I12<0.0199,0.0199/I12,0) -> 0 | L12: =VLOOKUP(A12,'IP Collections'!$B$3:$J$142,9,FALSE) -> NULL | M12: =IF(K12>0,L12*K12,L12) -> NULL
A13: 0091 | B13: NH Camp Lejeune | C13: H | D13: 0.011326097 | E13: 0.012673753 | F13: 0.013367282 | G13: 0.01162115 | H13: 0.0099217707 | I13: 0.012723658 | J13: 0.010927876 | K13: =IF(J13<J$32,J$32/J13,0) -> 1.2841564 | L13: =VLOOKUP(A13,'IP Collections'!B$115:K$142,10,FALSE) -> 312745.49 | M13: =IF(K13>0,L13*K13,L13) -> 401614.11
A14: 0092 | B14: NHC Cherry Point | C14: H | D14: 0.0060728745 | E14: 0.0085287846 | F14: #DIV/0! | G14: #DIV/0! | H14: #VALUE! | I14: #VALUE! | K14: 0 | L14: =VLOOKUP(A14,'IP Collections'!$B$3:$J$142,9,FALSE) -> NULL | M14: =IF(K14>0,L14*K14,L14) -> NULL
A15: 0100 | B15: NBHC Newport | C15: C | I15: #VALUE! | K15: 0 | L15: =VLOOKUP(A15,'IP Collections'!$B$3:$J$142,9,FALSE) -> NULL | M15: =IF(K15>0,L15*K15,L15) -> NULL
A16: 0103 | B16: NHC Charleston | C16: H | K16: 0 | L16: =VLOOKUP(A16,'IP Collections'!$B$3:$J$142,9,FALSE) -> NULL | M16: =IF(K16>0,L16*K16,L16) -> NULL
A17: 0104 | B17: NH Beaufort | C17: H | D17: 0.057142857 | E17: 0.014134276 | F17: 0.03202847 | G17: 0.012269939 | H17: 0 | I17: 0.058139535 | J17: 0.013157895 | K17: =IF(J17<J$32,J$32/J17,0) -> 1.0665157 | L17: =VLOOKUP(A17,'IP Collections'!B$115:K$142,10,FALSE) -> 8255.15 | M17: =IF(K17>0,L17*K17,L17) -> 8804.2473
A18: 0107 | B18: NBHC NSA Mid-South | C18: C | K18: =IF(I18<0.0199,0.0199/I18,0) -> 0 | L18: =VLOOKUP(A18,'IP Collections'!$B$3:$J$142,9,FALSE) -> NULL | M18: =IF(K18>0,L18*K18,L18) -> NULL
A19: 0118 | B19: NHC Corpus Christi | C19: C | K19: =IF(I19<0.0199,0.0199/I19,0) -> 0 | L19: =VLOOKUP(A19,'IP Collections'!$B$3:$J$142,9,FALSE) -> NULL | M19: =IF(K19>0,L19*K19,L19) -> NULL
A20: 0124 | B20: NMC Portsmouth (VA) | C20: H | D20: 0.014660443 | E20: 0.018267223 | F20: 0.017268683 | G20: 0.018069061 | H20: 0.017603988 | I20: 0.018272425 | J20: 0.019907995 | K20: =IF(J20<J$32,J$32/J20,0) -> 0 | L20: =VLOOKUP(A20,'IP Collections'!B$115:K$142,10,FALSE) -> 1592558.8 | M20: =IF(K20>0,L20*K20,L20) -> 1592558.8
A21: 0126 | B21: NH Bremerton | C21: H | D21: 0.023101018 | E21: 0.022509379 | F21: 0.023849372 | G21: 0.025723473 | H21: 0.029715762 | I21: 0.020618557 | J21: 0.024437548 | K21: =IF(J21<J$32,J$32/J21,0) -> 0 | L21: =VLOOKUP(A21,'IP Collections'!B$115:K$142,10,FALSE) -> 437167.77 | M21: =IF(K21>0,L21*K21,L21) -> 437167.77
A22: 0127 | B22: NH Oak Harbor | C22: H | D22: 0.0043956044 | E22: 0.0049455984 | F22: 0.010123735 | G22: 0.014705882 | H22: 0 | I22: 0.0027359781 | J22: 0.0053404539 | K22: =IF(J22<J$32,J$32/J22,0) -> 2.6276983 | L22: =VLOOKUP(A22,'IP Collections'!B$115:K$142,10,FALSE) -> 7489.16 | M22: =IF(K22>0,L22*K22,L22) -> 19679.253
A23: 0280 | B23: NHC Hawaii | C23: C | K23: =IF(I23<0.0199,0.0199/I23,0) -> 0 | L23: =VLOOKUP(A23,'IP Collections'!$B$3:$J$142,9,FALSE) -> NULL | M23: =IF(K23>0,L23*K23,L23) -> NULL
A24: 0297 | B24: NACC New Orleans | C24: C | K24: =IF(I24<0.0199,0.0199/I24,0) -> 0 | L24: =VLOOKUP(A24,'IP Collections'!$B$3:$J$142,9,FALSE) -> NULL | M24: =IF(K24>0,L24*K24,L24) -> NULL
A25: 0306 | B25: NHC Annapolis | C25: C | K25: =IF(I25<0.0199,0.0199/I25,0) -> 0 | L25: =VLOOKUP(A25,'IP Collections'!$B$3:$J$142,9,FALSE) -> NULL | M25: =IF(K25>0,L25*K25,L25) -> NULL
A26: 0321 | B26: NBHC Portsmouth (NH) | C26: C | K26: =IF(I26<0.0199,0.0199/I26,0) -> 0 | L26: =VLOOKUP(A26,'IP Collections'!$B$3:$J$142,9,FALSE) -> NULL | M26: =IF(K26>0,L26*K26,L26) -> NULL
A27: 0385 | B27: NHC Quantico | C27: C | K27: =IF(I27<0.0199,0.0199/I27,0) -> 0 | L27: =VLOOKUP(A27,'IP Collections'!$B$3:$J$142,9,FALSE) -> NULL | M27: =IF(K27>0,L27*K27,L27) -> NULL
A28: 0616 | B28: NH Roosevelt Roads | C28: I | K28: =IF(I28<0.0199,0.0199/I28,0) -> 0 | L28: =VLOOKUP(A28,'IP Collections'!$B$3:$J$142,9,FALSE) -> NULL | M28: =IF(K28>0,L28*K28,L28) -> NULL
A29: 0620 | B29: NH Guam | C29: H | D29: 0.033622007 | E29: 0.032581454 | F29: 0.03164557 | G29: 0.032325339 | H29: 0.037192004 | I29: 0.024841695 | J29: 0.02585752 | K29: =IF(J29<J$32,J$32/J29,0) -> 0 | L29: =VLOOKUP(A29,'IP Collections'!B$115:K$142,10,FALSE) -> 256866.18 | M29: =IF(K29>0,L29*K29,L29) -> 256866.18
A30: 0621 | B30: NH Okinawa | C30: I | K30: =IF(I30<0.0199,0.0199/I30,0) -> 0 | L30: =VLOOKUP(A30,'IP Collections'!$B$3:$J$142,9,FALSE) -> NULL | M30: =IF(K30>0,L30*K30,L30) -> NULL
A31: 0622 | B31: NH Yokosuka | C31: I | K31: =IF(I31<0.0199,0.0199/I31,0) -> 0 | L31: =VLOOKUP(A31,'IP Collections'!$B$3:$J$142,9,FALSE) -> NULL | M31: =IF(K31>0,L31*K31,L31) -> NULL
H32: Average | I32: =AVERAGE(I3:I6,I8:I9,I11,I13,I17,I20:I22,I29) -> 0.019932707 | J32: =AVERAGE(J3:J31) -> 0.014033102 | K32: Total Collections | L32: =SUM(L3:L31) -> 4481079.2 | M32: =SUM(M3:M31) -> 4953042.1

Sheet Air Force IP
A2: dmis_id | B2: dmis_name | C2: facility_type | E2: Number of IP Dispositions for CFY
D3: FY2006 | E3: FY2007 | F3: FY2008 | G3: FY2009 | H3: FY2010 | I3: FY2011 | J3: FY2012 | K3: Factor Calculation | L3: FY 12 Collection | M3: FY 13 Goal | N3: Notes
A4: 0004 | B4: Maxwell AFB (42nd Medical Group) | C4: C | K4: =IF(J4<J$69,J$69/J4,0) -> 0 | L4: =VLOOKUP(A4,'IP Collections'!B3:K67,10,FALSE) -> NULL | M4: =IF(K4>0,L4*K4,L4) -> NULL
A5: 0006 | B5: Elmendorf AFB (3rd Medical group) | C5: H | D5: 0.051382114 | E5: 0.063350036 | F5: 0.067977341 | G5: 0.054644809 | H5: 0.07415345 | I5: 0.060215947 | J5: 0.06737471 | K5: =IF(J5<J$69,J$69/J5,0) -> 0 | L5: =VLOOKUP(A5,'IP Collections'!B4:K67,10,FALSE) -> 833496.49 | M5: =IF(K5>0,L5*K5,L5) -> 833496.49
A6: 0009 | B6: Luke AFB (56th Medical Group) | C6: C | K6: =IF(J6<J$69,J$69/J6,0) -> 0 | L6: =VLOOKUP(A6,'IP Collections'!B5:K68,10,FALSE) -> NULL | M6: =IF(K6>0,L6*K6,L6) -> NULL
A7: 0010 | B7: Davis Monthan AFB (355th Medical Group) | C7: C | K7: =IF(J7<J$69,J$69/J7,0) -> 0 | L7: =VLOOKUP(A7,'IP Collections'!B6:K69,10,FALSE) -> NULL | M7: =IF(K7>0,L7*K7,L7) -> NULL
A8: 0013 | B8: Little Rock AFB (314th Medical Group) | C8: C | K8: =IF(J8<J$69,J$69/J8,0) -> 0 | L8: =VLOOKUP(A8,'IP Collections'!B7:K70,10,FALSE) -> NULL | M8: =IF(K8>0,L8*K8,L8) -> NULL
A9: 0014 | B9: Travis AFB (60th Medical Group) | C9: H | D9: 0.039368104 | E9: 0.042659975 | F9: 0.051970443 | G9: 0.044253782 | H9: 0.038478549 | I9: 0.031430277 | J9: 0.038268956 | K9: =IF(J9<J$69,J$69/J9,0) -> 1.223912 | L9: =VLOOKUP(A9,'IP Collections'!B8:K71,10,FALSE) -> 662855.11 | M9: =IF(K9>0,L9*K9,L9) -> 811276.33
A10: 0015 | B10: Beale AFB (9th Medical Group) | C10: C | K10: =IF(I10<0.0451,0.0451/I10,0) -> 0 | L10: =VLOOKUP(A10,'IP Collections'!B9:K72,10,FALSE) -> NULL | M10: =IF(K10>0,L10*K10,L10) -> NULL
A11: 0018 | B11: Vandenberg AFB (30th Medical Group) | C11: C | K11: =IF(I11<0.0451,0.0451/I11,0) -> 0 | L11: =VLOOKUP(A11,'IP Collections'!B10:K73,10,FALSE) -> NULL | M11: =IF(K11>0,L11*K11,L11) -> NULL
A12: 0019 | B12: Edwards AFB (95th Medical Group) | C12: C | K12: =IF(I12<0.0451,0.0451/I12,0) -> 0 | L12: =VLOOKUP(A12,'IP Collections'!B11:K74,10,FALSE) -> NULL | M12: =IF(K12>0,L12*K12,L12) -> NULL
A13: 0033 | B13: USAF Academy (10th Medical Group) | C13: H | D13: 0.029058116 | E13: 0.044 | F13: 0.034482759 | G13: #DIV/0! | H13: #VALUE! | I13: #VALUE! | K13: 0 | L13: =VLOOKUP(A13,'IP Collections'!B12:K75,10,FALSE) -> NULL | M13: 0
A14: 0036 | B14: Dover AFB (436th Medical Group) | C14: C | K14: =IF(I14<0.0451,0.0451/I14,0) -> 0 | L14: =VLOOKUP(A14,'IP Collections'!B13:K76,10,FALSE) -> NULL | M14: =IF(K14>0,L14*K14,L14) -> NULL
A15: 0042 | B15: Eglin AFB (96th Medical Group) | C15: H | D15: 0.026644916 | E15: 0.028014616 | F15: 0.028837209 | G15: 0.02488189 | H15: 0.034024627 | I15: 0.032258065 | J15: 0.02071251 | K15: =IF(J15<J$69,J$69/J15,0) -> 2.2613307 | L15: =VLOOKUP(A15,'IP Collections'!B14:K77,10,FALSE) -> 182718.14 | M15: =IF(K15>0,L15*K15,L15) -> 413186.13
A16: 0043 | B16: Tyndall AFB (325th Medical Group) | C16: C | K16: =IF(J16<J$69,J$69/J16,0) -> 0 | L16: =VLOOKUP(A16,'IP Collections'!B15:K78,10,FALSE) -> NULL | M16: =IF(K16>0,L16*K16,L16) -> NULL
A17: 0045 | B17: MacDill AFB (6th Medical Group) | C17: C | K17: =IF(J17<J$69,J$69/J17,0) -> 0 | L17: =VLOOKUP(A17,'IP Collections'!B16:K79,10,FALSE) -> NULL | M17: =IF(K17>0,L17*K17,L17) -> NULL
A18: 0046 | B18: Patrick AFB (45th Medical Group) | C18: C | K18: =IF(J18<J$69,J$69/J18,0) -> 0 | L18: =VLOOKUP(A18,'IP Collections'!B17:K80,10,FALSE) -> NULL | M18: =IF(K18>0,L18*K18,L18) -> NULL
A19: 0050 | B19: Moody AFB (347th Medical Group) | C19: C | K19: =IF(J19<J$69,J$69/J19,0) -> 0 | L19: =VLOOKUP(A19,'IP Collections'!B18:K81,10,FALSE) -> NULL | M19: =IF(K19>0,L19*K19,L19) -> NULL
A20: 0051 | B20: Robins AFB (78th Medical Group) | C20: C | K20: =IF(J20<J$69,J$69/J20,0) -> 0 | L20: =VLOOKUP(A20,'IP Collections'!B19:K82,10,FALSE) -> NULL | M20: =IF(K20>0,L20*K20,L20) -> NULL
A21: 0053 | B21: Mountain Home AFB (366th Medical Group) | C21: H | D21: 0.027480916 | E21: 0.030201342 | F21: 0.036637931 | G21: 0.0098039216 | H21: 0.019011407 | I21: 0.014492754 | L21: =VLOOKUP(A21,'IP Collections'!B20:K83,10,FALSE) -> 958.97
A22: 0055 | B22: Scott AFB (375th Medical Group) | C22: C | K22: =IF(J22<J$69,J$69/J22,0) -> 0 | L22: =VLOOKUP(A22,'IP Collections'!B21:K84,10,FALSE) -> NULL | M22: =IF(K22>0,L22*K22,L22) -> NULL
A23: 0059 | B23: McConnell AFB (22nd Medical Group) | C23: C | K23: =IF(J23<J$69,J$69/J23,0) -> 0 | L23: =VLOOKUP(A23,'IP Collections'!B22:K85,10,FALSE) -> NULL | M23: =IF(K23>0,L23*K23,L23) -> NULL
A24: 0062 | B24: Barksdale AFB (2nd Medical Group) | C24: C | K24: =IF(J24<J$69,J$69/J24,0) -> 0 | L24: =VLOOKUP(A24,'IP Collections'!B23:K86,10,FALSE) -> NULL | M24: =IF(K24>0,L24*K24,L24) -> NULL
A25: 0066 | B25: Andrews AFB (79th Medical Group) | C25: H | D25: 0.062854442 | E25: 0.08518754 | F25: 0.026943005 | G25: 0.056359482 | H25: 0.099889012 | I25: 0.099576271 | L25: =VLOOKUP(A25,'IP Collections'!B24:K87,10,FALSE) -> 57521.45
A26: 0073 | B26: Keesler AFB (81st Medical Group) | C26: H | D26: 0.098360656 | E26: 0.028653295 | F26: 0.037629351 | G26: 0.028203062 | H26: 0.029391425 | I26: 0.045439132 | J26: 0.045340751 | K26: =IF(J26<J$69,J$69/J26,0) -> 1.0330185 | L26: =VLOOKUP(A26,'IP Collections'!B25:K88,10,FALSE) -> 798730.07 | M26: =IF(K26>0,L26*K26,L26) -> 825102.94
A27: 0074 | B27: Columbus AFB (14th Medical Group) | C27: C | K27: =IF(J27<J$69,J$69/J27,0) -> 0 | L27: =VLOOKUP(A27,'IP Collections'!B26:K89,10,FALSE) -> NULL | M27: =IF(K27>0,L27*K27,L27) -> NULL
A28: 0076 | B28: Whiteman AFB (509th Medical Group) | C28: C | K28: =IF(J28<J$69,J$69/J28,0) -> 0 | L28: =VLOOKUP(A28,'IP Collections'!B27:K90,10,FALSE) -> NULL | M28: =IF(K28>0,L28*K28,L28) -> NULL
A29: 0077 | B29: Malmstrom AFB (341st Medical Group) | C29: C | K29: =IF(J29<J$69,J$69/J29,0) -> 0 | L29: =VLOOKUP(A29,'IP Collections'!B28:K91,10,FALSE) -> NULL | M29: =IF(K29>0,L29*K29,L29) -> NULL
A30: 0078 | B30: Offutt AFB (55th Medical Group) | C30: C | K30: =IF(J30<J$69,J$69/J30,0) -> 0 | L30: =VLOOKUP(A30,'IP Collections'!B29:K92,10,FALSE) -> NULL | M30: =IF(K30>0,L30*K30,L30) -> NULL
A31: 0079 | B31: Nellis AFB (99th Medical Group) | C31: H | D31: 0.042150039 | E31: 0.040260268 | F31: 0.037417763 | G31: 0.052820697 | H31: 0.047337278 | I31: 0.042406015 | J31: 0.049490102 | K31: =IF(J31<J$69,J$69/J31,0) -> 0 | L31: =VLOOKUP(A31,'IP Collections'!B30:K93,10,FALSE) -> 607968.58 | M31: =IF(K31>0,L31*K31,L31) -> 607968.58
A32: 0083 | B32: Kirtland AFB (377th Medical Group) | C32: C | K32: =IF(J32<J$69,J$69/J32,0) -> 0 | L32: =VLOOKUP(A32,'IP Collections'!B31:K94,10,FALSE) -> NULL | M32: =IF(K32>0,L32*K32,L32) -> NULL
A33: 0084 | B33: Holloman AFB (49th Medical Group) | C33: C | K33: =IF(J33<J$69,J$69/J33,0) -> 0 | L33: =VLOOKUP(A33,'IP Collections'!B32:K95,10,FALSE) -> NULL | M33: =IF(K33>0,L33*K33,L33) -> NULL
A34: 0085 | B34: Cannon AFB (27th Medical Group) | C34: C | K34: =IF(J34<J$69,J$69/J34,0) -> 0 | L34: =VLOOKUP(A34,'IP Collections'!B33:K143,10,FALSE) -> NULL | M34: =IF(K34>0,L34*K34,L34) -> NULL
A35: 0090 | B35: Seymour Johnson AFB (4th Medical Group) | C35: C | K35: =IF(J35<J$69,J$69/J35,0) -> 0 | L35: =VLOOKUP(A35,'IP Collections'!B34:K96,10,FALSE) -> NULL | M35: =IF(K35>0,L35*K35,L35) -> NULL
A36: 0093 | B36: Grand Forks AFB (319th Medical Group) | C36: C | K36: =IF(J36<J$69,J$69/J36,0) -> 0 | L36: =VLOOKUP(A36,'IP Collections'!B35:K97,10,FALSE) -> NULL | M36: =IF(K36>0,L36*K36,L36) -> NULL
A37: 0094 | B37: Minot AFB (5th Medical Group) | C37: C | K37: =IF(J37<J$69,J$69/J37,0) -> 0 | L37: =VLOOKUP(A37,'IP Collections'!B36:K98,10,FALSE) -> NULL | M37: =IF(K37>0,L37*K37,L37) -> NULL
A38: 0095 | B38: Wright Patterson AFB (88th Medical Group) | C38: H | D38: 0.078598485 | E38: 0.1047619 | F38: 0.10987172 | G38: 0.11081154 | H38: 0.10326873 | I38: 0.087593258 | J38: 0.094111172 | K38: =IF(J38<J$69,J$69/J38,0) -> 0 | L38: =VLOOKUP(A38,'IP Collections'!B37:K99,10,FALSE) -> 1780111.9 | M38: =IF(K38>0,L38*K38,L38) -> 1780111.9
A39: 0096 | B39: Tinker AFB (72th Medical Group) | C39: C | K39: =IF(J39<J$69,J$69/J39,0) -> 0 | L39: =VLOOKUP(A39,'IP Collections'!B38:K100,10,FALSE) -> NULL | M39: =IF(K39>0,L39*K39,L39) -> NULL
A40: 0097 | B40: Altus AFB (97th Medical Group) | C40: C | K40: =IF(J40<J$69,J$69/J40,0) -> 0 | L40: =VLOOKUP(A40,'IP Collections'!B39:K101,10,FALSE) -> NULL | M40: =IF(K40>0,L40*K40,L40) -> NULL
A41: 0101 | B41: Shaw AFB (20th Medical Group) | C41: C | K41: =IF(J41<J$69,J$69/J41,0) -> 0 | L41: =VLOOKUP(A41,'IP Collections'!B40:K102,10,FALSE) -> NULL | M41: =IF(K41>0,L41*K41,L41) -> NULL
...

Sheet JTF IP
A1: dmis_id | B1: dmis_name | C1: facility_type | E1: Number of IP Dispositions for CFY
D2: FY2007 | E2: FY2008 | F2: FY2009 | G2: FY2010 | H2: FY2011 | I2: FY2012 | J2: Factor Calculation | K2: FY 12 Collection | L2: FY 13 Goal
A3: 0123 | B3: Ft. Belvoir (FT. Belvoir Community Hospital) | C3: H | D3: 0.025954765 | E3: 0.025008806 | F3: 0.016365496 | G3: 0.026089828 | H3: 0.021395655 | I3: 0.035532995 | J3: =I5/I3 -> 1.2470191 | K3: 643406.23 | L3: =K3*J3 -> 802339.84
A4: 0067 | B4: Walter Reed National Military Medical Center | C4: H | D4: 0.061967772 | E4: 0.058080808 | F4: 0.045913291 | G4: 0.045179813 | H4: 0.046960106 | I4: 0.053087649 | J4: 1 | K4: 4196113.1 | L4: =K4*J4 -> 4196113.1
H5: Service Average | I5: =AVERAGE(I3:I4) -> 0.044310322 | K5: =SUM(K3:K4) -> 4839519.3 | L5: =SUM(L3:L4) -> 4998453

Sheet IP Collections
F1: Total IP Collections In CY by DMIS ID
A2: service | B2: dmis_id | C2: dmis_name | D2: facility_type | E2: FY2006 | F2: FY2007 | G2: FY2008 | H2: FY2009 | I2: FY2010 | J2: FY2011 | K2: FY2012
A3: AF | B3: 0004 | C3: Maxwell AFB (42nd Medical Group) | D3: C | E3: NULL | F3: NULL | G3: NULL | H3: NULL | I3: NULL | J3: NULL | K3: NULL | L3: Air Force Total | M3: =SUM(K3:K67) -> 5353112.3
A4: AF | B4: 0006 | C4: Elmendorf AFB (3rd Medical group) | D4: H | E4: 934576.62 | F4: 836996.44 | G4: 1200761.9 | H4: 845879.47 | I4: 532873.67 | J4: 892016.67 | K4: 833496.49
A5: AF | B5: 0009 | C5: Luke AFB (56th Medical Group) | D5: C | E5: 0 | F5: NULL | G5: NULL | H5: NULL | I5: NULL | J5: NULL | K5: NULL
A6: AF | B6: 0010 | C6: Davis Monthan AFB (355th Medical Group) | D6: C | E6: NULL | F6: NULL | G6: NULL | H6: NULL | I6: NULL | J6: NULL | K6: NULL
A7: AF | B7: 0013 | C7: Little Rock AFB (314th Medical Group) | D7: C | E7: NULL | F7: NULL | G7: NULL | H7: NULL | I7: NULL | J7: NULL | K7: NULL
A8: AF | B8: 0014 | C8: Travis AFB (60th Medical Group) | D8: H | E8: 1057445.9 | F8: 775419.54 | G8: 1211664.5 | H8: 1159290.3 | I8: 485099.36 | J8: 736686.4 | K8: 662855.11
A9: AF | B9: 0015 | C9: Beale AFB (9th Medical Group) | D9: C | E9: NULL | F9: NULL | G9: NULL | H9: NULL | I9: NULL | J9: NULL | K9: NULL
A10: AF | B10: 0018 | C10: Vandenberg AFB (30th Medical Group) | D10: C | E10: NULL | F10: NULL | G10: NULL | H10: NULL | I10: NULL | J10: NULL | K10: NULL
A11: AF | B11: 0019 | C11: Edwards AFB (95th Medical Group) | D11: C | E11: NULL | F11: NULL | G11: NULL | H11: NULL | I11: NULL | J11: NULL | K11: NULL
A12: AF | B12: 0033 | C12: USAF Academy (10th Medical Group) | D12: H | E12: 192217.64 | F12: 169788.01 | G12: 113708.48 | H12: 14075.28 | I12: NULL | J12: NULL | K12: NULL
A13: AF | B13: 0036 | C13: Dover AFB (436th Medical Group) | D13: C | E13: NULL | F13: NULL | G13: NULL | H13: NULL | I13: NULL | J13: NULL | K13: NULL
A14: AF | B14: 0042 | C14: Eglin AFB (96th Medical Group) | D14: H | E14: 402691.08 | F14: 618468.92 | G14: 696067.27 | H14: 363692.79 | I14: 476343.13 | J14: 320906.81 | K14: 182718.14
A15: AF | B15: 0043 | C15: Tyndall AFB (325th Medical Group) | D15: C | E15: NULL | F15: NULL | G15: NULL | H15: NULL | I15: NULL | J15: NULL | K15: NULL
A16: AF | B16: 0045 | C16: MacDill AFB (6th Medical Group) | D16: C | E16: 2067.03 | F16: 0 | G16: NULL | H16: NULL | I16: NULL | J16: NULL | K16: NULL
A17: AF | B17: 0046 | C17: Patrick AFB (45th Medical Group) | D17: C | E17: NULL | F17: NULL | G17: NULL | H17: NULL | I17: NULL | J17: NULL | K17: NULL
A18: AF | B18: 0050 | C18: Moody AFB (347th Medical Group) | D18: C | E18: NULL | F18: NULL | G18: NULL | H18: NULL | I18: NULL | J18: NULL | K18: NULL
A19: AF | B19: 0051 | C19: Robins AFB (78th Medical Group) | D19: C | E19: NULL | F19: NULL | G19: NULL | H19: NULL | I19: NULL | J19: NULL | K19: NULL
A20: AF | B20: 0053 | C20: Mountain Home AFB (366th Medical Group) | D20: H | E20: 119526.4 | F20: 77907.94 | G20: 45060.76 | H20: 24299.21 | I20: 35402.67 | J20: 29137.59 | K20: 958.97
A21: AF | B21: 0055 | C21: Scott AFB (375th Medical Group) | D21: C | E21: 251077.32 | F21: NULL | G21: NULL | H21: NULL | I21: NULL | J21: NULL | K21: NULL
A22: AF | B22: 0059 | C22: McConnell AFB (22nd Medical Group) | D22: C | E22: NULL | F22: NULL | G22: NULL | H22: NULL | I22: NULL | J22: NULL | K22: NULL
A23: AF | B23: 0062 | C23: Barksdale AFB (2nd Medical Group) | D23: C | E23: NULL | F23: NULL | G23: NULL | H23: NULL | I23: NULL | J23: NULL | K23: NULL
A24: AF | B24: 0066 | C24: Andrews AFB (79th Medical Group) | D24: H | E24: 1090765.5 | F24: 1179184.8 | G24: 267775.79 | H24: 262551.44 | I24: 356283.25 | J24: 267180.27 | K24: 57521.45
A25: AF | B25: 0073 | C25: Keesler AFB (81st Medical Group) | D25: H | E25: 585049.47 | F25: 128275.67 | G25: 244552.4 | H25: 274998.86 | I25: 340618.21 | J25: 835519.9 | K25: 798730.07
A26: AF | B26: 0074 | C26: Columbus AFB (14th Medical Group) | D26: C | E26: NULL | F26: NULL | G26: NULL | H26: NULL | I26: NULL | J26: NULL | K26: NULL
A27: AF | B27: 0076 | C27: Whiteman AFB (509th Medical Group) | D27: C | E27: NULL | F27: NULL | G27: NULL | H27: NULL | I27: NULL | J27: NULL | K27: NULL
A28: AF | B28: 0077 | C28: Malmstrom AFB (341st Medical Group) | D28: C | E28: NULL | F28: NULL | G28: NULL | H28: NULL | I28: NULL | J28: NULL | K28: NULL
A29: AF | B29: 0078 | C29: Offutt AFB (55th Medical Group) | D29: C | E29: 38124.58 | F29: NULL | G29: NULL | H29: NULL | I29: NULL | J29: NULL | K29: NULL
A30: AF | B30: 0079 | C30: Nellis AFB (99th Medical Group) | D30: H | E30: 561055.52 | F30: 637884.08 | G30: 443361.14 | H30: 392975.97 | I30: 680597.97 | J30: 705203.12 | K30: 607968.58
A31: AF | B31: 0083 | C31: Kirtland AFB (377th Medical Group) | D31: C | E31: NULL | F31: NULL | G31: NULL | H31: NULL | I31: NULL | J31: NULL | K31: NULL
A32: AF | B32: 0084 | C32: Holloman AFB (49th Medical Group) | D32: C | E32: NULL | F32: NULL | G32: NULL | H32: NULL | I32: NULL | J32: NULL | K32: NULL
A33: AF | B33: 0085 | C33: Cannon AFB (27th Medical Group) | D33: C | E33: NULL | F33: NULL | G33: NULL | H33: NULL | I33: NULL | J33: NULL | K33: NULL
A34: AF | B34: 0090 | C34: Seymour Johnson AFB (4th Medical Group) | D34: C | E34: NULL | F34: NULL | G34: NULL | H34: NULL | I34: NULL | J34: NULL | K34: NULL
A35: AF | B35: 0093 | C35: Grand Forks AFB (319th Medical Group) | D35: C | E35: NULL | F35: NULL | G35: NULL | H35: NULL | I35: NULL | J35: NULL | K35: NULL
A36: AF | B36: 0094 | C36: Minot AFB (5th Medical Group) | D36: C | E36: NULL | F36: NULL | G36: NULL | H36: NULL | I36: NULL | J36: NULL | K36: NULL
A37: AF | B37: 0095 | C37: Wright Patterson AFB (88th Medical Group) | D37: H | E37: 2019893.6 | F37: 1991882.6 | G37: 2582901 | H37: 2119004.6 | I37: 2513932.1 | J37: 1668902 | K37: 1780111.9
A38: AF | B38: 0096 | C38: Tinker AFB (72th Medical Group) | D38: C | E38: NULL | F38: NULL | G38: NULL | H38: NULL | I38: NULL | J38: NULL | K38: NULL
A39: AF | B39: 0097 | C39: Altus AFB (97th Medical Group) | D39: C | E39: NULL | F39: NULL | G39: NULL | H39: NULL | I39: NULL | J39: NULL | K39: NULL
A40: AF | B40: 0101 | C40: Shaw AFB (20th Medical Group) | D40: C | E40: NULL | F40: NULL | G40: NULL | H40: NULL | I40: NULL | J40: NULL | K40: NULL
...

Sheet Army OP
A1: 8c. DD-2569 forms Outpatient encounters:c) What percentage of completed and current (signed within the past 12 months) DD Form 2569s (TPC Insurance Info) is available for review?
A2: DMIS ID | B2: DMIS Facility Name | C2: Reporting Month | D2: 40827 | E2: 40848 | F2: 40878 | G2: 40909 | H2: 40940 | I2: 40969 | J2: 41000 | K2: 41030 | L2: 41061 | M2: 41091 | N2: 41122 | O2: 41153 | P2: Average | Q2: Factor (80%) | R2: FY 12 Collections | S2: FY 13 Collection Goal
C3: ARMY | D3: =AVERAGE(D5,D4,D18,D22,D34) -> 0.88965657 | E3: =AVERAGE(E5,E4,E18,E22,E34) -> 0.90024242 | F3: =AVERAGE(F5,F4,F18,F22,F34) -> 0.89322847 | G3: =AVERAGE(G5,G4,G18,G22,G34) -> 0.88402271 | H3: =AVERAGE(H5,H4,H18,H22,H34) -> 0.89139102 | I3: =AVERAGE(I5,I4,I18,I22,I34) -> 0.88221298 | J3: =AVERAGE(J5,J4,J18,J22,J34) -> 0.8839682 | K3: =AVERAGE(K5,K4,K18,K22,K34) -> 0.89185859 | ... O3: =AVERAGE(O5,O4,O18,O22,O34) -> 0.73738712 | P3: =AVERAGE(D3:O3) -> 0.85423691 | Q3: =IF(P3<0.8,0.8/P3,0) -> 0
C4: ERMC | D4: =AVERAGE(D5:D7) -> 0.85666667 | E4: =AVERAGE(E5:E7) -> 0.93666667 | F4: =AVERAGE(F5:F7) -> 0.90444444 | G4: =AVERAGE(G5:G7) -> 0.8792692 | H4: =AVERAGE(H5:H7) -> 0.90622638 | I4: =AVERAGE(I5:I7) -> 0.87333333 | J4: =AVERAGE(J5:J7) -> 0.94222222 | K4: =AVERAGE(K5:K7) -> 0.94977778 | ... O4: =AVERAGE(O5:O7) -> 0.73009907 | P4: =AVERAGE(D4:O4) -> 0.86407591 | Q4: =IF(P4<0.8,0.8/P4,0) -> 0
A5: 0606 | B5: HEIDELBERG MEDDAC | C5: 0606 - HEIDELBERG | D5: 1 | E5: 1 | F5: 1 | G5: 0.96666667 | H5: 1 | I5: 0.96666667 | J5: 1 | K5: 0.93333333 | L5: 0.83333333 | M5: 0.56666667 | N5: 0.45394737 | O5: 0.36 | P5: =AVERAGE(D5:O5) -> 0.84005117 | Q5: =IF(P5<0.8,0.8/P5,0) -> 0 | R5: =VLOOKUP(A5,'OP Collections'!B$3:K$144,10,FALSE) -> 555051.37 | S5: =IF(Q5>0,R5*Q5,R5) -> 555051.37
A6: 0607 | B6: LANDSTUHL REGIONAL MEDCEN | C6: 0607 - LANDSTUHL | D6: 0.91 | E6: 0.91 | F6: 0.80666667 | G6: 0.80536913 | H6: 0.81456954 | I6: 0.85333333 | J6: 0.96666667 | K6: 0.98 | L6: 0.98 | M6: 0.95394737 | N6: 0.95333333 | O6: 0.97315436 | P6: =AVERAGE(D6:O6) -> 0.90892003 | Q6: =IF(P6<0.8,0.8/P6,0) -> 0 | R6: =VLOOKUP(A6,'OP Collections'!B$3:K$144,10,FALSE) -> 2243329.7 | S6: =IF(Q6>0,R6*Q6,R6) -> 2243329.7
A7: 0609 | B7: BAVARIA MEDDAC | C7: 0609 - VILSECK | D7: 0.66 | E7: 0.9 | F7: 0.90666667 | G7: 0.86577181 | H7: 0.90410959 | I7: 0.8 | J7: 0.86 | K7: 0.936 | L7: 0.73026316 | M7: 0.94 | N7: 0.75912409 | O7: 0.85714286 | P7: =AVERAGE(D7:O7) -> 0.84325651 | Q7: =IF(P7<0.8,0.8/P7,0) -> 0 | R7: =VLOOKUP(A7,'OP Collections'!B$3:K$144,10,FALSE) -> 202738.15 | S7: =IF(Q7>0,R7*Q7,R7) -> 202738.15
C8: NRMC | D8: =AVERAGE(D10:D15,D17) -> 0.89571429 | E8: =AVERAGE(E10:E15,E17) -> 0.88571429 | F8: =AVERAGE(F10:F15,F17) -> 0.8838755 | G8: =AVERAGE(G10:G15,G17) -> 0.87611836 | H8: =AVERAGE(H10:H15,H17) -> 0.86845803 | I8: =AVERAGE(I10:I15,I17) -> 0.88699793 | J8: =AVERAGE(J10:J15,J17) -> 0.88358235 | K8: =AVERAGE(K10:K15,K17) -> 0.88549586 | ... O8: =AVERAGE(O10:O15,O17) -> 0.88799039 | P8: =AVERAGE(D8:O8) -> 0.87295609 | Q8: =IF(P8<0.8,0.8/P8,0) -> 0
A9: 0037 | B9: WALTER REED AMC-WASHINGTON DC | C9: 0037 - WASHINGTON DC | R9: 1125608.8 | S9: 0
A10: 0061 | B10: IRELAND ACH-FT. KNOX | C10: 0061 - FT. KNOX | D10: 0.97 | E10: 0.97 | F10: 0.96666667 | G10: 0.96666667 | H10: 0.96666667 | I10: 0.96666667 | J10: 0.96666667 | K10: 0.96666667 | L10: 0.96666667 | M10: 0.96666667 | N10: 0.96666667 | O10: 0.96666667 | P10: =AVERAGE(D10:O10) -> 0.96722222 | Q10: =IF(P10<0.8,0.8/P10,0) -> 0 | R10: =VLOOKUP(A10,'OP Collections'!B$3:K$144,10,FALSE) -> 1016964.6 | S10: =IF(Q10>0,R10*Q10,R10) -> 1016964.6
A11: 0069 | B11: KIMBROUGH AMB CAR CEN-FT MEADE | C11: 0069 - FT. MEADE | D11: 0.8 | E11: 0.88 | F11: 0.87304688 | G11: 0.85897436 | H11: 0.88029466 | I11: 0.86231884 | J11: 0.88045541 | K11: 0.91271347 | L11: 0.90485075 | M11: 0.92395437 | N11: 0.90018484 | O11: 0.91926606 | P11: =AVERAGE(D11:O11) -> 0.88300497 | Q11: =IF(P11<0.8,0.8/P11,0) -> 0 | R11: =VLOOKUP(A11,'OP Collections'!B$3:K$144,10,FALSE) -> 4706224.7 | S11: =IF(Q11>0,R11*Q11,R11) -> 4706224.7
A12: 0086 | B12: KELLER ACH-WEST POINT | C12: 0086 - WEST POINT | D12: 0.86 | E12: 0.87 | F12: 0.84693878 | G12: 0.84 | H12: 0.89795918 | I12: 0.91 | J12: 0.92929293 | K12: 0.90909091 | L12: 0.90909091 | M12: 0.81 | N12: 0.92708333 | O12: 0.94 | P12: =AVERAGE(D12:O12) -> 0.88745467 | Q12: =IF(P12<0.8,0.8/P12,0) -> 0 | R12: =VLOOKUP(A12,'OP Collections'!B$3:K$144,10,FALSE) -> 563290.39 | S12: =IF(Q12>0,R12*Q12,R12) -> 563290.39
A13: 0089 | B13: WOMACK AMC-FT. BRAGG | C13: 0089 - FT. BRAGG | D13: 0.69 | E13: 0.58 | F13: 0.69047619 | G13: 0.6171875 | H13: 0.66428571 | I13: 0.77 | J13: 0.70866142 | K13: 0.66 | L13: 0.76744186 | M13: 0.672 | N13: 0.6171875 | O13: 0.6 | P13: =AVERAGE(D13:O13) -> 0.66977002 | Q13: =IF(P13<0.8,0.8/P13,0) -> 1.1944399 | R13: =VLOOKUP(A13,'OP Collections'!B$3:K$144,10,FALSE) -> 2243145.6 | S13: =IF(Q13>0,R13*Q13,R13) -> 2679302.5
A14: 0121 | B14: MCDONALD AHC-FT. EUSTIS | C14: 0121 - FT. EUSTIS | D14: 1 | E14: 0.95 | F14: 0.9 | G14: 0.92 | H14: 0.93 | I14: 0.9 | J14: 0.9 | K14: 0.92 | L14: 0.94 | M14: 0.93 | N14: 0.95 | O14: 0.95 | P14: =AVERAGE(D14:O14) -> 0.9325 | Q14: =IF(P14<0.8,0.8/P14,0) -> 0 | R14: =VLOOKUP(A14,'OP Collections'!B$3:K$144,10,FALSE) -> 824429.1 | S14: =IF(Q14>0,R14*Q14,R14) -> 824429.1
A15: 0122 | B15: KENNER AHC-FT. LEE | C15: 0122 - FT. LEE | D15: 0.96 | E15: 0.97 | F15: 0.96 | G15: 0.95 | H15: 0.76 | I15: 0.85 | J15: 0.82 | K15: 0.85 | L15: 0.87 | M15: 0 | N15: 0.8 | O15: 0.85 | P15: =AVERAGE(D15:O15) -> 0.80333333 | Q15: =IF(P15<0.8,0.8/P15,0) -> 0 | R15: =VLOOKUP(A15,'OP Collections'!B$3:K$144,10,FALSE) -> 1046966.7 | S15: =IF(Q15>0,R15*Q15,R15) -> 1046966.7
A16: 0123 | B16: DEWITT ACH-FT. BELVOIR | C16: 0123 - FT. BELVOIR | S16: 0
A17: 0330 | B17: GUTHRIE AHC-FT. DRUM | C17: 0330 - FT. DRUM | D17: 0.99 | E17: 0.98 | F17: 0.95 | G17: 0.98 | H17: 0.98 | I17: 0.95 | J17: 0.98 | K17: 0.98 | L17: 0.96 | M17: 0.88888889 | N17: 0.98 | O17: 0.99 | P17: =AVERAGE(D17:O17) -> 0.96740741 | Q17: =IF(P17<0.8,0.8/P17,0) -> 0 | R17: =VLOOKUP(A17,'OP Collections'!B$3:K$144,10,FALSE) -> 178231.14 | S17: =IF(Q17>0,R17*Q17,R17) -> 178231.14
C18: PRMC | D18: =AVERAGE(D19:D21) -> 0.94666667 | E18: =AVERAGE(E19:E21) -> 0.89 | F18: =AVERAGE(F19:F21) -> 0.94222222 | G18: =AVERAGE(G19:G21) -> 0.9654321 | H18: =AVERAGE(H19:H21) -> 0.95264069 | I18: =AVERAGE(I19:I21) -> 0.95306122 | J18: =AVERAGE(J19:J21) -> 0.89750567 | K18: =AVERAGE(K19:K21) -> 1 | ... O18: =AVERAGE(O19:O21) -> 0.99224806 | P18: =AVERAGE(D18:O18) -> 0.95595213 | Q18: =IF(P18<0.8,0.8/P18,0) -> 0
A19: 0052 | B19: TRIPLER AMC-FT SHAFTER | C19: 0052 - FT. SHAFTER | D19: 0.9 | E19: 0.73 | F19: 0.86666667 | G19: 0.93333333 | H19: 0.91428571 | I19: 0.9 | J19: 0.73333333 | K19: 1 | L19: 0.96666667 | M19: 0.925 | N19: 0.96666667 | O19: 1 | P19: =AVERAGE(D19:O19) -> 0.90299603 | Q19: =IF(P19<0.8,0.8/P19,0) -> 0 | R19: =VLOOKUP(A19,'OP Collections'!B$3:K$144,10,FALSE) -> 2029622.1 | S19: =IF(Q19>0,R19*Q19,R19) -> 2029622.1
A20: 0610 | B20: BG CRAWFORD SAMS AHC-CAMP ZAMA | C20: 0610 - CAMP ZAMA | D20: 1 | E20: 0.98 | F20: 1 | G20: 1 | H20: 0.98 | I20: 0.95918367 | J20: 0.95918367 | K20: 1 | L20: 1 | M20: 0.95744681 | N20: 0.97916667 | O20: 0.97674419 | P20: =AVERAGE(D20:O20) -> 0.98264375 | Q20: =IF(P20<0.8,0.8/P20,0) -> 0 | R20: =VLOOKUP(A20,'OP Collections'!B$3:K$144,10,FALSE) -> 38048.78 | S20: =IF(Q20>0,R20*Q20,R20) -> 38048.78
A21: 0612 | B21: 121st CSH-SEOUL | C21: 0612 - SEOUL | D21: 0.94 | E21: 0.96 | F21: 0.96 | G21: 0.96296296 | H21: 0.96363636 | I21: 1 | J21: 1 | K21: 1 | L21: 1 | M21: 1 | N21: 1 | O21: 1 | P21: =AVERAGE(D21:O21) -> 0.98221661 | Q21: =IF(P21<0.8,0.8/P21,0) -> 0 | R21: =VLOOKUP(A21,'OP Collections'!B$3:K$144,10,FALSE) -> 395322.46 | S21: =IF(Q21>0,R21*Q21,R21) -> 395322.46
C22: SRMC | D22: =AVERAGE(D23:D33) -> 0.83272727 | E22: =AVERAGE(E23:E33) -> 0.83454545 | F22: =AVERAGE(F23:F33) -> 0.81954103 | G22: =AVERAGE(G23:G33) -> 0.84871685 | H22: =AVERAGE(H23:H33) -> 0.80851833 | I22: =AVERAGE(I23:I33) -> 0.81673695 | J22: =AVERAGE(J23:J33) -> 0.8004111 | K22: =AVERAGE(K23:K33) -> 0.81051733 | ... O22: =AVERAGE(O23:O33) -> 0.85164917 | P22: =AVERAGE(D22:O22) -> 0.82624217 | Q22: =IF(P22<0.8,0.8/P22,0) -> 0
A23: 0001 | B23: FOX AHC-REDSTONE ARSENAL | C23: 0001 - REDSTONE ARSENAL | D23: 0.94 | E23: 0.94 | F23: 0.89795918 | G23: 0.97959184 | H23: 0.94 | I23: 1 | J23: 1 | K23: 0.92156863 | L23: 0.96 | M23: 1 | N23: 1 | O23: 1 | P23: =AVERAGE(D23:O23) -> 0.96492664 | Q23: =IF(P23<0.8,0.8/P23,0) -> 0 | R23: =VLOOKUP(A23,'OP Collections'!B$3:K$144,10,FALSE) -> 2514373.7 | S23: =IF(Q23>0,R23*Q23,R23) -> 2514373.7
A24: 0003 | B24: LYSTER AHC-FT. RUCKER | C24: 0003 - FT. RUCKER | D24: 0.76 | E24: 0.76 | F24: 0.82 | G24: 0.88 | H24: 0.84 | I24: 0.8 | J24: 0.82 | K24: 0.82 | L24: 0.84 | M24: 0.82 | N24: 0.92 | O24: 0.85714286 | P24: =AVERAGE(D24:O24) -> 0.82809524 | Q24: =IF(P24<0.8,0.8/P24,0) -> 0 | R24: =VLOOKUP(A24,'OP Collections'!B$3:K$144,10,FALSE) -> 1816980.5 | S24: =IF(Q24>0,R24*Q24,R24) -> 1816980.5
A25: 0047 | B25: EISENHOWER AMC-FT. GORDON | C25: 0047 - FT. GORDON | D25: 0.82 | E25: 0.8 | F25: 0.785 | G25: 0.82 | H25: 0.74 | I25: 0.81 | J25: 0.83 | K25: 0.85 | L25: 0.865 | M25: 0.91 | N25: 0.86 | O25: 0.82 | P25: =AVERAGE(D25:O25) -> 0.82583333 | Q25: =IF(P25<0.8,0.8/P25,0) -> 0 | R25: =VLOOKUP(A25,'OP Collections'!B$3:K$144,10,FALSE) -> 1632052.2 | S25: =IF(Q25>0,R25*Q25,R25) -> 1632052.2
A26: 0048 | B26: MARTIN ACH-FT. BENNING | C26: 0048 - FT. BENNING | D26: 0.97 | E26: 0.97 | F26: 1 | G26: 0.96666667 | H26: 1 | I26: 1 | J26: 1 | K26: 1 | L26: 1 | M26: 1 | N26: 1 | O26: 1 | P26: =AVERAGE(D26:O26) -> 0.99222222 | Q26: =IF(P26<0.8,0.8/P26,0) -> 0 | R26: =VLOOKUP(A26,'OP Collections'!B$3:K$144,10,FALSE) -> 963107.58 | S26: =IF(Q26>0,R26*Q26,R26) -> 963107.58
A27: 0049 | B27: WINN ACH-FT. STEWART | C27: 0049 - FT. STEWART | D27: 0.72 | E27: 0.87 | F27: 0.66666667 | G27: 0.87096774 | H27: 0.76666667 | I27: 0.83870968 | J27: 0.63333333 | K27: 0.76666667 | L27: 0.56666667 | M27: 0.76666667 | N27: 0.73333333 | O27: 0.83333333 | P27: =AVERAGE(D27:O27) -> 0.7527509 | Q27: =IF(P27<0.8,0.8/P27,0) -> 1.0627686 | R27: =VLOOKUP(A27,'OP Collections'!B$3:K$144,10,FALSE) -> 1386229.9 | S27: =IF(Q27>0,R27*Q27,R27) -> 1473241.5
A28: 0060 | B28: BLANCHFIELD ACH-FT. CAMPBELL | C28: 0060 - FT. CAMPBELL | D28: 0.54 | E28: 0.56 | F28: 0.54 | G28: 0.72 | H28: 0.62 | I28: 0.62 | J28: 0.50943396 | K28: 0.65384615 | L28: 0.57407407 | M28: 0.43396226 | N28: 0.59259259 | O28: 0.47272727 | P28: =AVERAGE(D28:O28) -> 0.56971969 | Q28: =IF(P28<0.8,0.8/P28,0) -> 1.4041993 | R28: =VLOOKUP(A28,'OP Collections'!B$3:K$144,10,FALSE) -> 1168930.2 | S28: =IF(Q28>0,R28*Q28,R28) -> 1641411.1
A29: 0064 | B29: BAYNE-JONES ACH-FT. POLK | C29: 0064 - FT. POLK | D29: 0.87 | E29: 0.83 | F29: 0.9 | G29: 0.9 | H29: 0.93333333 | I29: 0.83333333 | J29: 0.86666667 | K29: 0.9 | L29: 0.93333333 | M29: 0.9 | N29: 0.9 | O29: 0.96666667 | P29: =AVERAGE(D29:O29) -> 0.89444444 | Q29: =IF(P29<0.8,0.8/P29,0) -> 0 | R29: =VLOOKUP(A29,'OP Collections'!B$3:K$144,10,FALSE) -> 381274.8 | S29: =IF(Q29>0,R29*Q29,R29) -> 381274.8
A30: 0098 | B30: REYNOLDS ACH-FT. SILL | C30: 0098 - FT. SILL | D30: 0.97 | E30: 0.97 | F30: 0.8 | G30: 0.76666667 | H30: 0.53333333 | I30: 0.71428571 | J30: 0.71875 | K30: 0.52 | L30: 0.81632653 | M30: 0.96666667 | N30: 0.68 | O30: 0.92307692 | P30: =AVERAGE(D30:O30) -> 0.78159215 | Q30: =IF(P30<0.8,0.8/P30,0) -> 1.0235517 | R30: =VLOOKUP(A30,'OP Collections'!B$3:K$144,10,FALSE) -> 722540.39 | S30: =IF(Q30>0,R30*Q30,R30) -> 739557.47
A31: 0105 | B31: MONCRIEF ACH-FT. JACKSON | C31: 0105 - FT. JACKSON | D31: 1 | E31: 0.97 | F31: 1 | G31: 1 | H31: 0.96666667 | I31: 1 | J31: 0.83333333 | K31: 1 | L31: 1 | M31: 0.96666667 | N31: 0.96666667 | O31: 0.93333333 | P31: =AVERAGE(D31:O31) -> 0.96972222 | Q31: =IF(P31<0.8,0.8/P31,0) -> 0 | R31: =VLOOKUP(A31,'OP Collections'!B$3:K$144,10,FALSE) -> 1170544.8 | S31: =IF(Q31>0,R31*Q31,R31) -> 1170544.8
A32: 0109 | B32: BROOKE AMC-FT. SAM HOUSTON | C32: 0109 - FT. SAM HOUSTON | D32: 0.62 | E32: 0.56 | F32: 0.7 | G32: 0.48979592 | H32: 0.62 | I32: 0.44 | J32: 0.64705882 | K32: 0.52830189 | L32: 0.54545455 | M32: 0.46875 | N32: 0.56862745 | O32: 0.62 | P32: =AVERAGE(D32:O32) -> 0.56733239 | Q32: =IF(P32<0.8,0.8/P32,0) -> 1.4101081 | R32: =VLOOKUP(A32,'OP Collections'!B$3:K$144,10,FALSE) -> 3400311.9 | S32: =IF(Q32>0,R32*Q32,R32) -> 4794807.4
A33: 0110 | B33: DARNALL AMC-FT. HOOD | C33: 0110 - FT. HOOD | D33: 0.95 | E33: 0.95 | F33: 0.90532544 | G33: 0.94219653 | H33: 0.93370166 | I33: 0.92777778 | J33: 0.94594595 | K33: 0.95530726 | L33: 0.94535519 | M33: 0.95854922 | N33: 0.94827586 | O33: 0.94186047 | P33: =AVERAGE(D33:O33) -> 0.94202461 | Q33: =IF(P33<0.8,0.8/P33,0) -> 0 | R33: =VLOOKUP(A33,'OP Collections'!B$3:K$144,10,FALSE) -> 805363.51 | S33: =IF(Q33>0,R33*Q33,R33) -> 805363.51
C34: WRMC | D34: =AVERAGE(D35:D43) -> 0.81222222 | E34: =AVERAGE(E35:E43) -> 0.84 | F34: =AVERAGE(F35:F43) -> 0.79993464 | G34: =AVERAGE(G35:G43) -> 0.76002874 | H34: =AVERAGE(H35:H43) -> 0.78956972 | I34: =AVERAGE(I35:I43) -> 0.80126675 | J34: =AVERAGE(J35:J43) -> 0.77970199 | K34: =AVERAGE(K35:K43) -> 0.76566449 | ... O34: =AVERAGE(O35:O43) -> 0.75293929 | P34: =AVERAGE(D34:O34) -> 0.7848632 | Q34: =IF(P34<0.8,0.8/P34,0) -> 1.0192859
A35: 0005 | B35: BASSETT ACH-FT. WAINWRIGHT | C35: 0005 - FT. WAINWRIGHT | D35: 0.95 | E35: 0.95 | F35: 0.87 | G35: 0.64 | H35: 0.875 | I35: 0.93851133 | J35: 0.95 | K35: 0.9 | L35: 0.89 | M35: 0.89 | N35: 0.85 | O35: 0.85 | P35: =AVERAGE(D35:O35) -> 0.87945928 | Q35: =IF(P35<0.8,0.8/P35,0) -> 0 | R35: =VLOOKUP(A35,'OP Collections'!B$3:K$144,10,FALSE) -> 1587733.5 | S35: =IF(Q35>0,R35*Q35,R35) -> 1587733.5
A36: 0008 | B36: R W BLISS AHC-FT. HUACHUCA | C36: 0008 - FT. HUACHUCA | D36: 0.76 | E36: 0.84 | F36: 0.7 | G36: 0.62 | H36: 0.6 | I36: 0.72 | J36: 0.8 | K36: 0.68 | L36: 0.78 | M36: 0.8 | N36: 0.66 | O36: 0.56 | P36: =AVERAGE(D36:O36) -> 0.71 | Q36: =IF(P36<0.8,0.8/P36,0) -> 1.1267606 | R36: =VLOOKUP(A36,'OP Collections'!B$3:K$144,10,FALSE) -> 374874.94 | S36: =IF(Q36>0,R36*Q36,R36) -> 422394.3
A37: 0032 | B37: EVANS ACH-FT. CARSON | C37: 0032 - FT. CARSON | D37: 0.9 | E37: 0.98 | F37: 0.96 | G37: 1 | H37: 1 | I37: 0.81132075 | J37: 0.89285714 | K37: 0.94117647 | L37: 0.9 | M37: 0 | N37: 0.90196078 | O37: 0.96 | P37: =AVERAGE(D37:O37) -> 0.85394293 | Q37: =IF(P37<0.8,0.8/P37,0) -> 0 | R37: =VLOOKUP(A37,'OP Collections'!B$3:K$144,10,FALSE) -> 975480.95 | S37: =IF(Q37>0,R37*Q37,R37) -> 975480.95
A38: 0057 | B38: IRWIN ACH-FT. RILEY | C38: 0057 - FT. RILEY | D38: 1 | E38: 1 | F38: 1 | G38: 0.96666667 | H38: 1 | I38: 1 | J38: 1 | K38: 1 | L38: 1 | M38: 1 | N38: 1 | O38: 0.83333333 | P38: =AVERAGE(D38:O38) -> 0.98333333 | Q38: =IF(P38<0.8,0.8/P38,0) -> 0 | R38: =VLOOKUP(A38,'OP Collections'!B$3:K$144,10,FALSE) -> 695185.3 | S38: =IF(Q38>0,R38*Q38,R38) -> 695185.3
A39: 0058 | B39: MUNSON AHC-FT. LEAVENWORTH | C39: 0058 - FT. LEAVENWORTH | D39: 0.8 | E39: 0.62 | F39: 0.72 | G39: 0.63829787 | H39: 0.89583333 | I39: 0.74 | J39: 0.66 | K39: 0.76 | L39: 0.71111111 | M39: 0.64583333 | N39: 0.7 | O39: 0.76595745 | P39: =AVERAGE(D39:O39) -> 0.72141942 | Q39: =IF(P39<0.8,0.8/P39,0) -> 1.108925 | R39: =VLOOKUP(A39,'OP Collections'!B$3:K$144,10,FALSE) -> 238790 | S39: =IF(Q39>0,R39*Q39,R39) -> 264800.19
A40: 0075 | B40: L. WOOD ACH-FT. LEONARD WOOD | C40: 0075 - FT. LEONARD WOOD | D40: 0.87 | E40: 0.87 | F40: 0.66666667 | G40: 0.73333333 | H40: 0.76666667 | I40: 0.8 | J40: 0.66666667 | K40: 0.66666667 | L40: 0.76666667 | M40: 1 | N40: 0.86666667 | O40: 0.76666667 | P40: =AVERAGE(D40:O40) -> 0.78666667 | Q40: =IF(P40<0.8,0.8/P40,0) -> 1.0169492 | R40: =VLOOKUP(A40,'OP Collections'!B$3:K$144,10,FALSE) -> 341338.76 | S40: =IF(Q40>0,R40*Q40,R40) -> 347124.16
...

Sheet Navy OP
A1: 8c. DD-2569 forms Outpatient encounters:c) What percentage of completed and current (signed within the past 12 months) DD Form 2569s (TPC Insurance Info) is available for review?
A2: DMIS ID | B2: DMIS Facility Name | C2: Reporting Month | D2: 40817 | E2: 40848 | F2: 40878 | G2: 40909 | H2: 40940 | I2: 40969 | J2: 41000 | K2: 41030 | L2: 41061 | M2: 41091 | N2: 41122 | O2: 41153 | P2: Average | Q2: Factor (80%) | R2: FY 12 Collections | S2: FY 13 Collection Goal
C3: NAVY | P3: =AVERAGE(D3:O3) -> #DIV/0!
C4: NAVY MEDICINE EAST | D4: =AVERAGE(D6,D8:D14,D16) -> 0.83271605 | E4: =AVERAGE(E6,E8:E14,E16) -> 0.75698006 | F4: =AVERAGE(F6,F8:F14,F16) -> 0.73661828 | G4: =AVERAGE(G6,G8:G14,G16) -> 0.74497354 | H4: =AVERAGE(H6,H8:H14,H16) -> 0.68071093 | I4: =AVERAGE(I6,I8:I14,I16) -> 0.77470028 | J4: =AVERAGE(J6,J8:J14,J16) -> 0.74759816 | K4: =AVERAGE(K6,K8:K14,K16) -> 0.75683502 | ... O4: =AVERAGE(O6,O8:O14,O16) -> 0.86085671 | P4: =AVERAGE(D4:O4) -> 0.77620821 | Q4: =IF(P4<0.8,0.8/P4,0) -> 1.0306513
A5: 0038 | B5: NH PENSACOLA | C5: NH PENSACOLA | D5: 0.8 | E5: 0.8 | F5: 0.83333333 | G5: 0.8 | H5: 0.76666667 | I5: 0.83333333 | J5: 0.86666667 | K5: 0.8 | L5: 0.8 | M5: 0.76666667 | N5: 0.76666667 | O5: 0.76666667 | P5: =AVERAGE(D5:O5) -> 0.8 | Q5: =IF(P5<0.8,0.8/P5,0) -> 0 | R5: =VLOOKUP(A5,'OP Collections'!B$116:K$144,10,FALSE) -> 1698847.4 | S5: =IF(Q5>0,R5*Q5,R5) -> 1698847.4
A6: 0039 | B6: NH JACKSONVILLE | C6: NH JACKSONVILLE | D6: 0.76666667 | E6: 0.7 | F6: 0.6 | G6: 0.8 | H6: 0.56666667 | I6: 0.86666667 | J6: 1 | K6: 0.625 | L6: 1 | M6: 0.9 | N6: 0.96666667 | O6: 1 | P6: =AVERAGE(D6:O6) -> 0.81597222 | Q6: =IF(P6<0.8,0.8/P6,0) -> 0 | R6: =VLOOKUP(A6,'OP Collections'!B$116:K$144,10,FALSE) -> 3270391.3 | S6: =IF(Q6>0,R6*Q6,R6) -> 3270391.3
A7: 0056 | B7: NHC GREAT LAKES | C7: NHC GREAT LAKES | P7: =AVERAGE(D7:O7) -> #DIV/0! | R7: =VLOOKUP(A7,'OP Collections'!B$116:K$144,10,FALSE) -> NULL | S7: 0
A8: 0091 | B8: NH CAMP LEJEUNE | C8: NH CAMP LEJEUNE | D8: 1 | E8: 0.96666667 | F8: 0.93333333 | G8: 1 | H8: 0.93333333 | I8: 0.96666667 | J8: 0.96666667 | K8: 0.96666667 | L8: 1 | M8: 1 | N8: 0.96666667 | O8: 1 | P8: =AVERAGE(D8:O8) -> 0.975 | Q8: =IF(P8<0.8,0.8/P8,0) -> 0 | R8: =VLOOKUP(A8,'OP Collections'!B$116:K$144,10,FALSE) -> 1353210.9 | S8: =IF(Q8>0,R8*Q8,R8) -> 1353210.9
A9: 0092 | B9: NHC CHERRY POINT | C9: NH CHERRY POINT | D9: 0.84444444 | E9: 0.84615385 | F9: 0.89090909 | G9: 1 | H9: 0.84482759 | I9: 0.98305085 | J9: 0.93333333 | K9: 0.93103448 | L9: 0.89285714 | M9: 0.94915254 | N9: 0.84745763 | O9: 0.92592593 | P9: =AVERAGE(D9:O9) -> 0.90742891 | Q9: =IF(P9<0.8,0.8/P9,0) -> 0 | R9: =VLOOKUP(A9,'OP Collections'!B$116:K$144,10,FALSE) -> 511583.96 | S9: =IF(Q9>0,R9*Q9,R9) -> 511583.96
A10: 0100 | B10: NAVAL HLTH CLINIC NEW ENGLAND | C10: NAVAL HEALTH CARE NEW ENGLAND | D10: 0.91111111 | E10: 0.46666667 | F10: 0.5 | G10: 0.73333333 | H10: 0.6 | I10: 0.63333333 | J10: 0.66666667 | K10: 0.6 | L10: 0.53333333 | M10: 0.53333333 | N10: 0.66666667 | O10: 0.6 | P10: =AVERAGE(D10:O10) -> 0.62037037 | Q10: =IF(P10<0.8,0.8/P10,0) -> 1.2895522 | R10: =VLOOKUP(A10,'OP Collections'!B$116:K$144,10,FALSE) -> 253939.84 | S10: =IF(Q10>0,R10*Q10,R10) -> 327468.69
A11: 0103 | B11: NHC CHARLESTON | C11: NH CHARLESTON | D11: 1 | E11: 0.96666667 | F11: 0.85294118 | G11: 0.725 | H11: 0.7755102 | I11: 0.79591837 | J11: 0.87719298 | K11: 0.9245283 | L11: 0.875 | M11: 0.82 | N11: 0.66666667 | O11: 0.81355932 | P11: =AVERAGE(D11:O11) -> 0.84108197 | Q11: =IF(P11<0.8,0.8/P11,0) -> 0 | R11: =VLOOKUP(A11,'OP Collections'!B$116:K$144,10,FALSE) -> 549736.88 | S11: =IF(Q11>0,R11*Q11,R11) -> 549736.88
A12: 0104 | B12: NH BEAUFORT | C12: NH BEAUFORT | D12: 0.96666667 | E12: 1 | F12: 1 | G12: 1 | H12: 1 | I12: 1 | J12: 0.96666667 | K12: 1 | L12: 1 | M12: 1 | N12: 1 | O12: 1 | P12: =AVERAGE(D12:O12) -> 0.99444444 | Q12: =IF(P12<0.8,0.8/P12,0) -> 0 | R12: =VLOOKUP(A12,'OP Collections'!B$116:K$144,10,FALSE) -> 356198.15 | S12: =IF(Q12>0,R12*Q12,R12) -> 356198.15
A13: 0118 | B13: NHC CORPUS CHRISTI | C13: NH CORPUS CHRISTI | D13: 0.97222222 | E13: 0.96666667 | F13: 0.95238095 | G13: 0.94642857 | H13: 0.67272727 | I13: 0.96 | J13: 0.51785714 | K13: 0.96428571 | L13: 0.94545455 | M13: 0.95918367 | N13: 0.96226415 | O13: 0.94736842 | P13: =AVERAGE(D13:O13) -> 0.89723661 | Q13: =IF(P13<0.8,0.8/P13,0) -> 0 | R13: =VLOOKUP(A13,'OP Collections'!B$116:K$144,10,FALSE) -> 625954.97 | S13: =IF(Q13>0,R13*Q13,R13) -> 625954.97
A14: 0124 | B14: NMC PORTSMOUTH | C14: NMC PORTSMOUTH | D14: 0.23333333 | E14: 0.2 | F14: 0.23333333 | G14: 0.066666667 | H14: 0.13333333 | I14: 0.23333333 | J14: 0.23333333 | K14: 0.066666667 | L14: 0.1 | M14: 0.4 | N14: 0.46666667 | O14: 0.6 | P14: =AVERAGE(D14:O14) -> 0.24722222 | Q14: =IF(P14<0.8,0.8/P14,0) -> 3.2359551 | R14: =VLOOKUP(A14,'OP Collections'!B$116:K$144,10,FALSE) -> 3151416.9 | S14: =IF(Q14>0,R14*Q14,R14) -> 10197843
A15: 0615 | B15: NH GUANTANAMO BAY | C15: NH GUANTANAMO BAY | P15: 0 | R15: =VLOOKUP(A15,'OP Collections'!B$116:K$144,10,FALSE) -> #N/A | S15: =IF(Q15>0,R15*Q15,R15) -> #N/A
A16: 0617 | B16: NH NAPLES | C16: NH NAPLES | D16: 0.8 | E16: 0.7 | F16: 0.66666667 | G16: 0.43333333 | H16: 0.6 | I16: 0.53333333 | J16: 0.56666667 | K16: 0.73333333 | L16: 0.7 | M16: 0.83333333 | P16: =AVERAGE(D16:O16) -> 0.65666667 | Q16: =IF(P16<0.8,0.8/P16,0) -> 1.2182741 | R16: =VLOOKUP(A16,'OP Collections'!B$116:K$144,10,FALSE) -> #N/A | S16: =IF(Q16>0,R16*Q16,R16) -> #N/A
A17: 0618 | B17: NH ROTA | C17: NH ROTA | P17: 0 | R17: =VLOOKUP(A17,'OP Collections'!B$116:K$144,10,FALSE) -> #N/A | S17: =IF(Q17>0,R17*Q17,R17) -> #N/A
A18: 0624 | B18: NH SIGONELLA | C18: NH SIGONELLA | P18: 0 | R18: =VLOOKUP(A18,'OP Collections'!B$116:K$144,10,FALSE) -> #N/A | S18: =IF(Q18>0,R18*Q18,R18) -> #N/A
C19: NATIONAL CAPITAL REGION | D19: =AVERAGE(D21:D23) -> 0.86111111 | E19: =AVERAGE(E21:E23) -> 0.94444444 | F19: =AVERAGE(F21:F23) -> 0.83333333 | G19: =AVERAGE(G21:G23) -> 0.61111111 | H19: =AVERAGE(H21:H23) -> 0.7861678 | I19: =AVERAGE(I21:I23) -> 0.79090909 | J19: =AVERAGE(J21:J23) -> 0.74444444 | K19: =AVERAGE(K21:K23) -> 0.87777778 | ... O19: =AVERAGE(O21:O23) -> 0.67777778 | P19: =AVERAGE(D19:O19) -> 0.77112215 | Q19: =IF(P19<0.8,0.8/P19,0) -> 1.0374491 | R19: =VLOOKUP(A19,'OP Collections'!B$116:K$144,10,FALSE) -> #N/A
A20: 0067 | B20: NNMC BETHESDA | C20: NNMC BETHESDA | D20: 0.5 | E20: 0.66666667 | P20: =AVERAGE(D20:O20) -> 0.58333333 | Q20: =IF(P20<0.8,0.8/P20,0) -> 1.3714286 | R20: =VLOOKUP(A20,'OP Collections'!B$116:K$144,10,FALSE) -> 0 | S20: 0 | T20: JTF
A21: 0068 | B21: NHC PATUXENT RIVER | C21: NHC PATUXENT RIVER | D21: 0.95 | E21: 0.93333333 | F21: 0.83333333 | G21: 0.4 | H21: 0.76666667 | I21: 0.76666667 | J21: 0.46666667 | K21: 0.83333333 | L21: 0.66666667 | M21: 0.83333333 | N21: 0.66666667 | O21: 0.86666667 | P21: =AVERAGE(D21:O21) -> 0.74861111 | Q21: =IF(P21<0.8,0.8/P21,0) -> 1.0686456 | R21: =VLOOKUP(A21,'OP Collections'!B$116:K$144,10,FALSE) -> 337169.21 | S21: =IF(Q21>0,R21*Q21,R21) -> 360314.41
A22: 0306 | B22: NHC ANNAPOLIS | C22: NHC ANNAPOLIS | D22: 0.63333333 | E22: 0.9 | F22: 0.66666667 | G22: 0.43333333 | H22: 0.59183673 | I22: 0.60606061 | J22: 0.76666667 | K22: 0.8 | L22: 0.8125 | M22: 0.8 | N22: 0.86666667 | O22: 0.9 | P22: =AVERAGE(D22:O22) -> 0.731422 | Q22: =IF(P22<0.8,0.8/P22,0) -> 1.0937598 | R22: =VLOOKUP(A22,'OP Collections'!B$116:K$144,10,FALSE) -> 257512.79 | S22: =IF(Q22>0,R22*Q22,R22) -> 281657.14
A23: 0385 | B23: NHC QUANTICO | C23: NHC QUANTICO | D23: 1 | E23: 1 | F23: 1 | G23: 1 | H23: 1 | I23: 1 | J23: 1 | K23: 1 | L23: 1 | M23: 0.13333333 | N23: 0.6 | O23: 0.26666667 | P23: =AVERAGE(D23:O23) -> 0.83333333 | Q23: =IF(P23<0.8,0.8/P23,0) -> 0 | R23: =VLOOKUP(A23,'OP Collections'!B$116:K$144,10,FALSE) -> 185902.97 | S23: =IF(Q23>0,R23*Q23,R23) -> 185902.97
C24: NAVY MEDICINE WEST | D24: =AVERAGE(D25:D32) -> 0.88463542 | E24: =AVERAGE(E25:E32) -> 0.90636261 | F24: =AVERAGE(F25:F32) -> 0.90678146 | G24: =AVERAGE(G25:G32) -> 0.8025 | H24: =AVERAGE(H25:H32) -> 0.77778367 | I24: =AVERAGE(I25:I32) -> 0.82857143 | J24: =AVERAGE(J25:J32) -> 0.87491883 | K24: =AVERAGE(K25:K32) -> 0.89791667 | ... O24: =AVERAGE(O25:O32) -> 0.84703947 | P24: =AVERAGE(D24:O24) -> 0.8645153 | Q24: =IF(P24<0.8,0.8/P24,0) -> 0 | R24: =VLOOKUP(A24,'OP Collections'!B$116:K$144,10,FALSE) -> #N/A
A25: 0024 | B25: NH CAMP PENDLETON | C25: NH CAMP PENDLETON | D25: 0.96666667 | E25: 0.96666667 | F25: 1 | G25: 0.6 | H25: 0.56666667 | I25: 0.73333333 | J25: 0.86666667 | K25: 1 | L25: 0.83333333 | M25: 0.96666667 | N25: 0.93333333 | O25: 0.8 | P25: =AVERAGE(D25:O25) -> 0.85277778 | Q25: =IF(P25<0.8,0.8/P25,0) -> 0 | R25: =VLOOKUP(A25,'OP Collections'!B$116:K$144,10,FALSE) -> 254375.22 | S25: =IF(Q25>0,R25*Q25,R25) -> 254375.22
A26: 0028 | B26: NH LEMOORE | C26: NH LEMOORE | D26: 0.84375 | E26: 0.93333333 | F26: 0.93333333 | G26: 0.93333333 | H26: 0.93333333 | I26: 0.96666667 | J26: 1 | K26: 0.96666667 | L26: 1 | M26: 1 | N26: 0.96666667 | O26: 1 | P26: =AVERAGE(D26:O26) -> 0.95642361 | Q26: =IF(P26<0.8,0.8/P26,0) -> 0 | R26: =VLOOKUP(A26,'OP Collections'!B$116:K$144,10,FALSE) -> 638257.53 | S26: =IF(Q26>0,R26*Q26,R26) -> 638257.53
