Workbook

Sheet Summary
A1: Third Party Collections Web Metrics Reporting System Data
A2: 1st Quarter | F2: Data as of 02/01/2013
B5: FY2013 Collection Goals:
B7: Army | C7: 65.5 | D7: million
B8: Navy | C8: 29.7 | D8: million
B9: Air Force | C9: 64.5 | D9: million
B10: JTF | C10: 19.1 | D10: million
B11: Total | C11: =SUM(C7:C10) -> 178.8 | D11: million
B13: FY2013 status, after 1st Quarter | F13: FY 2013, Projected after 4th Quarter | J13: FY2012 status, after 4th Quarter | M13: FY 2012, after 4th Quarter - JTF seperated
B15: Army | C15: ='Total Collections Rpt'!H23 -> 16.4 | D15: million | F15: =C15*(12/3) -> 65.6 | G15: million | J15: 72 | M15: 64.9
B16: Navy | C16: ='Total Collections Rpt'!H25 -> 6.2 | D16: million | F16: =C16*(12/3) -> 24.8 | G16: million | J16: 32.4 | M16: 22.5
B17: Air Force | C17: ='Total Collections Rpt'!H22 -> 14 | D17: million | F17: =C17*(12/3) -> 56 | G17: million | J17: 63.9 | M17: 63.9
B18: JTF | C18: ='Total Collections Rpt'!H24 -> 4.5 | D18: million | F18: =C18*(12/3) -> 18 | G18: million | M18: 16.9
B19: Total | C19: =SUM(C15:C18) -> 41.1 | D19: million | F19: =SUM(F15:F17) -> 146.4 | G19: million | J19: 168.3 | M19: 168.2

Sheet Collections Summary
A1: Collections Summary
A2: =Summary!A2 -> 1st Quarter
C4: Inpatient Collections | E4: Outpatient Collections | G4: Total Collections
B5: Service | C5: FY2012 | D5: FY2013 | E5: FY2012 | F5: FY2013 | G5: FY2012 | H5: FY2013
B6: Army | C6: ='Total Collections Rpt'!G7 -> 5.2 | D6: ='Total Collections Rpt'!H7 -> 5.1 | E6: ='Total Collections Rpt'!G15 -> 12 | F6: ='Total Collections Rpt'!H15 -> 11.3 | G6: ='Total Collections Rpt'!G23 -> 17.2 | H6: ='Total Collections Rpt'!H23 -> 16.4
B7: Navy | C7: ='Total Collections Rpt'!G9 -> 0.9 | D7: ='Total Collections Rpt'!H9 -> 1.1 | E7: ='Total Collections Rpt'!G17 -> 4.9 | F7: ='Total Collections Rpt'!H17 -> 5.1 | G7: ='Total Collections Rpt'!G25 -> 5.8 | H7: ='Total Collections Rpt'!H25 -> 6.2
B8: Air Force | C8: ='Total Collections Rpt'!G6 -> 1 | D8: ='Total Collections Rpt'!H6 -> 0.8 | E8: ='Total Collections Rpt'!G14 -> 15.3 | F8: ='Total Collections Rpt'!H14 -> 13.2 | G8: ='Total Collections Rpt'!G22 -> 16.3 | H8: ='Total Collections Rpt'!H22 -> 14
B9: JTF | C9: ='Total Collections Rpt'!G8 -> 0.4 | D9: ='Total Collections Rpt'!H8 -> 1.9 | E9: ='Total Collections Rpt'!G16 -> 2.8 | F9: ='Total Collections Rpt'!H16 -> 2.6 | G9: ='Total Collections Rpt'!G24 -> 3.2 | H9: ='Total Collections Rpt'!H24 -> 4.5
B11: Total | C11: =SUM(C6:C9) -> 7.5 | D11: =SUM(D6:D9) -> 8.9 | E11: =SUM(E6:E9) -> 35 | F11: =SUM(F6:F9) -> 32.2 | G11: =SUM(G6:G9) -> 42.5 | H11: =SUM(H6:H9) -> 41.1
B13: =Summary!F2 -> Data as of 02/01/2013
B14: Note: Collections = CFY + PY1 + PY2

Sheet Billed&Collected
A1: Billed & Collected ($Millions)
A2: =Summary!A2 -> 1st Quarter
B5: Service | C5: FY09 | E5: FY10 | G5: FY11 | I5: FY12 | K5: FY13
C6: Billed | D6: Collected | E6: Billed | F6: Collected | G6: Billed | H6: Collected | I6: Billed | J6: Collected | K6: Billed | L6: Collected
B7: Outpatient
B8: Army | C8: =ROUND('Total Billings'!D16/1000000,1) -> 15.7 | D8: =ROUND('Total Collections'!D16/1000000,1) -> 14 | E8: =ROUND('Total Billings'!E16/1000000,1) -> 16.3 | F8: =ROUND('Total Collections'!E16/1000000,1) -> 17.3 | G8: =ROUND('Total Billings'!F16/1000000,1) -> 12.2 | H8: =ROUND('Total Collections'!F16/1000000,1) -> 12.5 | I8: =ROUND('Total Billings'!G16/1000000,1) -> 13.1 | J8: =ROUND('Total Collections'!G16/1000000,1) -> 12 | K8: =ROUND('Total Billings'!H16/1000000,1) -> 11.5 | L8: =ROUND('Total Collections'!H16/1000000,1) -> 11.3
B9: Navy | C9: =ROUND('Total Billings'!D18/1000000,1) -> 6.2 | D9: =ROUND('Total Collections'!D18/1000000,1) -> 7.5 | E9: =ROUND('Total Billings'!E18/1000000,1) -> 7.4 | F9: =ROUND('Total Collections'!E18/1000000,1) -> 8.8 | G9: =ROUND('Total Billings'!F18/1000000,1) -> 6.2 | H9: =ROUND('Total Collections'!F18/1000000,1) -> 5.8 | I9: =ROUND('Total Billings'!G18/1000000,1) -> 6.3 | J9: =ROUND('Total Collections'!G18/1000000,1) -> 4.9 | K9: =ROUND('Total Billings'!H18/1000000,1) -> 5.7 | L9: =ROUND('Total Collections'!H18/1000000,1) -> 5.1
B10: Air Force | C10: =ROUND('Total Billings'!D15/1000000,1) -> 43.1 | D10: =ROUND('Total Collections'!D15/1000000,1) -> 19.7 | E10: =ROUND('Total Billings'!E15/1000000,1) -> 41.7 | F10: =ROUND('Total Collections'!E15/1000000,1) -> 22.7 | G10: =ROUND('Total Billings'!F15/1000000,1) -> 25.9 | H10: =ROUND('Total Collections'!F15/1000000,1) -> 19.9 | I10: =ROUND('Total Billings'!G15/1000000,1) -> 27.1 | J10: =ROUND('Total Collections'!G15/1000000,1) -> 15.3 | K10: =ROUND('Total Billings'!H15/1000000,1) -> 22.6 | L10: =ROUND('Total Collections'!H15/1000000,1) -> 13.2
B11: JTF | C11: =ROUND('Total Billings'!D17/1000000,1) -> 2.4 | D11: =ROUND('Total Collections'!D17/1000000,1) -> 2.7 | E11: =ROUND('Total Billings'!E17/1000000,1) -> 1 | F11: =ROUND('Total Collections'!E17/1000000,1) -> 2.1 | G11: =ROUND('Total Billings'!F17/1000000,1) -> 1.1 | H11: =ROUND('Total Collections'!F17/1000000,1) -> 3.1 | I11: =ROUND('Total Billings'!G17/1000000,1) -> 4.4 | J11: =ROUND('Total Collections'!G17/1000000,1) -> 2.8 | K11: =ROUND('Total Billings'!H17/1000000,1) -> 4.6 | L11: =ROUND('Total Collections'!H17/1000000,1) -> 2.6
B12: Total | C12: =SUM(C8:C11) -> 67.4 | D12: =SUM(D8:D11) -> 43.9 | E12: =SUM(E8:E11) -> 66.4 | F12: =SUM(F8:F11) -> 50.9 | G12: =SUM(G8:G11) -> 45.4 | H12: =SUM(H8:H11) -> 41.3 | I12: =SUM(I8:I11) -> 50.9 | J12: =SUM(J8:J11) -> 35 | ... L12: =SUM(L8:L11) -> 32.2
B13: Inpatient
B14: Army | C14: =ROUND('Total Billings'!D7/1000000,1) -> 7.9 | D14: =ROUND('Total Collections'!D7/1000000,1) -> 7.9 | E14: =ROUND('Total Billings'!E7/1000000,1) -> 0.2 | F14: =ROUND('Total Collections'!E7/1000000,1) -> 4.5 | G14: =ROUND('Total Billings'!F7/1000000,1) -> 11.7 | H14: =ROUND('Total Collections'!F7/1000000,1) -> 5.4 | I14: =ROUND('Total Billings'!G7/1000000,1) -> 8.1 | J14: =ROUND('Total Collections'!G7/1000000,1) -> 5.2 | K14: =ROUND('Total Billings'!H7/1000000,1) -> 7.3 | L14: =ROUND('Total Collections'!H7/1000000,1) -> 5.1
B15: Navy | C15: =ROUND('Total Billings'!D9/1000000,1) -> 1.6 | D15: =ROUND('Total Collections'!D9/1000000,1) -> 1 | E15: =ROUND('Total Billings'!E9/1000000,1) -> 1.9 | F15: =ROUND('Total Collections'!E9/1000000,1) -> 1.1 | G15: =ROUND('Total Billings'!F9/1000000,1) -> 2.4 | H15: =ROUND('Total Collections'!F9/1000000,1) -> 1.4 | I15: =ROUND('Total Billings'!G9/1000000,1) -> 1.8 | J15: =ROUND('Total Collections'!G9/1000000,1) -> 0.9 | K15: =ROUND('Total Billings'!H9/1000000,1) -> 1.9 | L15: =ROUND('Total Collections'!H9/1000000,1) -> 1.1
B16: Air Force | C16: =ROUND('Total Billings'!D6/1000000,1) -> 3.8 | D16: =ROUND('Total Collections'!D6/1000000,1) -> 1.6 | E16: =ROUND('Total Billings'!E6/1000000,1) -> 0.4 | F16: =ROUND('Total Collections'!E6/1000000,1) -> 3.5 | G16: =ROUND('Total Billings'!F6/1000000,1) -> 2.9 | H16: =ROUND('Total Collections'!F6/1000000,1) -> 2.9 | I16: =ROUND('Total Billings'!G6/1000000,1) -> 2.8 | J16: =ROUND('Total Collections'!G6/1000000,1) -> 1 | K16: =ROUND('Total Billings'!H6/1000000,1) -> 2.7 | L16: =ROUND('Total Collections'!H6/1000000,1) -> 0.8
B17: JTF | C17: =ROUND('Total Billings'!D8/1000000,1) -> 0.6 | D17: =ROUND('Total Collections'!D8/1000000,1) -> 0.8 | E17: =ROUND('Total Billings'!E8/1000000,1) -> 0 | F17: =ROUND('Total Collections'!E8/1000000,1) -> 0.6 | G17: =ROUND('Total Billings'!F8/1000000,1) -> 1.3 | H17: =ROUND('Total Collections'!F8/1000000,1) -> 0.4 | I17: =ROUND('Total Billings'!G8/1000000,1) -> 1.9 | J17: =ROUND('Total Collections'!G8/1000000,1) -> 0.4 | K17: =ROUND('Total Billings'!H8/1000000,1) -> 0.4 | L17: =ROUND('Total Collections'!H8/1000000,1) -> 1.9
B18: Total | C18: =SUM(C14:C17) -> 13.9 | D18: =SUM(D14:D17) -> 11.3 | E18: =SUM(E14:E17) -> 2.5 | F18: =SUM(F14:F17) -> 9.7 | G18: =SUM(G14:G17) -> 18.3 | H18: =SUM(H14:H17) -> 10.1 | I18: =SUM(I14:I17) -> 14.6 | J18: =SUM(J14:J17) -> 7.5 | ... L18: =SUM(L14:L17) -> 8.9
B20: =Summary!F2 -> Data as of 02/01/2013
B21: Note: Collections = CFY + PY1 + PY2
B22: Billed = Amount Billed CFY

Sheet Total Collections Rpt
A1: Total Collections
A2: =Summary!A2 -> 1st Quarter
B4: Total Inpatient Collections
B5: Service | C5: ='Total Collections'!C5 -> FY2008 | D5: ='Total Collections'!D5 -> FY2009 | E5: ='Total Collections'!E5 -> FY2010 | F5: ='Total Collections'!F5 -> FY2011 | G5: ='Total Collections'!G5 -> FY2012 | H5: ='Total Collections'!H5 -> FY2013
B6: ='Total Collections'!B6 -> Air Force | C6: =ROUND('Total Collections'!C6/1000000,1) -> 2.5 | D6: =ROUND('Total Collections'!D6/1000000,1) -> 1.6 | E6: =ROUND('Total Collections'!E6/1000000,1) -> 3.5 | F6: =ROUND('Total Collections'!F6/1000000,1) -> 2.9 | G6: =ROUND('Total Collections'!G6/1000000,1) -> 1 | H6: =ROUND('Total Collections'!H6/1000000,1) -> 0.8
B7: ='Total Collections'!B7 -> Army | C7: =ROUND('Total Collections'!C7/1000000,1) -> 5 | D7: =ROUND('Total Collections'!D7/1000000,1) -> 7.9 | E7: =ROUND('Total Collections'!E7/1000000,1) -> 4.5 | F7: =ROUND('Total Collections'!F7/1000000,1) -> 5.4 | G7: =ROUND('Total Collections'!G7/1000000,1) -> 5.2 | H7: =ROUND('Total Collections'!H7/1000000,1) -> 5.1
B8: JTF | C8: =ROUND('Total Collections'!C8/1000000,1) -> 0.7 | D8: =ROUND('Total Collections'!D8/1000000,1) -> 0.8 | E8: =ROUND('Total Collections'!E8/1000000,1) -> 0.6 | F8: =ROUND('Total Collections'!F8/1000000,1) -> 0.4 | G8: =ROUND('Total Collections'!G8/1000000,1) -> 0.4 | H8: =ROUND('Total Collections'!H8/1000000,1) -> 1.9
B9: ='Total Collections'!B9 -> Navy | C9: =ROUND('Total Collections'!C9/1000000,1) -> 1.1 | D9: =ROUND('Total Collections'!D9/1000000,1) -> 1 | E9: =ROUND('Total Collections'!E9/1000000,1) -> 1.1 | F9: =ROUND('Total Collections'!F9/1000000,1) -> 1.4 | G9: =ROUND('Total Collections'!G9/1000000,1) -> 0.9 | H9: =ROUND('Total Collections'!H9/1000000,1) -> 1.1
B10: Total | C10: =SUM(C6:C9) -> 9.3 | D10: =SUM(D6:D9) -> 11.3 | E10: =SUM(E6:E9) -> 9.7 | F10: =SUM(F6:F9) -> 10.1 | G10: =SUM(G6:G9) -> 7.5 | H10: =SUM(H6:H9) -> 8.9
B12: Total Outpatient Collections
B13: Service | C13: ='Total Collections'!C14 -> FY2008 | D13: ='Total Collections'!D14 -> FY2009 | E13: ='Total Collections'!E14 -> FY2010 | F13: ='Total Collections'!F14 -> FY2011 | G13: ='Total Collections'!G14 -> FY2012 | H13: ='Total Collections'!H5 -> FY2013
B14: ='Total Collections'!B15 -> Air Force | C14: =ROUND('Total Collections'!C15/1000000,1) -> 17.3 | D14: =ROUND('Total Collections'!D15/1000000,1) -> 19.7 | E14: =ROUND('Total Collections'!E15/1000000,1) -> 22.7 | F14: =ROUND('Total Collections'!F15/1000000,1) -> 19.9 | G14: =ROUND('Total Collections'!G15/1000000,1) -> 15.3 | H14: =ROUND('Total Collections'!H15/1000000,1) -> 13.2
B15: ='Total Collections'!B16 -> Army | C15: =ROUND('Total Collections'!C16/1000000,1) -> 10.9 | D15: =ROUND('Total Collections'!D16/1000000,1) -> 14 | E15: =ROUND('Total Collections'!E16/1000000,1) -> 17.3 | F15: =ROUND('Total Collections'!F16/1000000,1) -> 12.5 | G15: =ROUND('Total Collections'!G16/1000000,1) -> 12 | H15: =ROUND('Total Collections'!H16/1000000,1) -> 11.3
B16: JTF | C16: =ROUND('Total Collections'!C17/1000000,1) -> 2.4 | D16: =ROUND('Total Collections'!D17/1000000,1) -> 2.7 | E16: =ROUND('Total Collections'!E17/1000000,1) -> 2.1 | F16: =ROUND('Total Collections'!F17/1000000,1) -> 3.1 | G16: =ROUND('Total Collections'!G17/1000000,1) -> 2.8 | H16: =ROUND('Total Collections'!H17/1000000,1) -> 2.6
B17: ='Total Collections'!B18 -> Navy | C17: =ROUND('Total Collections'!C18/1000000,1) -> 6.4 | D17: =ROUND('Total Collections'!D18/1000000,1) -> 7.5 | E17: =ROUND('Total Collections'!E18/1000000,1) -> 8.8 | F17: =ROUND('Total Collections'!F18/1000000,1) -> 5.8 | G17: =ROUND('Total Collections'!G18/1000000,1) -> 4.9 | H17: =ROUND('Total Collections'!H18/1000000,1) -> 5.1
B18: Total | C18: =SUM(C14:C17) -> 37 | D18: =SUM(D14:D17) -> 43.9 | E18: =SUM(E14:E17) -> 50.9 | F18: =SUM(F14:F17) -> 41.3 | G18: =SUM(G14:G17) -> 35 | H18: =SUM(H14:H17) -> 32.2
B20: Total Inpatient & Outpatient Collections
B21: Service | C21: =C13 -> FY2008 | D21: =D13 -> FY2009 | E21: =E13 -> FY2010 | F21: =F13 -> FY2011 | G21: =G13 -> FY2012 | H21: ='Total Collections'!H5 -> FY2013
B22: =B6 -> Air Force | C22: =C6+C14 -> 19.8 | D22: =D6+D14 -> 21.3 | E22: =E6+E14 -> 26.2 | F22: =F6+F14 -> 22.8 | G22: =G6+G14 -> 16.3 | H22: =H6+H14 -> 14
B23: =B7 -> Army | C23: =C7+C15 -> 15.9 | D23: =D7+D15 -> 21.9 | E23: =E7+E15 -> 21.8 | F23: =F7+F15 -> 17.9 | G23: =G7+G15 -> 17.2 | H23: =H7+H15 -> 16.4
B24: JTF | C24: =C8+C16 -> 3.1 | D24: =D8+D16 -> 3.5 | E24: =E8+E16 -> 2.7 | F24: =F8+F16 -> 3.5 | G24: =G8+G16 -> 3.2 | H24: =H8+H16 -> 4.5
B25: =B9 -> Navy | C25: =C9+C17 -> 7.5 | D25: =D9+D17 -> 8.5 | E25: =E9+E17 -> 9.9 | F25: =F9+F17 -> 7.2 | G25: =G9+G17 -> 5.8 | H25: =H9+H17 -> 6.2
B26: Total | C26: =SUM(C22:C25) -> 46.3 | D26: =SUM(D22:D25) -> 55.2 | E26: =SUM(E22:E25) -> 60.6 | F26: =SUM(F22:F25) -> 51.4 | G26: =SUM(G22:G25) -> 42.5 | H26: =SUM(H22:H25) -> 41.1

Sheet Collections per Disp or Visit
A1: Collections per Non-AD Disposition or Collections per Non-AD Visits
A2: =Summary!A2 -> 1st Quarter
B3: Total Non-Active-Duty Inpatient Collections(million) | M3: Total Non-Active-Duty Outpatient Collections(million)
B4: ='Total Collections Rpt'!B5 -> Service | C4: ='Total Collections Rpt'!C5 -> FY2008 | D4: ='Total Collections Rpt'!D5 -> FY2009 | E4: ='Total Collections Rpt'!E5 -> FY2010 | F4: ='Total Collections Rpt'!F5 -> FY2011 | G4: ='Total Collections Rpt'!G5 -> FY2012 | H4: ='Total Collections'!H5 -> FY2013 | M4: ='Total Collections Rpt'!B13 -> Service | N4: ='Total Collections Rpt'!C13 -> FY2008 | O4: ='Total Collections Rpt'!D13 -> FY2009 | P4: ='Total Collections Rpt'!E13 -> FY2010 | Q4: ='Total Collections Rpt'!F13 -> FY2011 | R4: ='Total Collections Rpt'!G13 -> FY2012 | S4: ='Total Collections'!H5 -> FY2013
B5: ='Total Collections Rpt'!B6 -> Air Force | C5: ='Total Collections Rpt'!C6 -> 2.5 | D5: ='Total Collections Rpt'!D6 -> 1.6 | E5: ='Total Collections Rpt'!E6 -> 3.5 | F5: ='Total Collections Rpt'!F6 -> 2.9 | G5: ='Total Collections Rpt'!G6 -> 1 | H5: ='Total Collections Rpt'!H6 -> 0.8 | M5: ='Total Collections Rpt'!B14 -> Air Force | N5: ='Total Collections Rpt'!C14 -> 17.3 | O5: ='Total Collections Rpt'!D14 -> 19.7 | P5: ='Total Collections Rpt'!E14 -> 22.7 | Q5: ='Total Collections Rpt'!F14 -> 19.9 | R5: ='Total Collections Rpt'!G14 -> 15.3 | S5: ='Total Collections Rpt'!H14 -> 13.2
B6: ='Total Collections Rpt'!B7 -> Army | C6: ='Total Collections Rpt'!C7 -> 5 | D6: ='Total Collections Rpt'!D7 -> 7.9 | E6: ='Total Collections Rpt'!E7 -> 4.5 | F6: ='Total Collections Rpt'!F7 -> 5.4 | G6: ='Total Collections Rpt'!G7 -> 5.2 | H6: ='Total Collections Rpt'!H7 -> 5.1 | M6: ='Total Collections Rpt'!B15 -> Army | N6: ='Total Collections Rpt'!C15 -> 10.9 | O6: ='Total Collections Rpt'!D15 -> 14 | P6: ='Total Collections Rpt'!E15 -> 17.3 | Q6: ='Total Collections Rpt'!F15 -> 12.5 | R6: ='Total Collections Rpt'!G15 -> 12 | S6: ='Total Collections Rpt'!H15 -> 11.3
B7: JTF | C7: ='Total Collections Rpt'!C8 -> 0.7 | D7: ='Total Collections Rpt'!D8 -> 0.8 | E7: ='Total Collections Rpt'!E8 -> 0.6 | F7: ='Total Collections Rpt'!F8 -> 0.4 | G7: ='Total Collections Rpt'!G8 -> 0.4 | H7: ='Total Collections Rpt'!H8 -> 1.9 | M7: JTF | N7: ='Total Collections Rpt'!C16 -> 2.4 | O7: ='Total Collections Rpt'!D16 -> 2.7 | P7: ='Total Collections Rpt'!E16 -> 2.1 | Q7: ='Total Collections Rpt'!F16 -> 3.1 | R7: ='Total Collections Rpt'!G16 -> 2.8 | S7: ='Total Collections Rpt'!H16 -> 2.6
B8: ='Total Collections Rpt'!B9 -> Navy | C8: ='Total Collections Rpt'!C9 -> 1.1 | D8: ='Total Collections Rpt'!D9 -> 1 | E8: ='Total Collections Rpt'!E9 -> 1.1 | F8: ='Total Collections Rpt'!F9 -> 1.4 | G8: ='Total Collections Rpt'!G9 -> 0.9 | H8: ='Total Collections Rpt'!H9 -> 1.1 | M8: ='Total Collections Rpt'!B17 -> Navy | N8: ='Total Collections Rpt'!C17 -> 6.4 | O8: ='Total Collections Rpt'!D17 -> 7.5 | P8: ='Total Collections Rpt'!E17 -> 8.8 | Q8: ='Total Collections Rpt'!F17 -> 5.8 | R8: ='Total Collections Rpt'!G17 -> 4.9 | S8: ='Total Collections Rpt'!H17 -> 5.1
B9: ='Total Collections Rpt'!B10 -> Total | C9: =SUM(C5:C8) -> 9.3 | D9: =SUM(D5:D8) -> 11.3 | E9: =SUM(E5:E8) -> 9.7 | F9: =SUM(F5:F8) -> 10.1 | G9: =SUM(G5:G8) -> 7.5 | H9: =SUM(H5:H8) -> 8.9 | M9: ='Total Collections Rpt'!B18 -> Total | N9: =SUM(N5:N8) -> 37 | O9: =SUM(O5:O8) -> 43.9 | P9: =SUM(P5:P8) -> 50.9 | Q9: =SUM(Q5:Q8) -> 41.3 | R9: =SUM(R5:R8) -> 35 | S9: =SUM(S5:S8) -> 32.2
B11: Number of Non-Active-Duty Inpatient Dispositions | M11: Number of Non-Active-Duty Outpatient Visits
B12: Service | C12: ='Collected to Claims Ratio'!C14 -> FY2008 | D12: ='Collected to Claims Ratio'!D14 -> FY2009 | E12: ='Collected to Claims Ratio'!E14 -> FY2010 | F12: ='Collected to Claims Ratio'!F14 -> FY2011 | G12: ='Collected to Claims Ratio'!G14 -> FY2012 | H12: ='Total Collections'!H5 -> FY2013 | M12: Service | N12: ='Collected to Claims Ratio'!L14 -> FY2008 | O12: ='Collected to Claims Ratio'!M14 -> FY2009 | P12: ='Collected to Claims Ratio'!N14 -> FY2010 | Q12: ='Collected to Claims Ratio'!O14 -> FY2011 | R12: ='Collected to Claims Ratio'!P14 -> FY2012 | S12: ='Total Collections'!H5 -> FY2013
B13: ='Claims per Disp or Visits'!B14 -> Air Force | C13: ='Claims per Disp or Visits'!C14 -> 8689 | D13: ='Claims per Disp or Visits'!D14 -> 8827 | E13: ='Claims per Disp or Visits'!E14 -> 9064 | F13: ='Claims per Disp or Visits'!F14 -> 7955 | G13: ='Claims per Disp or Visits'!G14 -> 6290 | H13: ='Claims per Disp or Visits'!H14 -> 6637 | M13: ='Claims per Disp or Visits'!K14 -> Air Force | N13: ='Claims per Disp or Visits'!L14 -> 866851 | O13: ='Claims per Disp or Visits'!M14 -> 862283 | P13: ='Claims per Disp or Visits'!N14 -> 821283 | Q13: ='Claims per Disp or Visits'!O14 -> 758621 | R13: ='Claims per Disp or Visits'!P14 -> 754284 | S13: ='Claims per Disp or Visits'!Q14 -> 742070
B14: ='Claims per Disp or Visits'!B15 -> Army | C14: ='Claims per Disp or Visits'!C15 -> 24090 | D14: ='Claims per Disp or Visits'!D15 -> 24302 | E14: ='Claims per Disp or Visits'!E15 -> 24923 | F14: ='Claims per Disp or Visits'!F15 -> 26013 | G14: ='Claims per Disp or Visits'!G15 -> 26204 | H14: ='Claims per Disp or Visits'!H15 -> 27030 | M14: ='Claims per Disp or Visits'!K15 -> Army | N14: ='Claims per Disp or Visits'!L15 -> 1641298 | O14: ='Claims per Disp or Visits'!M15 -> 1465973 | P14: ='Claims per Disp or Visits'!N15 -> 1480242 | Q14: ='Claims per Disp or Visits'!O15 -> 1928607 | R14: ='Claims per Disp or Visits'!P15 -> 1480004 | S14: ='Claims per Disp or Visits'!Q15 -> 1722680
B15: JTF | C15: ='Claims per Disp or Visits'!C16 -> 2473 | D15: ='Claims per Disp or Visits'!D16 -> 2497 | E15: ='Claims per Disp or Visits'!E16 -> 2376 | F15: ='Claims per Disp or Visits'!F16 -> 2418 | G15: ='Claims per Disp or Visits'!G16 -> 4015 | H15: ='Claims per Disp or Visits'!H16 -> 4173 | M15: JTF | N15: ='Claims per Disp or Visits'!L16 -> 201916 | O15: ='Claims per Disp or Visits'!M16 -> 283848 | P15: ='Claims per Disp or Visits'!N16 -> 208500 | Q15: ='Claims per Disp or Visits'!O16 -> 228871 | R15: ='Claims per Disp or Visits'!P16 -> 210960 | S15: ='Claims per Disp or Visits'!Q16 -> 143594
B16: ='Claims per Disp or Visits'!B17 -> Navy | C16: ='Claims per Disp or Visits'!C17 -> 12361 | D16: ='Claims per Disp or Visits'!D17 -> 11440 | E16: ='Claims per Disp or Visits'!E17 -> 12239 | F16: ='Claims per Disp or Visits'!F17 -> 11992 | G16: ='Claims per Disp or Visits'!G17 -> 11649 | H16: ='Claims per Disp or Visits'!H17 -> 12040 | M16: ='Claims per Disp or Visits'!K17 -> Navy | N16: ='Claims per Disp or Visits'!L17 -> 804928 | O16: ='Claims per Disp or Visits'!M17 -> 1420307 | P16: ='Claims per Disp or Visits'!N17 -> 845906 | Q16: ='Claims per Disp or Visits'!O17 -> 746886 | R16: ='Claims per Disp or Visits'!P17 -> 682130 | S16: ='Claims per Disp or Visits'!Q17 -> 846159
B17: Total | C17: =SUM(C13:C16) -> 47613 | D17: =SUM(D13:D16) -> 47066 | E17: =SUM(E13:E16) -> 48602 | F17: =SUM(F13:F16) -> 48378 | G17: =SUM(G13:G16) -> 48158 | H17: =SUM(H13:H16) -> 49880 | M17: Total | N17: =SUM(N13:N16) -> 3514993 | O17: =SUM(O13:O16) -> 4032411 | P17: =SUM(P13:P16) -> 3355931 | Q17: =SUM(Q13:Q16) -> 3662985 | R17: =SUM(R13:R16) -> 3127378 | S17: =SUM(S13:S16) -> 3454503
B19: Total Inpatient Collections(Dollar)) per Non-Active-Duty Disposition | M19: Total Outpatient Collections(Dollar) per Non-Active-Duty Visit
B20: Service | C20: ='Collected to Claims Ratio'!C22 -> FY2008 | D20: ='Collected to Claims Ratio'!D22 -> FY2009 | E20: ='Collected to Claims Ratio'!E22 -> FY2010 | F20: ='Collected to Claims Ratio'!F22 -> FY2011 | G20: ='Collected to Claims Ratio'!G22 -> FY2012 | H20: ='Total Collections'!H5 -> FY2013 | M20: Service | N20: ='Collected to Claims Ratio'!L22 -> FY2008 | O20: ='Collected to Claims Ratio'!M22 -> FY2009 | P20: ='Collected to Claims Ratio'!N22 -> FY2010 | Q20: ='Collected to Claims Ratio'!O22 -> FY2011 | R20: ='Collected to Claims Ratio'!P22 -> FY2012 | S20: ='Total Collections'!H5 -> FY2013
B21: ='Claims per Disp or Visits'!B22 -> Air Force | C21: =(C5/C13)*1000000 -> 287.72011 | D21: =(D5/D13)*1000000 -> 181.26204 | E21: =(E5/E13)*1000000 -> 386.14298 | F21: =(F5/F13)*1000000 -> 364.5506 | G21: =(G5/G13)*1000000 -> 158.98251 | H21: =(H5/H13)*1000000 -> 120.53639 | M21: ='Claims per Disp or Visits'!K22 -> Air Force | N21: =(N5/N13)*1000000 -> 19.957294 | O21: =(O5/O13)*1000000 -> 22.846328 | P21: =(P5/P13)*1000000 -> 27.639681 | Q21: =(Q5/Q13)*1000000 -> 26.231807 | R21: =(R5/R13)*1000000 -> 20.284137 | S21: =(S5/S13)*1000000 -> 17.788079
B22: ='Claims per Disp or Visits'!B23 -> Army | C22: =(C6/C14)*1000000 -> 207.555 | D22: =(D6/D14)*1000000 -> 325.07613 | E22: =(E6/E14)*1000000 -> 180.55611 | F22: =(F6/F14)*1000000 -> 207.58851 | G22: =(G6/G14)*1000000 -> 198.44299 | H22: =(H6/H14)*1000000 -> 188.67925 | M22: ='Claims per Disp or Visits'!K23 -> Army | N22: =(N6/N14)*1000000 -> 6.6410853 | O22: =(O6/O14)*1000000 -> 9.5499712 | P22: =(P6/P14)*1000000 -> 11.687278 | Q22: =(Q6/Q14)*1000000 -> 6.4813619 | R22: =(R6/R14)*1000000 -> 8.1080862 | S22: =(S6/S14)*1000000 -> 6.5595468
B23: JTF | C23: =(C7/C15)*1000000 -> 283.05702 | D23: =(D7/D15)*1000000 -> 320.38446 | E23: =(E7/E15)*1000000 -> 252.52525 | F23: =(F7/F15)*1000000 -> 165.42597 | G23: =(G7/G15)*1000000 -> 99.626401 | H23: =(H7/H15)*1000000 -> 455.30793 | M23: JTF | N23: =(N7/N15)*1000000 -> 11.886131 | O23: =(O7/O15)*1000000 -> 9.5121333 | P23: =(P7/P15)*1000000 -> 10.071942 | Q23: =(Q7/Q15)*1000000 -> 13.544748 | R23: =(R7/R15)*1000000 -> 13.272658 | S23: =(S7/S15)*1000000 -> 18.106606
B24: ='Claims per Disp or Visits'!B25 -> Navy | C24: =(C8/C16)*1000000 -> 88.989564 | D24: =(D8/D16)*1000000 -> 87.412587 | E24: =(E8/E16)*1000000 -> 89.876624 | F24: =(F8/F16)*1000000 -> 116.7445 | G24: =(G8/G16)*1000000 -> 77.259851 | H24: =(H8/H16)*1000000 -> 91.362126 | M24: ='Claims per Disp or Visits'!K25 -> Navy | N24: =(N8/N16)*1000000 -> 7.9510217 | O24: =(O8/O16)*1000000 -> 5.2805485 | P24: =(P8/P16)*1000000 -> 10.403047 | Q24: =(Q8/Q16)*1000000 -> 7.765576 | R24: =(R8/R16)*1000000 -> 7.1833815 | S24: =(S8/S16)*1000000 -> 6.027236
B25: Total | C25: =(C9/C17)*1000000 -> 195.32481 | D25: =(D9/D17)*1000000 -> 240.08839 | E25: =(E9/E17)*1000000 -> 199.58026 | F25: =(F9/F17)*1000000 -> 208.77258 | G25: =(G9/G17)*1000000 -> 155.73736 | H25: =(H9/H17)*1000000 -> 178.42823 | M25: Total | N25: =(N9/N17)*1000000 -> 10.526337 | O25: =(O9/O17)*1000000 -> 10.886787 | P25: =(P9/P17)*1000000 -> 15.167177 | Q25: =(Q9/Q17)*1000000 -> 11.274957 | R25: =(R9/R17)*1000000 -> 11.191484 | S25: =(S9/S17)*1000000 -> 9.3211672

Sheet Total Billings Rpt
A1: Total Billings
A2: =Summary!A2 -> 1st Quarter
B4: Total Inpatient Billlings CFY
B5: Service | C5: ='Total Billings'!C5 -> FY2008 | D5: ='Total Billings'!D5 -> FY2009 | E5: ='Total Billings'!E5 -> FY2010 | F5: ='Total Billings'!F5 -> FY2011 | G5: ='Total Billings'!G5 -> FY2012 | H5: ='Total Collections'!H5 -> FY2013
B6: ='Total Collections'!B6 -> Air Force | C6: =ROUND('Total Billings'!C6/1000000,1) -> 4.9 | D6: =ROUND('Total Billings'!D6/1000000,1) -> 3.8 | E6: =ROUND('Total Billings'!E6/1000000,1) -> 0.4 | F6: =ROUND('Total Billings'!F6/1000000,1) -> 2.9 | G6: =ROUND('Total Billings'!G6/1000000,1) -> 2.8 | H6: =ROUND('Total Billings'!H6/1000000,1) -> 2.7
B7: ='Total Collections'!B7 -> Army | C7: =ROUND('Total Billings'!C7/1000000,1) -> 11.2 | D7: =ROUND('Total Billings'!D7/1000000,1) -> 7.9 | E7: =ROUND('Total Billings'!E7/1000000,1) -> 0.2 | F7: =ROUND('Total Billings'!F7/1000000,1) -> 11.7 | G7: =ROUND('Total Billings'!G7/1000000,1) -> 8.1 | H7: =ROUND('Total Billings'!H7/1000000,1) -> 7.3
B8: JTF | C8: =ROUND('Total Billings'!C8/1000000,1) -> 2.1 | D8: =ROUND('Total Billings'!D8/1000000,1) -> 0.6 | E8: =ROUND('Total Billings'!E8/1000000,1) -> 0 | F8: =ROUND('Total Billings'!F8/1000000,1) -> 1.3 | G8: =ROUND('Total Billings'!G8/1000000,1) -> 1.9 | H8: =ROUND('Total Billings'!H8/1000000,1) -> 0.4
B9: ='Total Collections'!B9 -> Navy | C9: =ROUND('Total Billings'!C9/1000000,1) -> 2 | D9: =ROUND('Total Billings'!D9/1000000,1) -> 1.6 | E9: =ROUND('Total Billings'!E9/1000000,1) -> 1.9 | F9: =ROUND('Total Billings'!F9/1000000,1) -> 2.4 | G9: =ROUND('Total Billings'!G9/1000000,1) -> 1.8 | H9: =ROUND('Total Billings'!H9/1000000,1) -> 1.9
B10: Total | C10: =SUM(C6:C9) -> 20.2 | D10: =SUM(D6:D9) -> 13.9 | E10: =SUM(E6:E9) -> 2.5 | F10: =SUM(F6:F9) -> 18.3 | G10: =SUM(G6:G9) -> 14.6 | H10: =SUM(H6:H9) -> 12.3
B13: Total Outpatient Billings CFY
B14: Service | C14: ='Total Billings'!C14 -> FY2008 | D14: ='Total Billings'!D14 -> FY2009 | E14: ='Total Billings'!E14 -> FY2010 | F14: ='Total Billings'!F14 -> FY2011 | G14: ='Total Billings'!G14 -> FY2012 | H14: ='Total Collections'!H5 -> FY2013
B15: ='Total Collections'!B15 -> Air Force | C15: =ROUND('Total Billings'!C15/1000000,1) -> 33.4 | D15: =ROUND('Total Billings'!D15/1000000,1) -> 43.1 | E15: =ROUND('Total Billings'!E15/1000000,1) -> 41.7 | F15: =ROUND('Total Billings'!F15/1000000,1) -> 25.9 | G15: =ROUND('Total Billings'!G15/1000000,1) -> 27.1 | H15: =ROUND('Total Billings'!H15/1000000,1) -> 22.6
B16: ='Total Collections'!B16 -> Army | C16: =ROUND('Total Billings'!C16/1000000,1) -> 12.7 | D16: =ROUND('Total Billings'!D16/1000000,1) -> 15.7 | E16: =ROUND('Total Billings'!E16/1000000,1) -> 16.3 | F16: =ROUND('Total Billings'!F16/1000000,1) -> 12.2 | G16: =ROUND('Total Billings'!G16/1000000,1) -> 13.1 | H16: =ROUND('Total Billings'!H16/1000000,1) -> 11.5
B17: JTF | C17: =ROUND('Total Billings'!C17/1000000,1) -> 1.9 | D17: =ROUND('Total Billings'!D17/1000000,1) -> 2.4 | E17: =ROUND('Total Billings'!E17/1000000,1) -> 1 | F17: =ROUND('Total Billings'!F17/1000000,1) -> 1.1 | G17: =ROUND('Total Billings'!G17/1000000,1) -> 4.4 | H17: =ROUND('Total Billings'!H17/1000000,1) -> 4.6
B18: ='Total Collections'!B18 -> Navy | C18: =ROUND('Total Billings'!C18/1000000,1) -> 6.3 | D18: =ROUND('Total Billings'!D18/1000000,1) -> 6.2 | E18: =ROUND('Total Billings'!E18/1000000,1) -> 7.4 | F18: =ROUND('Total Billings'!F18/1000000,1) -> 6.2 | G18: =ROUND('Total Billings'!G18/1000000,1) -> 6.3 | H18: =ROUND('Total Billings'!H18/1000000,1) -> 5.7
B19: Total | C19: =SUM(C15:C18) -> 54.3 | D19: =SUM(D15:D18) -> 67.4 | E19: =SUM(E15:E18) -> 66.4 | F19: =SUM(F15:F18) -> 45.4 | G19: =SUM(G15:G18) -> 50.9 | H19: =SUM(H15:H18) -> 44.4
B22: Total Inpatient & Outpatient Billings CFY
B23: Service | C23: =C14 -> FY2008 | D23: =D14 -> FY2009 | E23: =E14 -> FY2010 | F23: =F14 -> FY2011 | G23: =G14 -> FY2012 | H23: ='Total Collections'!H5 -> FY2013
B24: =B6 -> Air Force | C24: =C6+C15 -> 38.3 | D24: =D6+D15 -> 46.9 | E24: =E6+E15 -> 42.1 | F24: =F6+F15 -> 28.8 | G24: =G6+G15 -> 29.9 | H24: =H6+H15 -> 25.3
B25: =B7 -> Army | C25: =C7+C16 -> 23.9 | D25: =D7+D16 -> 23.6 | E25: =E7+E16 -> 16.5 | F25: =F7+F16 -> 23.9 | G25: =G7+G16 -> 21.2 | H25: =H7+H16 -> 18.8
B26: JTF | C26: =C8+C17 -> 4 | D26: =D8+D17 -> 3 | E26: =E8+E17 -> 1 | F26: =F8+F17 -> 2.4 | G26: =G8+G17 -> 6.3 | H26: =H8+H17 -> 5
B27: =B9 -> Navy | C27: =C9+C18 -> 8.3 | D27: =D9+D18 -> 7.8 | E27: =E9+E18 -> 9.3 | F27: =F9+F18 -> 8.6 | G27: =G9+G18 -> 8.1 | H27: =H9+H18 -> 7.6
B28: Total | C28: =SUM(C24:C27) -> 74.5 | D28: =SUM(D24:D27) -> 81.3 | E28: =SUM(E24:E27) -> 68.9 | F28: =SUM(F24:F27) -> 63.7 | G28: =SUM(G24:G27) -> 65.5 | H28: =SUM(H24:H27) -> 56.7

Sheet Collected to Claims Ratio Rpt
A1: Number of Collections to Claims Issued Ratio
A2: =Summary!A2 -> 1st Quarter
B3: Number of Inpatient Collections | M3: Number of Outpatient Collections
B4: Service | C4: FY2008 | D4: FY2009 | E4: FY2010 | F4: FY2011 | G4: FY2012 | H4: FY2013 | M4: Service | N4: FY2008 | O4: FY2009 | P4: FY2010 | Q4: FY2011 | R4: FY2012 | S4: FY2013
B5: ='Collected to Claims Ratio'!B7 -> Air Force | C5: ='Collected to Claims Ratio'!C7 -> 13 | D5: ='Collected to Claims Ratio'!D7 -> 1 | E5: ='Collected to Claims Ratio'!E7 -> 0 | F5: ='Collected to Claims Ratio'!F7 -> 0 | G5: ='Collected to Claims Ratio'!G7 -> 0 | H5: ='Collected to Claims Ratio'!H7 -> 0 | M5: ='Collected to Claims Ratio'!K7 -> Air Force | N5: ='Collected to Claims Ratio'!L7 -> 21181 | O5: ='Collected to Claims Ratio'!M7 -> 24203 | P5: ='Collected to Claims Ratio'!N7 -> 29171 | Q5: ='Collected to Claims Ratio'!O7 -> 28798 | R5: ='Collected to Claims Ratio'!P7 -> 37683 | S5: ='Collected to Claims Ratio'!Q7 -> 23894
B6: ='Collected to Claims Ratio'!B8 -> Army | C6: ='Collected to Claims Ratio'!C8 -> 59 | D6: ='Collected to Claims Ratio'!D8 -> 15 | E6: ='Collected to Claims Ratio'!E8 -> 2 | F6: ='Collected to Claims Ratio'!F8 -> 52 | G6: ='Collected to Claims Ratio'!G8 -> 11 | H6: ='Collected to Claims Ratio'!H8 -> 37 | M6: ='Collected to Claims Ratio'!K8 -> Army | N6: ='Collected to Claims Ratio'!L8 -> 18750 | O6: ='Collected to Claims Ratio'!M8 -> 24877 | P6: ='Collected to Claims Ratio'!N8 -> 28303 | Q6: ='Collected to Claims Ratio'!O8 -> 34973 | R6: ='Collected to Claims Ratio'!P8 -> 23421 | S6: ='Collected to Claims Ratio'!Q8 -> 28742
B7: JTF | C7: ='Collected to Claims Ratio'!C9 -> 6 | D7: ='Collected to Claims Ratio'!D9 -> 1 | E7: ='Collected to Claims Ratio'!E9 -> 0 | F7: ='Collected to Claims Ratio'!F9 -> 9 | G7: ='Collected to Claims Ratio'!G9 -> 4 | H7: ='Collected to Claims Ratio'!H9 -> 0 | M7: JTF | N7: ='Collected to Claims Ratio'!L9 -> 1995 | O7: ='Collected to Claims Ratio'!M9 -> 2472 | P7: ='Collected to Claims Ratio'!N9 -> 1014 | Q7: ='Collected to Claims Ratio'!O9 -> 1912 | R7: ='Collected to Claims Ratio'!P9 -> 2785 | S7: ='Collected to Claims Ratio'!Q9 -> 7516
B8: ='Collected to Claims Ratio'!B10 -> Navy | C8: ='Collected to Claims Ratio'!C10 -> 17 | D8: ='Collected to Claims Ratio'!D10 -> 4 | E8: ='Collected to Claims Ratio'!E10 -> 17 | F8: ='Collected to Claims Ratio'!F10 -> 15 | G8: ='Collected to Claims Ratio'!G10 -> 2 | H8: ='Collected to Claims Ratio'!H10 -> 12 | M8: ='Collected to Claims Ratio'!K10 -> Navy | N8: ='Collected to Claims Ratio'!L10 -> 5339 | O8: ='Collected to Claims Ratio'!M10 -> 7712 | P8: ='Collected to Claims Ratio'!N10 -> 12062 | Q8: ='Collected to Claims Ratio'!O10 -> 14876 | R8: ='Collected to Claims Ratio'!P10 -> 13043 | S8: ='Collected to Claims Ratio'!Q10 -> 14574
B9: Total | C9: =SUM(C5:C8) -> 95 | D9: =SUM(D5:D8) -> 21 | E9: =SUM(E5:E8) -> 19 | F9: =SUM(F5:F8) -> 76 | G9: =SUM(G5:G8) -> 17 | H9: =SUM(H5:H8) -> 49 | M9: Total | N9: =SUM(N5:N8) -> 47265 | O9: =SUM(O5:O8) -> 59264 | P9: =SUM(P5:P8) -> 70550 | Q9: =SUM(Q5:Q8) -> 80559 | R9: =SUM(R5:R8) -> 76932 | S9: =SUM(S5:S8) -> 74726
B11: Number of Inpatient Claims | M11: Number of Outpatient Claims
B12: Service | C12: FY2008 | D12: FY2009 | E12: FY2010 | F12: FY2011 | G12: FY2012 | H12: FY2013 | M12: Service | N12: FY2008 | O12: FY2009 | P12: FY2010 | Q12: FY2011 | R12: FY2012 | S12: FY2013
B13: ='Collected to Claims Ratio'!B15 -> Air Force | C13: ='Collected to Claims Ratio'!C15 -> 215 | D13: ='Collected to Claims Ratio'!D15 -> 102 | E13: ='Collected to Claims Ratio'!E15 -> 0 | F13: ='Collected to Claims Ratio'!F15 -> 177 | G13: ='Collected to Claims Ratio'!G15 -> 164 | H13: ='Collected to Claims Ratio'!H15 -> 175 | M13: ='Collected to Claims Ratio'!K15 -> Air Force | N13: ='Collected to Claims Ratio'!L15 -> 221959 | O13: ='Collected to Claims Ratio'!M15 -> 272493 | P13: ='Collected to Claims Ratio'!N15 -> 261771 | Q13: ='Collected to Claims Ratio'!O15 -> 224455 | R13: ='Collected to Claims Ratio'!P15 -> 239812 | S13: ='Collected to Claims Ratio'!Q15 -> 196554
B14: ='Collected to Claims Ratio'!B16 -> Army | C14: ='Collected to Claims Ratio'!C16 -> 458 | D14: ='Collected to Claims Ratio'!D16 -> 429 | E14: ='Collected to Claims Ratio'!E16 -> 20 | F14: ='Collected to Claims Ratio'!F16 -> 532 | G14: ='Collected to Claims Ratio'!G16 -> 364 | H14: ='Collected to Claims Ratio'!H16 -> 393 | M14: ='Collected to Claims Ratio'!K16 -> Army | N14: ='Collected to Claims Ratio'!L16 -> 111868 | O14: ='Collected to Claims Ratio'!M16 -> 128351 | P14: ='Collected to Claims Ratio'!N16 -> 134660 | Q14: ='Collected to Claims Ratio'!O16 -> 131272 | R14: ='Collected to Claims Ratio'!P16 -> 145761 | S14: ='Collected to Claims Ratio'!Q16 -> 121470
B15: JTF | C15: ='Collected to Claims Ratio'!C17 -> 101 | D15: ='Collected to Claims Ratio'!D17 -> 35 | E15: ='Collected to Claims Ratio'!E17 -> 0 | F15: ='Collected to Claims Ratio'!F17 -> 72 | G15: ='Collected to Claims Ratio'!G17 -> 47 | H15: ='Collected to Claims Ratio'!H17 -> 1 | M15: JTF | N15: ='Collected to Claims Ratio'!L17 -> 12570 | O15: ='Collected to Claims Ratio'!M17 -> 16127 | P15: ='Collected to Claims Ratio'!N17 -> 8198 | Q15: ='Collected to Claims Ratio'!O17 -> 11134 | R15: ='Collected to Claims Ratio'!P17 -> 47317 | S15: ='Collected to Claims Ratio'!Q17 -> 47529
B16: ='Collected to Claims Ratio'!B18 -> Navy | C16: ='Collected to Claims Ratio'!C18 -> 143 | D16: ='Collected to Claims Ratio'!D18 -> 112 | E16: ='Collected to Claims Ratio'!E18 -> 128 | F16: ='Collected to Claims Ratio'!F18 -> 120 | G16: ='Collected to Claims Ratio'!G18 -> 108 | H16: ='Collected to Claims Ratio'!H18 -> 116 | M16: ='Collected to Claims Ratio'!K18 -> Navy | N16: ='Collected to Claims Ratio'!L18 -> 48276 | O16: ='Collected to Claims Ratio'!M18 -> 46456 | P16: ='Collected to Claims Ratio'!N18 -> 53641 | Q16: ='Collected to Claims Ratio'!O18 -> 65809 | R16: ='Collected to Claims Ratio'!P18 -> 66811 | S16: ='Collected to Claims Ratio'!Q18 -> 58702
B17: Total | C17: =SUM(C13:C16) -> 917 | D17: =SUM(D13:D16) -> 678 | E17: =SUM(E13:E16) -> 148 | F17: =SUM(F13:F16) -> 901 | G17: =SUM(G13:G16) -> 683 | H17: =SUM(H13:H16) -> 685 | M17: Total | N17: =SUM(N13:N16) -> 394673 | O17: =SUM(O13:O16) -> 463427 | P17: =SUM(P13:P16) -> 458270 | Q17: =SUM(Q13:Q16) -> 432670 | R17: =SUM(R13:R16) -> 499701 | S17: =SUM(S13:S16) -> 424255
B19: Inpatient Collections to Claims | M19: Outpatient Collections to Claims
B20: Service | C20: FY2008 | D20: FY2009 | E20: FY2010 | F20: FY2011 | G20: FY2012 | H20: FY2013 | M20: Service | N20: FY2008 | O20: FY2009 | P20: FY2010 | Q20: FY2011 | R20: FY2012 | S20: FY2013
B21: ='Collected to Claims Ratio'!B23 -> Air Force | C21: ='Collected to Claims Ratio'!C23 -> 0.060465116 | D21: ='Collected to Claims Ratio'!D23 -> 0.0098039216 | E21: ='Collected to Claims Ratio'!E23 -> #DIV/0! | F21: ='Collected to Claims Ratio'!F23 -> 0 | G21: ='Collected to Claims Ratio'!G23 -> 0 | H21: ='Collected to Claims Ratio'!H23 -> 0 | M21: ='Collected to Claims Ratio'!K23 -> Air Force | N21: ='Collected to Claims Ratio'!L23 -> 0.095427534 | O21: ='Collected to Claims Ratio'!M23 -> 0.08882063 | P21: ='Collected to Claims Ratio'!N23 -> 0.1114371 | Q21: ='Collected to Claims Ratio'!O23 -> 0.12830189 | R21: ='Collected to Claims Ratio'!P23 -> 0.15713559 | S21: ='Collected to Claims Ratio'!Q23 -> 0.12156456
B22: ='Collected to Claims Ratio'!B24 -> Army | C22: ='Collected to Claims Ratio'!C24 -> 0.12882096 | D22: ='Collected to Claims Ratio'!D24 -> 0.034965035 | E22: ='Collected to Claims Ratio'!E24 -> 0.1 | F22: ='Collected to Claims Ratio'!F24 -> 0.097744361 | G22: ='Collected to Claims Ratio'!G24 -> 0.03021978 | H22: ='Collected to Claims Ratio'!H24 -> 0.094147583 | M22: ='Collected to Claims Ratio'!K24 -> Army | N22: ='Collected to Claims Ratio'!L24 -> 0.16760825 | O22: ='Collected to Claims Ratio'!M24 -> 0.19382007 | P22: ='Collected to Claims Ratio'!N24 -> 0.2101812 | Q22: ='Collected to Claims Ratio'!O24 -> 0.2664163 | R22: ='Collected to Claims Ratio'!P24 -> 0.16068084 | S22: ='Collected to Claims Ratio'!Q24 -> 0.2366181
B23: JTF | C23: ='Collected to Claims Ratio'!C25 -> 0.059405941 | D23: ='Collected to Claims Ratio'!D25 -> 0.028571429 | E23: ='Collected to Claims Ratio'!E25 -> #DIV/0! | F23: ='Collected to Claims Ratio'!F25 -> 0.125 | G23: ='Collected to Claims Ratio'!G25 -> 0.085106383 | H23: ='Collected to Claims Ratio'!H25 -> 0 | M23: JTF | N23: ='Collected to Claims Ratio'!L25 -> 0.15871122 | O23: ='Collected to Claims Ratio'!M25 -> 0.15328331 | P23: ='Collected to Claims Ratio'!N25 -> 0.1236887 | Q23: ='Collected to Claims Ratio'!O25 -> 0.17172624 | R23: ='Collected to Claims Ratio'!P25 -> 0.058858338 | S23: ='Collected to Claims Ratio'!Q25 -> 0.15813503
B24: ='Collected to Claims Ratio'!B26 -> Navy | C24: ='Collected to Claims Ratio'!C26 -> 0.11888112 | D24: ='Collected to Claims Ratio'!D26 -> 0.035714286 | E24: ='Collected to Claims Ratio'!E26 -> 0.1328125 | F24: ='Collected to Claims Ratio'!F26 -> 0.125 | G24: ='Collected to Claims Ratio'!G26 -> 0.018518519 | H24: ='Collected to Claims Ratio'!H26 -> 0.10344828 | M24: ='Collected to Claims Ratio'!K26 -> Navy | N24: ='Collected to Claims Ratio'!L26 -> 0.11059326 | O24: ='Collected to Claims Ratio'!M26 -> 0.16600654 | P24: ='Collected to Claims Ratio'!N26 -> 0.22486531 | Q24: ='Collected to Claims Ratio'!O26 -> 0.22604811 | R24: ='Collected to Claims Ratio'!P26 -> 0.19522234 | S24: ='Collected to Claims Ratio'!Q26 -> 0.24827093
B25: Total | C25: ='Collected to Claims Ratio'!C27 -> 0.10359869 | D25: ='Collected to Claims Ratio'!D27 -> 0.030973451 | E25: ='Collected to Claims Ratio'!E27 -> 0.12837838 | F25: ='Collected to Claims Ratio'!F27 -> 0.084350721 | G25: ='Collected to Claims Ratio'!G27 -> 0.02489019 | H25: ='Collected to Claims Ratio'!H27 -> 0.071532847 | M25: Total | N25: ='Collected to Claims Ratio'!L27 -> 0.11975737 | O25: ='Collected to Claims Ratio'!M27 -> 0.12788206 | P25: ='Collected to Claims Ratio'!N27 -> 0.15394855 | Q25: ='Collected to Claims Ratio'!O27 -> 0.1861904 | R25: ='Collected to Claims Ratio'!P27 -> 0.15395607 | S25: ='Collected to Claims Ratio'!Q27 -> 0.17613464

Sheet Claims per Disp or Visits rpt
A1: Claims per Non-AD Disposition or Claims per Non-AD Visits
A2: =Summary!A2 -> 1st Quarter
B3: Number of Inpatient Claims | M3: Number of Outpatient Claims
B4: Service | C4: ='Collected to Claims Ratio'!C6 -> FY2008 | D4: ='Collected to Claims Ratio'!D6 -> FY2009 | E4: ='Collected to Claims Ratio'!E6 -> FY2010 | F4: ='Collected to Claims Ratio'!F6 -> FY2011 | G4: ='Collected to Claims Ratio'!G6 -> FY2012 | H4: ='Collected to Claims Ratio'!H6 -> FY2013 | M4: Service | N4: ='Collected to Claims Ratio'!L6 -> FY2008 | O4: ='Collected to Claims Ratio'!M6 -> FY2009 | P4: ='Collected to Claims Ratio'!N6 -> FY2010 | Q4: ='Collected to Claims Ratio'!O6 -> FY2011 | R4: ='Collected to Claims Ratio'!P6 -> FY2012 | S4: ='Collected to Claims Ratio'!Q6 -> FY2013
B5: ='Claims per Disp or Visits'!B6 -> Air Force | C5: ='Claims per Disp or Visits'!C6 -> 215 | D5: ='Claims per Disp or Visits'!D6 -> 102 | E5: ='Claims per Disp or Visits'!E6 -> 0 | F5: ='Claims per Disp or Visits'!F6 -> 177 | G5: ='Claims per Disp or Visits'!G6 -> 164 | H5: ='Claims per Disp or Visits'!H6 -> 175 | M5: ='Claims per Disp or Visits'!K6 -> Air Force | N5: ='Claims per Disp or Visits'!L6 -> 221959 | O5: ='Claims per Disp or Visits'!M6 -> 272493 | P5: ='Claims per Disp or Visits'!N6 -> 261771 | Q5: ='Claims per Disp or Visits'!O6 -> 224455 | R5: ='Claims per Disp or Visits'!P6 -> 239812 | S5: ='Claims per Disp or Visits'!Q6 -> 196554
B6: ='Claims per Disp or Visits'!B7 -> Army | C6: ='Claims per Disp or Visits'!C7 -> 458 | D6: ='Claims per Disp or Visits'!D7 -> 429 | E6: ='Claims per Disp or Visits'!E7 -> 20 | F6: ='Claims per Disp or Visits'!F7 -> 532 | G6: ='Claims per Disp or Visits'!G7 -> 364 | H6: ='Claims per Disp or Visits'!H7 -> 393 | M6: ='Claims per Disp or Visits'!K7 -> Army | N6: ='Claims per Disp or Visits'!L7 -> 111868 | O6: ='Claims per Disp or Visits'!M7 -> 128351 | P6: ='Claims per Disp or Visits'!N7 -> 134660 | Q6: ='Claims per Disp or Visits'!O7 -> 131272 | R6: ='Claims per Disp or Visits'!P7 -> 145761 | S6: ='Claims per Disp or Visits'!Q7 -> 121470
B7: JTF | C7: ='Claims per Disp or Visits'!C8 -> 101 | D7: ='Claims per Disp or Visits'!D8 -> 35 | E7: ='Claims per Disp or Visits'!E8 -> 0 | F7: ='Claims per Disp or Visits'!F8 -> 72 | G7: ='Claims per Disp or Visits'!G8 -> 47 | H7: ='Claims per Disp or Visits'!H8 -> 1 | M7: JTF | N7: ='Claims per Disp or Visits'!L8 -> 12570 | O7: ='Claims per Disp or Visits'!M8 -> 16127 | P7: ='Claims per Disp or Visits'!N8 -> 8198 | Q7: ='Claims per Disp or Visits'!O8 -> 11134 | R7: ='Claims per Disp or Visits'!P8 -> 47317 | S7: ='Claims per Disp or Visits'!Q8 -> 47529
B8: ='Claims per Disp or Visits'!B9 -> Navy | C8: ='Claims per Disp or Visits'!C9 -> 143 | D8: ='Claims per Disp or Visits'!D9 -> 112 | E8: ='Claims per Disp or Visits'!E9 -> 128 | F8: ='Claims per Disp or Visits'!F9 -> 120 | G8: ='Claims per Disp or Visits'!G9 -> 108 | H8: ='Claims per Disp or Visits'!H9 -> 116 | M8: ='Claims per Disp or Visits'!K9 -> Navy | N8: ='Claims per Disp or Visits'!L9 -> 48276 | O8: ='Claims per Disp or Visits'!M9 -> 46456 | P8: ='Claims per Disp or Visits'!N9 -> 53641 | Q8: ='Claims per Disp or Visits'!O9 -> 65809 | R8: ='Claims per Disp or Visits'!P9 -> 66811 | S8: ='Claims per Disp or Visits'!Q9 -> 58702
B9: Total | C9: =SUM(C5:C8) -> 917 | D9: =SUM(D5:D8) -> 678 | E9: =SUM(E5:E8) -> 148 | F9: =SUM(F5:F8) -> 901 | G9: =SUM(G5:G8) -> 683 | H9: =SUM(H5:H8) -> 685 | M9: Total | N9: =SUM(N5:N8) -> 394673 | O9: =SUM(O5:O8) -> 463427 | P9: =SUM(P5:P8) -> 458270 | Q9: =SUM(Q5:Q8) -> 432670 | R9: =SUM(R5:R8) -> 499701 | S9: =SUM(S5:S8) -> 424255
B11: Number of Non-Active-Duty Inpatient Dispositions | M11: Number of Non-Active-Duty Outpatient Visits
B12: Service | C12: ='Collected to Claims Ratio'!C14 -> FY2008 | D12: ='Collected to Claims Ratio'!D14 -> FY2009 | E12: ='Collected to Claims Ratio'!E14 -> FY2010 | F12: ='Collected to Claims Ratio'!F14 -> FY2011 | G12: ='Collected to Claims Ratio'!G14 -> FY2012 | H12: ='Collected to Claims Ratio'!H14 -> FY2013 | M12: Service | N12: ='Collected to Claims Ratio'!L14 -> FY2008 | O12: ='Collected to Claims Ratio'!M14 -> FY2009 | P12: ='Collected to Claims Ratio'!N14 -> FY2010 | Q12: ='Collected to Claims Ratio'!O14 -> FY2011 | R12: ='Collected to Claims Ratio'!P14 -> FY2012 | S12: ='Collected to Claims Ratio'!Q14 -> FY2013
B13: ='Claims per Disp or Visits'!B14 -> Air Force | C13: ='Claims per Disp or Visits'!C14 -> 8689 | D13: ='Claims per Disp or Visits'!D14 -> 8827 | E13: ='Claims per Disp or Visits'!E14 -> 9064 | F13: ='Claims per Disp or Visits'!F14 -> 7955 | G13: ='Claims per Disp or Visits'!G14 -> 6290 | H13: ='Claims per Disp or Visits'!H14 -> 6637 | M13: ='Claims per Disp or Visits'!K14 -> Air Force | N13: ='Claims per Disp or Visits'!L14 -> 866851 | O13: ='Claims per Disp or Visits'!M14 -> 862283 | P13: ='Claims per Disp or Visits'!N14 -> 821283 | Q13: ='Claims per Disp or Visits'!O14 -> 758621 | R13: ='Claims per Disp or Visits'!P14 -> 754284 | S13: ='Claims per Disp or Visits'!Q14 -> 742070
B14: ='Claims per Disp or Visits'!B15 -> Army | C14: ='Claims per Disp or Visits'!C15 -> 24090 | D14: ='Claims per Disp or Visits'!D15 -> 24302 | E14: ='Claims per Disp or Visits'!E15 -> 24923 | F14: ='Claims per Disp or Visits'!F15 -> 26013 | G14: ='Claims per Disp or Visits'!G15 -> 26204 | H14: ='Claims per Disp or Visits'!H15 -> 27030 | M14: ='Claims per Disp or Visits'!K15 -> Army | N14: ='Claims per Disp or Visits'!L15 -> 1641298 | O14: ='Claims per Disp or Visits'!M15 -> 1465973 | P14: ='Claims per Disp or Visits'!N15 -> 1480242 | Q14: ='Claims per Disp or Visits'!O15 -> 1928607 | R14: ='Claims per Disp or Visits'!P15 -> 1480004 | S14: ='Claims per Disp or Visits'!Q15 -> 1722680
B15: JTF | C15: ='Claims per Disp or Visits'!C16 -> 2473 | D15: ='Claims per Disp or Visits'!D16 -> 2497 | E15: ='Claims per Disp or Visits'!E16 -> 2376 | F15: ='Claims per Disp or Visits'!F16 -> 2418 | G15: ='Claims per Disp or Visits'!G16 -> 4015 | H15: ='Claims per Disp or Visits'!H16 -> 4173 | M15: JTF | N15: ='Claims per Disp or Visits'!L16 -> 201916 | O15: ='Claims per Disp or Visits'!M16 -> 283848 | P15: ='Claims per Disp or Visits'!N16 -> 208500 | Q15: ='Claims per Disp or Visits'!O16 -> 228871 | R15: ='Claims per Disp or Visits'!P16 -> 210960 | S15: ='Claims per Disp or Visits'!Q16 -> 143594
B16: ='Claims per Disp or Visits'!B17 -> Navy | C16: ='Claims per Disp or Visits'!C17 -> 12361 | D16: ='Claims per Disp or Visits'!D17 -> 11440 | E16: ='Claims per Disp or Visits'!E17 -> 12239 | F16: ='Claims per Disp or Visits'!F17 -> 11992 | G16: ='Claims per Disp or Visits'!G17 -> 11649 | H16: ='Claims per Disp or Visits'!H17 -> 12040 | M16: ='Claims per Disp or Visits'!K17 -> Navy | N16: ='Claims per Disp or Visits'!L17 -> 804928 | O16: ='Claims per Disp or Visits'!M17 -> 1420307 | P16: ='Claims per Disp or Visits'!N17 -> 845906 | Q16: ='Claims per Disp or Visits'!O17 -> 746886 | R16: ='Claims per Disp or Visits'!P17 -> 682130 | S16: ='Claims per Disp or Visits'!Q17 -> 846159
B17: Total | C17: =SUM(C13:C16) -> 47613 | D17: =SUM(D13:D16) -> 47066 | E17: =SUM(E13:E16) -> 48602 | F17: =SUM(F13:F16) -> 48378 | G17: =SUM(G13:G16) -> 48158 | H17: =SUM(H13:H16) -> 49880 | M17: Total | N17: =SUM(N13:N16) -> 3514993 | O17: =SUM(O13:O16) -> 4032411 | P17: =SUM(P13:P16) -> 3355931 | Q17: =SUM(Q13:Q16) -> 3662985 | R17: =SUM(R13:R16) -> 3127378 | S17: =SUM(S13:S16) -> 3454503
B19: Inpatient Claims per Non-Active-Duty Disposition | M19: Outpatient Claims per Non-Active-Duty Visit
B20: Service | C20: ='Collected to Claims Ratio'!C22 -> FY2008 | D20: ='Collected to Claims Ratio'!D22 -> FY2009 | E20: ='Collected to Claims Ratio'!E22 -> FY2010 | F20: ='Collected to Claims Ratio'!F22 -> FY2011 | G20: ='Collected to Claims Ratio'!G22 -> FY2012 | H20: ='Collected to Claims Ratio'!H22 -> FY2013 | M20: Service | N20: ='Collected to Claims Ratio'!L22 -> FY2008 | O20: ='Collected to Claims Ratio'!M22 -> FY2009 | P20: ='Collected to Claims Ratio'!N22 -> FY2010 | Q20: ='Collected to Claims Ratio'!O22 -> FY2011 | R20: ='Collected to Claims Ratio'!P22 -> FY2012 | S20: ='Collected to Claims Ratio'!Q22 -> FY2013
B21: ='Claims per Disp or Visits'!B22 -> Air Force | C21: ='Claims per Disp or Visits'!C22 -> 0.024743929 | D21: ='Claims per Disp or Visits'!D22 -> 0.011555455 | E21: ='Claims per Disp or Visits'!E22 -> 0 | F21: ='Claims per Disp or Visits'!F22 -> 0.022250157 | G21: ='Claims per Disp or Visits'!G22 -> 0.026073132 | H21: ='Claims per Disp or Visits'!H22 -> 0.026367335 | M21: ='Claims per Disp or Visits'!K22 -> Air Force | N21: ='Claims per Disp or Visits'!L22 -> 0.25605208 | O21: ='Claims per Disp or Visits'!M22 -> 0.31601342 | P21: ='Claims per Disp or Visits'!N22 -> 0.31873422 | Q21: ='Claims per Disp or Visits'!O22 -> 0.29587238 | R21: ='Claims per Disp or Visits'!P22 -> 0.3179333 | S21: ='Claims per Disp or Visits'!Q22 -> 0.26487259
B22: ='Claims per Disp or Visits'!B23 -> Army | C22: ='Claims per Disp or Visits'!C23 -> 0.019012038 | D22: ='Claims per Disp or Visits'!D23 -> 0.017652868 | E22: ='Claims per Disp or Visits'!E23 -> 0.00080247161 | F22: ='Claims per Disp or Visits'!F23 -> 0.020451313 | G22: ='Claims per Disp or Visits'!G23 -> 0.013891009 | H22: ='Claims per Disp or Visits'!H23 -> 0.014539401 | M22: ='Claims per Disp or Visits'!K23 -> Army | N22: ='Claims per Disp or Visits'!L23 -> 0.06815825 | O22: ='Claims per Disp or Visits'!M23 -> 0.087553454 | P22: ='Claims per Disp or Visits'!N23 -> 0.090971611 | Q22: ='Claims per Disp or Visits'!O23 -> 0.068065708 | R22: ='Claims per Disp or Visits'!P23 -> 0.098486896 | S22: ='Claims per Disp or Visits'!Q23 -> 0.070512225
B23: JTF | C23: ='Claims per Disp or Visits'!C24 -> 0.040841084 | D23: ='Claims per Disp or Visits'!D24 -> 0.01401682 | E23: ='Claims per Disp or Visits'!E24 -> 0 | F23: ='Claims per Disp or Visits'!F24 -> 0.029776675 | G23: ='Claims per Disp or Visits'!G24 -> 0.011706102 | H23: ='Claims per Disp or Visits'!H24 -> 0.00023963575 | M23: JTF | N23: ='Claims per Disp or Visits'!L24 -> 0.06225361 | O23: ='Claims per Disp or Visits'!M24 -> 0.05681562 | P23: ='Claims per Disp or Visits'!N24 -> 0.039318945 | Q23: ='Claims per Disp or Visits'!O24 -> 0.048647491 | R23: ='Claims per Disp or Visits'!P24 -> 0.2242937 | S23: ='Claims per Disp or Visits'!Q24 -> 0.33099572
B24: ='Claims per Disp or Visits'!B25 -> Navy | C24: ='Claims per Disp or Visits'!C25 -> 0.011568643 | D24: ='Claims per Disp or Visits'!D25 -> 0.0097902098 | E24: ='Claims per Disp or Visits'!E25 -> 0.010458371 | F24: ='Claims per Disp or Visits'!F25 -> 0.010006671 | G24: ='Claims per Disp or Visits'!G25 -> 0.0092711821 | H24: ='Claims per Disp or Visits'!H25 -> 0.0096345515 | M24: ='Claims per Disp or Visits'!K25 -> Navy | N24: ='Claims per Disp or Visits'!L25 -> 0.059975551 | O24: ='Claims per Disp or Visits'!M25 -> 0.032708421 | P24: ='Claims per Disp or Visits'!N25 -> 0.063412483 | Q24: ='Claims per Disp or Visits'!O25 -> 0.088111171 | R24: ='Claims per Disp or Visits'!P25 -> 0.097944673 | S24: ='Claims per Disp or Visits'!Q25 -> 0.069374668
B25: Total | C25: ='Claims per Disp or Visits'!C26 -> 0.019259446 | D25: ='Claims per Disp or Visits'!D26 -> 0.014405303 | E25: ='Claims per Disp or Visits'!E26 -> 0.0030451422 | F25: ='Claims per Disp or Visits'!F26 -> 0.018624168 | G25: ='Claims per Disp or Visits'!G26 -> 0.014182483 | H25: ='Claims per Disp or Visits'!H26 -> 0.013732959 | M25: Total | N25: ='Claims per Disp or Visits'!L26 -> 0.11228273 | O25: ='Claims per Disp or Visits'!M26 -> 0.11492554 | P25: ='Claims per Disp or Visits'!N26 -> 0.13655525 | Q25: ='Claims per Disp or Visits'!O26 -> 0.11811951 | R25: ='Claims per Disp or Visits'!P26 -> 0.15978273 | S25: ='Claims per Disp or Visits'!Q26 -> 0.12281217

Sheet Total Collections
A1: Total Collections
A2: =Summary!A2 -> 1st Quarter
C4: Total IP Collections for a FY
B5: Service | C5: FY2008 | D5: FY2009 | E5: FY2010 | F5: FY2011 | G5: FY2012 | H5: FY2013
B6: Air Force | C6: =Details!C5 -> 2497448.7 | D6: =Details!D5 -> 1616361.5 | E6: =Details!E5 -> 3450331.2 | F6: =Details!F5 -> 2884677.3 | G6: =Details!G5 -> 1009098.3 | H6: =Details!H5 -> 820628.86
B7: Army | C7: =Details!C6 -> 5004124.2 | D7: =Details!D6 -> 7892382.2 | E7: =Details!E6 -> 4528135.5 | F7: =Details!F6 -> 5400485.8 | G7: =Details!G6 -> 5194677.3 | H7: =Details!H6 -> 5095656.4
B8: JTF | C8: =Details!C7 -> 666684.04 | D8: =Details!D7 -> 779279.24 | E8: =Details!E7 -> 624609.94 | F8: =Details!F7 -> 429686.27 | G8: =Details!G7 -> 405272.49 | H8: =Details!H7 -> 1913878.1
B9: Navy | C9: =Details!C8 -> 1129537.2 | D9: =Details!D8 -> 1008925.3 | E9: =Details!E8 -> 1121518.6 | F9: =Details!F8 -> 1381463.8 | G9: =Details!G8 -> 916267.3 | H9: =Details!H8 -> 1056752.3
B10: Total | C10: =SUM(C6:C9) -> 9297794.1 | D10: =SUM(D6:D9) -> 11296948 | E10: =SUM(E6:E9) -> 9724595.3 | F10: =SUM(F6:F9) -> 10096313 | G10: =SUM(G6:G9) -> 7525315.4 | H10: =SUM(H6:H9) -> 8886915.7
C13: Total OP Collections for FY
B14: Service | C14: FY2008 | D14: FY2009 | E14: FY2010 | F14: FY2011 | G14: FY2012 | H14: FY2013
B15: Air Force | C15: =Details!C15 -> 17319953 | D15: =Details!D15 -> 19703652 | E15: =Details!E15 -> 22666191 | F15: =Details!F15 -> 19932365 | G15: =Details!G15 -> 15272274 | H15: =Details!H15 -> 13249350
B16: Army | C16: =Details!C16 -> 10944312 | D16: =Details!D16 -> 14022023 | E16: =Details!E16 -> 17259797 | F16: =Details!F16 -> 12539773 | G16: =Details!G16 -> 12031629 | H16: =Details!H16 -> 11320625
B17: JTF | C17: =Details!C17 -> 2392394.5 | D17: =Details!D17 -> 2676899.5 | E17: =Details!E17 -> 2103043.5 | F17: =Details!F17 -> 3109435.3 | G17: =Details!G17 -> 2801631.2 | H17: =Details!H17 -> 2641252.3
B18: Navy | C18: =Details!C18 -> 6365670 | D18: =Details!D18 -> 7457789 | E18: =Details!E18 -> 8763902.3 | F18: =Details!F18 -> 5814721.7 | G18: =Details!G18 -> 4940138.8 | H18: =Details!H18 -> 5113049.8
B19: Total | C19: =SUM(C15:C18) -> 37022330 | D19: =SUM(D15:D18) -> 43860364 | E19: =SUM(E15:E18) -> 50792934 | F19: =SUM(F15:F18) -> 41396295 | G19: =SUM(G15:G18) -> 35045673 | H19: =SUM(H15:H18) -> 32324277
A21: IP
A22: Is AF IP FY2013 data greater than FY2012? | H22: =IF(H6-G6>0,"yes","no") -> no
A23: Is A IP FY2013 data greater than FY2012? | H23: =IF(H7-G7>0,"yes","no") -> no
A24: Is N IP FY2013 data greater than FY2012? | H24: =IF(H9-G9>0,"yes","no") -> yes
A25: Is JTP IP FY2013 data greater than FY2012? | H25: =IF(H8-G8>0,"yes","no") -> yes
A26: OP
A27: Is AF OP FY2013 data greater than FY2012? | H27: =IF(H15-G15>0,"yes","no") -> no
A28: Is A OP FY2013 data greater than FY2012? | H28: =IF(H16-G16>0,"yes","no") -> no
A29: Is N OP FY2013 data greater than FY2012? | H29: =IF(H18-G18>0,"yes","no") -> yes
A30: Is JTF OP FY2013 data greater than FY2012? | H30: =IF(H17-G17>0,"yes","no") -> no

Sheet Total Billings
A1: Total Billings
A2: =Summary!A2 -> 1st Quarter
C4: Total IP Billings for CFY in CFY
B5: Service | C5: FY2008 | D5: FY2009 | E5: FY2010 | F5: FY2011 | G5: FY2012 | H5: FY2013
B6: Air Force | C6: =Details!C24 -> 4881711.6 | D6: =Details!D24 -> 3790827.9 | E6: =Details!E24 -> 410806.97 | F6: =Details!F24 -> 2949124.8 | G6: =Details!G24 -> 2811704 | H6: =Details!H24 -> 2651644.2
B7: Army | C7: =Details!C25 -> 11211578 | D7: =Details!D25 -> 7865228.6 | E7: =Details!E25 -> 204899.92 | F7: =Details!F25 -> 11680175 | G7: =Details!G25 -> 8090686.8 | H7: =Details!H25 -> 7269423.5
B8: JTF | C8: =Details!C26 -> 2149351.9 | D8: =Details!D26 -> 644870.05 | E8: =Details!E26 -> 0 | F8: =Details!F26 -> 1302801.5 | G8: =Details!G26 -> 1851676.2 | H8: =Details!H26 -> 446287.04
B9: Navy | C9: =Details!C27 -> 1967030.9 | D9: =Details!D27 -> 1556393 | E9: =Details!E27 -> 1859532.2 | F9: =Details!F27 -> 2375535.3 | G9: =Details!G27 -> 1842304.1 | H9: =Details!H27 -> 1883282.9
B10: Total | C10: =SUM(C6:C9) -> 20209673 | D10: =SUM(D6:D9) -> 13857320 | E10: =SUM(E6:E9) -> 2475239.1 | F10: =SUM(F6:F9) -> 18307637 | G10: =SUM(G6:G9) -> 14596371 | H10: =SUM(H6:H9) -> 12250638
C13: Total OP Billings for CFY in CFY
B14: Service | C14: FY2008 | D14: FY2009 | E14: FY2010 | F14: FY2011 | G14: FY2012 | H14: FY2013
B15: Air Force | C15: =Details!C33 -> 33412442 | D15: =Details!D33 -> 43114463 | E15: =Details!E33 -> 41741670 | F15: =Details!F33 -> 25902855 | G15: =Details!G33 -> 27124145 | H15: =Details!H33 -> 22635820
B16: Army | C16: =Details!C34 -> 12651958 | D16: =Details!D34 -> 15651765 | E16: =Details!E34 -> 16253612 | F16: =Details!F34 -> 12180827 | G16: =Details!G34 -> 13079130 | H16: =Details!H34 -> 11493214
B17: JTF | C17: =Details!C35 -> 1921959.8 | D17: =Details!D35 -> 2396944.8 | E17: =Details!E35 -> 1042091.3 | F17: =Details!F35 -> 1148805.8 | G17: =Details!G35 -> 4409384.2 | H17: =Details!H35 -> 4607468
B18: Navy | C18: =Details!C36 -> 6268714.5 | D18: =Details!D36 -> 6244919.2 | E18: =Details!E36 -> 7446708.5 | F18: =Details!F36 -> 6203781.2 | G18: =Details!G36 -> 6287754.7 | H18: =Details!H36 -> 5723064.4
B19: Total | C19: =SUM(C15:C18) -> 54255074 | D19: =SUM(D15:D18) -> 67408092 | E19: =SUM(E15:E18) -> 66484082 | F19: =SUM(F15:F18) -> 45436268 | G19: =SUM(G15:G18) -> 50900414 | H19: =SUM(H15:H18) -> 44459567
A21: IP
A22: Is AF IP FY2013 data greater than FY2012? | H22: =IF(H6-G6>0,"yes","no") -> no
A23: Is A IP FY2013 data greater than FY2012? | H23: =IF(H7-G7>0,"yes","no") -> no
A24: Is N IP FY2013 data greater than FY2012? | H24: =IF(H9-G9>0,"yes","no") -> yes
A25: Is JTF IP FY2013 data greater than FY2012? | H25: =IF(H8-G8>0,"yes","no") -> no
A27: Is AF OP FY2013 data greater than FY2012? | H27: =IF(H15-G15>0,"yes","no") -> no
A28: Is A OP FY2013 data greater than FY2012? | H28: =IF(H16-G16>0,"yes","no") -> no
A29: Is N OP FY2013 data greater than FY2012? | H29: =IF(H18-G18>0,"yes","no") -> no
A30: Is JTF OP FY2013 data greater than FY2012? | H30: =IF(H17-G17>0,"yes","no") -> yes

Sheet Collected to Claims Ratio
A1: Collected to Claims Issued Ratio
A2: =Summary!A2 -> 1st Quarter
C5: Num of IP Collections for CFY | L5: Num of OP Collections for CFY
B6: Service | C6: FY2008 | D6: FY2009 | E6: FY2010 | F6: FY2011 | G6: FY2012 | H6: FY2013 | K6: Service | L6: FY2008 | M6: FY2009 | N6: FY2010 | O6: FY2011 | P6: FY2012 | Q6: FY2013
B7: Air Force | C7: =Details!C42 -> 13 | D7: =Details!D42 -> 1 | E7: =Details!E42 -> 0 | F7: =Details!F42 -> 0 | G7: =Details!G42 -> 0 | H7: =Details!H42 -> 0 | K7: Air Force | L7: =Details!C69 -> 21181 | M7: =Details!D69 -> 24203 | N7: =Details!E69 -> 29171 | O7: =Details!F69 -> 28798 | P7: =Details!G69 -> 37683 | Q7: =Details!H69 -> 23894
B8: Army | C8: =Details!C43 -> 59 | D8: =Details!D43 -> 15 | E8: =Details!E43 -> 2 | F8: =Details!F43 -> 52 | G8: =Details!G43 -> 11 | H8: =Details!H43 -> 37 | K8: Army | L8: =Details!C70 -> 18750 | M8: =Details!D70 -> 24877 | N8: =Details!E70 -> 28303 | O8: =Details!F70 -> 34973 | P8: =Details!G70 -> 23421 | Q8: =Details!H70 -> 28742
B9: JTF | C9: =Details!C44 -> 6 | D9: =Details!D44 -> 1 | E9: =Details!E44 -> 0 | F9: =Details!F44 -> 9 | G9: =Details!G44 -> 4 | H9: =Details!H44 -> 0 | K9: JTF | L9: =Details!C71 -> 1995 | M9: =Details!D71 -> 2472 | N9: =Details!E71 -> 1014 | O9: =Details!F71 -> 1912 | P9: =Details!G71 -> 2785 | Q9: =Details!H71 -> 7516
B10: Navy | C10: =Details!C45 -> 17 | D10: =Details!D45 -> 4 | E10: =Details!E45 -> 17 | F10: =Details!F45 -> 15 | G10: =Details!G45 -> 2 | H10: =Details!H45 -> 12 | K10: Navy | L10: =Details!C72 -> 5339 | M10: =Details!D72 -> 7712 | N10: =Details!E72 -> 12062 | O10: =Details!F72 -> 14876 | P10: =Details!G72 -> 13043 | Q10: =Details!H72 -> 14574
B11: Total | C11: =SUM(C7:C10) -> 95 | D11: =SUM(D7:D10) -> 21 | E11: =SUM(E7:E10) -> 19 | F11: =SUM(F7:F10) -> 76 | G11: =SUM(G7:G10) -> 17 | H11: =SUM(H7:H10) -> 49 | K11: Total | L11: =SUM(L7:L10) -> 47265 | M11: =SUM(M7:M10) -> 59264 | N11: =SUM(N7:N10) -> 70550 | O11: =SUM(O7:O10) -> 80559 | P11: =SUM(P7:P10) -> 76932 | Q11: =SUM(Q7:Q10) -> 74726
C13: Num of IP Claims for CFY | L13: Num of OP Claims for CFY
B14: Service | C14: FY2008 | D14: FY2009 | E14: FY2010 | F14: FY2011 | G14: FY2012 | H14: FY2013 | K14: Service | L14: FY2008 | M14: FY2009 | N14: FY2010 | O14: FY2011 | P14: FY2012 | Q14: FY2013
B15: Air Force | C15: =Details!C51 -> 215 | D15: =Details!D51 -> 102 | E15: =Details!E51 -> 0 | F15: =Details!F51 -> 177 | G15: =Details!G51 -> 164 | H15: =Details!H51 -> 175 | K15: Air Force | L15: =Details!C78 -> 221959 | M15: =Details!D78 -> 272493 | N15: =Details!E78 -> 261771 | O15: =Details!F78 -> 224455 | P15: =Details!G78 -> 239812 | Q15: =Details!H78 -> 196554
B16: Army | C16: =Details!C52 -> 458 | D16: =Details!D52 -> 429 | E16: =Details!E52 -> 20 | F16: =Details!F52 -> 532 | G16: =Details!G52 -> 364 | H16: =Details!H52 -> 393 | K16: Army | L16: =Details!C79 -> 111868 | M16: =Details!D79 -> 128351 | N16: =Details!E79 -> 134660 | O16: =Details!F79 -> 131272 | P16: =Details!G79 -> 145761 | Q16: =Details!H79 -> 121470
B17: JTF | C17: =Details!C53 -> 101 | D17: =Details!D53 -> 35 | E17: =Details!E53 -> 0 | F17: =Details!F53 -> 72 | G17: =Details!G53 -> 47 | H17: =Details!H53 -> 1 | K17: JTF | L17: =Details!C80 -> 12570 | M17: =Details!D80 -> 16127 | N17: =Details!E80 -> 8198 | O17: =Details!F80 -> 11134 | P17: =Details!G80 -> 47317 | Q17: =Details!H80 -> 47529
