Workbook

Sheet Summary
A1: Third Party Collections Web Metrics Reporting System Data
A2: 3rd Quarter | F2: Data as of 08/01/2013
B5: FY2013 Collection Goals:
B7: Army | C7: 65.5 | D7: million
B8: Navy | C8: 29.7 | D8: million
B9: Air Force | C9: 64.5 | D9: million
B10: JTF | C10: 19.1 | D10: million
B11: Total | C11: =SUM(C7:C10) -> 178.8 | D11: million
B13: FY2013 status, after 3rd Quarter | F13: FY 2013, Projected after 4th Quarter | J13: FY2012 status, after 4th Quarter | M13: FY 2012, after 4th Quarter - JTF seperated
B15: Army | C15: ='Total Collections Rpt'!H23 -> 48 | D15: million | F15: =C15*(12/9) -> 64 | G15: million | J15: 72 | M15: 64.9
B16: Navy | C16: ='Total Collections Rpt'!H25 -> 15.8 | D16: million | F16: =C16*(12/9) -> 21.066667 | G16: million | J16: 32.4 | M16: 22.5
B17: Air Force | C17: ='Total Collections Rpt'!H22 -> 43.2 | D17: million | F17: =C17*(12/9) -> 57.6 | G17: million | J17: 63.9 | M17: 63.9
B18: JTF | C18: ='Total Collections Rpt'!H24 -> 13.6 | D18: million | F18: =C18*(12/9) -> 18.133333 | G18: million | M18: 16.9
B19: Total | C19: =SUM(C15:C18) -> 120.6 | D19: million | F19: =SUM(F15:F18) -> 160.8 | G19: million | J19: 168.3 | M19: 168.2

Sheet Collections Summary
A1: Collections Summary
A2: =Summary!A2 -> 3rd Quarter
C4: Inpatient Collections | E4: Outpatient Collections | G4: Total Collections
B5: Service | C5: FY2012 | D5: FY2013 | E5: FY2012 | F5: FY2013 | G5: FY2012 | H5: FY2013
B6: Army | C6: ='Total Collections Rpt'!G7 -> 16.4 | D6: ='Total Collections Rpt'!H7 -> 16.4 | E6: ='Total Collections Rpt'!G15 -> 32.4 | F6: ='Total Collections Rpt'!H15 -> 31.6 | G6: ='Total Collections Rpt'!G23 -> 48.8 | H6: ='Total Collections Rpt'!H23 -> 48
B7: Navy | C7: ='Total Collections Rpt'!G9 -> 3.3 | D7: ='Total Collections Rpt'!H9 -> 3.3 | E7: ='Total Collections Rpt'!G17 -> 13.7 | F7: ='Total Collections Rpt'!H17 -> 12.5 | G7: ='Total Collections Rpt'!G25 -> 17 | H7: ='Total Collections Rpt'!H25 -> 15.8
B8: Air Force | C8: ='Total Collections Rpt'!G6 -> 3.7 | D8: ='Total Collections Rpt'!H6 -> 3.4 | E8: ='Total Collections Rpt'!G14 -> 43.8 | F8: ='Total Collections Rpt'!H14 -> 39.8 | G8: ='Total Collections Rpt'!G22 -> 47.5 | H8: ='Total Collections Rpt'!H22 -> 43.2
B9: JTF | C9: ='Total Collections Rpt'!G8 -> 2.6 | D9: ='Total Collections Rpt'!H8 -> 4.5 | E9: ='Total Collections Rpt'!G16 -> 9.4 | F9: ='Total Collections Rpt'!H16 -> 9.1 | G9: ='Total Collections Rpt'!G24 -> 12 | H9: ='Total Collections Rpt'!H24 -> 13.6
B11: Total | C11: =SUM(C6:C9) -> 26 | D11: =SUM(D6:D9) -> 27.6 | E11: =SUM(E6:E9) -> 99.3 | F11: =SUM(F6:F9) -> 93 | G11: =SUM(G6:G9) -> 125.3 | H11: =SUM(H6:H9) -> 120.6
B13: =Summary!F2 -> Data as of 08/01/2013
B14: Note: Collections = CFY + PY1 + PY2

Sheet Billed&Collected
A1: Billed & Collected ($Millions)
A2: =Summary!A2 -> 3rd Quarter
B5: Service | C5: FY09 | E5: FY10 | G5: FY11 | I5: FY12 | K5: FY13
C6: Billed | D6: Collected | E6: Billed | F6: Collected | G6: Billed | H6: Collected | I6: Billed | J6: Collected | K6: Billed | L6: Collected
B7: Outpatient
B8: Army | C8: =ROUND('Total Billings'!D16/1000000,1) -> 72.1 | D8: =ROUND('Total Collections'!D16/1000000,1) -> 45.1 | E8: =ROUND('Total Billings'!E16/1000000,1) -> 64.7 | F8: =ROUND('Total Collections'!E16/1000000,1) -> 46.1 | G8: =ROUND('Total Billings'!F16/1000000,1) -> 64.7 | H8: =ROUND('Total Collections'!F16/1000000,1) -> 38 | I8: =ROUND('Total Billings'!G16/1000000,1) -> 55.3 | J8: =ROUND('Total Collections'!G16/1000000,1) -> 32.4 | K8: =ROUND('Total Billings'!H16/1000000,1) -> 50.6 | L8: =ROUND('Total Collections'!H16/1000000,1) -> 31.6
B9: Navy | C9: =ROUND('Total Billings'!D18/1000000,1) -> 34.9 | D9: =ROUND('Total Collections'!D18/1000000,1) -> 23.6 | E9: =ROUND('Total Billings'!E18/1000000,1) -> 29.8 | F9: =ROUND('Total Collections'!E18/1000000,1) -> 22.6 | G9: =ROUND('Total Billings'!F18/1000000,1) -> 26.9 | H9: =ROUND('Total Collections'!F18/1000000,1) -> 16.5 | I9: =ROUND('Total Billings'!G18/1000000,1) -> 25.1 | J9: =ROUND('Total Collections'!G18/1000000,1) -> 13.7 | K9: =ROUND('Total Billings'!H18/1000000,1) -> 22.9 | L9: =ROUND('Total Collections'!H18/1000000,1) -> 12.5
B10: Air Force | C10: =ROUND('Total Billings'!D15/1000000,1) -> 154.1 | D10: =ROUND('Total Collections'!D15/1000000,1) -> 69.8 | E10: =ROUND('Total Billings'!E15/1000000,1) -> 121.1 | F10: =ROUND('Total Collections'!E15/1000000,1) -> 62.6 | G10: =ROUND('Total Billings'!F15/1000000,1) -> 105.1 | H10: =ROUND('Total Collections'!F15/1000000,1) -> 53.2 | I10: =ROUND('Total Billings'!G15/1000000,1) -> 97.9 | J10: =ROUND('Total Collections'!G15/1000000,1) -> 43.8 | K10: =ROUND('Total Billings'!H15/1000000,1) -> 91.5 | L10: =ROUND('Total Collections'!H15/1000000,1) -> 39.8
B11: JTF | C11: =ROUND('Total Billings'!D17/1000000,1) -> 12.1 | D11: =ROUND('Total Collections'!D17/1000000,1) -> 8.1 | E11: =ROUND('Total Billings'!E17/1000000,1) -> 9.2 | F11: =ROUND('Total Collections'!E17/1000000,1) -> 7.2 | G11: =ROUND('Total Billings'!F17/1000000,1) -> 10.4 | H11: =ROUND('Total Collections'!F17/1000000,1) -> 6.2 | I11: =ROUND('Total Billings'!G17/1000000,1) -> 18.2 | J11: =ROUND('Total Collections'!G17/1000000,1) -> 9.4 | K11: =ROUND('Total Billings'!H17/1000000,1) -> 17.3 | L11: =ROUND('Total Collections'!H17/1000000,1) -> 9.1
B12: Total | C12: =SUM(C8:C11) -> 273.2 | D12: =SUM(D8:D11) -> 146.6 | E12: =SUM(E8:E11) -> 224.8 | F12: =SUM(F8:F11) -> 138.5 | G12: =SUM(G8:G11) -> 207.1 | H12: =SUM(H8:H11) -> 113.9 | I12: =SUM(I8:I11) -> 196.5 | J12: =SUM(J8:J11) -> 99.3 | ... L12: =SUM(L8:L11) -> 93
B13: Inpatient
B14: Army | C14: =ROUND('Total Billings'!D7/1000000,1) -> 43.8 | D14: =ROUND('Total Collections'!D7/1000000,1) -> 21.8 | E14: =ROUND('Total Billings'!E7/1000000,1) -> 38.1 | F14: =ROUND('Total Collections'!E7/1000000,1) -> 18.3 | G14: =ROUND('Total Billings'!F7/1000000,1) -> 41.9 | H14: =ROUND('Total Collections'!F7/1000000,1) -> 16 | I14: =ROUND('Total Billings'!G7/1000000,1) -> 38.6 | J14: =ROUND('Total Collections'!G7/1000000,1) -> 16.4 | K14: =ROUND('Total Billings'!H7/1000000,1) -> 30.9 | L14: =ROUND('Total Collections'!H7/1000000,1) -> 16.4
B15: Navy | C15: =ROUND('Total Billings'!D9/1000000,1) -> 9.7 | D15: =ROUND('Total Collections'!D9/1000000,1) -> 3.8 | E15: =ROUND('Total Billings'!E9/1000000,1) -> 8.7 | F15: =ROUND('Total Collections'!E9/1000000,1) -> 3.4 | G15: =ROUND('Total Billings'!F9/1000000,1) -> 8.9 | H15: =ROUND('Total Collections'!F9/1000000,1) -> 3.5 | I15: =ROUND('Total Billings'!G9/1000000,1) -> 9.5 | J15: =ROUND('Total Collections'!G9/1000000,1) -> 3.3 | K15: =ROUND('Total Billings'!H9/1000000,1) -> 8.2 | L15: =ROUND('Total Collections'!H9/1000000,1) -> 3.3
B16: Air Force | C16: =ROUND('Total Billings'!D6/1000000,1) -> 18.3 | D16: =ROUND('Total Collections'!D6/1000000,1) -> 6.1 | E16: =ROUND('Total Billings'!E6/1000000,1) -> 21.1 | F16: =ROUND('Total Collections'!E6/1000000,1) -> 12.9 | G16: =ROUND('Total Billings'!F6/1000000,1) -> 14.3 | H16: =ROUND('Total Collections'!F6/1000000,1) -> 6.6 | I16: =ROUND('Total Billings'!G6/1000000,1) -> 11.8 | J16: =ROUND('Total Collections'!G6/1000000,1) -> 3.7 | K16: =ROUND('Total Billings'!H6/1000000,1) -> 11.9 | L16: =ROUND('Total Collections'!H6/1000000,1) -> 3.4
B17: JTF | C17: =ROUND('Total Billings'!D8/1000000,1) -> 4.7 | D17: =ROUND('Total Collections'!D8/1000000,1) -> 1.8 | E17: =ROUND('Total Billings'!E8/1000000,1) -> 4.3 | F17: =ROUND('Total Collections'!E8/1000000,1) -> 3.4 | G17: =ROUND('Total Billings'!F8/1000000,1) -> 4.9 | H17: =ROUND('Total Collections'!F8/1000000,1) -> 2 | I17: =ROUND('Total Billings'!G8/1000000,1) -> 10.6 | J17: =ROUND('Total Collections'!G8/1000000,1) -> 2.6 | K17: =ROUND('Total Billings'!H8/1000000,1) -> 5.2 | L17: =ROUND('Total Collections'!H8/1000000,1) -> 4.5
B18: Total | C18: =SUM(C14:C17) -> 76.5 | D18: =SUM(D14:D17) -> 33.5 | E18: =SUM(E14:E17) -> 72.2 | F18: =SUM(F14:F17) -> 38 | G18: =SUM(G14:G17) -> 70 | H18: =SUM(H14:H17) -> 28.1 | I18: =SUM(I14:I17) -> 70.5 | J18: =SUM(J14:J17) -> 26 | ... L18: =SUM(L14:L17) -> 27.6
B20: =Summary!F2 -> Data as of 08/01/2013
B21: Note: Collections = CFY + PY1 + PY2
B22: Billed = Amount Billed CFY

Sheet Total Collections Rpt
A1: Total Collections
A2: =Summary!A2 -> 3rd Quarter
B4: Total Inpatient Collections
B5: Service | C5: ='Total Collections'!C5 -> FY2008 | D5: ='Total Collections'!D5 -> FY2009 | E5: ='Total Collections'!E5 -> FY2010 | F5: ='Total Collections'!F5 -> FY2011 | G5: ='Total Collections'!G5 -> FY2012 | H5: ='Total Collections'!H5 -> FY2013
B6: ='Total Collections'!B6 -> Air Force | C6: =ROUND('Total Collections'!C6/1000000,1) -> 9.7 | D6: =ROUND('Total Collections'!D6/1000000,1) -> 6.1 | E6: =ROUND('Total Collections'!E6/1000000,1) -> 12.9 | F6: =ROUND('Total Collections'!F6/1000000,1) -> 6.6 | G6: =ROUND('Total Collections'!G6/1000000,1) -> 3.7 | H6: =ROUND('Total Collections'!H6/1000000,1) -> 3.4
B7: ='Total Collections'!B7 -> Army | C7: =ROUND('Total Collections'!C7/1000000,1) -> 17.6 | D7: =ROUND('Total Collections'!D7/1000000,1) -> 21.8 | E7: =ROUND('Total Collections'!E7/1000000,1) -> 18.3 | F7: =ROUND('Total Collections'!F7/1000000,1) -> 16 | G7: =ROUND('Total Collections'!G7/1000000,1) -> 16.4 | H7: =ROUND('Total Collections'!H7/1000000,1) -> 16.4
B8: JTF | C8: =ROUND('Total Collections'!C8/1000000,1) -> 3.6 | D8: =ROUND('Total Collections'!D8/1000000,1) -> 1.8 | E8: =ROUND('Total Collections'!E8/1000000,1) -> 3.4 | F8: =ROUND('Total Collections'!F8/1000000,1) -> 2 | G8: =ROUND('Total Collections'!G8/1000000,1) -> 2.6 | H8: =ROUND('Total Collections'!H8/1000000,1) -> 4.5
B9: ='Total Collections'!B9 -> Navy | C9: =ROUND('Total Collections'!C9/1000000,1) -> 3.2 | D9: =ROUND('Total Collections'!D9/1000000,1) -> 3.8 | E9: =ROUND('Total Collections'!E9/1000000,1) -> 3.4 | F9: =ROUND('Total Collections'!F9/1000000,1) -> 3.5 | G9: =ROUND('Total Collections'!G9/1000000,1) -> 3.3 | H9: =ROUND('Total Collections'!H9/1000000,1) -> 3.3
B10: Total | C10: =SUM(C6:C9) -> 34.1 | D10: =SUM(D6:D9) -> 33.5 | E10: =SUM(E6:E9) -> 38 | F10: =SUM(F6:F9) -> 28.1 | G10: =SUM(G6:G9) -> 26 | H10: =SUM(H6:H9) -> 27.6
B12: Total Outpatient Collections
B13: Service | C13: ='Total Collections'!C14 -> FY2008 | D13: ='Total Collections'!D14 -> FY2009 | E13: ='Total Collections'!E14 -> FY2010 | F13: ='Total Collections'!F14 -> FY2011 | G13: ='Total Collections'!G14 -> FY2012 | H13: ='Total Collections'!H5 -> FY2013
B14: ='Total Collections'!B15 -> Air Force | C14: =ROUND('Total Collections'!C15/1000000,1) -> 63.1 | D14: =ROUND('Total Collections'!D15/1000000,1) -> 69.8 | E14: =ROUND('Total Collections'!E15/1000000,1) -> 62.6 | F14: =ROUND('Total Collections'!F15/1000000,1) -> 53.2 | G14: =ROUND('Total Collections'!G15/1000000,1) -> 43.8 | H14: =ROUND('Total Collections'!H15/1000000,1) -> 39.8
B15: ='Total Collections'!B16 -> Army | C15: =ROUND('Total Collections'!C16/1000000,1) -> 35.8 | D15: =ROUND('Total Collections'!D16/1000000,1) -> 45.1 | E15: =ROUND('Total Collections'!E16/1000000,1) -> 46.1 | F15: =ROUND('Total Collections'!F16/1000000,1) -> 38 | G15: =ROUND('Total Collections'!G16/1000000,1) -> 32.4 | H15: =ROUND('Total Collections'!H16/1000000,1) -> 31.6
B16: JTF | C16: =ROUND('Total Collections'!C17/1000000,1) -> 6.9 | D16: =ROUND('Total Collections'!D17/1000000,1) -> 8.1 | E16: =ROUND('Total Collections'!E17/1000000,1) -> 7.2 | F16: =ROUND('Total Collections'!F17/1000000,1) -> 6.2 | G16: =ROUND('Total Collections'!G17/1000000,1) -> 9.4 | H16: =ROUND('Total Collections'!H17/1000000,1) -> 9.1
B17: ='Total Collections'!B18 -> Navy | C17: =ROUND('Total Collections'!C18/1000000,1) -> 20.5 | D17: =ROUND('Total Collections'!D18/1000000,1) -> 23.6 | E17: =ROUND('Total Collections'!E18/1000000,1) -> 22.6 | F17: =ROUND('Total Collections'!F18/1000000,1) -> 16.5 | G17: =ROUND('Total Collections'!G18/1000000,1) -> 13.7 | H17: =ROUND('Total Collections'!H18/1000000,1) -> 12.5
B18: Total | C18: =SUM(C14:C17) -> 126.3 | D18: =SUM(D14:D17) -> 146.6 | E18: =SUM(E14:E17) -> 138.5 | F18: =SUM(F14:F17) -> 113.9 | G18: =SUM(G14:G17) -> 99.3 | H18: =SUM(H14:H17) -> 93
B20: Total Inpatient & Outpatient Collections
B21: Service | C21: =C13 -> FY2008 | D21: =D13 -> FY2009 | E21: =E13 -> FY2010 | F21: =F13 -> FY2011 | G21: =G13 -> FY2012 | H21: ='Total Collections'!H5 -> FY2013
B22: =B6 -> Air Force | C22: =C6+C14 -> 72.8 | D22: =D6+D14 -> 75.9 | E22: =E6+E14 -> 75.5 | F22: =F6+F14 -> 59.8 | G22: =G6+G14 -> 47.5 | H22: =H6+H14 -> 43.2
B23: =B7 -> Army | C23: =C7+C15 -> 53.4 | D23: =D7+D15 -> 66.9 | E23: =E7+E15 -> 64.4 | F23: =F7+F15 -> 54 | G23: =G7+G15 -> 48.8 | H23: =H7+H15 -> 48
B24: JTF | C24: =C8+C16 -> 10.5 | D24: =D8+D16 -> 9.9 | E24: =E8+E16 -> 10.6 | F24: =F8+F16 -> 8.2 | G24: =G8+G16 -> 12 | H24: =H8+H16 -> 13.6
B25: =B9 -> Navy | C25: =C9+C17 -> 23.7 | D25: =D9+D17 -> 27.4 | E25: =E9+E17 -> 26 | F25: =F9+F17 -> 20 | G25: =G9+G17 -> 17 | H25: =H9+H17 -> 15.8
B26: Total | C26: =SUM(C22:C25) -> 160.4 | D26: =SUM(D22:D25) -> 180.1 | E26: =SUM(E22:E25) -> 176.5 | F26: =SUM(F22:F25) -> 142 | G26: =SUM(G22:G25) -> 125.3 | H26: =SUM(H22:H25) -> 120.6

Sheet Collections per Disp or Visit
A1: Collections per Non-AD Disposition or Collections per Non-AD Visits
A2: =Summary!A2 -> 3rd Quarter
B3: Total Non-Active-Duty Inpatient Collections(million) | M3: Total Non-Active-Duty Outpatient Collections(million)
B4: ='Total Collections Rpt'!B5 -> Service | C4: ='Total Collections Rpt'!C5 -> FY2008 | D4: ='Total Collections Rpt'!D5 -> FY2009 | E4: ='Total Collections Rpt'!E5 -> FY2010 | F4: ='Total Collections Rpt'!F5 -> FY2011 | G4: ='Total Collections Rpt'!G5 -> FY2012 | H4: ='Total Collections'!H5 -> FY2013 | M4: ='Total Collections Rpt'!B13 -> Service | N4: ='Total Collections Rpt'!C13 -> FY2008 | O4: ='Total Collections Rpt'!D13 -> FY2009 | P4: ='Total Collections Rpt'!E13 -> FY2010 | Q4: ='Total Collections Rpt'!F13 -> FY2011 | R4: ='Total Collections Rpt'!G13 -> FY2012 | S4: ='Total Collections'!H5 -> FY2013
B5: ='Total Collections Rpt'!B6 -> Air Force | C5: ='Total Collections Rpt'!C6 -> 9.7 | D5: ='Total Collections Rpt'!D6 -> 6.1 | E5: ='Total Collections Rpt'!E6 -> 12.9 | F5: ='Total Collections Rpt'!F6 -> 6.6 | G5: ='Total Collections Rpt'!G6 -> 3.7 | H5: ='Total Collections Rpt'!H6 -> 3.4 | M5: ='Total Collections Rpt'!B14 -> Air Force | N5: ='Total Collections Rpt'!C14 -> 63.1 | O5: ='Total Collections Rpt'!D14 -> 69.8 | P5: ='Total Collections Rpt'!E14 -> 62.6 | Q5: ='Total Collections Rpt'!F14 -> 53.2 | R5: ='Total Collections Rpt'!G14 -> 43.8 | S5: ='Total Collections Rpt'!H14 -> 39.8
B6: ='Total Collections Rpt'!B7 -> Army | C6: ='Total Collections Rpt'!C7 -> 17.6 | D6: ='Total Collections Rpt'!D7 -> 21.8 | E6: ='Total Collections Rpt'!E7 -> 18.3 | F6: ='Total Collections Rpt'!F7 -> 16 | G6: ='Total Collections Rpt'!G7 -> 16.4 | H6: ='Total Collections Rpt'!H7 -> 16.4 | M6: ='Total Collections Rpt'!B15 -> Army | N6: ='Total Collections Rpt'!C15 -> 35.8 | O6: ='Total Collections Rpt'!D15 -> 45.1 | P6: ='Total Collections Rpt'!E15 -> 46.1 | Q6: ='Total Collections Rpt'!F15 -> 38 | R6: ='Total Collections Rpt'!G15 -> 32.4 | S6: ='Total Collections Rpt'!H15 -> 31.6
B7: JTF | C7: ='Total Collections Rpt'!C8 -> 3.6 | D7: ='Total Collections Rpt'!D8 -> 1.8 | E7: ='Total Collections Rpt'!E8 -> 3.4 | F7: ='Total Collections Rpt'!F8 -> 2 | G7: ='Total Collections Rpt'!G8 -> 2.6 | H7: ='Total Collections Rpt'!H8 -> 4.5 | M7: JTF | N7: ='Total Collections Rpt'!C16 -> 6.9 | O7: ='Total Collections Rpt'!D16 -> 8.1 | P7: ='Total Collections Rpt'!E16 -> 7.2 | Q7: ='Total Collections Rpt'!F16 -> 6.2 | R7: ='Total Collections Rpt'!G16 -> 9.4 | S7: ='Total Collections Rpt'!H16 -> 9.1
B8: ='Total Collections Rpt'!B9 -> Navy | C8: ='Total Collections Rpt'!C9 -> 3.2 | D8: ='Total Collections Rpt'!D9 -> 3.8 | E8: ='Total Collections Rpt'!E9 -> 3.4 | F8: ='Total Collections Rpt'!F9 -> 3.5 | G8: ='Total Collections Rpt'!G9 -> 3.3 | H8: ='Total Collections Rpt'!H9 -> 3.3 | M8: ='Total Collections Rpt'!B17 -> Navy | N8: ='Total Collections Rpt'!C17 -> 20.5 | O8: ='Total Collections Rpt'!D17 -> 23.6 | P8: ='Total Collections Rpt'!E17 -> 22.6 | Q8: ='Total Collections Rpt'!F17 -> 16.5 | R8: ='Total Collections Rpt'!G17 -> 13.7 | S8: ='Total Collections Rpt'!H17 -> 12.5
B9: ='Total Collections Rpt'!B10 -> Total | C9: =SUM(C5:C8) -> 34.1 | D9: =SUM(D5:D8) -> 33.5 | E9: =SUM(E5:E8) -> 38 | F9: =SUM(F5:F8) -> 28.1 | G9: =SUM(G5:G8) -> 26 | H9: =SUM(H5:H8) -> 27.6 | M9: ='Total Collections Rpt'!B18 -> Total | N9: =SUM(N5:N8) -> 126.3 | O9: =SUM(O5:O8) -> 146.6 | P9: =SUM(P5:P8) -> 138.5 | Q9: =SUM(Q5:Q8) -> 113.9 | R9: =SUM(R5:R8) -> 99.3 | S9: =SUM(S5:S8) -> 93
B11: Number of Non-Active-Duty Inpatient Dispositions | M11: Number of Non-Active-Duty Outpatient Visits
B12: Service | C12: ='Collected to Claims Ratio'!C14 -> FY2008 | D12: ='Collected to Claims Ratio'!D14 -> FY2009 | E12: ='Collected to Claims Ratio'!E14 -> FY2010 | F12: ='Collected to Claims Ratio'!F14 -> FY2011 | G12: ='Collected to Claims Ratio'!G14 -> FY2012 | H12: ='Total Collections'!H5 -> FY2013 | M12: Service | N12: ='Collected to Claims Ratio'!L14 -> FY2008 | O12: ='Collected to Claims Ratio'!M14 -> FY2009 | P12: ='Collected to Claims Ratio'!N14 -> FY2010 | Q12: ='Collected to Claims Ratio'!O14 -> FY2011 | R12: ='Collected to Claims Ratio'!P14 -> FY2012 | S12: ='Total Collections'!H5 -> FY2013
B13: ='Claims per Disp or Visits'!B14 -> Air Force | C13: ='Claims per Disp or Visits'!C14 -> 24568 | D13: ='Claims per Disp or Visits'!D14 -> 26661 | E13: ='Claims per Disp or Visits'!E14 -> 27550 | F13: ='Claims per Disp or Visits'!F14 -> 24992 | G13: ='Claims per Disp or Visits'!G14 -> 19176 | H13: ='Claims per Disp or Visits'!H14 -> 20480 | M13: ='Claims per Disp or Visits'!K14 -> Air Force | N13: ='Claims per Disp or Visits'!L14 -> 2702671 | O13: ='Claims per Disp or Visits'!M14 -> 2129021 | P13: ='Claims per Disp or Visits'!N14 -> 2550493 | Q13: ='Claims per Disp or Visits'!O14 -> 2378344 | R13: ='Claims per Disp or Visits'!P14 -> 2227765 | S13: ='Claims per Disp or Visits'!Q14 -> 2314227
B14: ='Claims per Disp or Visits'!B15 -> Army | C14: ='Claims per Disp or Visits'!C15 -> 73223 | D14: ='Claims per Disp or Visits'!D15 -> 73080 | E14: ='Claims per Disp or Visits'!E15 -> 76279 | F14: ='Claims per Disp or Visits'!F15 -> 60871 | G14: ='Claims per Disp or Visits'!G15 -> 75040 | H14: ='Claims per Disp or Visits'!H15 -> 81005 | M14: ='Claims per Disp or Visits'!K15 -> Army | N14: ='Claims per Disp or Visits'!L15 -> 4773554 | O14: ='Claims per Disp or Visits'!M15 -> 4484447 | P14: ='Claims per Disp or Visits'!N15 -> 4509105 | Q14: ='Claims per Disp or Visits'!O15 -> 5400150 | R14: ='Claims per Disp or Visits'!P15 -> 4742153 | S14: ='Claims per Disp or Visits'!Q15 -> 4335527
B15: JTF | C15: ='Claims per Disp or Visits'!C16 -> 7741 | D15: ='Claims per Disp or Visits'!D16 -> 7529 | E15: ='Claims per Disp or Visits'!E16 -> 7152 | F15: ='Claims per Disp or Visits'!F16 -> 6719 | G15: ='Claims per Disp or Visits'!G16 -> 12151 | H15: ='Claims per Disp or Visits'!H16 -> 12428 | M15: JTF | N15: ='Claims per Disp or Visits'!L16 -> 671291 | O15: ='Claims per Disp or Visits'!M16 -> 762370 | P15: ='Claims per Disp or Visits'!N16 -> 709579 | Q15: ='Claims per Disp or Visits'!O16 -> 576360 | R15: ='Claims per Disp or Visits'!P16 -> 748764 | S15: ='Claims per Disp or Visits'!Q16 -> 799246
B16: ='Claims per Disp or Visits'!B17 -> Navy | C16: ='Claims per Disp or Visits'!C17 -> 36694 | D16: ='Claims per Disp or Visits'!D17 -> 36225 | E16: ='Claims per Disp or Visits'!E17 -> 37546 | F16: ='Claims per Disp or Visits'!F17 -> 36628 | G16: ='Claims per Disp or Visits'!G17 -> 36558 | H16: ='Claims per Disp or Visits'!H17 -> 37041 | M16: ='Claims per Disp or Visits'!K17 -> Navy | N16: ='Claims per Disp or Visits'!L17 -> 2370759 | O16: ='Claims per Disp or Visits'!M17 -> 2838885 | P16: ='Claims per Disp or Visits'!N17 -> 2459833 | Q16: ='Claims per Disp or Visits'!O17 -> 2223176 | R16: ='Claims per Disp or Visits'!P17 -> 2161095 | S16: ='Claims per Disp or Visits'!Q17 -> 2586624
B17: Total | C17: =SUM(C13:C16) -> 142226 | D17: =SUM(D13:D16) -> 143495 | E17: =SUM(E13:E16) -> 148527 | F17: =SUM(F13:F16) -> 129210 | G17: =SUM(G13:G16) -> 142925 | H17: =SUM(H13:H16) -> 150954 | M17: Total | N17: =SUM(N13:N16) -> 10518275 | O17: =SUM(O13:O16) -> 10214723 | P17: =SUM(P13:P16) -> 10229010 | Q17: =SUM(Q13:Q16) -> 10578030 | R17: =SUM(R13:R16) -> 9879777 | S17: =SUM(S13:S16) -> 10035624
B19: Total Inpatient Collections(Dollar)) per Non-Active-Duty Disposition | M19: Total Outpatient Collections(Dollar) per Non-Active-Duty Visit
B20: Service | C20: ='Collected to Claims Ratio'!C22 -> FY2008 | D20: ='Collected to Claims Ratio'!D22 -> FY2009 | E20: ='Collected to Claims Ratio'!E22 -> FY2010 | F20: ='Collected to Claims Ratio'!F22 -> FY2011 | G20: ='Collected to Claims Ratio'!G22 -> FY2012 | H20: ='Total Collections'!H5 -> FY2013 | M20: Service | N20: ='Collected to Claims Ratio'!L22 -> FY2008 | O20: ='Collected to Claims Ratio'!M22 -> FY2009 | P20: ='Collected to Claims Ratio'!N22 -> FY2010 | Q20: ='Collected to Claims Ratio'!O22 -> FY2011 | R20: ='Collected to Claims Ratio'!P22 -> FY2012 | S20: ='Total Collections'!H5 -> FY2013
B21: ='Claims per Disp or Visits'!B22 -> Air Force | C21: =(C5/C13)*1000000 -> 394.82253 | D21: =(D5/D13)*1000000 -> 228.79862 | E21: =(E5/E13)*1000000 -> 468.23956 | F21: =(F5/F13)*1000000 -> 264.08451 | G21: =(G5/G13)*1000000 -> 192.94952 | H21: =(H5/H13)*1000000 -> 166.01562 | M21: ='Claims per Disp or Visits'!K22 -> Air Force | N21: =(N5/N13)*1000000 -> 23.347274 | O21: =(O5/O13)*1000000 -> 32.785022 | P21: =(P5/P13)*1000000 -> 24.544274 | Q21: =(Q5/Q13)*1000000 -> 22.368505 | R21: =(R5/R13)*1000000 -> 19.660961 | S21: =(S5/S13)*1000000 -> 17.197967
B22: ='Claims per Disp or Visits'!B23 -> Army | C22: =(C6/C14)*1000000 -> 240.36164 | D22: =(D6/D14)*1000000 -> 298.30323 | E22: =(E6/E14)*1000000 -> 239.90876 | F22: =(F6/F14)*1000000 -> 262.85095 | G22: =(G6/G14)*1000000 -> 218.55011 | H22: =(H6/H14)*1000000 -> 202.45664 | M22: ='Claims per Disp or Visits'!K23 -> Army | N22: =(N6/N14)*1000000 -> 7.4996533 | O22: =(O6/O14)*1000000 -> 10.056981 | P22: =(P6/P14)*1000000 -> 10.223758 | Q22: =(Q6/Q14)*1000000 -> 7.0368416 | R22: =(R6/R14)*1000000 -> 6.8323397 | S22: =(S6/S14)*1000000 -> 7.288618
B23: JTF | C23: =(C7/C15)*1000000 -> 465.05619 | D23: =(D7/D15)*1000000 -> 239.07557 | E23: =(E7/E15)*1000000 -> 475.3915 | F23: =(F7/F15)*1000000 -> 297.66334 | G23: =(G7/G15)*1000000 -> 213.97416 | H23: =(H7/H15)*1000000 -> 362.08561 | M23: JTF | N23: =(N7/N15)*1000000 -> 10.278702 | O23: =(O7/O15)*1000000 -> 10.624762 | P23: =(P7/P15)*1000000 -> 10.146862 | Q23: =(Q7/Q15)*1000000 -> 10.757166 | R23: =(R7/R15)*1000000 -> 12.554022 | S23: =(S7/S15)*1000000 -> 11.385731
B24: ='Claims per Disp or Visits'!B25 -> Navy | C24: =(C8/C16)*1000000 -> 87.207718 | D24: =(D8/D16)*1000000 -> 104.89993 | E24: =(E8/E16)*1000000 -> 90.555585 | F24: =(F8/F16)*1000000 -> 95.555313 | G24: =(G8/G16)*1000000 -> 90.26752 | H24: =(H8/H16)*1000000 -> 89.090467 | M24: ='Claims per Disp or Visits'!K25 -> Navy | N24: =(N8/N16)*1000000 -> 8.6470198 | O24: =(O8/O16)*1000000 -> 8.3131229 | P24: =(P8/P16)*1000000 -> 9.1876156 | Q24: =(Q8/Q16)*1000000 -> 7.4218146 | R24: =(R8/R16)*1000000 -> 6.3393789 | S24: =(S8/S16)*1000000 -> 4.8325539
B25: Total | C25: =(C9/C17)*1000000 -> 239.75926 | D25: =(D9/D17)*1000000 -> 233.45761 | E25: =(E9/E17)*1000000 -> 255.84574 | F25: =(F9/F17)*1000000 -> 217.47543 | G25: =(G9/G17)*1000000 -> 181.91359 | H25: =(H9/H17)*1000000 -> 182.83716 | M25: Total | N25: =(N9/N17)*1000000 -> 12.007672 | O25: =(O9/O17)*1000000 -> 14.351833 | P25: =(P9/P17)*1000000 -> 13.539922 | Q25: =(Q9/Q17)*1000000 -> 10.7676 | R25: =(R9/R17)*1000000 -> 10.050834 | S25: =(S9/S17)*1000000 -> 9.2669873

Sheet Total Billings Rpt
A1: Total Billings
A2: =Summary!A2 -> 3rd Quarter
B4: Total Inpatient Billlings CFY
B5: Service | C5: ='Total Billings'!C5 -> FY2008 | D5: ='Total Billings'!D5 -> FY2009 | E5: ='Total Billings'!E5 -> FY2010 | F5: ='Total Billings'!F5 -> FY2011 | G5: ='Total Billings'!G5 -> FY2012 | H5: ='Total Collections'!H5 -> FY2013
B6: ='Total Collections'!B6 -> Air Force | C6: =ROUND('Total Billings'!C6/1000000,1) -> 21.5 | D6: =ROUND('Total Billings'!D6/1000000,1) -> 18.3 | E6: =ROUND('Total Billings'!E6/1000000,1) -> 21.1 | F6: =ROUND('Total Billings'!F6/1000000,1) -> 14.3 | G6: =ROUND('Total Billings'!G6/1000000,1) -> 11.8 | H6: =ROUND('Total Billings'!H6/1000000,1) -> 11.9
B7: ='Total Collections'!B7 -> Army | C7: =ROUND('Total Billings'!C7/1000000,1) -> 41.8 | D7: =ROUND('Total Billings'!D7/1000000,1) -> 43.8 | E7: =ROUND('Total Billings'!E7/1000000,1) -> 38.1 | F7: =ROUND('Total Billings'!F7/1000000,1) -> 41.9 | G7: =ROUND('Total Billings'!G7/1000000,1) -> 38.6 | H7: =ROUND('Total Billings'!H7/1000000,1) -> 30.9
B8: JTF | C8: =ROUND('Total Billings'!C8/1000000,1) -> 8.7 | D8: =ROUND('Total Billings'!D8/1000000,1) -> 4.7 | E8: =ROUND('Total Billings'!E8/1000000,1) -> 4.3 | F8: =ROUND('Total Billings'!F8/1000000,1) -> 4.9 | G8: =ROUND('Total Billings'!G8/1000000,1) -> 10.6 | H8: =ROUND('Total Billings'!H8/1000000,1) -> 5.2
B9: ='Total Collections'!B9 -> Navy | C9: =ROUND('Total Billings'!C9/1000000,1) -> 9 | D9: =ROUND('Total Billings'!D9/1000000,1) -> 9.7 | E9: =ROUND('Total Billings'!E9/1000000,1) -> 8.7 | F9: =ROUND('Total Billings'!F9/1000000,1) -> 8.9 | G9: =ROUND('Total Billings'!G9/1000000,1) -> 9.5 | H9: =ROUND('Total Billings'!H9/1000000,1) -> 8.2
B10: Total | C10: =SUM(C6:C9) -> 81 | D10: =SUM(D6:D9) -> 76.5 | E10: =SUM(E6:E9) -> 72.2 | F10: =SUM(F6:F9) -> 70 | G10: =SUM(G6:G9) -> 70.5 | H10: =SUM(H6:H9) -> 56.2
B13: Total Outpatient Billings CFY
B14: Service | C14: ='Total Billings'!C14 -> FY2008 | D14: ='Total Billings'!D14 -> FY2009 | E14: ='Total Billings'!E14 -> FY2010 | F14: ='Total Billings'!F14 -> FY2011 | G14: ='Total Billings'!G14 -> FY2012 | H14: ='Total Collections'!H5 -> FY2013
B15: ='Total Collections'!B15 -> Air Force | C15: =ROUND('Total Billings'!C15/1000000,1) -> 152.4 | D15: =ROUND('Total Billings'!D15/1000000,1) -> 154.1 | E15: =ROUND('Total Billings'!E15/1000000,1) -> 121.1 | F15: =ROUND('Total Billings'!F15/1000000,1) -> 105.1 | G15: =ROUND('Total Billings'!G15/1000000,1) -> 97.9 | H15: =ROUND('Total Billings'!H15/1000000,1) -> 91.5
B16: ='Total Collections'!B16 -> Army | C16: =ROUND('Total Billings'!C16/1000000,1) -> 67.3 | D16: =ROUND('Total Billings'!D16/1000000,1) -> 72.1 | E16: =ROUND('Total Billings'!E16/1000000,1) -> 64.7 | F16: =ROUND('Total Billings'!F16/1000000,1) -> 64.7 | G16: =ROUND('Total Billings'!G16/1000000,1) -> 55.3 | H16: =ROUND('Total Billings'!H16/1000000,1) -> 50.6
B17: JTF | C17: =ROUND('Total Billings'!C17/1000000,1) -> 10.7 | D17: =ROUND('Total Billings'!D17/1000000,1) -> 12.1 | E17: =ROUND('Total Billings'!E17/1000000,1) -> 9.2 | F17: =ROUND('Total Billings'!F17/1000000,1) -> 10.4 | G17: =ROUND('Total Billings'!G17/1000000,1) -> 18.2 | H17: =ROUND('Total Billings'!H17/1000000,1) -> 17.3
B18: ='Total Collections'!B18 -> Navy | C18: =ROUND('Total Billings'!C18/1000000,1) -> 31.8 | D18: =ROUND('Total Billings'!D18/1000000,1) -> 34.9 | E18: =ROUND('Total Billings'!E18/1000000,1) -> 29.8 | F18: =ROUND('Total Billings'!F18/1000000,1) -> 26.9 | G18: =ROUND('Total Billings'!G18/1000000,1) -> 25.1 | H18: =ROUND('Total Billings'!H18/1000000,1) -> 22.9
B19: Total | C19: =SUM(C15:C18) -> 262.2 | D19: =SUM(D15:D18) -> 273.2 | E19: =SUM(E15:E18) -> 224.8 | F19: =SUM(F15:F18) -> 207.1 | G19: =SUM(G15:G18) -> 196.5 | H19: =SUM(H15:H18) -> 182.3
B22: Total Inpatient & Outpatient Billings CFY
B23: Service | C23: =C14 -> FY2008 | D23: =D14 -> FY2009 | E23: =E14 -> FY2010 | F23: =F14 -> FY2011 | G23: =G14 -> FY2012 | H23: ='Total Collections'!H5 -> FY2013
B24: =B6 -> Air Force | C24: =C6+C15 -> 173.9 | D24: =D6+D15 -> 172.4 | E24: =E6+E15 -> 142.2 | F24: =F6+F15 -> 119.4 | G24: =G6+G15 -> 109.7 | H24: =H6+H15 -> 103.4
B25: =B7 -> Army | C25: =C7+C16 -> 109.1 | D25: =D7+D16 -> 115.9 | E25: =E7+E16 -> 102.8 | F25: =F7+F16 -> 106.6 | G25: =G7+G16 -> 93.9 | H25: =H7+H16 -> 81.5
B26: JTF | C26: =C8+C17 -> 19.4 | D26: =D8+D17 -> 16.8 | E26: =E8+E17 -> 13.5 | F26: =F8+F17 -> 15.3 | G26: =G8+G17 -> 28.8 | H26: =H8+H17 -> 22.5
B27: =B9 -> Navy | C27: =C9+C18 -> 40.8 | D27: =D9+D18 -> 44.6 | E27: =E9+E18 -> 38.5 | F27: =F9+F18 -> 35.8 | G27: =G9+G18 -> 34.6 | H27: =H9+H18 -> 31.1
B28: Total | C28: =SUM(C24:C27) -> 343.2 | D28: =SUM(D24:D27) -> 349.7 | E28: =SUM(E24:E27) -> 297 | F28: =SUM(F24:F27) -> 277.1 | G28: =SUM(G24:G27) -> 267 | H28: =SUM(H24:H27) -> 238.5

Sheet Collected to Claims Ratio Rpt
A1: Number of Collections to Claims Issued Ratio
A2: =Summary!A2 -> 3rd Quarter
B3: Number of Inpatient Collections | M3: Number of Outpatient Collections
B4: Service | C4: FY2008 | D4: FY2009 | E4: FY2010 | F4: FY2011 | G4: FY2012 | H4: FY2013 | M4: Service | N4: FY2008 | O4: FY2009 | P4: FY2010 | Q4: FY2011 | R4: FY2012 | S4: FY2013
B5: ='Collected to Claims Ratio'!B7 -> Air Force | C5: ='Collected to Claims Ratio'!C7 -> 529 | D5: ='Collected to Claims Ratio'!D7 -> 438 | E5: ='Collected to Claims Ratio'!E7 -> 544 | F5: ='Collected to Claims Ratio'!F7 -> 467 | G5: ='Collected to Claims Ratio'!G7 -> 275 | H5: ='Collected to Claims Ratio'!H7 -> 281 | M5: ='Collected to Claims Ratio'!K7 -> Air Force | N5: ='Collected to Claims Ratio'!L7 -> 323605 | O5: ='Collected to Claims Ratio'!M7 -> 394815 | P5: ='Collected to Claims Ratio'!N7 -> 340527 | Q5: ='Collected to Claims Ratio'!O7 -> 312371 | R5: ='Collected to Claims Ratio'!P7 -> 300546 | S5: ='Collected to Claims Ratio'!Q7 -> 249358
B6: ='Collected to Claims Ratio'!B8 -> Army | C6: ='Collected to Claims Ratio'!C8 -> 1027 | D6: ='Collected to Claims Ratio'!D8 -> 1149 | E6: ='Collected to Claims Ratio'!E8 -> 1120 | F6: ='Collected to Claims Ratio'!F8 -> 996 | G6: ='Collected to Claims Ratio'!G8 -> 1122 | H6: ='Collected to Claims Ratio'!H8 -> 902 | M6: ='Collected to Claims Ratio'!K8 -> Army | N6: ='Collected to Claims Ratio'!L8 -> 262340 | O6: ='Collected to Claims Ratio'!M8 -> 255219 | P6: ='Collected to Claims Ratio'!N8 -> 301956 | Q6: ='Collected to Claims Ratio'!O8 -> 266100 | R6: ='Collected to Claims Ratio'!P8 -> 334753 | S6: ='Collected to Claims Ratio'!Q8 -> 226182
B7: JTF | C7: ='Collected to Claims Ratio'!C9 -> 213 | D7: ='Collected to Claims Ratio'!D9 -> 113 | E7: ='Collected to Claims Ratio'!E9 -> 145 | F7: ='Collected to Claims Ratio'!F9 -> 140 | G7: ='Collected to Claims Ratio'!G9 -> 175 | H7: ='Collected to Claims Ratio'!H9 -> 115 | M7: JTF | N7: ='Collected to Claims Ratio'!L9 -> 38747 | O7: ='Collected to Claims Ratio'!M9 -> 43618 | P7: ='Collected to Claims Ratio'!N9 -> 40112 | Q7: ='Collected to Claims Ratio'!O9 -> 29713 | R7: ='Collected to Claims Ratio'!P9 -> 57594 | S7: ='Collected to Claims Ratio'!Q9 -> 64935
B8: ='Collected to Claims Ratio'!B10 -> Navy | C8: ='Collected to Claims Ratio'!C10 -> 226 | D8: ='Collected to Claims Ratio'!D10 -> 236 | E8: ='Collected to Claims Ratio'!E10 -> 245 | F8: ='Collected to Claims Ratio'!F10 -> 218 | G8: ='Collected to Claims Ratio'!G10 -> 202 | H8: ='Collected to Claims Ratio'!H10 -> 224 | M8: ='Collected to Claims Ratio'!K10 -> Navy | N8: ='Collected to Claims Ratio'!L10 -> 119025 | O8: ='Collected to Claims Ratio'!M10 -> 137206 | P8: ='Collected to Claims Ratio'!N10 -> 136351 | Q8: ='Collected to Claims Ratio'!O10 -> 128690 | R8: ='Collected to Claims Ratio'!P10 -> 113495 | S8: ='Collected to Claims Ratio'!Q10 -> 99455
B9: Total | C9: =SUM(C5:C8) -> 1995 | D9: =SUM(D5:D8) -> 1936 | E9: =SUM(E5:E8) -> 2054 | F9: =SUM(F5:F8) -> 1821 | G9: =SUM(G5:G8) -> 1774 | H9: =SUM(H5:H8) -> 1522 | M9: Total | N9: =SUM(N5:N8) -> 743717 | O9: =SUM(O5:O8) -> 830858 | P9: =SUM(P5:P8) -> 818946 | Q9: =SUM(Q5:Q8) -> 736874 | R9: =SUM(R5:R8) -> 806388 | S9: =SUM(S5:S8) -> 639930
B11: Number of Inpatient Claims | M11: Number of Outpatient Claims
B12: Service | C12: FY2008 | D12: FY2009 | E12: FY2010 | F12: FY2011 | G12: FY2012 | H12: FY2013 | M12: Service | N12: FY2008 | O12: FY2009 | P12: FY2010 | Q12: FY2011 | R12: FY2012 | S12: FY2013
B13: ='Collected to Claims Ratio'!B15 -> Air Force | C13: ='Collected to Claims Ratio'!C15 -> 1225 | D13: ='Collected to Claims Ratio'!D15 -> 1165 | E13: ='Collected to Claims Ratio'!E15 -> 1290 | F13: ='Collected to Claims Ratio'!F15 -> 1077 | G13: ='Collected to Claims Ratio'!G15 -> 863 | H13: ='Collected to Claims Ratio'!H15 -> 813 | M13: ='Collected to Claims Ratio'!K15 -> Air Force | N13: ='Collected to Claims Ratio'!L15 -> 978005 | O13: ='Collected to Claims Ratio'!M15 -> 1016480 | P13: ='Collected to Claims Ratio'!N15 -> 946256 | Q13: ='Collected to Claims Ratio'!O15 -> 923611 | R13: ='Collected to Claims Ratio'!P15 -> 873891 | S13: ='Collected to Claims Ratio'!Q15 -> 824150
B14: ='Collected to Claims Ratio'!B16 -> Army | C14: ='Collected to Claims Ratio'!C16 -> 2206 | D14: ='Collected to Claims Ratio'!D16 -> 2319 | E14: ='Collected to Claims Ratio'!E16 -> 2130 | F14: ='Collected to Claims Ratio'!F16 -> 2115 | G14: ='Collected to Claims Ratio'!G16 -> 1976 | H14: ='Collected to Claims Ratio'!H16 -> 1797 | M14: ='Collected to Claims Ratio'!K16 -> Army | N14: ='Collected to Claims Ratio'!L16 -> 573603 | O14: ='Collected to Claims Ratio'!M16 -> 611892 | P14: ='Collected to Claims Ratio'!N16 -> 639205 | Q14: ='Collected to Claims Ratio'!O16 -> 683437 | R14: ='Collected to Claims Ratio'!P16 -> 605902 | S14: ='Collected to Claims Ratio'!Q16 -> 550528
B15: JTF | C15: ='Collected to Claims Ratio'!C17 -> 394 | D15: ='Collected to Claims Ratio'!D17 -> 270 | E15: ='Collected to Claims Ratio'!E17 -> 252 | F15: ='Collected to Claims Ratio'!F17 -> 283 | G15: ='Collected to Claims Ratio'!G17 -> 534 | H15: ='Collected to Claims Ratio'!H17 -> 295 | M15: JTF | N15: ='Collected to Claims Ratio'!L17 -> 75517 | O15: ='Collected to Claims Ratio'!M17 -> 90428 | P15: ='Collected to Claims Ratio'!N17 -> 79546 | Q15: ='Collected to Claims Ratio'!O17 -> 100194 | R15: ='Collected to Claims Ratio'!P17 -> 193974 | S15: ='Collected to Claims Ratio'!Q17 -> 172037
B16: ='Collected to Claims Ratio'!B18 -> Navy | C16: ='Collected to Claims Ratio'!C18 -> 608 | D16: ='Collected to Claims Ratio'!D18 -> 598 | E16: ='Collected to Claims Ratio'!E18 -> 576 | F16: ='Collected to Claims Ratio'!F18 -> 551 | G16: ='Collected to Claims Ratio'!G18 -> 562 | H16: ='Collected to Claims Ratio'!H18 -> 550 | M16: ='Collected to Claims Ratio'!K18 -> Navy | N16: ='Collected to Claims Ratio'!L18 -> 247621 | O16: ='Collected to Claims Ratio'!M18 -> 270959 | P16: ='Collected to Claims Ratio'!N18 -> 278113 | Q16: ='Collected to Claims Ratio'!O18 -> 282516 | R16: ='Collected to Claims Ratio'!P18 -> 267876 | S16: ='Collected to Claims Ratio'!Q18 -> 240495
B17: Total | C17: =SUM(C13:C16) -> 4433 | D17: =SUM(D13:D16) -> 4352 | E17: =SUM(E13:E16) -> 4248 | F17: =SUM(F13:F16) -> 4026 | G17: =SUM(G13:G16) -> 3935 | H17: =SUM(H13:H16) -> 3455 | M17: Total | N17: =SUM(N13:N16) -> 1874746 | O17: =SUM(O13:O16) -> 1989759 | P17: =SUM(P13:P16) -> 1943120 | Q17: =SUM(Q13:Q16) -> 1989758 | R17: =SUM(R13:R16) -> 1941643 | S17: =SUM(S13:S16) -> 1787210
B19: Inpatient Collections to Claims | M19: Outpatient Collections to Claims
B20: Service | C20: FY2008 | D20: FY2009 | E20: FY2010 | F20: FY2011 | G20: FY2012 | H20: FY2013 | M20: Service | N20: FY2008 | O20: FY2009 | P20: FY2010 | Q20: FY2011 | R20: FY2012 | S20: FY2013
B21: ='Collected to Claims Ratio'!B23 -> Air Force | C21: ='Collected to Claims Ratio'!C23 -> 0.43183673 | D21: ='Collected to Claims Ratio'!D23 -> 0.37596567 | E21: ='Collected to Claims Ratio'!E23 -> 0.42170543 | F21: ='Collected to Claims Ratio'!F23 -> 0.43361188 | G21: ='Collected to Claims Ratio'!G23 -> 0.31865585 | H21: ='Collected to Claims Ratio'!H23 -> 0.34563346 | M21: ='Collected to Claims Ratio'!K23 -> Air Force | N21: ='Collected to Claims Ratio'!L23 -> 0.33088277 | O21: ='Collected to Claims Ratio'!M23 -> 0.38841394 | P21: ='Collected to Claims Ratio'!N23 -> 0.35986773 | Q21: ='Collected to Claims Ratio'!O23 -> 0.33820624 | R21: ='Collected to Claims Ratio'!P23 -> 0.34391703 | S21: ='Collected to Claims Ratio'!Q23 -> 0.30256385
B22: ='Collected to Claims Ratio'!B24 -> Army | C22: ='Collected to Claims Ratio'!C24 -> 0.4655485 | D22: ='Collected to Claims Ratio'!D24 -> 0.49547219 | E22: ='Collected to Claims Ratio'!E24 -> 0.5258216 | F22: ='Collected to Claims Ratio'!F24 -> 0.47092199 | G22: ='Collected to Claims Ratio'!G24 -> 0.56781377 | H22: ='Collected to Claims Ratio'!H24 -> 0.50194769 | M22: ='Collected to Claims Ratio'!K24 -> Army | N22: ='Collected to Claims Ratio'!L24 -> 0.45735465 | O22: ='Collected to Claims Ratio'!M24 -> 0.41709812 | P22: ='Collected to Claims Ratio'!N24 -> 0.47239305 | Q22: ='Collected to Claims Ratio'!O24 -> 0.38935557 | R22: ='Collected to Claims Ratio'!P24 -> 0.55248704 | S22: ='Collected to Claims Ratio'!Q24 -> 0.41084559
B23: JTF | C23: ='Collected to Claims Ratio'!C25 -> 0.54060914 | D23: ='Collected to Claims Ratio'!D25 -> 0.41851852 | E23: ='Collected to Claims Ratio'!E25 -> 0.57539683 | F23: ='Collected to Claims Ratio'!F25 -> 0.49469965 | G23: ='Collected to Claims Ratio'!G25 -> 0.32771536 | H23: ='Collected to Claims Ratio'!H25 -> 0.38983051 | M23: JTF | N23: ='Collected to Claims Ratio'!L25 -> 0.51308977 | O23: ='Collected to Claims Ratio'!M25 -> 0.4823506 | P23: ='Collected to Claims Ratio'!N25 -> 0.50426169 | Q23: ='Collected to Claims Ratio'!O25 -> 0.29655468 | R23: ='Collected to Claims Ratio'!P25 -> 0.29691608 | S23: ='Collected to Claims Ratio'!Q25 -> 0.37744787
B24: ='Collected to Claims Ratio'!B26 -> Navy | C24: ='Collected to Claims Ratio'!C26 -> 0.37171053 | D24: ='Collected to Claims Ratio'!D26 -> 0.39464883 | E24: ='Collected to Claims Ratio'!E26 -> 0.42534722 | F24: ='Collected to Claims Ratio'!F26 -> 0.39564428 | G24: ='Collected to Claims Ratio'!G26 -> 0.3594306 | H24: ='Collected to Claims Ratio'!H26 -> 0.40727273 | M24: ='Collected to Claims Ratio'!K26 -> Navy | N24: ='Collected to Claims Ratio'!L26 -> 0.48067409 | O24: ='Collected to Claims Ratio'!M26 -> 0.50637181 | P24: ='Collected to Claims Ratio'!N26 -> 0.49027194 | Q24: ='Collected to Claims Ratio'!O26 -> 0.45551402 | R24: ='Collected to Claims Ratio'!P26 -> 0.42368484 | S24: ='Collected to Claims Ratio'!Q26 -> 0.4135429
B25: Total | C25: ='Collected to Claims Ratio'!C27 -> 0.45003384 | D25: ='Collected to Claims Ratio'!D27 -> 0.44485294 | E25: ='Collected to Claims Ratio'!E27 -> 0.48352166 | F25: ='Collected to Claims Ratio'!F27 -> 0.45230999 | G25: ='Collected to Claims Ratio'!G27 -> 0.45082592 | H25: ='Collected to Claims Ratio'!H27 -> 0.44052098 | M25: Total | N25: ='Collected to Claims Ratio'!L27 -> 0.39670281 | O25: ='Collected to Claims Ratio'!M27 -> 0.41756715 | P25: ='Collected to Claims Ratio'!N27 -> 0.4214593 | Q25: ='Collected to Claims Ratio'!O27 -> 0.37033348 | R25: ='Collected to Claims Ratio'!P27 -> 0.41531219 | S25: ='Collected to Claims Ratio'!Q27 -> 0.35806089

Sheet Claims per Disp or Visits rpt
A1: Claims per Non-AD Disposition or Claims per Non-AD Visits
A2: =Summary!A2 -> 3rd Quarter
B3: Number of Inpatient Claims | M3: Number of Outpatient Claims
B4: Service | C4: ='Collected to Claims Ratio'!C6 -> FY2008 | D4: ='Collected to Claims Ratio'!D6 -> FY2009 | E4: ='Collected to Claims Ratio'!E6 -> FY2010 | F4: ='Collected to Claims Ratio'!F6 -> FY2011 | G4: ='Collected to Claims Ratio'!G6 -> FY2012 | H4: ='Collected to Claims Ratio'!H6 -> FY2013 | M4: Service | N4: ='Collected to Claims Ratio'!L6 -> FY2008 | O4: ='Collected to Claims Ratio'!M6 -> FY2009 | P4: ='Collected to Claims Ratio'!N6 -> FY2010 | Q4: ='Collected to Claims Ratio'!O6 -> FY2011 | R4: ='Collected to Claims Ratio'!P6 -> FY2012 | S4: ='Collected to Claims Ratio'!Q6 -> FY2013
B5: ='Claims per Disp or Visits'!B6 -> Air Force | C5: ='Claims per Disp or Visits'!C6 -> 1225 | D5: ='Claims per Disp or Visits'!D6 -> 1165 | E5: ='Claims per Disp or Visits'!E6 -> 1290 | F5: ='Claims per Disp or Visits'!F6 -> 1077 | G5: ='Claims per Disp or Visits'!G6 -> 863 | H5: ='Claims per Disp or Visits'!H6 -> 813 | M5: ='Claims per Disp or Visits'!K6 -> Air Force | N5: ='Claims per Disp or Visits'!L6 -> 978005 | O5: ='Claims per Disp or Visits'!M6 -> 1016480 | P5: ='Claims per Disp or Visits'!N6 -> 946256 | Q5: ='Claims per Disp or Visits'!O6 -> 923611 | R5: ='Claims per Disp or Visits'!P6 -> 873891 | S5: ='Claims per Disp or Visits'!Q6 -> 824150
B6: ='Claims per Disp or Visits'!B7 -> Army | C6: ='Claims per Disp or Visits'!C7 -> 2206 | D6: ='Claims per Disp or Visits'!D7 -> 2319 | E6: ='Claims per Disp or Visits'!E7 -> 2130 | F6: ='Claims per Disp or Visits'!F7 -> 2115 | G6: ='Claims per Disp or Visits'!G7 -> 1976 | H6: ='Claims per Disp or Visits'!H7 -> 1797 | M6: ='Claims per Disp or Visits'!K7 -> Army | N6: ='Claims per Disp or Visits'!L7 -> 573603 | O6: ='Claims per Disp or Visits'!M7 -> 611892 | P6: ='Claims per Disp or Visits'!N7 -> 639205 | Q6: ='Claims per Disp or Visits'!O7 -> 683437 | R6: ='Claims per Disp or Visits'!P7 -> 605902 | S6: ='Claims per Disp or Visits'!Q7 -> 550528
B7: JTF | C7: ='Claims per Disp or Visits'!C8 -> 394 | D7: ='Claims per Disp or Visits'!D8 -> 270 | E7: ='Claims per Disp or Visits'!E8 -> 252 | F7: ='Claims per Disp or Visits'!F8 -> 283 | G7: ='Claims per Disp or Visits'!G8 -> 534 | H7: ='Claims per Disp or Visits'!H8 -> 295 | M7: JTF | N7: ='Claims per Disp or Visits'!L8 -> 75517 | O7: ='Claims per Disp or Visits'!M8 -> 90428 | P7: ='Claims per Disp or Visits'!N8 -> 79546 | Q7: ='Claims per Disp or Visits'!O8 -> 100194 | R7: ='Claims per Disp or Visits'!P8 -> 193974 | S7: ='Claims per Disp or Visits'!Q8 -> 172037
B8: ='Claims per Disp or Visits'!B9 -> Navy | C8: ='Claims per Disp or Visits'!C9 -> 608 | D8: ='Claims per Disp or Visits'!D9 -> 598 | E8: ='Claims per Disp or Visits'!E9 -> 576 | F8: ='Claims per Disp or Visits'!F9 -> 551 | G8: ='Claims per Disp or Visits'!G9 -> 562 | H8: ='Claims per Disp or Visits'!H9 -> 550 | M8: ='Claims per Disp or Visits'!K9 -> Navy | N8: ='Claims per Disp or Visits'!L9 -> 247621 | O8: ='Claims per Disp or Visits'!M9 -> 270959 | P8: ='Claims per Disp or Visits'!N9 -> 278113 | Q8: ='Claims per Disp or Visits'!O9 -> 282516 | R8: ='Claims per Disp or Visits'!P9 -> 267876 | S8: ='Claims per Disp or Visits'!Q9 -> 240495
B9: Total | C9: =SUM(C5:C8) -> 4433 | D9: =SUM(D5:D8) -> 4352 | E9: =SUM(E5:E8) -> 4248 | F9: =SUM(F5:F8) -> 4026 | G9: =SUM(G5:G8) -> 3935 | H9: =SUM(H5:H8) -> 3455 | M9: Total | N9: =SUM(N5:N8) -> 1874746 | O9: =SUM(O5:O8) -> 1989759 | P9: =SUM(P5:P8) -> 1943120 | Q9: =SUM(Q5:Q8) -> 1989758 | R9: =SUM(R5:R8) -> 1941643 | S9: =SUM(S5:S8) -> 1787210
B11: Number of Non-Active-Duty Inpatient Dispositions | M11: Number of Non-Active-Duty Outpatient Visits
B12: Service | C12: ='Collected to Claims Ratio'!C14 -> FY2008 | D12: ='Collected to Claims Ratio'!D14 -> FY2009 | E12: ='Collected to Claims Ratio'!E14 -> FY2010 | F12: ='Collected to Claims Ratio'!F14 -> FY2011 | G12: ='Collected to Claims Ratio'!G14 -> FY2012 | H12: ='Collected to Claims Ratio'!H14 -> FY2013 | M12: Service | N12: ='Collected to Claims Ratio'!L14 -> FY2008 | O12: ='Collected to Claims Ratio'!M14 -> FY2009 | P12: ='Collected to Claims Ratio'!N14 -> FY2010 | Q12: ='Collected to Claims Ratio'!O14 -> FY2011 | R12: ='Collected to Claims Ratio'!P14 -> FY2012 | S12: ='Collected to Claims Ratio'!Q14 -> FY2013
B13: ='Claims per Disp or Visits'!B14 -> Air Force | C13: ='Claims per Disp or Visits'!C14 -> 24568 | D13: ='Claims per Disp or Visits'!D14 -> 26661 | E13: ='Claims per Disp or Visits'!E14 -> 27550 | F13: ='Claims per Disp or Visits'!F14 -> 24992 | G13: ='Claims per Disp or Visits'!G14 -> 19176 | H13: ='Claims per Disp or Visits'!H14 -> 20480 | M13: ='Claims per Disp or Visits'!K14 -> Air Force | N13: ='Claims per Disp or Visits'!L14 -> 2702671 | O13: ='Claims per Disp or Visits'!M14 -> 2129021 | P13: ='Claims per Disp or Visits'!N14 -> 2550493 | Q13: ='Claims per Disp or Visits'!O14 -> 2378344 | R13: ='Claims per Disp or Visits'!P14 -> 2227765 | S13: ='Claims per Disp or Visits'!Q14 -> 2314227
B14: ='Claims per Disp or Visits'!B15 -> Army | C14: ='Claims per Disp or Visits'!C15 -> 73223 | D14: ='Claims per Disp or Visits'!D15 -> 73080 | E14: ='Claims per Disp or Visits'!E15 -> 76279 | F14: ='Claims per Disp or Visits'!F15 -> 60871 | G14: ='Claims per Disp or Visits'!G15 -> 75040 | H14: ='Claims per Disp or Visits'!H15 -> 81005 | M14: ='Claims per Disp or Visits'!K15 -> Army | N14: ='Claims per Disp or Visits'!L15 -> 4773554 | O14: ='Claims per Disp or Visits'!M15 -> 4484447 | P14: ='Claims per Disp or Visits'!N15 -> 4509105 | Q14: ='Claims per Disp or Visits'!O15 -> 5400150 | R14: ='Claims per Disp or Visits'!P15 -> 4742153 | S14: ='Claims per Disp or Visits'!Q15 -> 4335527
B15: JTF | C15: ='Claims per Disp or Visits'!C16 -> 7741 | D15: ='Claims per Disp or Visits'!D16 -> 7529 | E15: ='Claims per Disp or Visits'!E16 -> 7152 | F15: ='Claims per Disp or Visits'!F16 -> 6719 | G15: ='Claims per Disp or Visits'!G16 -> 12151 | H15: ='Claims per Disp or Visits'!H16 -> 12428 | M15: JTF | N15: ='Claims per Disp or Visits'!L16 -> 671291 | O15: ='Claims per Disp or Visits'!M16 -> 762370 | P15: ='Claims per Disp or Visits'!N16 -> 709579 | Q15: ='Claims per Disp or Visits'!O16 -> 576360 | R15: ='Claims per Disp or Visits'!P16 -> 748764 | S15: ='Claims per Disp or Visits'!Q16 -> 799246
B16: ='Claims per Disp or Visits'!B17 -> Navy | C16: ='Claims per Disp or Visits'!C17 -> 36694 | D16: ='Claims per Disp or Visits'!D17 -> 36225 | E16: ='Claims per Disp or Visits'!E17 -> 37546 | F16: ='Claims per Disp or Visits'!F17 -> 36628 | G16: ='Claims per Disp or Visits'!G17 -> 36558 | H16: ='Claims per Disp or Visits'!H17 -> 37041 | M16: ='Claims per Disp or Visits'!K17 -> Navy | N16: ='Claims per Disp or Visits'!L17 -> 2370759 | O16: ='Claims per Disp or Visits'!M17 -> 2838885 | P16: ='Claims per Disp or Visits'!N17 -> 2459833 | Q16: ='Claims per Disp or Visits'!O17 -> 2223176 | R16: ='Claims per Disp or Visits'!P17 -> 2161095 | S16: ='Claims per Disp or Visits'!Q17 -> 2586624
B17: Total | C17: =SUM(C13:C16) -> 142226 | D17: =SUM(D13:D16) -> 143495 | E17: =SUM(E13:E16) -> 148527 | F17: =SUM(F13:F16) -> 129210 | G17: =SUM(G13:G16) -> 142925 | H17: =SUM(H13:H16) -> 150954 | M17: Total | N17: =SUM(N13:N16) -> 10518275 | O17: =SUM(O13:O16) -> 10214723 | P17: =SUM(P13:P16) -> 10229010 | Q17: =SUM(Q13:Q16) -> 10578030 | R17: =SUM(R13:R16) -> 9879777 | S17: =SUM(S13:S16) -> 10035624
B19: Inpatient Claims per Non-Active-Duty Disposition | M19: Outpatient Claims per Non-Active-Duty Visit
B20: Service | C20: ='Collected to Claims Ratio'!C22 -> FY2008 | D20: ='Collected to Claims Ratio'!D22 -> FY2009 | E20: ='Collected to Claims Ratio'!E22 -> FY2010 | F20: ='Collected to Claims Ratio'!F22 -> FY2011 | G20: ='Collected to Claims Ratio'!G22 -> FY2012 | H20: ='Collected to Claims Ratio'!H22 -> FY2013 | M20: Service | N20: ='Collected to Claims Ratio'!L22 -> FY2008 | O20: ='Collected to Claims Ratio'!M22 -> FY2009 | P20: ='Collected to Claims Ratio'!N22 -> FY2010 | Q20: ='Collected to Claims Ratio'!O22 -> FY2011 | R20: ='Collected to Claims Ratio'!P22 -> FY2012 | S20: ='Collected to Claims Ratio'!Q22 -> FY2013
B21: ='Claims per Disp or Visits'!B22 -> Air Force | C21: ='Claims per Disp or Visits'!C22 -> 0.049861609 | D21: ='Claims per Disp or Visits'!D22 -> 0.043696786 | E21: ='Claims per Disp or Visits'!E22 -> 0.046823956 | F21: ='Claims per Disp or Visits'!F22 -> 0.04309379 | G21: ='Claims per Disp or Visits'!G22 -> 0.045004172 | H21: ='Claims per Disp or Visits'!H22 -> 0.039697266 | M21: ='Claims per Disp or Visits'!K22 -> Air Force | N21: ='Claims per Disp or Visits'!L22 -> 0.36186609 | O21: ='Claims per Disp or Visits'!M22 -> 0.4774401 | P21: ='Claims per Disp or Visits'!N22 -> 0.37100906 | Q21: ='Claims per Disp or Visits'!O22 -> 0.38834206 | R21: ='Claims per Disp or Visits'!P22 -> 0.39227252 | S21: ='Claims per Disp or Visits'!Q22 -> 0.35612323
B22: ='Claims per Disp or Visits'!B23 -> Army | C22: ='Claims per Disp or Visits'!C23 -> 0.030127146 | D22: ='Claims per Disp or Visits'!D23 -> 0.031732348 | E22: ='Claims per Disp or Visits'!E23 -> 0.027923806 | F22: ='Claims per Disp or Visits'!F23 -> 0.03474561 | G22: ='Claims per Disp or Visits'!G23 -> 0.026332623 | H22: ='Claims per Disp or Visits'!H23 -> 0.022183816 | M22: ='Claims per Disp or Visits'!K23 -> Army | N22: ='Claims per Disp or Visits'!L23 -> 0.12016267 | O22: ='Claims per Disp or Visits'!M23 -> 0.13644759 | P22: ='Claims per Disp or Visits'!N23 -> 0.14175873 | Q22: ='Claims per Disp or Visits'!O23 -> 0.12655889 | R22: ='Claims per Disp or Visits'!P23 -> 0.12776939 | S22: ='Claims per Disp or Visits'!Q23 -> 0.12698064
B23: JTF | C23: ='Claims per Disp or Visits'!C24 -> 0.050897817 | D23: ='Claims per Disp or Visits'!D24 -> 0.035861336 | E23: ='Claims per Disp or Visits'!E24 -> 0.035234899 | F23: ='Claims per Disp or Visits'!F24 -> 0.042119363 | G23: ='Claims per Disp or Visits'!G24 -> 0.043947 | H23: ='Claims per Disp or Visits'!H24 -> 0.023736724 | M23: JTF | N23: ='Claims per Disp or Visits'!L24 -> 0.11249518 | O23: ='Claims per Disp or Visits'!M24 -> 0.11861432 | P23: ='Claims per Disp or Visits'!N24 -> 0.11210309 | Q23: ='Claims per Disp or Visits'!O24 -> 0.17383927 | R23: ='Claims per Disp or Visits'!P24 -> 0.25905893 | S23: ='Claims per Disp or Visits'!Q24 -> 0.21524912
B24: ='Claims per Disp or Visits'!B25 -> Navy | C24: ='Claims per Disp or Visits'!C25 -> 0.016569466 | D24: ='Claims per Disp or Visits'!D25 -> 0.016507937 | E24: ='Claims per Disp or Visits'!E25 -> 0.015341181 | F24: ='Claims per Disp or Visits'!F25 -> 0.015043136 | G24: ='Claims per Disp or Visits'!G25 -> 0.015372832 | H24: ='Claims per Disp or Visits'!H25 -> 0.014848411 | M24: ='Claims per Disp or Visits'!K25 -> Navy | N24: ='Claims per Disp or Visits'!L25 -> 0.10444798 | O24: ='Claims per Disp or Visits'!M25 -> 0.095445571 | P24: ='Claims per Disp or Visits'!N25 -> 0.11306174 | Q24: ='Claims per Disp or Visits'!O25 -> 0.12707766 | R24: ='Claims per Disp or Visits'!P25 -> 0.12395383 | S24: ='Claims per Disp or Visits'!Q25 -> 0.092976405
B25: Total | C25: ='Claims per Disp or Visits'!C26 -> 0.031168703 | D25: ='Claims per Disp or Visits'!D26 -> 0.030328583 | E25: ='Claims per Disp or Visits'!E26 -> 0.02860086 | F25: ='Claims per Disp or Visits'!F26 -> 0.031158579 | G25: ='Claims per Disp or Visits'!G26 -> 0.027531922 | H25: ='Claims per Disp or Visits'!H26 -> 0.022887767 | M25: Total | N25: ='Claims per Disp or Visits'!L26 -> 0.17823702 | O25: ='Claims per Disp or Visits'!M26 -> 0.19479324 | P25: ='Claims per Disp or Visits'!N26 -> 0.18996169 | Q25: ='Claims per Disp or Visits'!O26 -> 0.18810289 | R25: ='Claims per Disp or Visits'!P26 -> 0.19652701 | S25: ='Claims per Disp or Visits'!Q26 -> 0.17808658

Sheet Total Collections
A1: Total Collections
A2: =Summary!A2 -> 3rd Quarter
C4: Total IP Collections for a FY
B5: Service | C5: FY2008 | D5: FY2009 | E5: FY2010 | F5: FY2011 | G5: FY2012 | H5: FY2013
B6: Air Force | C6: =Details!B5 -> 9716334.2 | D6: =Details!C5 -> 6072175.7 | E6: =Details!D5 -> 12919600 | F6: =Details!E5 -> 6642309 | G6: =Details!F5 -> 3749980.6 | H6: =Details!G5 -> 3429676.5
B7: Army | C7: =Details!B6 -> 17551457 | D7: =Details!C6 -> 21813350 | E7: =Details!D6 -> 18281847 | F7: =Details!E6 -> 16008388 | G7: =Details!F6 -> 16442901 | H7: =Details!G6 -> 16389528
B8: JTF | C8: =Details!B7 -> 3612898.3 | D8: =Details!C7 -> 1767985.9 | E8: =Details!D7 -> 3372211.7 | F8: =Details!E7 -> 1982956.9 | G8: =Details!F7 -> 2609692.2 | H8: =Details!G7 -> 4549084.9
B9: Navy | C9: =Details!B8 -> 3211970.7 | D9: =Details!C8 -> 3772418.3 | E9: =Details!D8 -> 3445635 | F9: =Details!E8 -> 3491283.1 | G9: =Details!F8 -> 3278611.4 | H9: =Details!G8 -> 3266439.2
B10: Total | C10: =SUM(C6:C9) -> 34092660 | D10: =SUM(D6:D9) -> 33425930 | E10: =SUM(E6:E9) -> 38019293 | F10: =SUM(F6:F9) -> 28124937 | G10: =SUM(G6:G9) -> 26081185 | H10: =SUM(H6:H9) -> 27634729
C13: Total OP Collections for FY
B14: Service | C14: FY2008 | D14: FY2009 | E14: FY2010 | F14: FY2011 | G14: FY2012 | H14: FY2013
B15: Air Force | C15: =Details!B14 -> 63100515 | D15: =Details!C14 -> 69794881 | E15: =Details!D14 -> 62579343 | F15: =Details!E14 -> 53245250 | G15: =Details!F14 -> 43811225 | H15: =Details!G14 -> 39753766
B16: Army | C16: =Details!B15 -> 35801487 | D16: =Details!C15 -> 45139483 | E16: =Details!D15 -> 46053000 | F16: =Details!E15 -> 38021558 | G16: =Details!F15 -> 32422328 | H16: =Details!G15 -> 31577757
B17: JTF | C17: =Details!B16 -> 6944630.6 | D17: =Details!C16 -> 8085934.8 | E17: =Details!D16 -> 7243825.5 | F17: =Details!E16 -> 6182614.7 | G17: =Details!F16 -> 9401764.6 | H17: =Details!G16 -> 9084839.9
B18: Navy | C18: =Details!B17 -> 20494950 | D18: =Details!C17 -> 23646495 | E18: =Details!D17 -> 22560252 | F18: =Details!E17 -> 16544330 | G18: =Details!F17 -> 13690164 | H18: =Details!G17 -> 12481347
B19: Total | C19: =SUM(C15:C18) -> 1.2634158e+08 | D19: =SUM(D15:D18) -> 1.4666679e+08 | E19: =SUM(E15:E18) -> 1.3843642e+08 | F19: =SUM(F15:F18) -> 1.1399375e+08 | G19: =SUM(G15:G18) -> 99325481 | H19: =SUM(H15:H18) -> 92897709
A21: IP
A22: Is AF IP FY2013 data greater than FY2012? | H22: =IF(H6-G6>0,"yes","no") -> no
A23: Is A IP FY2013 data greater than FY2012? | H23: =IF(H7-G7>0,"yes","no") -> no
A24: Is N IP FY2013 data greater than FY2012? | H24: =IF(H9-G9>0,"yes","no") -> no
A25: Is JTF IP FY2013 data greater than FY2012? | H25: =IF(H8-G8>0,"yes","no") -> yes
A26: OP
A27: Is AF OP FY2013 data greater than FY2012? | H27: =IF(H15-G15>0,"yes","no") -> no
A28: Is A OP FY2013 data greater than FY2012? | H28: =IF(H16-G16>0,"yes","no") -> no
A29: Is N OP FY2013 data greater than FY2012? | H29: =IF(H18-G18>0,"yes","no") -> no
A30: Is JTF OP FY2013 data greater than FY2012? | H30: =IF(H17-G17>0,"yes","no") -> no

Sheet Total Billings
A1: Total Billings
A2: =Summary!A2 -> 3rd Quarter
C4: Total IP Billings for CFY in CFY
B5: Service | C5: FY2008 | D5: FY2009 | E5: FY2010 | F5: FY2011 | G5: FY2012 | H5: FY2013
B6: Air Force | C6: =Details!B23 -> 21513984 | D6: =Details!C23 -> 18345513 | E6: =Details!D23 -> 21122300 | F6: =Details!E23 -> 14257131 | G6: =Details!F23 -> 11803000 | H6: =Details!G23 -> 11924190
B7: Army | C7: =Details!B24 -> 41796650 | D7: =Details!C24 -> 43840984 | E7: =Details!D24 -> 38071563 | F7: =Details!E24 -> 41875744 | G7: =Details!F24 -> 38551743 | H7: =Details!G24 -> 30921259
B8: JTF | C8: =Details!B25 -> 8693683.2 | D8: =Details!C25 -> 4677848.2 | E8: =Details!D25 -> 4283310.2 | F8: =Details!E25 -> 4905576.9 | G8: =Details!F25 -> 10642653 | H8: =Details!G25 -> 5223259.2
B9: Navy | C9: =Details!B26 -> 8975998 | D9: =Details!C26 -> 9742174.1 | E9: =Details!D26 -> 8710275.9 | F9: =Details!E26 -> 8865577.8 | G9: =Details!F26 -> 9483844.8 | H9: =Details!G26 -> 8231457.7
B10: Total | C10: =SUM(C6:C9) -> 80980315 | D10: =SUM(D6:D9) -> 76606519 | E10: =SUM(E6:E9) -> 72187449 | F10: =SUM(F6:F9) -> 69904030 | G10: =SUM(G6:G9) -> 70481241 | H10: =SUM(H6:H9) -> 56300166
C13: Total OP Billings for CFY in CFY
B14: Service | C14: FY2008 | D14: FY2009 | E14: FY2010 | F14: FY2011 | G14: FY2012 | H14: FY2013
B15: Air Force | C15: =Details!B32 -> 1.5237417e+08 | D15: =Details!C32 -> 1.5411489e+08 | E15: =Details!D32 -> 1.2107218e+08 | F15: =Details!E32 -> 1.0513666e+08 | G15: =Details!F32 -> 97883039 | H15: =Details!G32 -> 91464515
B16: Army | C16: =Details!B33 -> 67262075 | D16: =Details!C33 -> 72076133 | E16: =Details!D33 -> 64730745 | F16: =Details!E33 -> 64686510 | G16: =Details!F33 -> 55311283 | H16: =Details!G33 -> 50591639
B17: JTF | C17: =Details!B34 -> 10702412 | D17: =Details!C34 -> 12104980 | E17: =Details!D34 -> 9163763.7 | F17: =Details!E34 -> 10404782 | G17: =Details!F34 -> 18202416 | H17: =Details!G34 -> 17338169
B18: Navy | C18: =Details!B35 -> 31798547 | D18: =Details!C35 -> 34869406 | E18: =Details!D35 -> 29845266 | F18: =Details!E35 -> 26906158 | G18: =Details!F35 -> 25143032 | H18: =Details!G35 -> 22917639
B19: Total | C19: =SUM(C15:C18) -> 2.621372e+08 | D19: =SUM(D15:D18) -> 273165412 | E19: =SUM(E15:E18) -> 2.2481196e+08 | F19: =SUM(F15:F18) -> 2.0713411e+08 | G19: =SUM(G15:G18) -> 1.9653977e+08 | H19: =SUM(H15:H18) -> 1.8231196e+08
A21: IP
A22: Is AF IP FY2013 data greater than FY2012? | H22: =IF(H6-G6>0,"yes","no") -> yes
A23: Is A IP FY2013 data greater than FY2012? | H23: =IF(H7-G7>0,"yes","no") -> no
A24: Is N IP FY2013 data greater than FY2012? | H24: =IF(H9-G9>0,"yes","no") -> no
A25: Is JTF IP FY2013 data greater than FY2012? | H25: =IF(H8-G8>0,"yes","no") -> no
A27: Is AF OP FY2013 data greater than FY2012? | H27: =IF(H15-G15>0,"yes","no") -> no
A28: Is A OP FY2013 data greater than FY2012? | H28: =IF(H16-G16>0,"yes","no") -> no
A29: Is N OP FY2013 data greater than FY2012? | H29: =IF(H18-G18>0,"yes","no") -> no
A30: Is JTF OP FY2013 data greater than FY2012? | H30: =IF(H17-G17>0,"yes","no") -> no

Sheet Collected to Claims Ratio
A1: Collected to Claims Issued Ratio
A2: =Summary!A2 -> 3rd Quarter
C5: Num of IP Collections for CFY | L5: Num of OP Collections for CFY
B6: Service | C6: FY2008 | D6: FY2009 | E6: FY2010 | F6: FY2011 | G6: FY2012 | H6: FY2013 | K6: Service | L6: FY2008 | M6: FY2009 | N6: FY2010 | O6: FY2011 | P6: FY2012 | Q6: FY2013
B7: Air Force | C7: =Details!B41 -> 529 | D7: =Details!C41 -> 438 | E7: =Details!D41 -> 544 | F7: =Details!E41 -> 467 | G7: =Details!F41 -> 275 | H7: =Details!G41 -> 281 | K7: Air Force | L7: =Details!B68 -> 323605 | M7: =Details!C68 -> 394815 | N7: =Details!D68 -> 340527 | O7: =Details!E68 -> 312371 | P7: =Details!F68 -> 300546 | Q7: =Details!G68 -> 249358
B8: Army | C8: =Details!B42 -> 1027 | D8: =Details!C42 -> 1149 | E8: =Details!D42 -> 1120 | F8: =Details!E42 -> 996 | G8: =Details!F42 -> 1122 | H8: =Details!G42 -> 902 | K8: Army | L8: =Details!B69 -> 262340 | M8: =Details!C69 -> 255219 | N8: =Details!D69 -> 301956 | O8: =Details!E69 -> 266100 | P8: =Details!F69 -> 334753 | Q8: =Details!G69 -> 226182
B9: JTF | C9: =Details!B43 -> 213 | D9: =Details!C43 -> 113 | E9: =Details!D43 -> 145 | F9: =Details!E43 -> 140 | G9: =Details!F43 -> 175 | H9: =Details!G43 -> 115 | K9: JTF | L9: =Details!B70 -> 38747 | M9: =Details!C70 -> 43618 | N9: =Details!D70 -> 40112 | O9: =Details!E70 -> 29713 | P9: =Details!F70 -> 57594 | Q9: =Details!G70 -> 64935
B10: Navy | C10: =Details!B44 -> 226 | D10: =Details!C44 -> 236 | E10: =Details!D44 -> 245 | F10: =Details!E44 -> 218 | G10: =Details!F44 -> 202 | H10: =Details!G44 -> 224 | K10: Navy | L10: =Details!B71 -> 119025 | M10: =Details!C71 -> 137206 | N10: =Details!D71 -> 136351 | O10: =Details!E71 -> 128690 | P10: =Details!F71 -> 113495 | Q10: =Details!G71 -> 99455
B11: Total | C11: =SUM(C7:C10) -> 1995 | D11: =SUM(D7:D10) -> 1936 | E11: =SUM(E7:E10) -> 2054 | F11: =SUM(F7:F10) -> 1821 | G11: =SUM(G7:G10) -> 1774 | H11: =SUM(H7:H10) -> 1522 | K11: Total | L11: =SUM(L7:L10) -> 743717 | M11: =SUM(M7:M10) -> 830858 | N11: =SUM(N7:N10) -> 818946 | O11: =SUM(O7:O10) -> 736874 | P11: =SUM(P7:P10) -> 806388 | Q11: =SUM(Q7:Q10) -> 639930
C13: Num of IP Claims for CFY | L13: Num of OP Claims for CFY
B14: Service | C14: FY2008 | D14: FY2009 | E14: FY2010 | F14: FY2011 | G14: FY2012 | H14: FY2013 | K14: Service | L14: FY2008 | M14: FY2009 | N14: FY2010 | O14: FY2011 | P14: FY2012 | Q14: FY2013
B15: Air Force | C15: =Details!B50 -> 1225 | D15: =Details!C50 -> 1165 | E15: =Details!D50 -> 1290 | F15: =Details!E50 -> 1077 | G15: =Details!F50 -> 863 | H15: =Details!G50 -> 813 | K15: Air Force | L15: =Details!B77 -> 978005 | M15: =Details!C77 -> 1016480 | N15: =Details!D77 -> 946256 | O15: =Details!E77 -> 923611 | P15: =Details!F77 -> 873891 | Q15: =Details!G77 -> 824150
B16: Army | C16: =Details!B51 -> 2206 | D16: =Details!C51 -> 2319 | E16: =Details!D51 -> 2130 | F16: =Details!E51 -> 2115 | G16: =Details!F51 -> 1976 | H16: =Details!G51 -> 1797 | K16: Army | L16: =Details!B78 -> 573603 | M16: =Details!C78 -> 611892 | N16: =Details!D78 -> 639205 | O16: =Details!E78 -> 683437 | P16: =Details!F78 -> 605902 | Q16: =Details!G78 -> 550528
B17: JTF | C17: =Details!B52 -> 394 | D17: =Details!C52 -> 270 | E17: =Details!D52 -> 252 | F17: =Details!E52 -> 283 | G17: =Details!F52 -> 534 | H17: =Details!G52 -> 295 | K17: JTF | L17: =Details!B79 -> 75517 | M17: =Details!C79 -> 90428 | N17: =Details!D79 -> 79546 | O17: =Details!E79 -> 100194 | P17: =Details!F79 -> 193974 | Q17: =Details!G79 -> 172037
B18: Navy | C18: =Details!B53 -> 608 | D18: =Details!C53 -> 598 | E18: =Details!D53 -> 576 | F18: =Details!E53 -> 551 | G18: =Details!F53 -> 562 | H18: =Details!G53 -> 550 | K18: Navy | L18: =Details!B80 -> 247621 | M18: =Details!C80 -> 270959 | N18: =Details!D80 -> 278113 | O18: =Details!E80 -> 282516 | P18: =Details!F80 -> 267876 | Q18: =Details!G80 -> 240495
B19: Total | C19: =SUM(C15:C18) -> 4433 | D19: =SUM(D15:D18) -> 4352 | E19: =SUM(E15:E18) -> 4248 | F19: =SUM(F15:F18) -> 4026 | G19: =SUM(G15:G18) -> 3935 | H19: =SUM(H15:H18) -> 3455 | K19: Total | L19: =SUM(L15:L18) -> 1874746 | M19: =SUM(M15:M18) -> 1989759 | N19: =SUM(N15:N18) -> 1943120 | O19: =SUM(O15:O18) -> 1989758 | P19: =SUM(P15:P18) -> 1941643 | Q19: =SUM(Q15:Q18) -> 1787210
C21: IP Collections to Claims for CFY | L21: OP Collections to Claims for CFY
B22: Service | C22: FY2008 | D22: FY2009 | E22: FY2010 | F22: FY2011 | G22: FY2012 | H22: FY2013 | K22: Service | L22: FY2008 | M22: FY2009 | N22: FY2010 | O22: FY2011 | P22: FY2012 | Q22: FY2013
B23: Air Force | C23: =C7/C15 -> 0.43183673 | D23: =D7/D15 -> 0.37596567 | E23: =E7/E15 -> 0.42170543 | F23: =F7/F15 -> 0.43361188 | G23: =G7/G15 -> 0.31865585 | H23: =H7/H15 -> 0.34563346 | K23: Air Force | L23: =L7/L15 -> 0.33088277 | M23: =M7/M15 -> 0.38841394 | N23: =N7/N15 -> 0.35986773 | O23: =O7/O15 -> 0.33820624 | P23: =P7/P15 -> 0.34391703 | Q23: =Q7/Q15 -> 0.30256385
B24: Army | C24: =C8/C16 -> 0.4655485 | D24: =D8/D16 -> 0.49547219 | E24: =E8/E16 -> 0.5258216 | F24: =F8/F16 -> 0.47092199 | G24: =G8/G16 -> 0.56781377 | H24: =H8/H16 -> 0.50194769 | K24: Army | L24: =L8/L16 -> 0.45735465 | M24: =M8/M16 -> 0.41709812 | N24: =N8/N16 -> 0.47239305 | O24: =O8/O16 -> 0.38935557 | P24: =P8/P16 -> 0.55248704 | Q24: =Q8/Q16 -> 0.41084559
B25: JTF | C25: =C9/C17 -> 0.54060914 | D25: =D9/D17 -> 0.41851852 | E25: =E9/E17 -> 0.57539683 | F25: =F9/F17 -> 0.49469965 | G25: =G9/G17 -> 0.32771536 | H25: =H9/H17 -> 0.38983051 | K25: JTF | L25: =L9/L17 -> 0.51308977 | M25: =M9/M17 -> 0.4823506 | N25: =N9/N17 -> 0.50426169 | O25: =O9/O17 -> 0.29655468 | P25: =P9/P17 -> 0.29691608 | Q25: =Q9/Q17 -> 0.37744787
B26: Navy | C26: =C10/C18 -> 0.37171053 | D26: =D10/D18 -> 0.39464883 | E26: =E10/E18 -> 0.42534722 | F26: =F10/F18 -> 0.39564428 | G26: =G10/G18 -> 0.3594306 | H26: =H10/H18 -> 0.40727273 | K26: Navy | L26: =L10/L18 -> 0.48067409 | M26: =M10/M18 -> 0.50637181 | N26: =N10/N18 -> 0.49027194 | O26: =O10/O18 -> 0.45551402 | P26: =P10/P18 -> 0.42368484 | Q26: =Q10/Q18 -> 0.4135429
B27: Total | C27: =C11/C19 -> 0.45003384 | D27: =D11/D19 -> 0.44485294 | E27: =E11/E19 -> 0.48352166 | F27: =F11/F19 -> 0.45230999 | G27: =G11/G19 -> 0.45082592 | H27: =H11/H19 -> 0.44052098 | K27: Total | L27: =L11/L19 -> 0.39670281 | M27: =M11/M19 -> 0.41756715 | N27: =N11/N19 -> 0.4214593 | O27: =O11/O19 -> 0.37033348 | P27: =P11/P19 -> 0.41531219 | Q27: =Q11/Q19 -> 0.35806089

Sheet Claims per Disp or Visits
A1: Claims per Disposition or Claims per Visits
A2: =Summary!A2 -> 3rd Quarter
C4: ='Collected to Claims Ratio'!C13 -> Num of IP Claims for CFY | L4: ='Collected to Claims Ratio'!L13 -> Num of OP Claims for CFY
B5: ='Collected to Claims Ratio'!B14 -> Service | C5: ='Collected to Claims Ratio'!C14 -> FY2008 | D5: ='Collected to Claims Ratio'!D14 -> FY2009 | E5: ='Collected to Claims Ratio'!E14 -> FY2010 | F5: ='Collected to Claims Ratio'!F14 -> FY2011 | G5: ='Collected to Claims Ratio'!G14 -> FY2012 | H5: FY2013 | K5: Service | L5: ='Collected to Claims Ratio'!L14 -> FY2008 | M5: ='Collected to Claims Ratio'!M14 -> FY2009 | N5: ='Collected to Claims Ratio'!N14 -> FY2010 | O5: ='Collected to Claims Ratio'!O14 -> FY2011 | P5: ='Collected to Claims Ratio'!P14 -> FY2012 | Q5: FY2013
B6: ='Collected to Claims Ratio'!B15 -> Air Force | C6: ='Collected to Claims Ratio'!C15 -> 1225 | D6: ='Collected to Claims Ratio'!D15 -> 1165 | E6: ='Collected to Claims Ratio'!E15 -> 1290 | F6: ='Collected to Claims Ratio'!F15 -> 1077 | G6: ='Collected to Claims Ratio'!G15 -> 863 | H6: ='Collected to Claims Ratio'!H15 -> 813 | K6: ='Collected to Claims Ratio'!K15 -> Air Force | L6: ='Collected to Claims Ratio'!L15 -> 978005 | M6: ='Collected to Claims Ratio'!M15 -> 1016480 | N6: ='Collected to Claims Ratio'!N15 -> 946256 | O6: ='Collected to Claims Ratio'!O15 -> 923611 | P6: ='Collected to Claims Ratio'!P15 -> 873891 | Q6: ='Collected to Claims Ratio'!Q15 -> 824150
B7: ='Collected to Claims Ratio'!B16 -> Army | C7: ='Collected to Claims Ratio'!C16 -> 2206 | D7: ='Collected to Claims Ratio'!D16 -> 2319 | E7: ='Collected to Claims Ratio'!E16 -> 2130 | F7: ='Collected to Claims Ratio'!F16 -> 2115 | G7: ='Collected to Claims Ratio'!G16 -> 1976 | H7: ='Collected to Claims Ratio'!H16 -> 1797 | K7: ='Collected to Claims Ratio'!K16 -> Army | L7: ='Collected to Claims Ratio'!L16 -> 573603 | M7: ='Collected to Claims Ratio'!M16 -> 611892 | N7: ='Collected to Claims Ratio'!N16 -> 639205 | O7: ='Collected to Claims Ratio'!O16 -> 683437 | P7: ='Collected to Claims Ratio'!P16 -> 605902 | Q7: ='Collected to Claims Ratio'!Q16 -> 550528
B8: JTF | C8: ='Collected to Claims Ratio'!C17 -> 394 | D8: ='Collected to Claims Ratio'!D17 -> 270 | E8: ='Collected to Claims Ratio'!E17 -> 252 | F8: ='Collected to Claims Ratio'!F17 -> 283 | G8: ='Collected to Claims Ratio'!G17 -> 534 | H8: ='Collected to Claims Ratio'!H17 -> 295 | K8: JTF | L8: ='Collected to Claims Ratio'!L17 -> 75517 | M8: ='Collected to Claims Ratio'!M17 -> 90428 | N8: ='Collected to Claims Ratio'!N17 -> 79546 | O8: ='Collected to Claims Ratio'!O17 -> 100194 | P8: ='Collected to Claims Ratio'!P17 -> 193974 | Q8: ='Collected to Claims Ratio'!Q17 -> 172037
B9: ='Collected to Claims Ratio'!B18 -> Navy | C9: ='Collected to Claims Ratio'!C18 -> 608 | D9: ='Collected to Claims Ratio'!D18 -> 598 | E9: ='Collected to Claims Ratio'!E18 -> 576 | F9: ='Collected to Claims Ratio'!F18 -> 551 | G9: ='Collected to Claims Ratio'!G18 -> 562 | H9: ='Collected to Claims Ratio'!H18 -> 550 | K9: ='Collected to Claims Ratio'!K18 -> Navy | L9: ='Collected to Claims Ratio'!L18 -> 247621 | M9: ='Collected to Claims Ratio'!M18 -> 270959 | N9: ='Collected to Claims Ratio'!N18 -> 278113 | O9: ='Collected to Claims Ratio'!O18 -> 282516 | P9: ='Collected to Claims Ratio'!P18 -> 267876 | Q9: ='Collected to Claims Ratio'!Q18 -> 240495
B10: ='Collected to Claims Ratio'!B19 -> Total | C10: =SUM(C6:C9) -> 4433 | D10: =SUM(D6:D9) -> 4352 | E10: =SUM(E6:E9) -> 4248 | F10: =SUM(F6:F9) -> 4026 | G10: =SUM(G6:G9) -> 3935 | H10: =SUM(H6:H9) -> 3455 | K10: ='Collected to Claims Ratio'!K19 -> Total | L10: =SUM(L6:L9) -> 1874746 | M10: =SUM(M6:M9) -> 1989759 | N10: =SUM(N6:N9) -> 1943120 | O10: =SUM(O6:O9) -> 1989758 | P10: =SUM(P6:P9) -> 1941643 | Q10: =SUM(Q6:Q9) -> 1787210
C12: Number of IP Dispositions for CFY | L12: Number of OP Visits for CFY
B13: Service | C13: ='Collected to Claims Ratio'!L14 -> FY2008 | D13: ='Collected to Claims Ratio'!M14 -> FY2009 | E13: ='Collected to Claims Ratio'!N14 -> FY2010 | F13: ='Collected to Claims Ratio'!O14 -> FY2011 | G13: ='Collected to Claims Ratio'!P14 -> FY2012 | H13: FY2013 | K13: Servcie | L13: ='Collected to Claims Ratio'!L14 -> FY2008 | M13: ='Collected to Claims Ratio'!M14 -> FY2009 | N13: ='Collected to Claims Ratio'!N14 -> FY2010 | O13: ='Collected to Claims Ratio'!O14 -> FY2011 | P13: ='Collected to Claims Ratio'!P14 -> FY2012 | Q13: FY2013
B14: Air Force | C14: =Details!B59 -> 24568 | D14: =Details!C59 -> 26661 | E14: =Details!D59 -> 27550 | F14: =Details!E59 -> 24992 | G14: =Details!F59 -> 19176 | H14: =Details!G59 -> 20480 | K14: Air Force | L14: =Details!B86 -> 2702671 | M14: =Details!C86 -> 2129021 | N14: =Details!D86 -> 2550493 | O14: =Details!E86 -> 2378344 | P14: =Details!F86 -> 2227765 | Q14: =Details!G86 -> 2314227
B15: Army | C15: =Details!B60 -> 73223 | D15: =Details!C60 -> 73080 | E15: =Details!D60 -> 76279 | F15: =Details!E60 -> 60871 | G15: =Details!F60 -> 75040 | H15: =Details!G60 -> 81005 | K15: Army | L15: =Details!B87 -> 4773554 | M15: =Details!C87 -> 4484447 | N15: =Details!D87 -> 4509105 | O15: =Details!E87 -> 5400150 | P15: =Details!F87 -> 4742153 | Q15: =Details!G87 -> 4335527
B16: JTF | C16: =Details!B61 -> 7741 | D16: =Details!C61 -> 7529 | E16: =Details!D61 -> 7152 | F16: =Details!E61 -> 6719 | G16: =Details!F61 -> 12151 | H16: =Details!G61 -> 12428 | K16: JTF | L16: =Details!B88 -> 671291 | M16: =Details!C88 -> 762370 | N16: =Details!D88 -> 709579 | O16: =Details!E88 -> 576360 | P16: =Details!F88 -> 748764 | Q16: =Details!G88 -> 799246
B17: Navy | C17: =Details!B62 -> 36694 | D17: =Details!C62 -> 36225 | E17: =Details!D62 -> 37546 | F17: =Details!E62 -> 36628 | G17: =Details!F62 -> 36558 | H17: =Details!G62 -> 37041 | K17: Navy | L17: =Details!B89 -> 2370759 | M17: =Details!C89 -> 2838885 | N17: =Details!D89 -> 2459833 | O17: =Details!E89 -> 2223176 | P17: =Details!F89 -> 2161095 | Q17: =Details!G89 -> 2586624
B18: Total | C18: =SUM(C14:C17) -> 142226 | D18: =SUM(D14:D17) -> 143495 | E18: =SUM(E14:E17) -> 148527 | F18: =SUM(F14:F17) -> 129210 | G18: =SUM(G14:G17) -> 142925 | H18: =SUM(H14:H17) -> 150954 | K18: Total | L18: =SUM(L14:L17) -> 10518275 | M18: =SUM(M14:M17) -> 10214723 | N18: =SUM(N14:N17) -> 10229010 | O18: =SUM(O14:O17) -> 10578030 | P18: =SUM(P14:P17) -> 9879777 | Q18: =SUM(Q14:Q17) -> 10035624
C20: IP Claim per Disposition for CFY | L20: OP Claims per Visits for CFY
B21: Service | C21: ='Collected to Claims Ratio'!L14 -> FY2008 | D21: ='Collected to Claims Ratio'!M14 -> FY2009 | E21: ='Collected to Claims Ratio'!N14 -> FY2010 | F21: ='Collected to Claims Ratio'!O14 -> FY2011 | G21: ='Collected to Claims Ratio'!P14 -> FY2012 | H21: FY2013 | K21: Service | L21: ='Collected to Claims Ratio'!L14 -> FY2008 | M21: ='Collected to Claims Ratio'!M14 -> FY2009 | N21: ='Collected to Claims Ratio'!N14 -> FY2010 | O21: ='Collected to Claims Ratio'!O14 -> FY2011 | P21: ='Collected to Claims Ratio'!P14 -> FY2012 | Q21: FY2013
B22: Air Force | C22: =C6/C14 -> 0.049861609 | D22: =D6/D14 -> 0.043696786 | E22: =E6/E14 -> 0.046823956 | F22: =F6/F14 -> 0.04309379 | G22: =G6/G14 -> 0.045004172 | H22: =H6/H14 -> 0.039697266 | K22: Air Force | L22: =L6/L14 -> 0.36186609 | M22: =M6/M14 -> 0.4774401 | N22: =N6/N14 -> 0.37100906 | O22: =O6/O14 -> 0.38834206 | P22: =P6/P14 -> 0.39227252 | Q22: =Q6/Q14 -> 0.35612323
B23: Army | C23: =C7/C15 -> 0.030127146 | D23: =D7/D15 -> 0.031732348 | E23: =E7/E15 -> 0.027923806 | F23: =F7/F15 -> 0.03474561 | G23: =G7/G15 -> 0.026332623 | H23: =H7/H15 -> 0.022183816 | K23: Army | L23: =L7/L15 -> 0.12016267 | M23: =M7/M15 -> 0.13644759 | N23: =N7/N15 -> 0.14175873 | O23: =O7/O15 -> 0.12655889 | P23: =P7/P15 -> 0.12776939 | Q23: =Q7/Q15 -> 0.12698064
B24: JTF | C24: =C8/C16 -> 0.050897817 | D24: =D8/D16 -> 0.035861336 | E24: =E8/E16 -> 0.035234899 | F24: =F8/F16 -> 0.042119363 | G24: =G8/G16 -> 0.043947 | H24: =H8/H16 -> 0.023736724 | K24: JTF | L24: =L8/L16 -> 0.11249518 | M24: =M8/M16 -> 0.11861432 | N24: =N8/N16 -> 0.11210309 | O24: =O8/O16 -> 0.17383927 | P24: =P8/P16 -> 0.25905893 | Q24: =Q8/Q16 -> 0.21524912
B25: Navy | C25: =C9/C17 -> 0.016569466 | D25: =D9/D17 -> 0.016507937 | E25: =E9/E17 -> 0.015341181 | F25: =F9/F17 -> 0.015043136 | G25: =G9/G17 -> 0.015372832 | H25: =H9/H17 -> 0.014848411 | K25: Navy | L25: =L9/L17 -> 0.10444798 | M25: =M9/M17 -> 0.095445571 | N25: =N9/N17 -> 0.11306174 | O25: =O9/O17 -> 0.12707766 | P25: =P9/P17 -> 0.12395383 | Q25: =Q9/Q17 -> 0.092976405
B26: Total | C26: =C10/C18 -> 0.031168703 | D26: =D10/D18 -> 0.030328583 | E26: =E10/E18 -> 0.02860086 | F26: =F10/F18 -> 0.031158579 | G26: =G10/G18 -> 0.027531922 | H26: =H10/H18 -> 0.022887767 | K26: Total | L26: =L10/L18 -> 0.17823702 | M26: =M10/M18 -> 0.19479324 | N26: =N10/N18 -> 0.18996169 | O26: =O10/O18 -> 0.18810289 | P26: =P10/P18 -> 0.19652701 | Q26: =Q10/Q18 -> 0.17808658

Sheet Details
A1: Details
B2: 3rdQFY08 | C2: 3rdQFY09 | D2: 3rdQFY10 | E2: 3rdQFY11 | F2: 3rdQFY12 | G2: 3rdQFY13
A3: service | B3: Total IP Collections In CY | C3: Total IP Collections In CY | D3: Total IP Collections In CY | E3: Total IP Collections In CY | F3: Total IP Collections In CY | G3: Total IP Collections In CY
A4: ---------- | B4: -------------------------- | C4: -------------------------- | D4: -------------------------- | E4: -------------------------- | F4: -------------------------- | G4: --------------------------
A5: Air Force | B5: 9716334.2 | C5: 6072175.7 | D5: 12919600 | E5: 6642309 | F5: 3749980.6 | G5: 3429676.5
A6: Army | B6: 17551457 | C6: 21813350 | D6: 18281847 | E6: 16008388 | F6: 16442901 | G6: 16389528
A7: JTF | B7: 3612898.3 | C7: 1767985.9 | D7: 3372211.7 | E7: 1982956.9 | F7: 2609692.2 | G7: 4549084.9
A8: Navy | B8: 3211970.7 | C8: 3772418.3 | D8: 3445635 | E8: 3491283.1 | F8: 3278611.4 | G8: 3266439.2
A12: service | B12: Total OP Collections In CY | C12: Total OP Collections In CY | D12: Total OP Collections In CY | E12: Total OP Collections In CY | F12: Total OP Collections In CY | G12: Total OP Collections In CY
A13: ---------- | B13: -------------------------- | C13: -------------------------- | D13: -------------------------- | E13: -------------------------- | F13: -------------------------- | G13: --------------------------
A14: Air Force | B14: 63100515 | C14: 69794881 | D14: 62579343 | E14: 53245250 | F14: 43811225 | G14: 39753766
A15: Army | B15: 35801487 | C15: 45139483 | D15: 46053000 | E15: 38021558 | F15: 32422328 | G15: 31577757
A16: JTF | B16: 6944630.6 | C16: 8085934.8 | D16: 7243825.5 | E16: 6182614.7 | F16: 9401764.6 | G16: 9084839.9
A17: Navy | B17: 20494950 | C17: 23646495 | D17: 22560252 | E17: 16544330 | F17: 13690164 | G17: 12481347
A21: service | B21: Total IP Billings In CY | C21: Total IP Billings In CY | D21: Total IP Billings In CY | E21: Total IP Billings In CY | F21: Total IP Billings In CY | G21: Total IP Billings In CY
A22: ---------- | B22: ----------------------- | C22: ----------------------- | D22: ----------------------- | E22: ----------------------- | F22: ----------------------- | G22: -----------------------
A23: Air Force | B23: 21513984 | C23: 18345513 | D23: 21122300 | E23: 14257131 | F23: 11803000 | G23: 11924190
A24: Army | B24: 41796650 | C24: 43840984 | D24: 38071563 | E24: 41875744 | F24: 38551743 | G24: 30921259
A25: JTF | B25: 8693683.2 | C25: 4677848.2 | D25: 4283310.2 | E25: 4905576.9 | F25: 10642653 | G25: 5223259.2
A26: Navy | B26: 8975998 | C26: 9742174.1 | D26: 8710275.9 | E26: 8865577.8 | F26: 9483844.8 | G26: 8231457.7
A30: service | B30: Total OP Billings In CY | C30: Total OP Billings In CY | D30: Total OP Billings In CY | E30: Total OP Billings In CY | F30: Total OP Billings In CY | G30: Total OP Billings In CY
A31: ---------- | B31: ----------------------- | C31: ----------------------- | D31: ----------------------- | E31: ----------------------- | F31: ----------------------- | G31: -----------------------
A32: Air Force | B32: 1.5237417e+08 | C32: 1.5411489e+08 | D32: 1.2107218e+08 | E32: 1.0513666e+08 | F32: 97883039 | G32: 91464515
A33: Army | B33: 67262075 | C33: 72076133 | D33: 64730745 | E33: 64686510 | F33: 55311283 | G33: 50591639
A34: JTF | B34: 10702412 | C34: 12104980 | D34: 9163763.7 | E34: 10404782 | F34: 18202416 | G34: 17338169
A35: Navy | B35: 31798547 | C35: 34869406 | D35: 29845266 | E35: 26906158 | F35: 25143032 | G35: 22917639
A39: service | B39: Number of IP Collections | C39: Number of IP Collections | D39: Number of IP Collections | E39: Number of IP Collections | F39: Number of IP Collections | G39: Number of IP Collections
A40: ---------- | B40: ------------------------ | C40: ------------------------ | D40: ------------------------ | E40: ------------------------ | F40: ------------------------ | G40: ------------------------
A41: Air Force | B41: 529 | C41: 438 | D41: 544 | E41: 467 | F41: 275 | G41: 281
A42: Army | B42: 1027 | C42: 1149 | D42: 1120 | E42: 996 | F42: 1122 | G42: 902
A43: JTF | B43: 213 | C43: 113 | D43: 145 | E43: 140 | F43: 175 | G43: 115
A44: Navy | B44: 226 | C44: 236 | D44: 245 | E44: 218 | F44: 202 | G44: 224
A48: service | B48: Number of IP Claims | C48: Number of IP Claims | D48: Number of IP Claims | E48: Number of IP Claims | F48: Number of IP Claims | G48: Number of IP Claims
A49: ---------- | B49: ------------------- | C49: ------------------- | D49: ------------------- | E49: ------------------- | F49: ------------------- | G49: -------------------
A50: Air Force | B50: 1225 | C50: 1165 | D50: 1290 | E50: 1077 | F50: 863 | G50: 813
A51: Army | B51: 2206 | C51: 2319 | D51: 2130 | E51: 2115 | F51: 1976 | G51: 1797
A52: JTF | B52: 394 | C52: 270 | D52: 252 | E52: 283 | F52: 534 | G52: 295
A53: Navy | B53: 608 | C53: 598 | D53: 576 | E53: 551 | F53: 562 | G53: 550
A57: service | B57: Number of IP Dispositions | C57: Number of IP Dispositions | D57: Number of IP Dispositions | E57: Number of IP Dispositions | F57: Number of IP Dispositions | G57: Number of IP Dispositions
A58: ---------- | B58: ------------------------- | C58: ------------------------- | D58: ------------------------- | E58: ------------------------- | F58: ------------------------- | G58: -------------------------
A59: Air Force | B59: 24568 | C59: 26661 | D59: 27550 | E59: 24992 | F59: 19176 | G59: 20480
A60: Army | B60: 73223 | C60: 73080 | D60: 76279 | E60: 60871 | F60: 75040 | G60: 81005
A61: JTF | B61: 7741 | C61: 7529 | D61: 7152 | E61: 6719 | F61: 12151 | G61: 12428
A62: Navy | B62: 36694 | C62: 36225 | D62: 37546 | E62: 36628 | F62: 36558 | G62: 37041
A66: service | B66: Number of OP Collections | C66: Number of OP Collections | D66: Number of OP Collections | E66: Number of OP Collections | F66: Number of OP Collections | G66: Number of OP Collections
A67: ---------- | B67: ------------------------ | C67: ------------------------ | D67: ------------------------ | E67: ------------------------ | F67: ------------------------ | G67: ------------------------
A68: Air Force | B68: 323605 | C68: 394815 | D68: 340527 | E68: 312371 | F68: 300546 | G68: 249358
A69: Army | B69: 262340 | C69: 255219 | D69: 301956 | E69: 266100 | F69: 334753 | G69: 226182
A70: JTF | B70: 38747 | C70: 43618 | D70: 40112 | E70: 29713 | F70: 57594 | G70: 64935
A71: Navy | B71: 119025 | C71: 137206 | D71: 136351 | E71: 128690 | F71: 113495 | G71: 99455
A75: service | B75: Number of OP Claims | C75: Number of OP Claims | D75: Number of OP Claims | E75: Number of OP Claims | F75: Number of OP Claims | G75: Number of OP Claims
A76: ---------- | B76: ------------------- | C76: ------------------- | D76: ------------------- | E76: ------------------- | F76: ------------------- | G76: -------------------
A77: Air Force | B77: 978005 | C77: 1016480 | D77: 946256 | E77: 923611 | F77: 873891 | G77: 824150
A78: Army | B78: 573603 | C78: 611892 | D78: 639205 | E78: 683437 | F78: 605902 | G78: 550528
A79: JTF | B79: 75517 | C79: 90428 | D79: 79546 | E79: 100194 | F79: 193974 | G79: 172037
A80: Navy | B80: 247621 | C80: 270959 | D80: 278113 | E80: 282516 | F80: 267876 | G80: 240495
A84: service | B84: Number of OP Visits | C84: Number of OP Visits | D84: Number of OP Visits | E84: Number of OP Visits | F84: Number of OP Visits | G84: Number of OP Visits
A85: ---------- | B85: ------------------- | C85: ------------------- | D85: ------------------- | E85: ------------------- | F85: ------------------- | G85: -------------------
A86: Air Force | B86: 2702671 | C86: 2129021 | D86: 2550493 | E86: 2378344 | F86: 2227765 | G86: 2314227
A87: Army | B87: 4773554 | C87: 4484447 | D87: 4509105 | E87: 5400150 | F87: 4742153 | G87: 4335527
A88: JTF | B88: 671291 | C88: 762370 | D88: 709579 | E88: 576360 | F88: 748764 | G88: 799246
A89: Navy | B89: 2370759 | C89: 2838885 | D89: 2459833 | E89: 2223176 | F89: 2161095 | G89: 2586624

Sheet IP $ Collections by DMIS
A1: Total Collections metric QC by DMIS ID
B3: Service | C3: dmis_id | D3: dmis_name | E3: facility_type | G3: Total IP Collections In CY by DMIS ID
F4: FY2008 | G4: FY2009 | H4: FY2010 | I4: FY2011 | J4: FY2012 | K4: FY2013
B5: =Details2!B5 -> Air Force | C5: =Details2!C5 -> 0004 | D5: =Details2!D5 -> Maxwell AFB (42nd Medical Group) | E5: =Details2!E5 -> C | F5: =Details2!F5 -> NULL | G5: =Details2!G5 -> NULL | H5: =Details2!H5 -> NULL | I5: =Details2!I5 -> NULL | ... K5: =Details2!K5 -> NULL | L5: =IF(AND(E5<>"H",K5="NULL")," ","review")
B6: =Details2!B6 -> Air Force | C6: =Details2!C6 -> 0006 | D6: =Details2!D6 -> Elmendorf AFB (3rd Medical group) | E6: =Details2!E6 -> H | F6: =Details2!F6 -> 898014.57 | G6: =Details2!G6 -> 615451.61 | H6: =Details2!H6 -> 442064.61 | I6: =Details2!I6 -> 745023.32 | ... K6: =Details2!K6 -> 486295.65 | M6: =IF(AND(J6*0.6 <=K6, K6<= J6*1.4)," ","review")
B7: =Details2!B7 -> Air Force | C7: =Details2!C7 -> 0009 | D7: =Details2!D7 -> Luke AFB (56th Medical Group) | E7: =Details2!E7 -> C | F7: =Details2!F7 -> NULL | G7: =Details2!G7 -> NULL | H7: =Details2!H7 -> NULL | I7: =Details2!I7 -> NULL | ... K7: =Details2!K7 -> NULL | L7: Inpatient closed down
B8: =Details2!B8 -> Air Force | C8: =Details2!C8 -> 0010 | D8: =Details2!D8 -> Davis Monthan AFB (355th Medical Group) | E8: =Details2!E8 -> C | F8: =Details2!F8 -> NULL | G8: =Details2!G8 -> NULL | H8: =Details2!H8 -> NULL | I8: =Details2!I8 -> NULL | ... K8: =Details2!K8 -> NULL
B9: =Details2!B9 -> Air Force | C9: =Details2!C9 -> 0013 | D9: =Details2!D9 -> Little Rock AFB (314th Medical Group) | E9: =Details2!E9 -> C | F9: =Details2!F9 -> NULL | G9: =Details2!G9 -> NULL | H9: =Details2!H9 -> NULL | I9: =Details2!I9 -> NULL | ... K9: =Details2!K9 -> NULL
B10: =Details2!B10 -> Air Force | C10: =Details2!C10 -> 0014 | D10: =Details2!D10 -> Travis AFB (60th Medical Group) | E10: =Details2!E10 -> H | F10: =Details2!F10 -> 764641.56 | G10: =Details2!G10 -> 892545.48 | H10: =Details2!H10 -> 388067.22 | I10: =Details2!I10 -> 588501.29 | ... K10: =Details2!K10 -> 433748.85 | M10: =IF(AND(J10*0.6 <=K10, K10<= J10*1.4)," ","review") -> review | N10: ok
B11: =Details2!B11 -> Air Force | C11: =Details2!C11 -> 0015 | D11: =Details2!D11 -> Beale AFB (9th Medical Group) | E11: =Details2!E11 -> C | F11: =Details2!F11 -> NULL | G11: =Details2!G11 -> NULL | H11: =Details2!H11 -> NULL | I11: =Details2!I11 -> NULL | ... K11: =Details2!K11 -> NULL
B12: =Details2!B12 -> Air Force | C12: =Details2!C12 -> 0018 | D12: =Details2!D12 -> Vandenberg AFB (30th Medical Group) | E12: =Details2!E12 -> C | F12: =Details2!F12 -> NULL | G12: =Details2!G12 -> NULL | H12: =Details2!H12 -> NULL | I12: =Details2!I12 -> NULL | ... K12: =Details2!K12 -> NULL
B13: =Details2!B13 -> Air Force | C13: =Details2!C13 -> 0019 | D13: =Details2!D13 -> Edwards AFB (95th Medical Group) | E13: =Details2!E13 -> C | F13: =Details2!F13 -> NULL | G13: =Details2!G13 -> NULL | H13: =Details2!H13 -> NULL | I13: =Details2!I13 -> NULL | ... K13: =Details2!K13 -> NULL
B14: =Details2!B14 -> Air Force | C14: =Details2!C14 -> 0033 | D14: =Details2!D14 -> USAF Academy (10th Medical Group) | E14: =Details2!E14 -> H | F14: =Details2!F14 -> 53951.42 | G14: =Details2!G14 -> 7646.55 | H14: =Details2!H14 -> NULL | I14: =Details2!I14 -> NULL | ... K14: =Details2!K14 -> NULL | M14: =IF(AND(J14*0.6 <=K14, K14<= J14*1.4)," ","review") -> #VALUE! | N14: ok
B15: =Details2!B15 -> Air Force | C15: =Details2!C15 -> 0036 | D15: =Details2!D15 -> Dover AFB (436th Medical Group) | E15: =Details2!E15 -> C | F15: =Details2!F15 -> NULL | G15: =Details2!G15 -> NULL | H15: =Details2!H15 -> NULL | I15: =Details2!I15 -> NULL | ... K15: =Details2!K15 -> NULL
B16: =Details2!B16 -> Air Force | C16: =Details2!C16 -> 0042 | D16: =Details2!D16 -> Eglin AFB (96th Medical Group) | E16: =Details2!E16 -> H | F16: =Details2!F16 -> 485414.2 | G16: =Details2!G16 -> 284458.79 | H16: =Details2!H16 -> 372720.41 | I16: =Details2!I16 -> 229055.81 | ... K16: =Details2!K16 -> 245257.86 | M16: =IF(AND(J16*0.6 <=K16, K16<= J16*1.4)," ","review") -> review | N16: ok
B17: =Details2!B17 -> Air Force | C17: =Details2!C17 -> 0043 | D17: =Details2!D17 -> Tyndall AFB (325th Medical Group) | E17: =Details2!E17 -> C | F17: =Details2!F17 -> NULL | G17: =Details2!G17 -> NULL | H17: =Details2!H17 -> NULL | I17: =Details2!I17 -> NULL | ... K17: =Details2!K17 -> NULL
B18: =Details2!B18 -> Air Force | C18: =Details2!C18 -> 0045 | D18: =Details2!D18 -> MacDill AFB (6th Medical Group) | E18: =Details2!E18 -> C | F18: =Details2!F18 -> NULL | G18: =Details2!G18 -> NULL | H18: =Details2!H18 -> NULL | I18: =Details2!I18 -> NULL | ... K18: =Details2!K18 -> NULL | L18: Inpatient closed down | M18: =IF(AND(J18*0.6 <=K18, K18<= J18*1.4)," ","review") -> #VALUE!
B19: =Details2!B19 -> Air Force | C19: =Details2!C19 -> 0046 | D19: =Details2!D19 -> Patrick AFB (45th Medical Group) | E19: =Details2!E19 -> C | F19: =Details2!F19 -> NULL | G19: =Details2!G19 -> NULL | H19: =Details2!H19 -> NULL | I19: =Details2!I19 -> NULL | ... K19: =Details2!K19 -> NULL
B20: =Details2!B20 -> Air Force | C20: =Details2!C20 -> 0050 | D20: =Details2!D20 -> Moody AFB (347th Medical Group) | E20: =Details2!E20 -> C | F20: =Details2!F20 -> NULL | G20: =Details2!G20 -> NULL | H20: =Details2!H20 -> NULL | I20: =Details2!I20 -> NULL | ... K20: =Details2!K20 -> NULL
B21: =Details2!B21 -> Air Force | C21: =Details2!C21 -> 0051 | D21: =Details2!D21 -> Robins AFB (78th Medical Group) | E21: =Details2!E21 -> C | F21: =Details2!F21 -> NULL | G21: =Details2!G21 -> NULL | H21: =Details2!H21 -> NULL | I21: =Details2!I21 -> NULL | ... K21: =Details2!K21 -> NULL
B22: =Details2!B22 -> Air Force | C22: =Details2!C22 -> 0053 | D22: =Details2!D22 -> Mountain Home AFB (366th Medical Group) | E22: =Details2!E22 -> H | F22: =Details2!F22 -> 23758.66 | G22: =Details2!G22 -> 14843.75 | H22: =Details2!H22 -> 35402.67 | I22: =Details2!I22 -> 12721.67 | ... K22: =Details2!K22 -> 25176.16 | M22: =IF(AND(J22*0.6 <=K22, K22<= J22*1.4)," ","review") -> review
B23: =Details2!B23 -> Air Force | C23: =Details2!C23 -> 0055 | D23: =Details2!D23 -> Scott AFB (375th Medical Group) | E23: =Details2!E23 -> C | F23: =Details2!F23 -> NULL | G23: =Details2!G23 -> NULL | H23: =Details2!H23 -> NULL | I23: =Details2!I23 -> NULL | ... K23: =Details2!K23 -> NULL | M23: =IF(AND(J23*0.6 <=K23, K23<= J23*1.4)," ","review") -> #VALUE!
B24: =Details2!B24 -> Air Force | C24: =Details2!C24 -> 0059 | D24: =Details2!D24 -> McConnell AFB (22nd Medical Group) | E24: =Details2!E24 -> C | F24: =Details2!F24 -> NULL | G24: =Details2!G24 -> NULL | H24: =Details2!H24 -> NULL | I24: =Details2!I24 -> NULL | ... K24: =Details2!K24 -> NULL
B25: =Details2!B25 -> Air Force | C25: =Details2!C25 -> 0062 | D25: =Details2!D25 -> Barksdale AFB (2nd Medical Group) | E25: =Details2!E25 -> C | F25: =Details2!F25 -> NULL | G25: =Details2!G25 -> NULL | H25: =Details2!H25 -> NULL | I25: =Details2!I25 -> NULL | ... K25: =Details2!K25 -> NULL
B26: =Details2!B26 -> Air Force | C26: =Details2!C26 -> 0066 | D26: =Details2!D26 -> Andrews AFB (79th Medical Group) | E26: =Details2!E26 -> H | F26: =Details2!F26 -> 215448.83 | G26: =Details2!G26 -> 114341.89 | H26: =Details2!H26 -> 302520.74 | I26: =Details2!I26 -> 215311.17 | ... K26: =Details2!K26 -> 0 | M26: =IF(AND(J26*0.6 <=K26, K26<= J26*1.4)," ","review") -> review | N26: ok
B27: =Details2!B27 -> Air Force | C27: =Details2!C27 -> 0073 | D27: =Details2!D27 -> Keesler AFB (81st Medical Group) | E27: =Details2!E27 -> H | F27: =Details2!F27 -> 307092.39 | G27: =Details2!G27 -> 131833.48 | H27: =Details2!H27 -> 211695.63 | I27: =Details2!I27 -> 714223.72 | ... K27: =Details2!K27 -> 732499.56 | L27: Inpatient closed down | M27: =IF(AND(J27*0.6 <=K27, K27<= J27*1.4)," ","review") -> review | N27: ok
B28: =Details2!B28 -> Air Force | C28: =Details2!C28 -> 0074 | D28: =Details2!D28 -> Columbus AFB (14th Medical Group) | E28: =Details2!E28 -> C | F28: =Details2!F28 -> NULL | G28: =Details2!G28 -> NULL | H28: =Details2!H28 -> NULL | I28: =Details2!I28 -> NULL | ... K28: =Details2!K28 -> NULL
B29: =Details2!B29 -> Air Force | C29: =Details2!C29 -> 0076 | D29: =Details2!D29 -> Whiteman AFB (509th Medical Group) | E29: =Details2!E29 -> C | F29: =Details2!F29 -> NULL | G29: =Details2!G29 -> NULL | H29: =Details2!H29 -> NULL | I29: =Details2!I29 -> NULL | ... K29: =Details2!K29 -> NULL
B30: =Details2!B30 -> Air Force | C30: =Details2!C30 -> 0077 | D30: =Details2!D30 -> Malmstrom AFB (341st Medical Group) | E30: =Details2!E30 -> C | F30: =Details2!F30 -> NULL | G30: =Details2!G30 -> NULL | H30: =Details2!H30 -> NULL | I30: =Details2!I30 -> NULL | ... K30: =Details2!K30 -> NULL
B31: =Details2!B31 -> Air Force | C31: =Details2!C31 -> 0078 | D31: =Details2!D31 -> Offutt AFB (55th Medical Group) | E31: =Details2!E31 -> C | F31: =Details2!F31 -> NULL | G31: =Details2!G31 -> NULL | H31: =Details2!H31 -> NULL | I31: =Details2!I31 -> NULL | ... K31: =Details2!K31 -> NULL | L31: Inpatient closed down | M31: =IF(AND(J31*0.6 <=K31, K31<= J31*1.4)," ","review") -> #VALUE! | N31: ok
B32: =Details2!B32 -> Air Force | C32: =Details2!C32 -> 0079 | D32: =Details2!D32 -> Nellis AFB (99th Medical Group) | E32: =Details2!E32 -> H | F32: =Details2!F32 -> 358213.35 | G32: =Details2!G32 -> 301171.07 | H32: =Details2!H32 -> 372484.76 | I32: =Details2!I32 -> 521946.05 | ... K32: =Details2!K32 -> 354513.61 | M32: =IF(AND(J32*0.6 <=K32, K32<= J32*1.4)," ","review") | N32: ok
B33: =Details2!B33 -> Air Force | C33: =Details2!C33 -> 0083 | D33: =Details2!D33 -> Kirtland AFB (377th Medical Group) | E33: =Details2!E33 -> C | F33: =Details2!F33 -> NULL | G33: =Details2!G33 -> NULL | H33: =Details2!H33 -> NULL | I33: =Details2!I33 -> NULL | ... K33: =Details2!K33 -> NULL
B34: =Details2!B34 -> Air Force | C34: =Details2!C34 -> 0084 | D34: =Details2!D34 -> Holloman AFB (49th Medical Group) | E34: =Details2!E34 -> C | F34: =Details2!F34 -> NULL | G34: =Details2!G34 -> NULL | H34: =Details2!H34 -> NULL | I34: =Details2!I34 -> NULL | ... K34: =Details2!K34 -> NULL
B35: =Details2!B35 -> Air Force | C35: =Details2!C35 -> 0085 | D35: =Details2!D35 -> Cannon AFB (27th Medical Group) | E35: =Details2!E35 -> C | F35: =Details2!F35 -> NULL | G35: =Details2!G35 -> NULL | H35: =Details2!H35 -> NULL | I35: =Details2!I35 -> NULL | ... K35: =Details2!K35 -> NULL
B36: =Details2!B36 -> Air Force | C36: =Details2!C36 -> 0090 | D36: =Details2!D36 -> Seymour Johnson AFB (4th Medical Group) | E36: =Details2!E36 -> C | F36: =Details2!F36 -> NULL | G36: =Details2!G36 -> NULL | H36: =Details2!H36 -> NULL | I36: =Details2!I36 -> NULL | ... K36: =Details2!K36 -> NULL
B37: =Details2!B37 -> Air Force | C37: =Details2!C37 -> 0093 | D37: =Details2!D37 -> Grand Forks AFB (319th Medical Group) | E37: =Details2!E37 -> C | F37: =Details2!F37 -> NULL | G37: =Details2!G37 -> NULL | H37: =Details2!H37 -> NULL | I37: =Details2!I37 -> NULL | ... K37: =Details2!K37 -> NULL
B38: =Details2!B38 -> Air Force | C38: =Details2!C38 -> 0094 | D38: =Details2!D38 -> Minot AFB (5th Medical Group) | E38: =Details2!E38 -> C | F38: =Details2!F38 -> NULL | G38: =Details2!G38 -> NULL | H38: =Details2!H38 -> NULL | I38: =Details2!I38 -> NULL | ... K38: =Details2!K38 -> NULL
B39: =Details2!B39 -> Air Force | C39: =Details2!C39 -> 0095 | D39: =Details2!D39 -> Wright Patterson AFB (88th Medical Group) | E39: =Details2!E39 -> H | F39: =Details2!F39 -> 2076449.4 | G39: =Details2!G39 -> 1492364.8 | H39: =Details2!H39 -> 2156815.1 | I39: =Details2!I39 -> 1426130 | ... K39: =Details2!K39 -> 977008.14 | M39: =IF(AND(J39*0.6 <=K39, K39<= J39*1.4)," ","review") | N39: ok
B40: =Details2!B40 -> Air Force | C40: =Details2!C40 -> 0096 | D40: =Details2!D40 -> Tinker AFB (72th Medical Group) | E40: =Details2!E40 -> C | F40: =Details2!F40 -> NULL | G40: =Details2!G40 -> NULL | H40: =Details2!H40 -> NULL | I40: =Details2!I40 -> NULL | ... K40: =Details2!K40 -> NULL
B41: =Details2!B41 -> Air Force | C41: =Details2!C41 -> 0097 | D41: =Details2!D41 -> Altus AFB (97th Medical Group) | E41: =Details2!E41 -> C | F41: =Details2!F41 -> NULL | G41: =Details2!G41 -> NULL | H41: =Details2!H41 -> NULL | I41: =Details2!I41 -> NULL | ... K41: =Details2!K41 -> NULL
B42: =Details2!B42 -> Air Force | C42: =Details2!C42 -> 0101 | D42: =Details2!D42 -> Shaw AFB (20th Medical Group) | E42: =Details2!E42 -> C | F42: =Details2!F42 -> NULL | G42: =Details2!G42 -> NULL | H42: =Details2!H42 -> NULL | I42: =Details2!I42 -> NULL | ... K42: =Details2!K42 -> NULL
B43: =Details2!B43 -> Air Force | C43: =Details2!C43 -> 0106 | D43: =Details2!D43 -> Ellsworth AFB (28th Medical Group) | E43: =Details2!E43 -> C | F43: =Details2!F43 -> NULL | G43: =Details2!G43 -> NULL | H43: =Details2!H43 -> NULL | I43: =Details2!I43 -> NULL | ... K43: =Details2!K43 -> NULL
B44: =Details2!B44 -> Air Force | C44: =Details2!C44 -> 0112 | D44: =Details2!D44 -> Dyess AFB (7th Medical Group) | E44: =Details2!E44 -> C | F44: =Details2!F44 -> NULL | G44: =Details2!G44 -> NULL | H44: =Details2!H44 -> NULL | I44: =Details2!I44 -> NULL | ... K44: =Details2!K44 -> NULL
B45: =Details2!B45 -> Air Force | C45: =Details2!C45 -> 0113 | D45: =Details2!D45 -> Sheppard AFB (82nd Medical Group) | E45: =Details2!E45 -> C | F45: =Details2!F45 -> NULL | G45: =Details2!G45 -> NULL | H45: =Details2!H45 -> NULL | I45: =Details2!I45 -> NULL | ... K45: =Details2!K45 -> NULL
B46: =Details2!B46 -> Air Force | C46: =Details2!C46 -> 0114 | D46: =Details2!D46 -> Laughlin AFB (47th Medical Group) | E46: =Details2!E46 -> C | F46: =Details2!F46 -> NULL | G46: =Details2!G46 -> NULL | H46: =Details2!H46 -> NULL | I46: =Details2!I46 -> NULL | ... K46: =Details2!K46 -> NULL
B47: =Details2!B47 -> Air Force | C47: =Details2!C47 -> 0117 | D47: =Details2!D47 -> Lackland AFB (59th Medical Wing) | E47: =Details2!E47 -> H | F47: =Details2!F47 -> 4486415.2 | G47: =Details2!G47 -> 2113999 | H47: =Details2!H47 -> 8566421.7 | I47: =Details2!I47 -> 2142538.1 | ... K47: =Details2!K47 -> -740.56 | M47: =IF(AND(J47*0.6 <=K47, K47<= J47*1.4)," ","review") -> review
B48: =Details2!B48 -> Air Force | C48: =Details2!C48 -> 0119 | D48: =Details2!D48 -> Hill AFB (75th Medical Group) | E48: =Details2!E48 -> C | F48: =Details2!F48 -> NULL | G48: =Details2!G48 -> NULL | H48: =Details2!H48 -> NULL | I48: =Details2!I48 -> NULL | ... K48: =Details2!K48 -> NULL
B49: =Details2!B49 -> Air Force | C49: =Details2!C49 -> 0120 | D49: =Details2!D49 -> Langley AFB (1st Medical Group) | E49: =Details2!E49 -> H | F49: =Details2!F49 -> 46934.57 | G49: =Details2!G49 -> 103519.29 | H49: =Details2!H49 -> 71407.16 | I49: =Details2!I49 -> 46857.89 | ... K49: =Details2!K49 -> 175917.21
B50: =Details2!B50 -> Air Force | C50: =Details2!C50 -> 0128 | D50: =Details2!D50 -> Fairchild AFB (92nd Medical Group) | E50: =Details2!E50 -> C | F50: =Details2!F50 -> NULL | G50: =Details2!G50 -> NULL | H50: =Details2!H50 -> NULL | I50: =Details2!I50 -> NULL | ... K50: =Details2!K50 -> NULL
B51: =Details2!B51 -> Air Force | C51: =Details2!C51 -> 0129 | D51: =Details2!D51 -> F.E. Warren AFB (90th Medical Group) | E51: =Details2!E51 -> C | F51: =Details2!F51 -> NULL | G51: =Details2!G51 -> NULL | H51: =Details2!H51 -> NULL | I51: =Details2!I51 -> NULL | ... K51: =Details2!K51 -> NULL
B52: =Details2!B52 -> Air Force | C52: =Details2!C52 -> 0203 | D52: =Details2!D52 -> Eielson AFB (354th Medical Group) | E52: =Details2!E52 -> C | F52: =Details2!F52 -> NULL | G52: =Details2!G52 -> NULL | H52: =Details2!H52 -> NULL | I52: =Details2!I52 -> NULL | ... K52: =Details2!K52 -> NULL
B53: =Details2!B53 -> Air Force | C53: =Details2!C53 -> 0248 | D53: =Details2!D53 -> Los Angeles AFB (61st Medical Squad) | E53: =Details2!E53 -> C | F53: =Details2!F53 -> NULL | G53: =Details2!G53 -> NULL | H53: =Details2!H53 -> NULL | I53: =Details2!I53 -> NULL | ... K53: =Details2!K53 -> NULL
B54: =Details2!B54 -> Air Force | C54: =Details2!C54 -> 0250 | D54: =Details2!D54 -> McClellan AFB (77th Medical Group) | E54: =Details2!E54 -> I | F54: =Details2!F54 -> NULL | G54: =Details2!G54 -> NULL | H54: =Details2!H54 -> NULL | I54: =Details2!I54 -> NULL | ... K54: =Details2!K54 -> NULL
B55: =Details2!B55 -> Air Force | C55: =Details2!C55 -> 0252 | D55: =Details2!D55 -> Peterson AFB (21st Medical Group) | E55: =Details2!E55 -> C | F55: =Details2!F55 -> NULL | G55: =Details2!G55 -> NULL | H55: =Details2!H55 -> NULL | I55: =Details2!I55 -> NULL | ... K55: =Details2!K55 -> NULL
B56: =Details2!B56 -> Air Force | C56: =Details2!C56 -> 0287 | D56: =Details2!D56 -> Hickam AFB (15th Medical Group) | E56: =Details2!E56 -> C | F56: =Details2!F56 -> NULL | G56: =Details2!G56 -> NULL | H56: =Details2!H56 -> NULL | I56: =Details2!I56 -> NULL | ... K56: =Details2!K56 -> NULL
B57: =Details2!B57 -> Air Force | C57: =Details2!C57 -> 0310 | D57: =Details2!D57 -> Hanscom AFB (66th Medical Group) | E57: =Details2!E57 -> C | F57: =Details2!F57 -> NULL | G57: =Details2!G57 -> NULL | H57: =Details2!H57 -> NULL | I57: =Details2!I57 -> NULL | ... K57: =Details2!K57 -> NULL
B58: =Details2!B58 -> Air Force | C58: =Details2!C58 -> 0326 | D58: =Details2!D58 -> McGuire AFB (305th Medical Group) | E58: =Details2!E58 -> C | F58: =Details2!F58 -> NULL | G58: =Details2!G58 -> NULL | H58: =Details2!H58 -> NULL | I58: =Details2!I58 -> NULL | ... K58: =Details2!K58 -> NULL
B59: =Details2!B59 -> Air Force | C59: =Details2!C59 -> 0335 | D59: =Details2!D59 -> Pope AFB (43rd Medical Group) | E59: =Details2!E59 -> C | F59: =Details2!F59 -> NULL | G59: =Details2!G59 -> NULL | H59: =Details2!H59 -> NULL | I59: =Details2!I59 -> NULL | ... K59: =Details2!K59 -> NULL
... B72: =Details2!B72 -> Army | C72: =Details2!C72 -> 0002 | D72: =Details2!D72 -> Ft. McClellan (Patterson ACH) | E72: =Details2!E72 -> I | F72: =Details2!F72 -> NULL | G72: =Details2!G72 -> NULL | H72: =Details2!H72 -> NULL | I72: =Details2!I72 -> NULL | ... K72: =Details2!K72 -> NULL
B73: =Details2!B73 -> Army | C73: =Details2!C73 -> 0003 | D73: =Details2!D73 -> Ft. Rucker (Lyster Army Health Clinic) | E73: =Details2!E73 -> C | F73: =Details2!F73 -> NULL | G73: =Details2!G73 -> NULL | H73: =Details2!H73 -> NULL | I73: =Details2!I73 -> NULL | ... K73: =Details2!K73 -> NULL | L73: Inpatient closed down
B74: =Details2!B74 -> Army | C74: =Details2!C74 -> 0005 | D74: =Details2!D74 -> Ft. Wainwright (Bassett Army Community Hospital) | E74: =Details2!E74 -> H | F74: =Details2!F74 -> 475108.48 | G74: =Details2!G74 -> 375652.2 | H74: =Details2!H74 -> 405912.49 | I74: =Details2!I74 -> 148338.59 | ... K74: =Details2!K74 -> 295531.03 | M74: =IF(AND(J74*0.6 <=K74, K74<= J74*1.4)," ","review")
B75: =Details2!B75 -> Army | C75: =Details2!C75 -> 0008 | D75: =Details2!D75 -> Ft. Huachuca (Bliss Army Health Clinic) | E75: =Details2!E75 -> C | F75: =Details2!F75 -> NULL | G75: =Details2!G75 -> NULL | H75: =Details2!H75 -> NULL | I75: =Details2!I75 -> NULL | ... K75: =Details2!K75 -> NULL
B76: =Details2!B76 -> Army | C76: =Details2!C76 -> 0032 | D76: =Details2!D76 -> Ft. Carson (Evans Army Community Hospital) | E76: =Details2!E76 -> H | F76: =Details2!F76 -> 100055.77 | G76: =Details2!G76 -> 108813.68 | H76: =Details2!H76 -> 128526.01 | I76: =Details2!I76 -> 137043.39 | ... K76: =Details2!K76 -> 225330.09 | M76: =IF(AND(J76*0.6 <=K76, K76<= J76*1.4)," ","review") -> review
B77: =Details2!B77 -> Army | C77: =Details2!C77 -> 0037 | D77: =Details2!D77 -> Washington D.C. (Walter Reed Army Medical Center) | E77: =Details2!E77 -> H | F77: =Details2!F77 -> 1672251.4 | G77: =Details2!G77 -> 6178390.5 | H77: =Details2!H77 -> 3758334.1 | I77: =Details2!I77 -> 2379889.7 | ... K77: =Details2!K77 -> 226584.28 | M77: =IF(AND(J77*0.6 <=K77, K77<= J77*1.4)," ","review") -> review
B78: =Details2!B78 -> Army | C78: =Details2!C78 -> 0047 | D78: =Details2!D78 -> Ft. Gordon (Eisenhower Army Medical Center) | E78: =Details2!E78 -> H | F78: =Details2!F78 -> 1629950.5 | G78: =Details2!G78 -> 1272245.6 | H78: =Details2!H78 -> 946909.08 | I78: =Details2!I78 -> 783341.93 | ... K78: =Details2!K78 -> 735682.51 | M78: =IF(AND(J78*0.6 <=K78, K78<= J78*1.4)," ","review")
B79: =Details2!B79 -> Army | C79: =Details2!C79 -> 0048 | D79: =Details2!D79 -> Ft. Benning (Martin Army Community Hospital) | E79: =Details2!E79 -> H | F79: =Details2!F79 -> 301897.11 | G79: =Details2!G79 -> 233519.98 | H79: =Details2!H79 -> 204014.43 | I79: =Details2!I79 -> 111041.41 | ... K79: =Details2!K79 -> 79617.63 | M79: =IF(AND(J79*0.6 <=K79, K79<= J79*1.4)," ","review") -> review | N79: ok
B80: =Details2!B80 -> Army | C80: =Details2!C80 -> 0049 | D80: =Details2!D80 -> Ft. Stewart (Winn Army Community Hospital) | E80: =Details2!E80 -> H | F80: =Details2!F80 -> 76393.22 | G80: =Details2!G80 -> 58523.12 | H80: =Details2!H80 -> 32208.21 | I80: =Details2!I80 -> 42516.67 | ... K80: =Details2!K80 -> 72197.81 | M80: =IF(AND(J80*0.6 <=K80, K80<= J80*1.4)," ","review")
B81: =Details2!B81 -> Army | C81: =Details2!C81 -> 0052 | D81: =Details2!D81 -> Ft. Shafter (Tripler Army Medical Center) | E81: =Details2!E81 -> H | F81: =Details2!F81 -> 1710895.4 | G81: =Details2!G81 -> 2456949 | H81: =Details2!H81 -> 1990610.6 | I81: =Details2!I81 -> 2395281.1 | ... K81: =Details2!K81 -> 2706480.5 | M81: =IF(AND(J81*0.6 <=K81, K81<= J81*1.4)," ","review")
B82: =Details2!B82 -> Army | C82: =Details2!C82 -> 0057 | D82: =Details2!D82 -> Ft. Riley (Irwin Army Community Hospital) | E82: =Details2!E82 -> H | F82: =Details2!F82 -> 137838.4 | G82: =Details2!G82 -> 66921.45 | H82: =Details2!H82 -> 70455.78 | I82: =Details2!I82 -> 76699.42 | ... K82: =Details2!K82 -> 50894.84 | M82: =IF(AND(J82*0.6 <=K82, K82<= J82*1.4)," ","review") -> review | N82: ok
B83: =Details2!B83 -> Army | C83: =Details2!C83 -> 0058 | D83: =Details2!D83 -> Ft. Leavenworth (Munson Army Health Clinic) | E83: =Details2!E83 -> C | F83: =Details2!F83 -> NULL | G83: =Details2!G83 -> NULL | H83: =Details2!H83 -> NULL | I83: =Details2!I83 -> NULL | ... K83: =Details2!K83 -> NULL
B84: =Details2!B84 -> Army | C84: =Details2!C84 -> 0060 | D84: =Details2!D84 -> Ft. Campbell (Blanchfield Army Comm Hospital) | E84: =Details2!E84 -> H | F84: =Details2!F84 -> 259922.63 | G84: =Details2!G84 -> 223119.08 | H84: =Details2!H84 -> 109504.9 | I84: =Details2!I84 -> 51122.29 | ... K84: =Details2!K84 -> 116905.51 | M84: =IF(AND(J84*0.6 <=K84, K84<= J84*1.4)," ","review") -> review
B85: =Details2!B85 -> Army | C85: =Details2!C85 -> 0061 | D85: =Details2!D85 -> Ft. Knox (Ireland Army Community Hospital) | E85: =Details2!E85 -> H | F85: =Details2!F85 -> 32039.46 | G85: =Details2!G85 -> 58890.59 | H85: =Details2!H85 -> 26630.53 | I85: =Details2!I85 -> 72614.02 | ... K85: =Details2!K85 -> 43105.24 | M85: =IF(AND(J85*0.6 <=K85, K85<= J85*1.4)," ","review") -> review | N85: ok
B86: =Details2!B86 -> Army | C86: =Details2!C86 -> 0064 | D86: =Details2!D86 -> Ft. Polk (Bayne-Jones Army Community Hospital) | E86: =Details2!E86 -> H | F86: =Details2!F86 -> 37875.23 | G86: =Details2!G86 -> 91942.43 | H86: =Details2!H86 -> 35106.2 | I86: =Details2!I86 -> 10691.64 | ... K86: =Details2!K86 -> 24119.08 | M86: =IF(AND(J86*0.6 <=K86, K86<= J86*1.4)," ","review") -> review | N86: ok
B87: =Details2!B87 -> Army | C87: =Details2!C87 -> 0069 | D87: =Details2!D87 -> Ft. Meade (Kimbrough Ambulatory Care Center) | E87: =Details2!E87 -> C | F87: =Details2!F87 -> NULL | G87: =Details2!G87 -> NULL | H87: =Details2!H87 -> NULL | I87: =Details2!I87 -> NULL | ... K87: =Details2!K87 -> NULL
B88: =Details2!B88 -> Army | C88: =Details2!C88 -> 0075 | D88: =Details2!D88 -> Ft. Leonard Wood (Wood Army Community Hospital) | E88: =Details2!E88 -> H | F88: =Details2!F88 -> 63762.46 | G88: =Details2!G88 -> 62863.59 | H88: =Details2!H88 -> 17970.78 | I88: =Details2!I88 -> 9506.49 | ... K88: =Details2!K88 -> 7418.48 | M88: =IF(AND(J88*0.6 <=K88, K88<= J88*1.4)," ","review") -> review
B89: =Details2!B89 -> Army | C89: =Details2!C89 -> 0081 | D89: =Details2!D89 -> Ft. Monmouth (Patterson Army Health Clinic) | E89: =Details2!E89 -> C | F89: =Details2!F89 -> NULL | G89: =Details2!G89 -> NULL | H89: =Details2!H89 -> NULL | I89: =Details2!I89 -> NULL | ... K89: =Details2!K89 -> NULL
B90: =Details2!B90 -> Army | C90: =Details2!C90 -> 0086 | D90: =Details2!D90 -> West Point (Keller Army Community Hospital) | E90: =Details2!E90 -> H | F90: =Details2!F90 -> 21576.16 | G90: =Details2!G90 -> 25218.17 | H90: =Details2!H90 -> 37623.75 | I90: =Details2!I90 -> 3078.17 | ... K90: =Details2!K90 -> 36328.11 | M90: =IF(AND(J90*0.6 <=K90, K90<= J90*1.4)," ","review") -> review
B91: =Details2!B91 -> Army | C91: =Details2!C91 -> 0089 | D91: =Details2!D91 -> Ft. Bragg (Womack Army Medical Center) | E91: =Details2!E91 -> H | F91: =Details2!F91 -> 1387674.6 | G91: =Details2!G91 -> 1228013.6 | H91: =Details2!H91 -> 927150.32 | I91: =Details2!I91 -> 1110795.8 | ... K91: =Details2!K91 -> 1093602.1 | M91: =IF(AND(J91*0.6 <=K91, K91<= J91*1.4)," ","review") -> review
B92: =Details2!B92 -> Army | C92: =Details2!C92 -> 0098 | D92: =Details2!D92 -> Ft. Sill (Reynolds Army Community Hospital) | E92: =Details2!E92 -> H | F92: =Details2!F92 -> 57270.67 | G92: =Details2!G92 -> 74923.5 | H92: =Details2!H92 -> 103610.81 | I92: =Details2!I92 -> 56393.8 | ... K92: =Details2!K92 -> 136183.4 | M92: =IF(AND(J92*0.6 <=K92, K92<= J92*1.4)," ","review") -> review | N92: ok
B93: =Details2!B93 -> Army | C93: =Details2!C93 -> 0105 | D93: =Details2!D93 -> Ft. Jackson (Moncrief Army Community Hospital) | E93: =Details2!E93 -> H | F93: =Details2!F93 -> 59494.22 | G93: =Details2!G93 -> 50168.61 | H93: =Details2!H93 -> 7281.35 | I93: =Details2!I93 -> 36194.91 | ... K93: =Details2!K93 -> 15920.45 | M93: =IF(AND(J93*0.6 <=K93, K93<= J93*1.4)," ","review")
B94: =Details2!B94 -> Army | C94: =Details2!C94 -> 0108 | D94: =Details2!D94 -> Ft. Bliss (William Beaumont Army Medical Center) | E94: =Details2!E94 -> H | F94: =Details2!F94 -> 1292292.8 | G94: =Details2!G94 -> 1562389.6 | H94: =Details2!H94 -> 1014912 | I94: =Details2!I94 -> 849752.62 | ... K94: =Details2!K94 -> 516528.86 | M94: =IF(AND(J94*0.6 <=K94, K94<= J94*1.4)," ","review") | N94: ok
B95: =Details2!B95 -> Army | C95: =Details2!C95 -> 0109 | D95: =Details2!D95 -> San Antonio Military Medical Center | E95: =Details2!E95 -> H | F95: =Details2!F95 -> 3267309.7 | G95: =Details2!G95 -> 3515949 | H95: =Details2!H95 -> 4392226.1 | I95: =Details2!I95 -> 3259973.6 | ... K95: =Details2!K95 -> 5281656.8 | M95: =IF(AND(J95*0.6 <=K95, K95<= J95*1.4)," ","review")
B96: =Details2!B96 -> Army | C96: =Details2!C96 -> 0110 | D96: =Details2!D96 -> Ft. Hood (C.R. Darnall Army Medical Center) | E96: =Details2!E96 -> H | F96: =Details2!F96 -> 308616.74 | G96: =Details2!G96 -> 299634.76 | H96: =Details2!H96 -> 177409.59 | I96: =Details2!I96 -> 252075.55 | ... K96: =Details2!K96 -> 373324.94 | M96: =IF(AND(J96*0.6 <=K96, K96<= J96*1.4)," ","review") -> review | N96: ok
B97: =Details2!B97 -> Army | C97: =Details2!C97 -> 0121 | D97: =Details2!D97 -> Ft. Eustis (McDonald Army Health Center) | E97: =Details2!E97 -> H | F97: =Details2!F97 -> 0 | G97: =Details2!G97 -> NULL | H97: =Details2!H97 -> NULL | I97: =Details2!I97 -> NULL | ... K97: =Details2!K97 -> NULL | L97: Inpatient will close down May 2006
B98: =Details2!B98 -> Army | C98: =Details2!C98 -> 0122 | D98: =Details2!D98 -> Ft. Lee (Kenner Army Health Clinic) | E98: =Details2!E98 -> C | F98: =Details2!F98 -> NULL | G98: =Details2!G98 -> NULL | H98: =Details2!H98 -> NULL | I98: =Details2!I98 -> NULL | ... K98: =Details2!K98 -> NULL
B99: =Details2!B99 -> Army | C99: =Details2!C99 -> 0125 | D99: =Details2!D99 -> Ft. Lewis (Madigan Army Medical Center) | E99: =Details2!E99 -> H | F99: =Details2!F99 -> 3731367.3 | G99: =Details2!G99 -> 3327090.7 | H99: =Details2!H99 -> 3380464.9 | I99: =Details2!I99 -> 2982030.7 | ... K99: =Details2!K99 -> 2617183.4 | M99: =IF(AND(J99*0.6 <=K99, K99<= J99*1.4)," ","review") | N99: ok
B100: =Details2!B100 -> Army | C100: =Details2!C100 -> 0131 | D100: =Details2!D100 -> Ft. Irwin (Weed Army Community Hospital) | E100: =Details2!E100 -> H | F100: =Details2!F100 -> 13519.05 | G100: =Details2!G100 -> 18266.15 | H100: =Details2!H100 -> 9174.08 | I100: =Details2!I100 -> 2276.58 | ... K100: =Details2!K100 -> 0 | M100: =IF(AND(J100*0.6 <=K100, K100<= J100*1.4)," ","review")
B101: =Details2!B101 -> Army | C101: =Details2!C101 -> 0206 | D101: =Details2!D101 -> Yuma Proving Grounds | E101: =Details2!E101 -> I | F101: =Details2!F101 -> NULL | G101: =Details2!G101 -> NULL | H101: =Details2!H101 -> NULL | I101: =Details2!I101 -> NULL | ... K101: =Details2!K101 -> NULL
B102: =Details2!B102 -> Army | C102: =Details2!C102 -> 0256 | D102: =Details2!D102 -> Pentagon Army Health Clinic | E102: =Details2!E102 -> I | F102: =Details2!F102 -> NULL | G102: =Details2!G102 -> NULL | H102: =Details2!H102 -> NULL | I102: =Details2!I102 -> NULL | ... K102: =Details2!K102 -> NULL
B103: =Details2!B103 -> Army | C103: =Details2!C103 -> 0273 | D103: =Details2!D103 -> Ft. McPherson (Lawrence Joel Army Health Clinic) | E103: =Details2!E103 -> I | F103: =Details2!F103 -> NULL | G103: =Details2!G103 -> NULL | H103: =Details2!H103 -> NULL | I103: =Details2!I103 -> NULL | ... K103: =Details2!K103 -> NULL
B104: =Details2!B104 -> Army | C104: =Details2!C104 -> 0308 | D104: =Details2!D104 -> Aberdeen Proving Grounds (Kirk Army Health Clinic) | E104: =Details2!E104 -> I | F104: =Details2!F104 -> NULL | G104: =Details2!G104 -> NULL | H104: =Details2!H104 -> NULL | I104: =Details2!I104 -> NULL | ... K104: =Details2!K104 -> NULL
B105: =Details2!B105 -> Army | C105: =Details2!C105 -> 0309 | D105: =Details2!D105 -> Ft. Detrick US Army Health Clinic | E105: =Details2!E105 -> I | F105: =Details2!F105 -> NULL | G105: =Details2!G105 -> NULL | H105: =Details2!H105 -> NULL | I105: =Details2!I105 -> NULL | ... K105: =Details2!K105 -> NULL
B106: =Details2!B106 -> Army | C106: =Details2!C106 -> 0330 | D106: =Details2!D106 -> Ft. Drum (Guthrie Army Health Clinic) | E106: =Details2!E106 -> C | F106: =Details2!F106 -> NULL | G106: =Details2!G106 -> NULL | H106: =Details2!H106 -> NULL | I106: =Details2!I106 -> NULL | ... K106: =Details2!K106 -> NULL
B107: =Details2!B107 -> Army | C107: =Details2!C107 -> 0350 | D107: =Details2!D107 -> Ft. Indiantown Gap US Army Health Clinic | E107: =Details2!E107 -> I | F107: =Details2!F107 -> NULL | G107: =Details2!G107 -> NULL | H107: =Details2!H107 -> NULL | I107: =Details2!I107 -> NULL | ... K107: =Details2!K107 -> NULL
B108: =Details2!B108 -> Army | C108: =Details2!C108 -> 0351 | D108: =Details2!D108 -> Letterkenny US Army Health Clinic | E108: =Details2!E108 -> I | F108: =Details2!F108 -> NULL | G108: =Details2!G108 -> NULL | H108: =Details2!H108 -> NULL | I108: =Details2!I108 -> NULL | ... K108: =Details2!K108 -> NULL
B109: =Details2!B109 -> Army | C109: =Details2!C109 -> 0352 | D109: =Details2!D109 -> Carlisle (Dunham Army Health Clinic) | E109: =Details2!E109 -> C | F109: =Details2!F109 -> NULL | G109: =Details2!G109 -> NULL | H109: =Details2!H109 -> NULL | I109: =Details2!I109 -> NULL | ... K109: =Details2!K109 -> NULL
B110: =Details2!B110 -> Army | C110: =Details2!C110 -> 0353 | D110: =Details2!D110 -> Tobyhanna US Army Health Clinic | E110: =Details2!E110 -> I | F110: =Details2!F110 -> NULL | G110: =Details2!G110 -> NULL | H110: =Details2!H110 -> NULL | I110: =Details2!I110 -> NULL | ... K110: =Details2!K110 -> NULL
B111: =Details2!B111 -> Army | C111: =Details2!C111 -> 0371 | D111: =Details2!D111 -> Dugway Proving Ground | E111: =Details2!E111 -> I | F111: =Details2!F111 -> NULL | G111: =Details2!G111 -> NULL | H111: =Details2!H111 -> NULL | I111: =Details2!I111 -> NULL | ... K111: =Details2!K111 -> NULL
B112: =Details2!B112 -> Army | C112: =Details2!C112 -> 0441 | D112: =Details2!D112 -> New Cumberland US Army Health Clinic | E112: =Details2!E112 -> I | F112: =Details2!F112 -> NULL | G112: =Details2!G112 -> NULL | H112: =Details2!H112 -> NULL | I112: =Details2!I112 -> NULL | ... K112: =Details2!K112 -> NULL
B113: =Details2!B113 -> Army | C113: =Details2!C113 -> 0606 | D113: =Details2!D113 -> Heidelberg MEDDAC | E113: =Details2!E113 -> C | F113: =Details2!F113 -> 26458.48 | G113: =Details2!G113 -> 0 | H113: =Details2!H113 -> 0 | I113: =Details2!I113 -> NULL | ... K113: =Details2!K113 -> NULL
...

Sheet IP $ Billings by DMIS
A1: Total Collections metric QC by DMIS ID
B3: Service | C3: dmis_id | D3: dmis_name | E3: facility_type | G3: Total IP Billings for CY by DMIS ID
F4: FY2008 | G4: FY2009 | H4: FY2010 | I4: FY2011 | J4: FY2012 | K4: FY2013
B5: =Details2!B301 -> Air Force | C5: =Details2!C301 -> 0004 | D5: =Details2!D301 -> Maxwell AFB (42nd Medical Group) | E5: =Details2!E301 -> C | F5: =Details2!F301 -> NULL | G5: =Details2!G301 -> NULL | H5: =Details2!H301 -> NULL | I5: =Details2!I301 -> NULL | ... K5: =Details2!K301 -> NULL | L5: =IF(AND(E5<>"H",K5="NULL")," ","review")
B6: =Details2!B302 -> Air Force | C6: =Details2!C302 -> 0006 | D6: =Details2!D302 -> Elmendorf AFB (3rd Medical group) | E6: =Details2!E302 -> H | F6: =Details2!F302 -> 1635079.5 | G6: =Details2!G302 -> 1297751.6 | H6: =Details2!H302 -> 1126463.4 | I6: =Details2!I302 -> 1029692.3 | ... K6: =Details2!K302 -> 1336066.5
B7: =Details2!B303 -> Air Force | C7: =Details2!C303 -> 0009 | D7: =Details2!D303 -> Luke AFB (56th Medical Group) | E7: =Details2!E303 -> C | F7: =Details2!F303 -> NULL | G7: =Details2!G303 -> NULL | H7: =Details2!H303 -> NULL | I7: =Details2!I303 -> NULL | ... K7: =Details2!K303 -> NULL
B8: =Details2!B304 -> Air Force | C8: =Details2!C304 -> 0010 | D8: =Details2!D304 -> Davis Monthan AFB (355th Medical Group) | E8: =Details2!E304 -> C | F8: =Details2!F304 -> NULL | G8: =Details2!G304 -> NULL | H8: =Details2!H304 -> NULL | I8: =Details2!I304 -> NULL | ... K8: =Details2!K304 -> NULL
B9: =Details2!B305 -> Air Force | C9: =Details2!C305 -> 0013 | D9: =Details2!D305 -> Little Rock AFB (314th Medical Group) | E9: =Details2!E305 -> C | F9: =Details2!F305 -> NULL | G9: =Details2!G305 -> NULL | H9: =Details2!H305 -> NULL | I9: =Details2!I305 -> NULL | ... K9: =Details2!K305 -> NULL
B10: =Details2!B306 -> Air Force | C10: =Details2!C306 -> 0014 | D10: =Details2!D306 -> Travis AFB (60th Medical Group) | E10: =Details2!E306 -> H | F10: =Details2!F306 -> 2234328 | G10: =Details2!G306 -> 2244743.7 | H10: =Details2!H306 -> 1821418.4 | I10: =Details2!I306 -> 1586037.6 | ... K10: =Details2!K306 -> 2666544.7
B11: =Details2!B307 -> Air Force | C11: =Details2!C307 -> 0015 | D11: =Details2!D307 -> Beale AFB (9th Medical Group) | E11: =Details2!E307 -> C | F11: =Details2!F307 -> NULL | G11: =Details2!G307 -> NULL | H11: =Details2!H307 -> NULL | I11: =Details2!I307 -> NULL | ... K11: =Details2!K307 -> NULL
B12: =Details2!B308 -> Air Force | C12: =Details2!C308 -> 0018 | D12: =Details2!D308 -> Vandenberg AFB (30th Medical Group) | E12: =Details2!E308 -> C | F12: =Details2!F308 -> NULL | G12: =Details2!G308 -> NULL | H12: =Details2!H308 -> NULL | I12: =Details2!I308 -> NULL | ... K12: =Details2!K308 -> NULL
B13: =Details2!B309 -> Air Force | C13: =Details2!C309 -> 0019 | D13: =Details2!D309 -> Edwards AFB (95th Medical Group) | E13: =Details2!E309 -> C | F13: =Details2!F309 -> NULL | G13: =Details2!G309 -> NULL | H13: =Details2!H309 -> NULL | I13: =Details2!I309 -> NULL | ... K13: =Details2!K309 -> NULL
B14: =Details2!B310 -> Air Force | C14: =Details2!C310 -> 0033 | D14: =Details2!D310 -> USAF Academy (10th Medical Group) | E14: =Details2!E310 -> H | F14: =Details2!F310 -> 96499.67 | G14: =Details2!G310 -> 0 | H14: =Details2!H310 -> NULL | I14: =Details2!I310 -> NULL | ... K14: =Details2!K310 -> NULL
B15: =Details2!B311 -> Air Force | C15: =Details2!C311 -> 0036 | D15: =Details2!D311 -> Dover AFB (436th Medical Group) | E15: =Details2!E311 -> C | F15: =Details2!F311 -> NULL | G15: =Details2!G311 -> NULL | H15: =Details2!H311 -> NULL | I15: =Details2!I311 -> NULL | ... K15: =Details2!K311 -> NULL
B16: =Details2!B312 -> Air Force | C16: =Details2!C312 -> 0042 | D16: =Details2!D312 -> Eglin AFB (96th Medical Group) | E16: =Details2!E312 -> H | F16: =Details2!F312 -> 1062577.8 | G16: =Details2!G312 -> 786799.57 | H16: =Details2!H312 -> 1013983.5 | I16: =Details2!I312 -> 921856.93 | ... K16: =Details2!K312 -> 818225.91
B17: =Details2!B313 -> Air Force | C17: =Details2!C313 -> 0043 | D17: =Details2!D313 -> Tyndall AFB (325th Medical Group) | E17: =Details2!E313 -> C | F17: =Details2!F313 -> NULL | G17: =Details2!G313 -> NULL | H17: =Details2!H313 -> NULL | I17: =Details2!I313 -> NULL | ... K17: =Details2!K313 -> NULL
... B72: =Details2!B368 -> Army | C72: =Details2!C368 -> 0002 | D72: =Details2!D368 -> Ft. McClellan (Patterson ACH) | E72: =Details2!E368 -> I | F72: =Details2!F368 -> NULL | G72: =Details2!G368 -> NULL | H72: =Details2!H368 -> NULL | I72: =Details2!I368 -> NULL | ... K72: =Details2!K368 -> NULL
B73: =Details2!B369 -> Army | C73: =Details2!C369 -> 0003 | D73: =Details2!D369 -> Ft. Rucker (Lyster Army Health Clinic) | E73: =Details2!E369 -> C | F73: =Details2!F369 -> NULL | G73: =Details2!G369 -> NULL | H73: =Details2!H369 -> NULL | I73: =Details2!I369 -> NULL | ... K73: =Details2!K369 -> NULL | L73: ='IP $ Collections by DMIS'!L73 -> Inpatient closed down
B74: =Details2!B370 -> Army | C74: =Details2!C370 -> 0005 | D74: =Details2!D370 -> Ft. Wainwright (Bassett Army Community Hospital) | E74: =Details2!E370 -> H | F74: =Details2!F370 -> 503767.76 | G74: =Details2!G370 -> 501271.88 | H74: =Details2!H370 -> 453702.37 | I74: =Details2!I370 -> 288155.7 | ... K74: =Details2!K370 -> 350563.11
B75: =Details2!B371 -> Army | C75: =Details2!C371 -> 0008 | D75: =Details2!D371 -> Ft. Huachuca (Bliss Army Health Clinic) | E75: =Details2!E371 -> C | F75: =Details2!F371 -> NULL | G75: =Details2!G371 -> NULL | H75: =Details2!H371 -> NULL | I75: =Details2!I371 -> NULL | ... K75: =Details2!K371 -> NULL
B76: =Details2!B372 -> Army | C76: =Details2!C372 -> 0032 | D76: =Details2!D372 -> Ft. Carson (Evans Army Community Hospital) | E76: =Details2!E372 -> H | F76: =Details2!F372 -> 149404.54 | G76: =Details2!G372 -> 192412.57 | H76: =Details2!H372 -> 240441.65 | I76: =Details2!I372 -> 282481.54 | ... K76: =Details2!K372 -> 358896.88
B77: =Details2!B373 -> Army | C77: =Details2!C373 -> 0037 | D77: =Details2!D373 -> Washington D.C. (Walter Reed Army Medical Center) | E77: =Details2!E373 -> H | F77: =Details2!F373 -> 8810629.8 | G77: =Details2!G373 -> 10967288 | H77: =Details2!H373 -> 8505725.4 | I77: =Details2!I373 -> 12481795 | ... K77: =Details2!K373 -> 0
B78: =Details2!B374 -> Army | C78: =Details2!C374 -> 0047 | D78: =Details2!D374 -> Ft. Gordon (Eisenhower Army Medical Center) | E78: =Details2!E374 -> H | F78: =Details2!F374 -> 3335915.5 | G78: =Details2!G374 -> 2755560.1 | H78: =Details2!H374 -> 2825911.2 | I78: =Details2!I374 -> 1900176.4 | ... K78: =Details2!K374 -> 2402949.8
B79: =Details2!B375 -> Army | C79: =Details2!C375 -> 0048 | D79: =Details2!D375 -> Ft. Benning (Martin Army Community Hospital) | E79: =Details2!E375 -> H | F79: =Details2!F375 -> 693456.9 | G79: =Details2!G375 -> 678543.3 | H79: =Details2!H375 -> 392738.95 | I79: =Details2!I375 -> 278191.1 | ... K79: =Details2!K375 -> 214370.04
B80: =Details2!B376 -> Army | C80: =Details2!C376 -> 0049 | D80: =Details2!D376 -> Ft. Stewart (Winn Army Community Hospital) | E80: =Details2!E376 -> H | F80: =Details2!F376 -> 115079.37 | G80: =Details2!G376 -> 101843.59 | H80: =Details2!H376 -> 63945.26 | I80: =Details2!I376 -> 90146.57 | ... K80: =Details2!K376 -> 100225.97
B81: =Details2!B377 -> Army | C81: =Details2!C377 -> 0052 | D81: =Details2!D377 -> Ft. Shafter (Tripler Army Medical Center) | E81: =Details2!E377 -> H | F81: =Details2!F377 -> 6697119.2 | G81: =Details2!G377 -> 5956716.4 | H81: =Details2!H377 -> 6264367.1 | I81: =Details2!I377 -> 8407304 | ... K81: =Details2!K377 -> 4088083.4
B82: =Details2!B378 -> Army | C82: =Details2!C378 -> 0057 | D82: =Details2!D378 -> Ft. Riley (Irwin Army Community Hospital) | E82: =Details2!E378 -> H | F82: =Details2!F378 -> 173727.95 | G82: =Details2!G378 -> 84367.05 | H82: =Details2!H378 -> 108356.73 | I82: =Details2!I378 -> 114380.72 | ... K82: =Details2!K378 -> 103190.66
B83: =Details2!B379 -> Army | C83: =Details2!C379 -> 0058 | D83: =Details2!D379 -> Ft. Leavenworth (Munson Army Health Clinic) | E83: =Details2!E379 -> C | F83: =Details2!F379 -> NULL | G83: =Details2!G379 -> NULL | H83: =Details2!H379 -> NULL | I83: =Details2!I379 -> NULL | ... K83: =Details2!K379 -> NULL
B84: =Details2!B380 -> Army | C84: =Details2!C380 -> 0060 | D84: =Details2!D380 -> Ft. Campbell (Blanchfield Army Comm Hospital) | E84: =Details2!E380 -> H | F84: =Details2!F380 -> 327682.58 | G84: =Details2!G380 -> 350699.73 | H84: =Details2!H380 -> 226300.66 | I84: =Details2!I380 -> 127610.17 | ... K84: =Details2!K380 -> 130597.9
B85: =Details2!B381 -> Army | C85: =Details2!C381 -> 0061 | D85: =Details2!D381 -> Ft. Knox (Ireland Army Community Hospital) | E85: =Details2!E381 -> H | F85: =Details2!F381 -> 70563.35 | G85: =Details2!G381 -> 41985.94 | H85: =Details2!H381 -> 42038.22 | I85: =Details2!I381 -> 74935.55 | ... K85: =Details2!K381 -> 85585.64
... B96: =Details2!B392 -> Army | C96: =Details2!C392 -> 0110 | D96: =Details2!D392 -> Ft. Hood (C.R. Darnall Army Medical Center) | E96: =Details2!E392 -> H | F96: =Details2!F392 -> 501894.04 | G96: =Details2!G392 -> 417516.2 | H96: =Details2!H392 -> 238756.69 | I96: =Details2!I392 -> 319035.41 | ... K96: =Details2!K392 -> 404636.24
B97: =Details2!B393 -> Army | C97: =Details2!C393 -> 0121 | D97: =Details2!D393 -> Ft. Eustis (McDonald Army Health Center) | E97: =Details2!E393 -> H | F97: =Details2!F393 -> 0 | G97: =Details2!G393 -> NULL | H97: =Details2!H393 -> NULL | I97: =Details2!I393 -> NULL | ... K97: =Details2!K393 -> NULL | L97: ='IP $ Collections by DMIS'!L97 -> Inpatient will close down May 2006
B98: =Details2!B394 -> Army | C98: =Details2!C394 -> 0122 | D98: =Details2!D394 -> Ft. Lee (Kenner Army Health Clinic) | E98: =Details2!E394 -> C | F98: =Details2!F394 -> NULL | G98: =Details2!G394 -> NULL | H98: =Details2!H394 -> NULL | I98: =Details2!I394 -> NULL | ... K98: =Details2!K394 -> NULL
B99: =Details2!B395 -> Army | C99: =Details2!C395 -> 0125 | D99: =Details2!D395 -> Ft. Lewis (Madigan Army Medical Center) | E99: =Details2!E395 -> H | F99: =Details2!F395 -> 7114019.4 | G99: =Details2!G395 -> 7529362 | H99: =Details2!H395 -> 6306181.2 | I99: =Details2!I395 -> 6233380 | ... K99: =Details2!K395 -> 6063340.3
B100: =Details2!B396 -> Army | C100: =Details2!C396 -> 0131 | D100: =Details2!D396 -> Ft. Irwin (Weed Army Community Hospital) | E100: =Details2!E396 -> H | F100: =Details2!F396 -> 13519.05 | G100: =Details2!G396 -> 29120.36 | H100: =Details2!H396 -> 9174.08 | I100: =Details2!I396 -> 5191.53 | ... K100: =Details2!K396 -> 0
B101: =Details2!B397 -> Army | C101: =Details2!C397 -> 0206 | D101: =Details2!D397 -> Yuma Proving Grounds | E101: =Details2!E397 -> I | F101: =Details2!F397 -> NULL | G101: =Details2!G397 -> NULL | H101: =Details2!H397 -> NULL | I101: =Details2!I397 -> NULL | ... K101: =Details2!K397 -> NULL
B102: =Details2!B398 -> Army | C102: =Details2!C398 -> 0256 | D102: =Details2!D398 -> Pentagon Army Health Clinic | E102: =Details2!E398 -> I | F102: =Details2!F398 -> NULL | G102: =Details2!G398 -> NULL | H102: =Details2!H398 -> NULL | I102: =Details2!I398 -> NULL | ... K102: =Details2!K398 -> NULL
B103: =Details2!B399 -> Army | C103: =Details2!C399 -> 0273 | D103: =Details2!D399 -> Ft. McPherson (Lawrence Joel Army Health Clinic) | E103: =Details2!E399 -> I | F103: =Details2!F399 -> NULL | G103: =Details2!G399 -> NULL | H103: =Details2!H399 -> NULL | I103: =Details2!I399 -> NULL | ... K103: =Details2!K399 -> NULL
B104: =Details2!B400 -> Army | C104: =Details2!C400 -> 0308 | D104: =Details2!D400 -> Aberdeen Proving Grounds (Kirk Army Health Clinic) | E104: =Details2!E400 -> I | F104: =Details2!F400 -> NULL | G104: =Details2!G400 -> NULL | H104: =Details2!H400 -> NULL | I104: =Details2!I400 -> NULL | ... K104: =Details2!K400 -> NULL
B105: =Details2!B401 -> Army | C105: =Details2!C401 -> 0309 | D105: =Details2!D401 -> Ft. Detrick US Army Health Clinic | E105: =Details2!E401 -> I | F105: =Details2!F401 -> NULL | G105: =Details2!G401 -> NULL | H105: =Details2!H401 -> NULL | I105: =Details2!I401 -> NULL | ... K105: =Details2!K401 -> NULL
B106: =Details2!B402 -> Army | C106: =Details2!C402 -> 0330 | D106: =Details2!D402 -> Ft. Drum (Guthrie Army Health Clinic) | E106: =Details2!E402 -> C | F106: =Details2!F402 -> NULL | G106: =Details2!G402 -> NULL | H106: =Details2!H402 -> NULL | I106: =Details2!I402 -> NULL | ... K106: =Details2!K402 -> NULL
B107: =Details2!B403 -> Army | C107: =Details2!C403 -> 0350 | D107: =Details2!D403 -> Ft. Indiantown Gap US Army Health Clinic | E107: =Details2!E403 -> I | F107: =Details2!F403 -> NULL | G107: =Details2!G403 -> NULL | H107: =Details2!H403 -> NULL | I107: =Details2!I403 -> NULL | ... K107: =Details2!K403 -> NULL
B108: =Details2!B404 -> Army | C108: =Details2!C404 -> 0351 | D108: =Details2!D404 -> Letterkenny US Army Health Clinic | E108: =Details2!E404 -> I | F108: =Details2!F404 -> NULL | G108: =Details2!G404 -> NULL | H108: =Details2!H404 -> NULL | I108: =Details2!I404 -> NULL | ... K108: =Details2!K404 -> NULL
B109: =Details2!B405 -> Army | C109: =Details2!C405 -> 0352 | D109: =Details2!D405 -> Carlisle (Dunham Army Health Clinic) | E109: =Details2!E405 -> C | F109: =Details2!F405 -> NULL | G109: =Details2!G405 -> NULL | H109: =Details2!H405 -> NULL | I109: =Details2!I405 -> NULL | ... K109: =Details2!K405 -> NULL
... B130: =Details2!B426 -> Navy | C130: =Details2!C426 -> 0092 | D130: =Details2!D426 -> NHC Cherry Point | E130: =Details2!E426 -> H | F130: =Details2!F426 -> 0 | G130: =Details2!G426 -> NULL | H130: =Details2!H426 -> NULL | I130: =Details2!I426 -> NULL | ... K130: =Details2!K426 -> NULL
B131: =Details2!B427 -> Navy | C131: =Details2!C427 -> 0100 | D131: =Details2!D427 -> NHC New England | E131: =Details2!E427 -> C | F131: =Details2!F427 -> 0 | G131: =Details2!G427 -> NULL | H131: =Details2!H427 -> NULL | I131: =Details2!I427 -> NULL | ... K131: =Details2!K427 -> NULL | L131: ='IP $ Collections by DMIS'!L131 -> ok
B132: =Details2!B428 -> Navy | C132: =Details2!C428 -> 0103 | D132: =Details2!D428 -> NHC Charleston | E132: =Details2!E428 -> H | F132: =Details2!F428 -> NULL | G132: =Details2!G428 -> NULL | H132: =Details2!H428 -> NULL | I132: =Details2!I428 -> NULL | ... K132: =Details2!K428 -> NULL | L132: ='IP $ Collections by DMIS'!L132 -> does not report IP
B133: =Details2!B429 -> Navy | C133: =Details2!C429 -> 0104 | D133: =Details2!D429 -> NH Beaufort | E133: =Details2!E429 -> H | F133: =Details2!F429 -> 90868.65 | G133: =Details2!G429 -> 6711.65 | H133: =Details2!H429 -> 0 | I133: =Details2!I429 -> 32779.28 | ... K133: =Details2!K429 -> 24528.81
B134: =Details2!B430 -> Navy | C134: =Details2!C430 -> 0107 | D134: =Details2!D430 -> NBHC NSA Mid-South | E134: =Details2!E430 -> C | F134: =Details2!F430 -> NULL | G134: =Details2!G430 -> NULL | H134: =Details2!H430 -> NULL | I134: =Details2!I430 -> NULL | ... K134: =Details2!K430 -> NULL
B135: =Details2!B431 -> Navy | C135: =Details2!C431 -> 0118 | D135: =Details2!D431 -> NHC Corpus Christi | E135: =Details2!E431 -> C | F135: =Details2!F431 -> NULL | G135: =Details2!G431 -> NULL | H135: =Details2!H431 -> NULL | I135: =Details2!I431 -> NULL | ... K135: =Details2!K431 -> NULL
B136: =Details2!B432 -> Navy | C136: =Details2!C432 -> 0124 | D136: =Details2!D432 -> NMC Portsmouth | E136: =Details2!E432 -> H | F136: =Details2!F432 -> 3033747.7 | G136: =Details2!G432 -> 3363117.4 | H136: =Details2!H432 -> 2919615.1 | I136: =Details2!I432 -> 2730929.7 | ... K136: =Details2!K432 -> 3176340.8
B137: =Details2!B433 -> Navy | C137: =Details2!C433 -> 0126 | D137: =Details2!D433 -> NH Bremerton | E137: =Details2!E433 -> H | F137: =Details2!F433 -> 410443.7 | G137: =Details2!G433 -> 370595.53 | H137: =Details2!H433 -> 539480.61 | I137: =Details2!I433 -> 250224.75 | ... K137: =Details2!K433 -> 499333.28
B138: =Details2!B434 -> Navy | C138: =Details2!C434 -> 0127 | D138: =Details2!D434 -> NH Oak Harbor | E138: =Details2!E434 -> H | F138: =Details2!F434 -> 47395.33 | G138: =Details2!G434 -> 69852.9 | H138: =Details2!H434 -> 4103.65 | I138: =Details2!I434 -> 21074.82 | ... K138: =Details2!K434 -> 39748.87
B139: =Details2!B435 -> Navy | C139: =Details2!C435 -> 0280 | D139: =Details2!D435 -> NHC Hawaii | E139: =Details2!E435 -> C | F139: =Details2!F435 -> NULL | G139: =Details2!G435 -> NULL | H139: =Details2!H435 -> NULL | I139: =Details2!I435 -> NULL | ... K139: =Details2!K435 -> NULL
B140: =Details2!B436 -> Navy | C140: =Details2!C436 -> 0297 | D140: =Details2!D436 -> NACC New Orleans | E140: =Details2!E436 -> C | F140: =Details2!F436 -> NULL | G140: =Details2!G436 -> NULL | H140: =Details2!H436 -> NULL | I140: =Details2!I436 -> NULL | ... K140: =Details2!K436 -> NULL
B141: =Details2!B437 -> Navy | C141: =Details2!C437 -> 0306 | D141: =Details2!D437 -> NHC Annapolis | E141: =Details2!E437 -> C | F141: =Details2!F437 -> NULL | G141: =Details2!G437 -> NULL | H141: =Details2!H437 -> NULL | I141: =Details2!I437 -> NULL | ... K141: =Details2!K437 -> NULL
B142: =Details2!B438 -> Navy | C142: =Details2!C438 -> 0321 | D142: =Details2!D438 -> NBHC Portsmouth (NH) | E142: =Details2!E438 -> C | F142: =Details2!F438 -> NULL | G142: =Details2!G438 -> NULL | H142: =Details2!H438 -> NULL | I142: =Details2!I438 -> NULL | ... K142: =Details2!K438 -> NULL
B143: =Details2!B439 -> Navy | C143: =Details2!C439 -> 0385 | D143: =Details2!D439 -> NHC Quantico | E143: =Details2!E439 -> C | F143: =Details2!F439 -> NULL | G143: =Details2!G439 -> NULL | H143: =Details2!H439 -> NULL | I143: =Details2!I439 -> NULL | ... K143: =Details2!K439 -> NULL
B144: =Details2!B440 -> Navy | C144: =Details2!C440 -> 0616 | D144: =Details2!D440 -> NH Roosevelt Roads | E144: =Details2!E440 -> I | F144: =Details2!F440 -> NULL | G144: =Details2!G440 -> NULL | H144: =Details2!H440 -> NULL | I144: =Details2!I440 -> NULL | ... K144: =Details2!K440 -> NULL | L144: ='IP $ Collections by DMIS'!L144 -> closed
B145: =Details2!B441 -> Navy | C145: =Details2!C441 -> 0620 | D145: =Details2!D441 -> NH Guam | E145: =Details2!E441 -> H | F145: =Details2!F441 -> 260787.64 | G145: =Details2!G441 -> 797127.65 | H145: =Details2!H441 -> 815969.34 | I145: =Details2!I441 -> 674412.42 | ... K145: =Details2!K441 -> 425846.75
B146: =Details2!B442 -> Navy | C146: =Details2!C442 -> 0621 | D146: =Details2!D442 -> NH Okinawa | E146: =Details2!E442 -> I | F146: =Details2!F442 -> NULL | G146: =Details2!G442 -> NULL | H146: =Details2!H442 -> NULL | I146: =Details2!I442 -> NULL | ... K146: =Details2!K442 -> NULL | L146: ='IP $ Collections by DMIS'!L146 -> not reporting TPC
B147: =Details2!B443 -> Navy | C147: =Details2!C443 -> 0622 | D147: =Details2!D443 -> NH Yokosuka | E147: =Details2!E443 -> I | F147: =Details2!F443 -> NULL | G147: =Details2!G443 -> NULL | H147: =Details2!H443 -> NULL | I147: =Details2!I443 -> NULL | ... K147: =Details2!K443 -> NULL | L147: ='IP $ Collections by DMIS'!L147 -> not reporting TPC
B149: Air Force total | F149: =SUM(F5:F69) -> 21513984 | G149: =SUM(G5:G69) -> 18345513 | H149: =SUM(H5:H69) -> 21122300 | I149: =SUM(I5:I69) -> 14257131 | J149: =SUM(J5:J69) -> 11803000 | K149: =SUM(K5:K69) -> 11924190
B150: Army total | F150: =SUM(F71:F117) -> 41796650 | G150: =SUM(G71:G117) -> 43840984 | H150: =SUM(H71:H117) -> 38071563 | I150: =SUM(I71:I117) -> 41875744 | J150: =SUM(J71:J117) -> 38551743 | K150: =SUM(K71:K117) -> 30921259
B151: JTF total | F151: =SUM(F118:F119) -> 8693683.2 | G151: =SUM(G118:G119) -> 4677848.2 | H151: =SUM(H118:H119) -> 4283310.2 | I151: =SUM(I118:I119) -> 4905576.9 | J151: =SUM(J118:J119) -> 10642653 | K151: =SUM(K118:K119) -> 5223259.2
B152: Navy total - OK and YO* | F152: =SUM(F120:F147) -> 8975998 | G152: =SUM(G120:G147) -> 9742174.1 | H152: =SUM(H120:H147) -> 8710275.9 | I152: =SUM(I120:I147) -> 8865577.8 | J152: =SUM(J120:J147) -> 9483844.8 | K152: =SUM(K120:K147) -> 8231457.7 | L152: *excludes NH Okinawa and NH Yokosuka data
B153: All Services total | F153: =SUM(F5:F147) -> 80980315 | G153: =SUM(G5:G147) -> 76606519 | H153: =SUM(H5:H147) -> 72187449 | I153: =SUM(I5:I147) -> 69904030 | J153: =SUM(J5:J147) -> 70481241 | K153: =SUM(K5:K147) -> 56300166
B155: Is AF total for a FY equal to Total Billings tab? | F155: =IF(F149='Total Billings'!C6,"yes","no") -> yes | G155: =IF(G149='Total Billings'!D6,"yes","no") -> yes | H155: =IF(H149='Total Billings'!E6,"yes","no") -> yes | I155: =IF(I149='Total Billings'!F6,"yes","no") -> yes | J155: =IF(J149='Total Billings'!G6,"yes","no") -> yes | K155: =IF(K149='Total Billings'!H6,"yes","no") -> yes
B156: Is A total for a FY equal to Total Billings tab? | F156: =IF(F150='Total Billings'!C7,"yes","no") -> yes | G156: =IF(G150='Total Billings'!D7,"yes","no") -> yes | H156: =IF(H150='Total Billings'!E7,"yes","no") -> yes | I156: =IF(I150='Total Billings'!F7,"yes","no") -> yes | J156: =IF(J150='Total Billings'!G7,"yes","no") -> yes | K156: =IF(K150='Total Billings'!H7,"yes","no") -> yes
B157: Is N total for a FY equal to Total Billings tab? | F157: =IF(F152='Total Billings'!C9,"yes","no") -> yes | G157: =IF(G152='Total Billings'!D9,"yes","no") -> yes | H157: =IF(H152='Total Billings'!E9,"yes","no") -> yes | I157: =IF(I152='Total Billings'!F9,"yes","no") -> yes | J157: =IF(J152='Total Billings'!G9,"yes","no") -> yes | K157: =IF(K152='Total Billings'!H9,"yes","no") -> yes | L157: *excludes NH Okinawa and NH Yokosuka data
B158: Is JTF total for a FY equal to Total Billings tab? | F158: =IF(F151='Total Billings'!C8,"yes","no") -> yes | G158: =IF(G151='Total Billings'!D8,"yes","no") -> yes | H158: =IF(H151='Total Billings'!E8,"yes","no") -> yes | I158: =IF(I151='Total Billings'!F8,"yes","no") -> yes | J158: =IF(J151='Total Billings'!G8,"yes","no") -> yes | K158: =IF(K151='Total Billings'!H8,"yes","no") -> yes
B159: Is All Services total for a FY equal to Total Billings tab? | F159: =IF(F153='Total Billings'!C10,"yes","no") -> yes | G159: =IF(G153='Total Billings'!D10,"yes","no") -> yes | H159: =IF(H153='Total Billings'!E10,"yes","no") -> yes | I159: =IF(I153='Total Billings'!F10,"yes","no") -> yes | J159: =IF(J153='Total Billings'!G10,"yes","no") -> yes | K159: =IF(K153='Total Billings'!H10,"yes","no") -> yes

Sheet IP Collections by DMIS ID
A1: Total Collections metric QC by DMIS ID
B3: Service | C3: dmis_id | D3: dmis_name | E3: facility_type | G3: Number of IP Collections for CFY
F4: FY2008 | G4: FY2009 | H4: FY2010 | I4: FY2011 | J4: FY2012 | K4: FY2013
B5: =Details2!B597 -> Air Force | C5: =Details2!C597 -> 0004 | D5: =Details2!D597 -> Maxwell AFB (42nd Medical Group) | E5: =Details2!E597 -> C | F5: =Details2!F597 -> NULL | G5: =Details2!G597 -> NULL | H5: =Details2!H597 -> NULL | I5: =Details2!I597 -> NULL | ... K5: =Details2!K597 -> NULL | L5: =IF(AND(E5<>"H",K5="NULL")," ","review")
B6: =Details2!B598 -> Air Force | C6: =Details2!C598 -> 0006 | D6: =Details2!D598 -> Elmendorf AFB (3rd Medical group) | E6: =Details2!E598 -> H | F6: =Details2!F598 -> 76 | G6: =Details2!G598 -> 54 | H6: =Details2!H598 -> 59 | I6: =Details2!I598 -> 56 | ... K6: =Details2!K598 -> 56
B7: =Details2!B599 -> Air Force | C7: =Details2!C599 -> 0009 | D7: =Details2!D599 -> Luke AFB (56th Medical Group) | E7: =Details2!E599 -> C | F7: =Details2!F599 -> NULL | G7: =Details2!G599 -> NULL | H7: =Details2!H599 -> NULL | I7: =Details2!I599 -> NULL | ... K7: =Details2!K599 -> NULL
B8: =Details2!B600 -> Air Force | C8: =Details2!C600 -> 0010 | D8: =Details2!D600 -> Davis Monthan AFB (355th Medical Group) | E8: =Details2!E600 -> C | F8: =Details2!F600 -> NULL | G8: =Details2!G600 -> NULL | H8: =Details2!H600 -> NULL | I8: =Details2!I600 -> NULL | ... K8: =Details2!K600 -> NULL
B9: =Details2!B601 -> Air Force | C9: =Details2!C601 -> 0013 | D9: =Details2!D601 -> Little Rock AFB (314th Medical Group) | E9: =Details2!E601 -> C | F9: =Details2!F601 -> NULL | G9: =Details2!G601 -> NULL | H9: =Details2!H601 -> NULL | I9: =Details2!I601 -> NULL | ... K9: =Details2!K601 -> NULL
B10: =Details2!B602 -> Air Force | C10: =Details2!C602 -> 0014 | D10: =Details2!D602 -> Travis AFB (60th Medical Group) | E10: =Details2!E602 -> H | F10: =Details2!F602 -> 41 | G10: =Details2!G602 -> 39 | H10: =Details2!H602 -> 23 | I10: =Details2!I602 -> 34 | ... K10: =Details2!K602 -> 41
B11: =Details2!B603 -> Air Force | C11: =Details2!C603 -> 0015 | D11: =Details2!D603 -> Beale AFB (9th Medical Group) | E11: =Details2!E603 -> C | F11: =Details2!F603 -> NULL | G11: =Details2!G603 -> NULL | H11: =Details2!H603 -> NULL | I11: =Details2!I603 -> NULL | ... K11: =Details2!K603 -> NULL
B12: =Details2!B604 -> Air Force | C12: =Details2!C604 -> 0018 | D12: =Details2!D604 -> Vandenberg AFB (30th Medical Group) | E12: =Details2!E604 -> C | F12: =Details2!F604 -> NULL | G12: =Details2!G604 -> NULL | H12: =Details2!H604 -> NULL | I12: =Details2!I604 -> NULL | ... K12: =Details2!K604 -> NULL
B13: =Details2!B605 -> Air Force | C13: =Details2!C605 -> 0019 | D13: =Details2!D605 -> Edwards AFB (95th Medical Group) | E13: =Details2!E605 -> C | F13: =Details2!F605 -> NULL | G13: =Details2!G605 -> NULL | H13: =Details2!H605 -> NULL | I13: =Details2!I605 -> NULL | ... K13: =Details2!K605 -> NULL
B14: =Details2!B606 -> Air Force | C14: =Details2!C606 -> 0033 | D14: =Details2!D606 -> USAF Academy (10th Medical Group) | E14: =Details2!E606 -> H | F14: =Details2!F606 -> 1 | G14: =Details2!G606 -> 0 | H14: =Details2!H606 -> NULL | I14: =Details2!I606 -> NULL | ... K14: =Details2!K606 -> NULL
B15: =Details2!B607 -> Air Force | C15: =Details2!C607 -> 0036 | D15: =Details2!D607 -> Dover AFB (436th Medical Group) | E15: =Details2!E607 -> C | F15: =Details2!F607 -> NULL | G15: =Details2!G607 -> NULL | H15: =Details2!H607 -> NULL | I15: =Details2!I607 -> NULL | ... K15: =Details2!K607 -> NULL
B16: =Details2!B608 -> Air Force | C16: =Details2!C608 -> 0042 | D16: =Details2!D608 -> Eglin AFB (96th Medical Group) | E16: =Details2!E608 -> H | F16: =Details2!F608 -> 32 | G16: =Details2!G608 -> 26 | H16: =Details2!H608 -> 30 | I16: =Details2!I608 -> 28 | ... K16: =Details2!K608 -> 19
B17: =Details2!B609 -> Air Force | C17: =Details2!C609 -> 0043 | D17: =Details2!D609 -> Tyndall AFB (325th Medical Group) | E17: =Details2!E609 -> C | F17: =Details2!F609 -> NULL | G17: =Details2!G609 -> NULL | H17: =Details2!H609 -> NULL | I17: =Details2!I609 -> NULL | ... K17: =Details2!K609 -> NULL
... B38: =Details2!B630 -> Air Force | C38: =Details2!C630 -> 0094 | D38: =Details2!D630 -> Minot AFB (5th Medical Group) | E38: =Details2!E630 -> C | F38: =Details2!F630 -> NULL | G38: =Details2!G630 -> NULL | H38: =Details2!H630 -> NULL | I38: =Details2!I630 -> NULL | ... K38: =Details2!K630 -> NULL
B39: =Details2!B631 -> Air Force | C39: =Details2!C631 -> 0095 | D39: =Details2!D631 -> Wright Patterson AFB (88th Medical Group) | E39: =Details2!E631 -> H | F39: =Details2!F631 -> 112 | G39: =Details2!G631 -> 114 | H39: =Details2!H631 -> 138 | I39: =Details2!I631 -> 104 | ... K39: =Details2!K631 -> 88 | N39: ok
B40: =Details2!B632 -> Air Force | C40: =Details2!C632 -> 0096 | D40: =Details2!D632 -> Tinker AFB (72th Medical Group) | E40: =Details2!E632 -> C | F40: =Details2!F632 -> NULL | G40: =Details2!G632 -> NULL | H40: =Details2!H632 -> NULL | I40: =Details2!I632 -> NULL | ... K40: =Details2!K632 -> NULL
B41: =Details2!B633 -> Air Force | C41: =Details2!C633 -> 0097 | D41: =Details2!D633 -> Altus AFB (97th Medical Group) | E41: =Details2!E633 -> C | F41: =Details2!F633 -> NULL | G41: =Details2!G633 -> NULL | H41: =Details2!H633 -> NULL | I41: =Details2!I633 -> NULL | ... K41: =Details2!K633 -> NULL
B42: =Details2!B634 -> Air Force | C42: =Details2!C634 -> 0101 | D42: =Details2!D634 -> Shaw AFB (20th Medical Group) | E42: =Details2!E634 -> C | F42: =Details2!F634 -> NULL | G42: =Details2!G634 -> NULL | H42: =Details2!H634 -> NULL | I42: =Details2!I634 -> NULL | ... K42: =Details2!K634 -> NULL
B43: =Details2!B635 -> Air Force | C43: =Details2!C635 -> 0106 | D43: =Details2!D635 -> Ellsworth AFB (28th Medical Group) | E43: =Details2!E635 -> C | F43: =Details2!F635 -> NULL | G43: =Details2!G635 -> NULL | H43: =Details2!H635 -> NULL | I43: =Details2!I635 -> NULL | ... K43: =Details2!K635 -> NULL
B44: =Details2!B636 -> Air Force | C44: =Details2!C636 -> 0112 | D44: =Details2!D636 -> Dyess AFB (7th Medical Group) | E44: =Details2!E636 -> C | F44: =Details2!F636 -> NULL | G44: =Details2!G636 -> NULL | H44: =Details2!H636 -> NULL | I44: =Details2!I636 -> NULL | ... K44: =Details2!K636 -> NULL
B45: =Details2!B637 -> Air Force | C45: =Details2!C637 -> 0113 | D45: =Details2!D637 -> Sheppard AFB (82nd Medical Group) | E45: =Details2!E637 -> C | F45: =Details2!F637 -> NULL | G45: =Details2!G637 -> NULL | H45: =Details2!H637 -> NULL | I45: =Details2!I637 -> NULL | ... K45: =Details2!K637 -> NULL
B46: =Details2!B638 -> Air Force | C46: =Details2!C638 -> 0114 | D46: =Details2!D638 -> Laughlin AFB (47th Medical Group) | E46: =Details2!E638 -> C | F46: =Details2!F638 -> NULL | G46: =Details2!G638 -> NULL | H46: =Details2!H638 -> NULL | I46: =Details2!I638 -> NULL | ... K46: =Details2!K638 -> NULL
B47: =Details2!B639 -> Air Force | C47: =Details2!C639 -> 0117 | D47: =Details2!D639 -> Lackland AFB (59th Medical Wing) | E47: =Details2!E639 -> H | F47: =Details2!F639 -> 205 | G47: =Details2!G639 -> 155 | H47: =Details2!H639 -> 242 | I47: =Details2!I639 -> 139 | ... K47: =Details2!K639 -> 0
B48: =Details2!B640 -> Air Force | C48: =Details2!C640 -> 0119 | D48: =Details2!D640 -> Hill AFB (75th Medical Group) | E48: =Details2!E640 -> C | F48: =Details2!F640 -> NULL | G48: =Details2!G640 -> NULL | H48: =Details2!H640 -> NULL | I48: =Details2!I640 -> NULL | ... K48: =Details2!K640 -> NULL
B49: =Details2!B641 -> Air Force | C49: =Details2!C641 -> 0120 | D49: =Details2!D641 -> Langley AFB (1st Medical Group) | E49: =Details2!E641 -> H | F49: =Details2!F641 -> 2 | G49: =Details2!G641 -> 8 | H49: =Details2!H641 -> 5 | I49: =Details2!I641 -> 8 | ... K49: =Details2!K641 -> 22
B50: =Details2!B642 -> Air Force | C50: =Details2!C642 -> 0128 | D50: =Details2!D642 -> Fairchild AFB (92nd Medical Group) | E50: =Details2!E642 -> C | F50: =Details2!F642 -> NULL | G50: =Details2!G642 -> NULL | H50: =Details2!H642 -> NULL | I50: =Details2!I642 -> NULL | ... K50: =Details2!K642 -> NULL
B51: =Details2!B643 -> Air Force | C51: =Details2!C643 -> 0129 | D51: =Details2!D643 -> F.E. Warren AFB (90th Medical Group) | E51: =Details2!E643 -> C | F51: =Details2!F643 -> NULL | G51: =Details2!G643 -> NULL | H51: =Details2!H643 -> NULL | I51: =Details2!I643 -> NULL | ... K51: =Details2!K643 -> NULL
... B130: =Details2!B722 -> Navy | C130: =Details2!C722 -> 0092 | D130: =Details2!D722 -> NHC Cherry Point | E130: =Details2!E722 -> H | F130: =Details2!F722 -> 0 | G130: =Details2!G722 -> NULL | H130: =Details2!H722 -> NULL | I130: =Details2!I722 -> NULL | ... K130: =Details2!K722 -> NULL
B131: =Details2!B723 -> Navy | C131: =Details2!C723 -> 0100 | D131: =Details2!D723 -> NHC New England | E131: =Details2!E723 -> C | F131: =Details2!F723 -> 0 | G131: =Details2!G723 -> NULL | H131: =Details2!H723 -> NULL | I131: =Details2!I723 -> NULL | ... K131: =Details2!K723 -> NULL | L131: ok
B132: =Details2!B724 -> Navy | C132: =Details2!C724 -> 0103 | D132: =Details2!D724 -> NHC Charleston | E132: =Details2!E724 -> H | F132: =Details2!F724 -> NULL | G132: =Details2!G724 -> NULL | H132: =Details2!H724 -> NULL | I132: =Details2!I724 -> NULL | ... K132: =Details2!K724 -> NULL | L132: does not report IP
B133: =Details2!B725 -> Navy | C133: =Details2!C725 -> 0104 | D133: =Details2!D725 -> NH Beaufort | E133: =Details2!E725 -> H | F133: =Details2!F725 -> 2 | G133: =Details2!G725 -> 0 | H133: =Details2!H725 -> 0 | I133: =Details2!I725 -> 0 | ... K133: =Details2!K725 -> 2
B134: =Details2!B726 -> Navy | C134: =Details2!C726 -> 0107 | D134: =Details2!D726 -> NBHC NSA Mid-South | E134: =Details2!E726 -> C | F134: =Details2!F726 -> NULL | G134: =Details2!G726 -> NULL | H134: =Details2!H726 -> NULL | I134: =Details2!I726 -> NULL | ... K134: =Details2!K726 -> NULL
B135: =Details2!B727 -> Navy | C135: =Details2!C727 -> 0118 | D135: =Details2!D727 -> NHC Corpus Christi | E135: =Details2!E727 -> C | F135: =Details2!F727 -> NULL | G135: =Details2!G727 -> NULL | H135: =Details2!H727 -> NULL | I135: =Details2!I727 -> NULL | ... K135: =Details2!K727 -> NULL
B136: =Details2!B728 -> Navy | C136: =Details2!C728 -> 0124 | D136: =Details2!D728 -> NMC Portsmouth | E136: =Details2!E728 -> H | F136: =Details2!F728 -> 70 | G136: =Details2!G728 -> 60 | H136: =Details2!H728 -> 65 | I136: =Details2!I728 -> 49 | ... K136: =Details2!K728 -> 63
B137: =Details2!B729 -> Navy | C137: =Details2!C729 -> 0126 | D137: =Details2!D729 -> NH Bremerton | E137: =Details2!E729 -> H | F137: =Details2!F729 -> 23 | G137: =Details2!G729 -> 30 | H137: =Details2!H729 -> 39 | I137: =Details2!I729 -> 19 | ... K137: =Details2!K729 -> 26
B138: =Details2!B730 -> Navy | C138: =Details2!C730 -> 0127 | D138: =Details2!D730 -> NH Oak Harbor | E138: =Details2!E730 -> H | F138: =Details2!F730 -> 4 | G138: =Details2!G730 -> 6 | H138: =Details2!H730 -> 0 | I138: =Details2!I730 -> 1 | ... K138: =Details2!K730 -> 4
B139: =Details2!B731 -> Navy | C139: =Details2!C731 -> 0280 | D139: =Details2!D731 -> NHC Hawaii | E139: =Details2!E731 -> C | F139: =Details2!F731 -> NULL | G139: =Details2!G731 -> NULL | H139: =Details2!H731 -> NULL | I139: =Details2!I731 -> NULL | ... K139: =Details2!K731 -> NULL
B140: =Details2!B732 -> Navy | C140: =Details2!C732 -> 0297 | D140: =Details2!D732 -> NACC New Orleans | E140: =Details2!E732 -> C | F140: =Details2!F732 -> NULL | G140: =Details2!G732 -> NULL | H140: =Details2!H732 -> NULL | I140: =Details2!I732 -> NULL | ... K140: =Details2!K732 -> NULL
B141: =Details2!B733 -> Navy | C141: =Details2!C733 -> 0306 | D141: =Details2!D733 -> NHC Annapolis | E141: =Details2!E733 -> C | F141: =Details2!F733 -> NULL | G141: =Details2!G733 -> NULL | H141: =Details2!H733 -> NULL | I141: =Details2!I733 -> NULL | ... K141: =Details2!K733 -> NULL
B142: =Details2!B734 -> Navy | C142: =Details2!C734 -> 0321 | D142: =Details2!D734 -> NBHC Portsmouth (NH) | E142: =Details2!E734 -> C | F142: =Details2!F734 -> NULL | G142: =Details2!G734 -> NULL | H142: =Details2!H734 -> NULL | I142: =Details2!I734 -> NULL | ... K142: =Details2!K734 -> NULL
B143: =Details2!B735 -> Navy | C143: =Details2!C735 -> 0385 | D143: =Details2!D735 -> NHC Quantico | E143: =Details2!E735 -> C | F143: =Details2!F735 -> NULL | G143: =Details2!G735 -> NULL | H143: =Details2!H735 -> NULL | I143: =Details2!I735 -> NULL | ... K143: =Details2!K735 -> NULL
B144: =Details2!B736 -> Navy | C144: =Details2!C736 -> 0616 | D144: =Details2!D736 -> NH Roosevelt Roads | E144: =Details2!E736 -> I | F144: =Details2!F736 -> NULL | G144: =Details2!G736 -> NULL | H144: =Details2!H736 -> NULL | I144: =Details2!I736 -> NULL | ... K144: =Details2!K736 -> NULL | L144: closed
B145: =Details2!B737 -> Navy | C145: =Details2!C737 -> 0620 | D145: =Details2!D737 -> NH Guam | E145: =Details2!E737 -> H | F145: =Details2!F737 -> 3 | G145: =Details2!G737 -> 5 | H145: =Details2!H737 -> 6 | I145: =Details2!I737 -> 14 | ... K145: =Details2!K737 -> 2
B146: =Details2!B738 -> Navy | C146: =Details2!C738 -> 0621 | D146: =Details2!D738 -> NH Okinawa | E146: =Details2!E738 -> I | F146: =Details2!F738 -> NULL | G146: =Details2!G738 -> NULL | H146: =Details2!H738 -> NULL | I146: =Details2!I738 -> NULL | ... K146: =Details2!K738 -> NULL | L146: not reporting TPC
B147: =Details2!B739 -> Navy | C147: =Details2!C739 -> 0622 | D147: =Details2!D739 -> NH Yokosuka | E147: =Details2!E739 -> I | F147: =Details2!F739 -> NULL | G147: =Details2!G739 -> NULL | H147: =Details2!H739 -> NULL | I147: =Details2!I739 -> NULL | ... K147: =Details2!K739 -> NULL | L147: not reporting TPC
B149: Air Force total | F149: =SUM(F5:F69) -> 529 | G149: =SUM(G5:G69) -> 438 | H149: =SUM(H5:H69) -> 544 | I149: =SUM(I5:I69) -> 467 | J149: =SUM(J5:J69) -> 275 | K149: =SUM(K5:K69) -> 281
B150: Army total | F150: =SUM(F71:F117) -> 1027 | G150: =SUM(G71:G117) -> 1149 | H150: =SUM(H71:H117) -> 1120 | I150: =SUM(I71:I117) -> 996 | J150: =SUM(J71:J117) -> 1122 | K150: =SUM(K71:K117) -> 902
B151: JTF total | F151: =SUM(F118:F119) -> 213 | G151: =SUM(G118:G119) -> 113 | H151: =SUM(H118:H119) -> 145 | I151: =SUM(I118:I119) -> 140 | J151: =SUM(J118:J119) -> 175 | K151: =SUM(K118:K119) -> 115
B152: Navy total - OK and YO | F152: =SUM(F120:F147) -> 226 | G152: =SUM(G120:G147) -> 236 | H152: =SUM(H120:H147) -> 245 | I152: =SUM(I120:I147) -> 218 | J152: =SUM(J120:J147) -> 202 | K152: =SUM(K120:K147) -> 224 | L152: *excludes NH Okinawa and NH Yokosuka data
B153: All Services total | F153: =SUM(F5:F147) -> 1995 | G153: =SUM(G5:G147) -> 1936 | H153: =SUM(H5:H147) -> 2054 | I153: =SUM(I5:I147) -> 1821 | J153: =SUM(J5:J147) -> 1774 | K153: =SUM(K5:K147) -> 1522
B155: Is AF total for a FY equal to Collected to Claims Ratio Rpt tab? | F155: =IF(F149='Collected to Claims Ratio'!C7,"yes","no") -> yes | G155: =IF(G149='Collected to Claims Ratio'!D7,"yes","no") -> yes | H155: =IF(H149='Collected to Claims Ratio'!E7,"yes","no") -> yes | I155: =IF(I149='Collected to Claims Ratio'!F7,"yes","no") -> yes | J155: =IF(J149='Collected to Claims Ratio'!G7,"yes","no") -> yes | K155: =IF(K149='Collected to Claims Ratio'!H7,"yes","no") -> yes
B156: Is A total for a FY equal to Collected to Claims Ratio Rpt tab? | F156: =IF(F150='Collected to Claims Ratio'!C8,"yes","no") -> yes | G156: =IF(G150='Collected to Claims Ratio'!D8,"yes","no") -> yes | H156: =IF(H150='Collected to Claims Ratio'!E8,"yes","no") -> yes | I156: =IF(I150='Collected to Claims Ratio'!F8,"yes","no") -> yes | J156: =IF(J150='Collected to Claims Ratio'!G8,"yes","no") -> yes | K156: =IF(K150='Collected to Claims Ratio'!H8,"yes","no") -> yes
B157: Is N total for a FY equal to Collected to Claims Ratio Rpt tab? | F157: =IF(F152='Collected to Claims Ratio'!C10,"yes","no") -> yes | G157: =IF(G152='Collected to Claims Ratio'!D10,"yes","no") -> yes | H157: =IF(H152='Collected to Claims Ratio'!E10,"yes","no") -> yes | I157: =IF(I152='Collected to Claims Ratio'!F10,"yes","no") -> yes | J157: =IF(J152='Collected to Claims Ratio'!G10,"yes","no") -> yes | K157: =IF(K152='Collected to Claims Ratio'!H10,"yes","no") -> yes | L157: *excludes NH Okinawa and NH Yokosuka data
B158: Is JTF total for a FY equal to Collected to Claims Ratio Rpt tab? | F158: =IF(F151='Collected to Claims Ratio'!C9,"yes","no") -> yes | G158: =IF(G151='Collected to Claims Ratio'!D9,"yes","no") -> yes | H158: =IF(H151='Collected to Claims Ratio'!E9,"yes","no") -> yes | I158: =IF(I151='Collected to Claims Ratio'!F9,"yes","no") -> yes | J158: =IF(J151='Collected to Claims Ratio'!G9,"yes","no") -> yes | K158: =IF(K151='Collected to Claims Ratio'!H9,"yes","no") -> yes
B159: Is All Services total for a FY equal to Collected to Claims Ratio Rpt tab? | F159: =IF(F153='Collected to Claims Ratio'!C11,"yes","no") -> yes | G159: =IF(G153='Collected to Claims Ratio'!D11,"yes","no") -> yes | H159: =IF(H153='Collected to Claims Ratio'!E11,"yes","no") -> yes | I159: =IF(I153='Collected to Claims Ratio'!F11,"yes","no") -> yes | J159: =IF(J153='Collected to Claims Ratio'!G11,"yes","no") -> yes | K159: =IF(K153='Collected to Claims Ratio'!H11,"yes","no") -> yes

Sheet IP Claims by DMIS ID
A1: Total Collections metric QC by DMIS ID
B3: Service | C3: dmis_id | D3: dmis_name | E3: facility_type | G3: Number of IP Claims for CFY
F4: FY2008 | G4: FY2009 | H4: FY2010 | I4: FY2011 | J4: FY2012 | K4: FY2013
B5: =Details2!B745 -> Air Force | C5: =Details2!C745 -> 0004 | D5: =Details2!D745 -> Maxwell AFB (42nd Medical Group) | E5: =Details2!E745 -> C | F5: =Details2!F745 -> NULL | G5: =Details2!G745 -> NULL | H5: =Details2!H745 -> NULL | I5: =Details2!I745 -> NULL | ... K5: =Details2!K745 -> NULL | L5: =IF(AND(E5<>"H",K5="NULL")," ","review")
B6: =Details2!B746 -> Air Force | C6: =Details2!C746 -> 0006 | D6: =Details2!D746 -> Elmendorf AFB (3rd Medical group) | E6: =Details2!E746 -> H | F6: =Details2!F746 -> 163 | G6: =Details2!G746 -> 112 | H6: =Details2!H746 -> 134 | I6: =Details2!I746 -> 99 | ... K6: =Details2!K746 -> 135
B7: =Details2!B747 -> Air Force | C7: =Details2!C747 -> 0009 | D7: =Details2!D747 -> Luke AFB (56th Medical Group) | E7: =Details2!E747 -> C | F7: =Details2!F747 -> NULL | G7: =Details2!G747 -> NULL | H7: =Details2!H747 -> NULL | I7: =Details2!I747 -> NULL | ... K7: =Details2!K747 -> NULL | L7: ='IP $ Collections by DMIS'!L7 -> Inpatient closed down
B8: =Details2!B748 -> Air Force | C8: =Details2!C748 -> 0010 | D8: =Details2!D748 -> Davis Monthan AFB (355th Medical Group) | E8: =Details2!E748 -> C | F8: =Details2!F748 -> NULL | G8: =Details2!G748 -> NULL | H8: =Details2!H748 -> NULL | I8: =Details2!I748 -> NULL | ... K8: =Details2!K748 -> NULL
B9: =Details2!B749 -> Air Force | C9: =Details2!C749 -> 0013 | D9: =Details2!D749 -> Little Rock AFB (314th Medical Group) | E9: =Details2!E749 -> C | F9: =Details2!F749 -> NULL | G9: =Details2!G749 -> NULL | H9: =Details2!H749 -> NULL | I9: =Details2!I749 -> NULL | ... K9: =Details2!K749 -> NULL
B10: =Details2!B750 -> Air Force | C10: =Details2!C750 -> 0014 | D10: =Details2!D750 -> Travis AFB (60th Medical Group) | E10: =Details2!E750 -> H | F10: =Details2!F750 -> 144 | G10: =Details2!G750 -> 140 | H10: =Details2!H750 -> 118 | I10: =Details2!I750 -> 128 | ... K10: =Details2!K750 -> 156
B11: =Details2!B751 -> Air Force | C11: =Details2!C751 -> 0015 | D11: =Details2!D751 -> Beale AFB (9th Medical Group) | E11: =Details2!E751 -> C | F11: =Details2!F751 -> NULL | G11: =Details2!G751 -> NULL | H11: =Details2!H751 -> NULL | I11: =Details2!I751 -> NULL | ... K11: =Details2!K751 -> NULL
B12: =Details2!B752 -> Air Force | C12: =Details2!C752 -> 0018 | D12: =Details2!D752 -> Vandenberg AFB (30th Medical Group) | E12: =Details2!E752 -> C | F12: =Details2!F752 -> NULL | G12: =Details2!G752 -> NULL | H12: =Details2!H752 -> NULL | I12: =Details2!I752 -> NULL | ... K12: =Details2!K752 -> NULL
B13: =Details2!B753 -> Air Force | C13: =Details2!C753 -> 0019 | D13: =Details2!D753 -> Edwards AFB (95th Medical Group) | E13: =Details2!E753 -> C | F13: =Details2!F753 -> NULL | G13: =Details2!G753 -> NULL | H13: =Details2!H753 -> NULL | I13: =Details2!I753 -> NULL | ... K13: =Details2!K753 -> NULL
B14: =Details2!B754 -> Air Force | C14: =Details2!C754 -> 0033 | D14: =Details2!D754 -> USAF Academy (10th Medical Group) | E14: =Details2!E754 -> H | F14: =Details2!F754 -> 8 | G14: =Details2!G754 -> 0 | H14: =Details2!H754 -> NULL | I14: =Details2!I754 -> NULL | ... K14: =Details2!K754 -> NULL
B15: =Details2!B755 -> Air Force | C15: =Details2!C755 -> 0036 | D15: =Details2!D755 -> Dover AFB (436th Medical Group) | E15: =Details2!E755 -> C | F15: =Details2!F755 -> NULL | G15: =Details2!G755 -> NULL | H15: =Details2!H755 -> NULL | I15: =Details2!I755 -> NULL | ... K15: =Details2!K755 -> NULL
B16: =Details2!B756 -> Air Force | C16: =Details2!C756 -> 0042 | D16: =Details2!D756 -> Eglin AFB (96th Medical Group) | E16: =Details2!E756 -> H | F16: =Details2!F756 -> 78 | G16: =Details2!G756 -> 62 | H16: =Details2!H756 -> 82 | I16: =Details2!I756 -> 83 | ... K16: =Details2!K756 -> 75
B17: =Details2!B757 -> Air Force | C17: =Details2!C757 -> 0043 | D17: =Details2!D757 -> Tyndall AFB (325th Medical Group) | E17: =Details2!E757 -> C | F17: =Details2!F757 -> NULL | G17: =Details2!G757 -> NULL | H17: =Details2!H757 -> NULL | I17: =Details2!I757 -> NULL | ... K17: =Details2!K757 -> NULL
B18: =Details2!B758 -> Air Force | C18: =Details2!C758 -> 0045 | D18: =Details2!D758 -> MacDill AFB (6th Medical Group) | E18: =Details2!E758 -> C | F18: =Details2!F758 -> NULL | G18: =Details2!G758 -> NULL | H18: =Details2!H758 -> NULL | I18: =Details2!I758 -> NULL | ... K18: =Details2!K758 -> NULL | L18: ='IP $ Collections by DMIS'!L18 -> Inpatient closed down
B19: =Details2!B759 -> Air Force | C19: =Details2!C759 -> 0046 | D19: =Details2!D759 -> Patrick AFB (45th Medical Group) | E19: =Details2!E759 -> C | F19: =Details2!F759 -> NULL | G19: =Details2!G759 -> NULL | H19: =Details2!H759 -> NULL | I19: =Details2!I759 -> NULL | ... K19: =Details2!K759 -> NULL
B20: =Details2!B760 -> Air Force | C20: =Details2!C760 -> 0050 | D20: =Details2!D760 -> Moody AFB (347th Medical Group) | E20: =Details2!E760 -> C | F20: =Details2!F760 -> NULL | G20: =Details2!G760 -> NULL | H20: =Details2!H760 -> NULL | I20: =Details2!I760 -> NULL | ... K20: =Details2!K760 -> NULL
B21: =Details2!B761 -> Air Force | C21: =Details2!C761 -> 0051 | D21: =Details2!D761 -> Robins AFB (78th Medical Group) | E21: =Details2!E761 -> C | F21: =Details2!F761 -> NULL | G21: =Details2!G761 -> NULL | H21: =Details2!H761 -> NULL | I21: =Details2!I761 -> NULL | ... K21: =Details2!K761 -> NULL
B22: =Details2!B762 -> Air Force | C22: =Details2!C762 -> 0053 | D22: =Details2!D762 -> Mountain Home AFB (366th Medical Group) | E22: =Details2!E762 -> H | F22: =Details2!F762 -> 13 | G22: =Details2!G762 -> 2 | H22: =Details2!H762 -> 7 | I22: =Details2!I762 -> 4 | ... K22: =Details2!K762 -> 13
B23: =Details2!B763 -> Air Force | C23: =Details2!C763 -> 0055 | D23: =Details2!D763 -> Scott AFB (375th Medical Group) | E23: =Details2!E763 -> C | F23: =Details2!F763 -> NULL | G23: =Details2!G763 -> NULL | H23: =Details2!H763 -> NULL | I23: =Details2!I763 -> NULL | ... K23: =Details2!K763 -> NULL
B24: =Details2!B764 -> Air Force | C24: =Details2!C764 -> 0059 | D24: =Details2!D764 -> McConnell AFB (22nd Medical Group) | E24: =Details2!E764 -> C | F24: =Details2!F764 -> NULL | G24: =Details2!G764 -> NULL | H24: =Details2!H764 -> NULL | I24: =Details2!I764 -> NULL | ... K24: =Details2!K764 -> NULL
B25: =Details2!B765 -> Air Force | C25: =Details2!C765 -> 0062 | D25: =Details2!D765 -> Barksdale AFB (2nd Medical Group) | E25: =Details2!E765 -> C | F25: =Details2!F765 -> NULL | G25: =Details2!G765 -> NULL | H25: =Details2!H765 -> NULL | I25: =Details2!I765 -> NULL | ... K25: =Details2!K765 -> NULL
B26: =Details2!B766 -> Air Force | C26: =Details2!C766 -> 0066 | D26: =Details2!D766 -> Andrews AFB (79th Medical Group) | E26: =Details2!E766 -> H | F26: =Details2!F766 -> 22 | G26: =Details2!G766 -> 46 | H26: =Details2!H766 -> 74 | I26: =Details2!I766 -> 43 | ... K26: =Details2!K766 -> 0
B27: =Details2!B767 -> Air Force | C27: =Details2!C767 -> 0073 | D27: =Details2!D767 -> Keesler AFB (81st Medical Group) | E27: =Details2!E767 -> H | F27: =Details2!F767 -> 62 | G27: =Details2!G767 -> 40 | H27: =Details2!H767 -> 56 | I27: =Details2!I767 -> 107 | ... K27: =Details2!K767 -> 105 | L27: ='IP $ Collections by DMIS'!L27 -> Inpatient closed down
B28: =Details2!B768 -> Air Force | C28: =Details2!C768 -> 0074 | D28: =Details2!D768 -> Columbus AFB (14th Medical Group) | E28: =Details2!E768 -> C | F28: =Details2!F768 -> NULL | G28: =Details2!G768 -> NULL | H28: =Details2!H768 -> NULL | I28: =Details2!I768 -> NULL | ... K28: =Details2!K768 -> NULL
B29: =Details2!B769 -> Air Force | C29: =Details2!C769 -> 0076 | D29: =Details2!D769 -> Whiteman AFB (509th Medical Group) | E29: =Details2!E769 -> C | F29: =Details2!F769 -> NULL | G29: =Details2!G769 -> NULL | H29: =Details2!H769 -> NULL | I29: =Details2!I769 -> NULL | ... K29: =Details2!K769 -> NULL
B30: =Details2!B770 -> Air Force | C30: =Details2!C770 -> 0077 | D30: =Details2!D770 -> Malmstrom AFB (341st Medical Group) | E30: =Details2!E770 -> C | F30: =Details2!F770 -> NULL | G30: =Details2!G770 -> NULL | H30: =Details2!H770 -> NULL | I30: =Details2!I770 -> NULL | ... K30: =Details2!K770 -> NULL
B31: =Details2!B771 -> Air Force | C31: =Details2!C771 -> 0078 | D31: =Details2!D771 -> Offutt AFB (55th Medical Group) | E31: =Details2!E771 -> C | F31: =Details2!F771 -> NULL | G31: =Details2!G771 -> NULL | H31: =Details2!H771 -> NULL | I31: =Details2!I771 -> NULL | ... K31: =Details2!K771 -> NULL | L31: ='IP $ Collections by DMIS'!L31 -> Inpatient closed down
B32: =Details2!B772 -> Air Force | C32: =Details2!C772 -> 0079 | D32: =Details2!D772 -> Nellis AFB (99th Medical Group) | E32: =Details2!E772 -> H | F32: =Details2!F772 -> 59 | G32: =Details2!G772 -> 103 | H32: =Details2!H772 -> 111 | I32: =Details2!I772 -> 103 | ... K32: =Details2!K772 -> 86
B33: =Details2!B773 -> Air Force | C33: =Details2!C773 -> 0083 | D33: =Details2!D773 -> Kirtland AFB (377th Medical Group) | E33: =Details2!E773 -> C | F33: =Details2!F773 -> NULL | G33: =Details2!G773 -> NULL | H33: =Details2!H773 -> NULL | I33: =Details2!I773 -> NULL | ... K33: =Details2!K773 -> NULL
B34: =Details2!B774 -> Air Force | C34: =Details2!C774 -> 0084 | D34: =Details2!D774 -> Holloman AFB (49th Medical Group) | E34: =Details2!E774 -> C | F34: =Details2!F774 -> NULL | G34: =Details2!G774 -> NULL | H34: =Details2!H774 -> NULL | I34: =Details2!I774 -> NULL | ... K34: =Details2!K774 -> NULL
B35: =Details2!B775 -> Air Force | C35: =Details2!C775 -> 0085 | D35: =Details2!D775 -> Cannon AFB (27th Medical Group) | E35: =Details2!E775 -> C | F35: =Details2!F775 -> NULL | G35: =Details2!G775 -> NULL | H35: =Details2!H775 -> NULL | I35: =Details2!I775 -> NULL | ... K35: =Details2!K775 -> NULL
B36: =Details2!B776 -> Air Force | C36: =Details2!C776 -> 0090 | D36: =Details2!D776 -> Seymour Johnson AFB (4th Medical Group) | E36: =Details2!E776 -> C | F36: =Details2!F776 -> NULL | G36: =Details2!G776 -> NULL | H36: =Details2!H776 -> NULL | I36: =Details2!I776 -> NULL | ... K36: =Details2!K776 -> NULL
B37: =Details2!B777 -> Air Force | C37: =Details2!C777 -> 0093 | D37: =Details2!D777 -> Grand Forks AFB (319th Medical Group) | E37: =Details2!E777 -> C | F37: =Details2!F777 -> NULL | G37: =Details2!G777 -> NULL | H37: =Details2!H777 -> NULL | I37: =Details2!I777 -> NULL | ... K37: =Details2!K777 -> NULL
B38: =Details2!B778 -> Air Force | C38: =Details2!C778 -> 0094 | D38: =Details2!D778 -> Minot AFB (5th Medical Group) | E38: =Details2!E778 -> C | F38: =Details2!F778 -> NULL | G38: =Details2!G778 -> NULL | H38: =Details2!H778 -> NULL | I38: =Details2!I778 -> NULL | ... K38: =Details2!K778 -> NULL
B39: =Details2!B779 -> Air Force | C39: =Details2!C779 -> 0095 | D39: =Details2!D779 -> Wright Patterson AFB (88th Medical Group) | E39: =Details2!E779 -> H | F39: =Details2!F779 -> 282 | G39: =Details2!G779 -> 302 | H39: =Details2!H779 -> 273 | I39: =Details2!I779 -> 249 | ... K39: =Details2!K779 -> 205
B40: =Details2!B780 -> Air Force | C40: =Details2!C780 -> 0096 | D40: =Details2!D780 -> Tinker AFB (72th Medical Group) | E40: =Details2!E780 -> C | F40: =Details2!F780 -> NULL | G40: =Details2!G780 -> NULL | H40: =Details2!H780 -> NULL | I40: =Details2!I780 -> NULL | ... K40: =Details2!K780 -> NULL
B41: =Details2!B781 -> Air Force | C41: =Details2!C781 -> 0097 | D41: =Details2!D781 -> Altus AFB (97th Medical Group) | E41: =Details2!E781 -> C | F41: =Details2!F781 -> NULL | G41: =Details2!G781 -> NULL | H41: =Details2!H781 -> NULL | I41: =Details2!I781 -> NULL | ... K41: =Details2!K781 -> NULL
B42: =Details2!B782 -> Air Force | C42: =Details2!C782 -> 0101 | D42: =Details2!D782 -> Shaw AFB (20th Medical Group) | E42: =Details2!E782 -> C | F42: =Details2!F782 -> NULL | G42: =Details2!G782 -> NULL | H42: =Details2!H782 -> NULL | I42: =Details2!I782 -> NULL | ... K42: =Details2!K782 -> NULL
B43: =Details2!B783 -> Air Force | C43: =Details2!C783 -> 0106 | D43: =Details2!D783 -> Ellsworth AFB (28th Medical Group) | E43: =Details2!E783 -> C | F43: =Details2!F783 -> NULL | G43: =Details2!G783 -> NULL | H43: =Details2!H783 -> NULL | I43: =Details2!I783 -> NULL | ... K43: =Details2!K783 -> NULL
... B72: =Details2!B812 -> Army | C72: =Details2!C812 -> 0002 | D72: =Details2!D812 -> Ft. McClellan (Patterson ACH) | E72: =Details2!E812 -> I | F72: =Details2!F812 -> NULL | G72: =Details2!G812 -> NULL | H72: =Details2!H812 -> NULL | I72: =Details2!I812 -> NULL | ... K72: =Details2!K812 -> NULL
B73: =Details2!B813 -> Army | C73: =Details2!C813 -> 0003 | D73: =Details2!D813 -> Ft. Rucker (Lyster Army Health Clinic) | E73: =Details2!E813 -> C | F73: =Details2!F813 -> NULL | G73: =Details2!G813 -> NULL | H73: =Details2!H813 -> NULL | I73: =Details2!I813 -> NULL | ... K73: =Details2!K813 -> NULL | L73: ='IP $ Collections by DMIS'!L73 -> Inpatient closed down
B74: =Details2!B814 -> Army | C74: =Details2!C814 -> 0005 | D74: =Details2!D814 -> Ft. Wainwright (Bassett Army Community Hospital) | E74: =Details2!E814 -> H | F74: =Details2!F814 -> 55 | G74: =Details2!G814 -> 58 | H74: =Details2!H814 -> 46 | I74: =Details2!I814 -> 34 | ... K74: =Details2!K814 -> 36
B75: =Details2!B815 -> Army | C75: =Details2!C815 -> 0008 | D75: =Details2!D815 -> Ft. Huachuca (Bliss Army Health Clinic) | E75: =Details2!E815 -> C | F75: =Details2!F815 -> NULL | G75: =Details2!G815 -> NULL | H75: =Details2!H815 -> NULL | I75: =Details2!I815 -> NULL | ... K75: =Details2!K815 -> NULL
B76: =Details2!B816 -> Army | C76: =Details2!C816 -> 0032 | D76: =Details2!D816 -> Ft. Carson (Evans Army Community Hospital) | E76: =Details2!E816 -> H | F76: =Details2!F816 -> 21 | G76: =Details2!G816 -> 12 | H76: =Details2!H816 -> 25 | I76: =Details2!I816 -> 28 | ... K76: =Details2!K816 -> 29
B77: =Details2!B817 -> Army | C77: =Details2!C817 -> 0037 | D77: =Details2!D817 -> Washington D.C. (Walter Reed Army Medical Center) | E77: =Details2!E817 -> H | F77: =Details2!F817 -> 360 | G77: =Details2!G817 -> 429 | H77: =Details2!H817 -> 369 | I77: =Details2!I817 -> 468 | ... K77: =Details2!K817 -> 0
B78: =Details2!B818 -> Army | C78: =Details2!C818 -> 0047 | D78: =Details2!D818 -> Ft. Gordon (Eisenhower Army Medical Center) | E78: =Details2!E818 -> H | F78: =Details2!F818 -> 188 | G78: =Details2!G818 -> 154 | H78: =Details2!H818 -> 170 | I78: =Details2!I818 -> 111 | ... K78: =Details2!K818 -> 138
B79: =Details2!B819 -> Army | C79: =Details2!C819 -> 0048 | D79: =Details2!D819 -> Ft. Benning (Martin Army Community Hospital) | E79: =Details2!E819 -> H | F79: =Details2!F819 -> 62 | G79: =Details2!G819 -> 64 | H79: =Details2!H819 -> 39 | I79: =Details2!I819 -> 31 | ... K79: =Details2!K819 -> 23
B80: =Details2!B820 -> Army | C80: =Details2!C820 -> 0049 | D80: =Details2!D820 -> Ft. Stewart (Winn Army Community Hospital) | E80: =Details2!E820 -> H | F80: =Details2!F820 -> 30 | G80: =Details2!G820 -> 35 | H80: =Details2!H820 -> 20 | I80: =Details2!I820 -> 29 | ... K80: =Details2!K820 -> 33
B81: =Details2!B821 -> Army | C81: =Details2!C821 -> 0052 | D81: =Details2!D821 -> Ft. Shafter (Tripler Army Medical Center) | E81: =Details2!E821 -> H | F81: =Details2!F821 -> 224 | G81: =Details2!G821 -> 257 | H81: =Details2!H821 -> 253 | I81: =Details2!I821 -> 258 | ... K81: =Details2!K821 -> 205
B82: =Details2!B822 -> Army | C82: =Details2!C822 -> 0057 | D82: =Details2!D822 -> Ft. Riley (Irwin Army Community Hospital) | E82: =Details2!E822 -> H | F82: =Details2!F822 -> 19 | G82: =Details2!G822 -> 11 | H82: =Details2!H822 -> 17 | I82: =Details2!I822 -> 16 | ... K82: =Details2!K822 -> 15
B83: =Details2!B823 -> Army | C83: =Details2!C823 -> 0058 | D83: =Details2!D823 -> Ft. Leavenworth (Munson Army Health Clinic) | E83: =Details2!E823 -> C | F83: =Details2!F823 -> NULL | G83: =Details2!G823 -> NULL | H83: =Details2!H823 -> NULL | I83: =Details2!I823 -> NULL | ... K83: =Details2!K823 -> NULL
B84: =Details2!B824 -> Army | C84: =Details2!C824 -> 0060 | D84: =Details2!D824 -> Ft. Campbell (Blanchfield Army Comm Hospital) | E84: =Details2!E824 -> H | F84: =Details2!F824 -> 39 | G84: =Details2!G824 -> 46 | H84: =Details2!H824 -> 24 | I84: =Details2!I824 -> 19 | ... K84: =Details2!K824 -> 19
B85: =Details2!B825 -> Army | C85: =Details2!C825 -> 0061 | D85: =Details2!D825 -> Ft. Knox (Ireland Army Community Hospital) | E85: =Details2!E825 -> H | F85: =Details2!F825 -> 9 | G85: =Details2!G825 -> 6 | H85: =Details2!H825 -> 5 | I85: =Details2!I825 -> 8 | ... K85: =Details2!K825 -> 8
... B131: =Details2!B871 -> Navy | C131: =Details2!C871 -> 0100 | D131: =Details2!D871 -> NHC New England | E131: =Details2!E871 -> C | F131: =Details2!F871 -> 0 | G131: =Details2!G871 -> NULL | H131: =Details2!H871 -> NULL | I131: =Details2!I871 -> NULL | ... K131: =Details2!K871 -> NULL
B132: =Details2!B872 -> Navy | C132: =Details2!C872 -> 0103 | D132: =Details2!D872 -> NHC Charleston | E132: =Details2!E872 -> H | F132: =Details2!F872 -> NULL | G132: =Details2!G872 -> NULL | H132: =Details2!H872 -> NULL | I132: =Details2!I872 -> NULL | ... K132: =Details2!K872 -> NULL | L132: does not report IP
B133: =Details2!B873 -> Navy | C133: =Details2!C873 -> 0104 | D133: =Details2!D873 -> NH Beaufort | E133: =Details2!E873 -> H | F133: =Details2!F873 -> 8 | G133: =Details2!G873 -> 1 | H133: =Details2!H873 -> 0 | I133: =Details2!I873 -> 4 | ... K133: =Details2!K873 -> 4
B134: =Details2!B874 -> Navy | C134: =Details2!C874 -> 0107 | D134: =Details2!D874 -> NBHC NSA Mid-South | E134: =Details2!E874 -> C | F134: =Details2!F874 -> NULL | G134: =Details2!G874 -> NULL | H134: =Details2!H874 -> NULL | I134: =Details2!I874 -> NULL | ... K134: =Details2!K874 -> NULL
B135: =Details2!B875 -> Navy | C135: =Details2!C875 -> 0118 | D135: =Details2!D875 -> NHC Corpus Christi | E135: =Details2!E875 -> C | F135: =Details2!F875 -> NULL | G135: =Details2!G875 -> NULL | H135: =Details2!H875 -> NULL | I135: =Details2!I875 -> NULL | ... K135: =Details2!K875 -> NULL
B136: =Details2!B876 -> Navy | C136: =Details2!C876 -> 0124 | D136: =Details2!D876 -> NMC Portsmouth | E136: =Details2!E876 -> H | F136: =Details2!F876 -> 168 | G136: =Details2!G876 -> 175 | H136: =Details2!H876 -> 173 | I136: =Details2!I876 -> 158 | ... K136: =Details2!K876 -> 192
B137: =Details2!B877 -> Navy | C137: =Details2!C877 -> 0126 | D137: =Details2!D877 -> NH Bremerton | E137: =Details2!E877 -> H | F137: =Details2!F877 -> 36 | G137: =Details2!G877 -> 42 | H137: =Details2!H877 -> 55 | I137: =Details2!I877 -> 29 | ... K137: =Details2!K877 -> 49
B138: =Details2!B878 -> Navy | C138: =Details2!C878 -> 0127 | D138: =Details2!D878 -> NH Oak Harbor | E138: =Details2!E878 -> H | F138: =Details2!F878 -> 6 | G138: =Details2!G878 -> 8 | H138: =Details2!H878 -> 0 | I138: =Details2!I878 -> 2 | ... K138: =Details2!K878 -> 7
B139: =Details2!B879 -> Navy | C139: =Details2!C879 -> 0280 | D139: =Details2!D879 -> NHC Hawaii | E139: =Details2!E879 -> C | F139: =Details2!F879 -> NULL | G139: =Details2!G879 -> NULL | H139: =Details2!H879 -> NULL | I139: =Details2!I879 -> NULL | ... K139: =Details2!K879 -> NULL
B140: =Details2!B880 -> Navy | C140: =Details2!C880 -> 0297 | D140: =Details2!D880 -> NACC New Orleans | E140: =Details2!E880 -> C | F140: =Details2!F880 -> NULL | G140: =Details2!G880 -> NULL | H140: =Details2!H880 -> NULL | I140: =Details2!I880 -> NULL | ... K140: =Details2!K880 -> NULL
B141: =Details2!B881 -> Navy | C141: =Details2!C881 -> 0306 | D141: =Details2!D881 -> NHC Annapolis | E141: =Details2!E881 -> C | F141: =Details2!F881 -> NULL | G141: =Details2!G881 -> NULL | H141: =Details2!H881 -> NULL | I141: =Details2!I881 -> NULL | ... K141: =Details2!K881 -> NULL
B142: =Details2!B882 -> Navy | C142: =Details2!C882 -> 0321 | D142: =Details2!D882 -> NBHC Portsmouth (NH) | E142: =Details2!E882 -> C | F142: =Details2!F882 -> NULL | G142: =Details2!G882 -> NULL | H142: =Details2!H882 -> NULL | I142: =Details2!I882 -> NULL | ... K142: =Details2!K882 -> NULL
B143: =Details2!B883 -> Navy | C143: =Details2!C883 -> 0385 | D143: =Details2!D883 -> NHC Quantico | E143: =Details2!E883 -> C | F143: =Details2!F883 -> NULL | G143: =Details2!G883 -> NULL | H143: =Details2!H883 -> NULL | I143: =Details2!I883 -> NULL | ... K143: =Details2!K883 -> NULL
B144: =Details2!B884 -> Navy | C144: =Details2!C884 -> 0616 | D144: =Details2!D884 -> NH Roosevelt Roads | E144: =Details2!E884 -> I | F144: =Details2!F884 -> NULL | G144: =Details2!G884 -> NULL | H144: =Details2!H884 -> NULL | I144: =Details2!I884 -> NULL | ... K144: =Details2!K884 -> NULL | L144: closed
B145: =Details2!B885 -> Navy | C145: =Details2!C885 -> 0620 | D145: =Details2!D885 -> NH Guam | E145: =Details2!E885 -> H | F145: =Details2!F885 -> 22 | G145: =Details2!G885 -> 45 | H145: =Details2!H885 -> 51 | I145: =Details2!I885 -> 42 | ... K145: =Details2!K885 -> 27
B146: =Details2!B886 -> Navy | C146: =Details2!C886 -> 0621 | D146: =Details2!D886 -> NH Okinawa | E146: =Details2!E886 -> I | F146: =Details2!F886 -> NULL | G146: =Details2!G886 -> NULL | H146: =Details2!H886 -> NULL | I146: =Details2!I886 -> NULL | ... K146: =Details2!K886 -> NULL | L146: not reporting TPC
B147: =Details2!B887 -> Navy | C147: =Details2!C887 -> 0622 | D147: =Details2!D887 -> NH Yokosuka | E147: =Details2!E887 -> I | F147: =Details2!F887 -> NULL | G147: =Details2!G887 -> NULL | H147: =Details2!H887 -> NULL | I147: =Details2!I887 -> NULL | ... K147: =Details2!K887 -> NULL | L147: not reporting TPC
B151: Air Force total | F151: =SUM(F5:F69) -> 1225 | G151: =SUM(G5:G69) -> 1165 | H151: =SUM(H5:H69) -> 1290 | I151: =SUM(I5:I69) -> 1077 | J151: =SUM(J5:J69) -> 863 | K151: =SUM(K5:K69) -> 813
B152: Army total | F152: =SUM(F71:F117) -> 2206 | G152: =SUM(G71:G117) -> 2319 | H152: =SUM(H71:H117) -> 2130 | I152: =SUM(I71:I117) -> 2115 | J152: =SUM(J71:J117) -> 1976 | K152: =SUM(K71:K117) -> 1797
B153: JTF total | F153: =SUM(F118:F119) -> 394 | G153: =SUM(G118:G119) -> 270 | H153: =SUM(H118:H119) -> 252 | I153: =SUM(I118:I119) -> 283 | J153: =SUM(J118:J119) -> 534 | K153: =SUM(K118:K119) -> 295
B154: Navy total - OK and YO | F154: =SUM(F120:F147) -> 608 | G154: =SUM(G120:G147) -> 598 | H154: =SUM(H120:H147) -> 576 | I154: =SUM(I120:I147) -> 551 | J154: =SUM(J120:J147) -> 562 | K154: =SUM(K120:K147) -> 550 | L154: *excludes NH Okinawa and NH Yokosuka data
B155: All Services total | F155: =SUM(F5:F147) -> 4433 | G155: =SUM(G5:G147) -> 4352 | H155: =SUM(H5:H147) -> 4248 | I155: =SUM(I5:I147) -> 4026 | J155: =SUM(J5:J147) -> 3935 | K155: =SUM(K5:K147) -> 3455
B157: Is AF total for a FY equal toClaims per Disp or Visits rpt tab? | F157: =IF(F151='Collected to Claims Ratio'!C15,"yes","no") -> yes | G157: =IF(G151='Collected to Claims Ratio'!D15,"yes","no") -> yes | H157: =IF(H151='Collected to Claims Ratio'!E15,"yes","no") -> yes | I157: =IF(I151='Collected to Claims Ratio'!F15,"yes","no") -> yes | J157: =IF(J151='Collected to Claims Ratio'!G15,"yes","no") -> yes | K157: =IF(K151='Collected to Claims Ratio'!H15,"yes","no") -> yes
B158: Is A total for a FY equal to Claims per Disp or Visits rpt tab? | F158: =IF(F152='Collected to Claims Ratio'!C16,"yes","no") -> yes | G158: =IF(G152='Collected to Claims Ratio'!D16,"yes","no") -> yes | H158: =IF(H152='Collected to Claims Ratio'!E16,"yes","no") -> yes | I158: =IF(I152='Collected to Claims Ratio'!F16,"yes","no") -> yes | J158: =IF(J152='Collected to Claims Ratio'!G16,"yes","no") -> yes | K158: =IF(K152='Collected to Claims Ratio'!H16,"yes","no") -> yes
B159: Is N total for a FY equal to Claims per Disp or Visits rpt tab? | F159: =IF(F154='Collected to Claims Ratio'!C18,"yes","no") -> yes | G159: =IF(G154='Collected to Claims Ratio'!D18,"yes","no") -> yes | H159: =IF(H154='Collected to Claims Ratio'!E18,"yes","no") -> yes | I159: =IF(I154='Collected to Claims Ratio'!F18,"yes","no") -> yes | J159: =IF(J154='Collected to Claims Ratio'!G18,"yes","no") -> yes | K159: =IF(K154='Collected to Claims Ratio'!H18,"yes","no") -> yes | L159: *excludes NH Okinawa and NH Yokosuka data
B160: Is JTF total for a FY equal to Claims per Disp or Visits rpt tab? | F160: =IF(F153='Collected to Claims Ratio'!C17,"yes","no") -> yes | G160: =IF(G153='Collected to Claims Ratio'!D17,"yes","no") -> yes | H160: =IF(H153='Collected to Claims Ratio'!E17,"yes","no") -> yes | I160: =IF(I153='Collected to Claims Ratio'!F17,"yes","no") -> yes | J160: =IF(J153='Collected to Claims Ratio'!G17,"yes","no") -> yes | K160: =IF(K153='Collected to Claims Ratio'!H17,"yes","no") -> yes
B161: Is All Services total for a FY equal to Claims per Disp or Visits rpt tab? | F161: =IF(F155='Collected to Claims Ratio'!C19,"yes","no") -> yes | G161: =IF(G155='Collected to Claims Ratio'!D19,"yes","no") -> yes | H161: =IF(H155='Collected to Claims Ratio'!E19,"yes","no") -> yes | I161: =IF(I155='Collected to Claims Ratio'!F19,"yes","no") -> yes | J161: =IF(J155='Collected to Claims Ratio'!G19,"yes","no") -> yes | K161: =IF(K155='Collected to Claims Ratio'!H19,"yes","no") -> yes

Sheet IP Disp by DMISID
A1: Total Collections metric QC by DMIS ID
B3: Service | C3: dmis_id | D3: dmis_name | E3: facility_type | G3: Number of IP Dispositions for CFY
F4: FY2008 | G4: FY2009 | H4: FY2010 | I4: FY2011 | J4: FY2012 | K4: FY2013
B5: =Details2!B893 -> Air Force | C5: =Details2!C893 -> 0004 | D5: =Details2!D893 -> Maxwell AFB (42nd Medical Group) | E5: =Details2!E893 -> C | F5: =Details2!F893 -> NULL | G5: =Details2!G893 -> NULL | H5: =Details2!H893 -> NULL | I5: =Details2!I893 -> NULL | ... K5: =Details2!K893 -> NULL | L5: =IF(AND(E5<>"H",K5="NULL")," ","review")
B6: =Details2!B894 -> Air Force | C6: =Details2!C894 -> 0006 | D6: =Details2!D894 -> Elmendorf AFB (3rd Medical group) | E6: =Details2!E894 -> H | F6: =Details2!F894 -> 2204 | G6: =Details2!G894 -> 2270 | H6: =Details2!H894 -> 2419 | I6: =Details2!I894 -> 1837 | ... K6: =Details2!K894 -> 2409
B7: =Details2!B895 -> Air Force | C7: =Details2!C895 -> 0009 | D7: =Details2!D895 -> Luke AFB (56th Medical Group) | E7: =Details2!E895 -> C | F7: =Details2!F895 -> NULL | G7: =Details2!G895 -> NULL | H7: =Details2!H895 -> NULL | I7: =Details2!I895 -> NULL | ... K7: =Details2!K895 -> NULL | L7: ='IP $ Collections by DMIS'!L7 -> Inpatient closed down
B8: =Details2!B896 -> Air Force | C8: =Details2!C896 -> 0010 | D8: =Details2!D896 -> Davis Monthan AFB (355th Medical Group) | E8: =Details2!E896 -> C | F8: =Details2!F896 -> NULL | G8: =Details2!G896 -> NULL | H8: =Details2!H896 -> NULL | I8: =Details2!I896 -> NULL | ... K8: =Details2!K896 -> NULL
B9: =Details2!B897 -> Air Force | C9: =Details2!C897 -> 0013 | D9: =Details2!D897 -> Little Rock AFB (314th Medical Group) | E9: =Details2!E897 -> C | F9: =Details2!F897 -> NULL | G9: =Details2!G897 -> NULL | H9: =Details2!H897 -> NULL | I9: =Details2!I897 -> NULL | ... K9: =Details2!K897 -> NULL
B10: =Details2!B898 -> Air Force | C10: =Details2!C898 -> 0014 | D10: =Details2!D898 -> Travis AFB (60th Medical Group) | E10: =Details2!E898 -> H | F10: =Details2!F898 -> 2984 | G10: =Details2!G898 -> 3333 | H10: =Details2!H898 -> 3384 | I10: =Details2!I898 -> 3757 | ... K10: =Details2!K898 -> 4470
B11: =Details2!B899 -> Air Force | C11: =Details2!C899 -> 0015 | D11: =Details2!D899 -> Beale AFB (9th Medical Group) | E11: =Details2!E899 -> C | F11: =Details2!F899 -> NULL | G11: =Details2!G899 -> NULL | H11: =Details2!H899 -> NULL | I11: =Details2!I899 -> NULL | ... K11: =Details2!K899 -> NULL
B12: =Details2!B900 -> Air Force | C12: =Details2!C900 -> 0018 | D12: =Details2!D900 -> Vandenberg AFB (30th Medical Group) | E12: =Details2!E900 -> C | F12: =Details2!F900 -> NULL | G12: =Details2!G900 -> NULL | H12: =Details2!H900 -> NULL | I12: =Details2!I900 -> NULL | ... K12: =Details2!K900 -> NULL
B13: =Details2!B901 -> Air Force | C13: =Details2!C901 -> 0019 | D13: =Details2!D901 -> Edwards AFB (95th Medical Group) | E13: =Details2!E901 -> C | F13: =Details2!F901 -> NULL | G13: =Details2!G901 -> NULL | H13: =Details2!H901 -> NULL | I13: =Details2!I901 -> NULL | ... K13: =Details2!K901 -> NULL
B14: =Details2!B902 -> Air Force | C14: =Details2!C902 -> 0033 | D14: =Details2!D902 -> USAF Academy (10th Medical Group) | E14: =Details2!E902 -> H | F14: =Details2!F902 -> 230 | G14: =Details2!G902 -> 0 | H14: =Details2!H902 -> NULL | I14: =Details2!I902 -> NULL | ... K14: =Details2!K902 -> NULL
B15: =Details2!B903 -> Air Force | C15: =Details2!C903 -> 0036 | D15: =Details2!D903 -> Dover AFB (436th Medical Group) | E15: =Details2!E903 -> C | F15: =Details2!F903 -> NULL | G15: =Details2!G903 -> NULL | H15: =Details2!H903 -> NULL | I15: =Details2!I903 -> NULL | ... K15: =Details2!K903 -> NULL
B16: =Details2!B904 -> Air Force | C16: =Details2!C904 -> 0042 | D16: =Details2!D904 -> Eglin AFB (96th Medical Group) | E16: =Details2!E904 -> H | F16: =Details2!F904 -> 2517 | G16: =Details2!G904 -> 2405 | H16: =Details2!H904 -> 2282 | I16: =Details2!I904 -> 2364 | ... K16: =Details2!K904 -> 2719
B17: =Details2!B905 -> Air Force | C17: =Details2!C905 -> 0043 | D17: =Details2!D905 -> Tyndall AFB (325th Medical Group) | E17: =Details2!E905 -> C | F17: =Details2!F905 -> NULL | G17: =Details2!G905 -> NULL | H17: =Details2!H905 -> NULL | I17: =Details2!I905 -> NULL | ... K17: =Details2!K905 -> NULL
B18: =Details2!B906 -> Air Force | C18: =Details2!C906 -> 0045 | D18: =Details2!D906 -> MacDill AFB (6th Medical Group) | E18: =Details2!E906 -> C | F18: =Details2!F906 -> NULL | G18: =Details2!G906 -> NULL | H18: =Details2!H906 -> NULL | I18: =Details2!I906 -> NULL | ... K18: =Details2!K906 -> NULL | L18: ='IP $ Collections by DMIS'!L18 -> Inpatient closed down
B19: =Details2!B907 -> Air Force | C19: =Details2!C907 -> 0046 | D19: =Details2!D907 -> Patrick AFB (45th Medical Group) | E19: =Details2!E907 -> C | F19: =Details2!F907 -> NULL | G19: =Details2!G907 -> NULL | H19: =Details2!H907 -> NULL | I19: =Details2!I907 -> NULL | ... K19: =Details2!K907 -> NULL
B20: =Details2!B908 -> Air Force | C20: =Details2!C908 -> 0050 | D20: =Details2!D908 -> Moody AFB (347th Medical Group) | E20: =Details2!E908 -> C | F20: =Details2!F908 -> NULL | G20: =Details2!G908 -> NULL | H20: =Details2!H908 -> NULL | I20: =Details2!I908 -> NULL | ... K20: =Details2!K908 -> NULL
B21: =Details2!B909 -> Air Force | C21: =Details2!C909 -> 0051 | D21: =Details2!D909 -> Robins AFB (78th Medical Group) | E21: =Details2!E909 -> C | F21: =Details2!F909 -> NULL | G21: =Details2!G909 -> NULL | H21: =Details2!H909 -> NULL | I21: =Details2!I909 -> NULL | ... K21: =Details2!K909 -> NULL
B22: =Details2!B910 -> Air Force | C22: =Details2!C910 -> 0053 | D22: =Details2!D910 -> Mountain Home AFB (366th Medical Group) | E22: =Details2!E910 -> H | F22: =Details2!F910 -> 364 | G22: =Details2!G910 -> 325 | H22: =Details2!H910 -> 397 | I22: =Details2!I910 -> 344 | ... K22: =Details2!K910 -> 323
B23: =Details2!B911 -> Air Force | C23: =Details2!C911 -> 0055 | D23: =Details2!D911 -> Scott AFB (375th Medical Group) | E23: =Details2!E911 -> C | F23: =Details2!F911 -> NULL | G23: =Details2!G911 -> NULL | H23: =Details2!H911 -> NULL | I23: =Details2!I911 -> NULL | ... K23: =Details2!K911 -> NULL
B24: =Details2!B912 -> Air Force | C24: =Details2!C912 -> 0059 | D24: =Details2!D912 -> McConnell AFB (22nd Medical Group) | E24: =Details2!E912 -> C | F24: =Details2!F912 -> NULL | G24: =Details2!G912 -> NULL | H24: =Details2!H912 -> NULL | I24: =Details2!I912 -> NULL | ... K24: =Details2!K912 -> NULL
B25: =Details2!B913 -> Air Force | C25: =Details2!C913 -> 0062 | D25: =Details2!D913 -> Barksdale AFB (2nd Medical Group) | E25: =Details2!E913 -> C | F25: =Details2!F913 -> NULL | G25: =Details2!G913 -> NULL | H25: =Details2!H913 -> NULL | I25: =Details2!I913 -> NULL | ... K25: =Details2!K913 -> NULL
B26: =Details2!B914 -> Air Force | C26: =Details2!C914 -> 0066 | D26: =Details2!D914 -> Andrews AFB (79th Medical Group) | E26: =Details2!E914 -> H | F26: =Details2!F914 -> 729 | G26: =Details2!G914 -> 934 | H26: =Details2!H914 -> 769 | I26: =Details2!I914 -> 409 | ... K26: =Details2!K914 -> 0
B27: =Details2!B915 -> Air Force | C27: =Details2!C915 -> 0073 | D27: =Details2!D915 -> Keesler AFB (81st Medical Group) | E27: =Details2!E915 -> H | F27: =Details2!F915 -> 1621 | G27: =Details2!G915 -> 1557 | H27: =Details2!H915 -> 2145 | I27: =Details2!I915 -> 2365 | ... K27: =Details2!K915 -> 2728 | L27: ='IP $ Collections by DMIS'!L27 -> Inpatient closed down
B28: =Details2!B916 -> Air Force | C28: =Details2!C916 -> 0074 | D28: =Details2!D916 -> Columbus AFB (14th Medical Group) | E28: =Details2!E916 -> C | F28: =Details2!F916 -> NULL | G28: =Details2!G916 -> NULL | H28: =Details2!H916 -> NULL | I28: =Details2!I916 -> NULL | ... K28: =Details2!K916 -> NULL
B29: =Details2!B917 -> Air Force | C29: =Details2!C917 -> 0076 | D29: =Details2!D917 -> Whiteman AFB (509th Medical Group) | E29: =Details2!E917 -> C | F29: =Details2!F917 -> NULL | G29: =Details2!G917 -> NULL | H29: =Details2!H917 -> NULL | I29: =Details2!I917 -> NULL | ... K29: =Details2!K917 -> NULL
B30: =Details2!B918 -> Air Force | C30: =Details2!C918 -> 0077 | D30: =Details2!D918 -> Malmstrom AFB (341st Medical Group) | E30: =Details2!E918 -> C | F30: =Details2!F918 -> NULL | G30: =Details2!G918 -> NULL | H30: =Details2!H918 -> NULL | I30: =Details2!I918 -> NULL | ... K30: =Details2!K918 -> NULL
B31: =Details2!B919 -> Air Force | C31: =Details2!C919 -> 0078 | D31: =Details2!D919 -> Offutt AFB (55th Medical Group) | E31: =Details2!E919 -> C | F31: =Details2!F919 -> NULL | G31: =Details2!G919 -> NULL | H31: =Details2!H919 -> NULL | I31: =Details2!I919 -> NULL | ... K31: =Details2!K919 -> NULL | L31: ='IP $ Collections by DMIS'!L31 -> Inpatient closed down
B32: =Details2!B920 -> Air Force | C32: =Details2!C920 -> 0079 | D32: =Details2!D920 -> Nellis AFB (99th Medical Group) | E32: =Details2!E920 -> H | F32: =Details2!F920 -> 1811 | G32: =Details2!G920 -> 2044 | H32: =Details2!H920 -> 2293 | I32: =Details2!I920 -> 2534 | ... K32: =Details2!K920 -> 3060
B33: =Details2!B921 -> Air Force | C33: =Details2!C921 -> 0083 | D33: =Details2!D921 -> Kirtland AFB (377th Medical Group) | E33: =Details2!E921 -> C | F33: =Details2!F921 -> NULL | G33: =Details2!G921 -> NULL | H33: =Details2!H921 -> NULL | I33: =Details2!I921 -> NULL | ... K33: =Details2!K921 -> NULL
B34: =Details2!B922 -> Air Force | C34: =Details2!C922 -> 0084 | D34: =Details2!D922 -> Holloman AFB (49th Medical Group) | E34: =Details2!E922 -> C | F34: =Details2!F922 -> NULL | G34: =Details2!G922 -> NULL | H34: =Details2!H922 -> NULL | I34: =Details2!I922 -> NULL | ... K34: =Details2!K922 -> NULL
B35: =Details2!B923 -> Air Force | C35: =Details2!C923 -> 0085 | D35: =Details2!D923 -> Cannon AFB (27th Medical Group) | E35: =Details2!E923 -> C | F35: =Details2!F923 -> NULL | G35: =Details2!G923 -> NULL | H35: =Details2!H923 -> NULL | I35: =Details2!I923 -> NULL | ... K35: =Details2!K923 -> NULL
B36: =Details2!B924 -> Air Force | C36: =Details2!C924 -> 0090 | D36: =Details2!D924 -> Seymour Johnson AFB (4th Medical Group) | E36: =Details2!E924 -> C | F36: =Details2!F924 -> NULL | G36: =Details2!G924 -> NULL | H36: =Details2!H924 -> NULL | I36: =Details2!I924 -> NULL | ... K36: =Details2!K924 -> NULL
B37: =Details2!B925 -> Air Force | C37: =Details2!C925 -> 0093 | D37: =Details2!D925 -> Grand Forks AFB (319th Medical Group) | E37: =Details2!E925 -> C | F37: =Details2!F925 -> NULL | G37: =Details2!G925 -> NULL | H37: =Details2!H925 -> NULL | I37: =Details2!I925 -> NULL | ... K37: =Details2!K925 -> NULL
B38: =Details2!B926 -> Air Force | C38: =Details2!C926 -> 0094 | D38: =Details2!D926 -> Minot AFB (5th Medical Group) | E38: =Details2!E926 -> C | F38: =Details2!F926 -> NULL | G38: =Details2!G926 -> NULL | H38: =Details2!H926 -> NULL | I38: =Details2!I926 -> NULL | ... K38: =Details2!K926 -> NULL
B39: =Details2!B927 -> Air Force | C39: =Details2!C927 -> 0095 | D39: =Details2!D927 -> Wright Patterson AFB (88th Medical Group) | E39: =Details2!E927 -> H | F39: =Details2!F927 -> 2663 | G39: =Details2!G927 -> 2763 | H39: =Details2!H927 -> 2629 | I39: =Details2!I927 -> 2759 | ... K39: =Details2!K927 -> 2595
B40: =Details2!B928 -> Air Force | C40: =Details2!C928 -> 0096 | D40: =Details2!D928 -> Tinker AFB (72th Medical Group) | E40: =Details2!E928 -> C | F40: =Details2!F928 -> NULL | G40: =Details2!G928 -> NULL | H40: =Details2!H928 -> NULL | I40: =Details2!I928 -> NULL | ... K40: =Details2!K928 -> NULL
B41: =Details2!B929 -> Air Force | C41: =Details2!C929 -> 0097 | D41: =Details2!D929 -> Altus AFB (97th Medical Group) | E41: =Details2!E929 -> C | F41: =Details2!F929 -> NULL | G41: =Details2!G929 -> NULL | H41: =Details2!H929 -> NULL | I41: =Details2!I929 -> NULL | ... K41: =Details2!K929 -> NULL
B42: =Details2!B930 -> Air Force | C42: =Details2!C930 -> 0101 | D42: =Details2!D930 -> Shaw AFB (20th Medical Group) | E42: =Details2!E930 -> C | F42: =Details2!F930 -> NULL | G42: =Details2!G930 -> NULL | H42: =Details2!H930 -> NULL | I42: =Details2!I930 -> NULL | ... K42: =Details2!K930 -> NULL
B43: =Details2!B931 -> Air Force | C43: =Details2!C931 -> 0106 | D43: =Details2!D931 -> Ellsworth AFB (28th Medical Group) | E43: =Details2!E931 -> C | F43: =Details2!F931 -> NULL | G43: =Details2!G931 -> NULL | H43: =Details2!H931 -> NULL | I43: =Details2!I931 -> NULL | ... K43: =Details2!K931 -> NULL
... B72: =Details2!B960 -> Army | C72: =Details2!C960 -> 0002 | D72: =Details2!D960 -> Ft. McClellan (Patterson ACH) | E72: =Details2!E960 -> I | F72: =Details2!F960 -> NULL | G72: =Details2!G960 -> NULL | H72: =Details2!H960 -> NULL | I72: =Details2!I960 -> NULL | ... K72: =Details2!K960 -> NULL
B73: =Details2!B961 -> Army | C73: =Details2!C961 -> 0003 | D73: =Details2!D961 -> Ft. Rucker (Lyster Army Health Clinic) | E73: =Details2!E961 -> C | F73: =Details2!F961 -> NULL | G73: =Details2!G961 -> NULL | H73: =Details2!H961 -> NULL | I73: =Details2!I961 -> NULL | ... K73: =Details2!K961 -> NULL | L73: ='IP $ Collections by DMIS'!L73 -> Inpatient closed down
B74: =Details2!B962 -> Army | C74: =Details2!C962 -> 0005 | D74: =Details2!D962 -> Ft. Wainwright (Bassett Army Community Hospital) | E74: =Details2!E962 -> H | F74: =Details2!F962 -> 1532 | G74: =Details2!G962 -> 1229 | H74: =Details2!H962 -> 1180 | I74: =Details2!I962 -> 1055 | ... K74: =Details2!K962 -> 1037
B75: =Details2!B963 -> Army | C75: =Details2!C963 -> 0008 | D75: =Details2!D963 -> Ft. Huachuca (Bliss Army Health Clinic) | E75: =Details2!E963 -> C | F75: =Details2!F963 -> NULL | G75: =Details2!G963 -> NULL | H75: =Details2!H963 -> NULL | I75: =Details2!I963 -> NULL | ... K75: =Details2!K963 -> NULL
B76: =Details2!B964 -> Army | C76: =Details2!C964 -> 0032 | D76: =Details2!D964 -> Ft. Carson (Evans Army Community Hospital) | E76: =Details2!E964 -> H | F76: =Details2!F964 -> 3318 | G76: =Details2!G964 -> 3202 | H76: =Details2!H964 -> 4295 | I76: =Details2!I964 -> 3582 | ... K76: =Details2!K964 -> 3690
B77: =Details2!B965 -> Army | C77: =Details2!C965 -> 0037 | D77: =Details2!D965 -> Washington D.C. (Walter Reed Army Medical Center) | E77: =Details2!E965 -> H | F77: =Details2!F965 -> 5391 | G77: =Details2!G965 -> 5403 | H77: =Details2!H965 -> 5047 | I77: =Details2!I965 -> 3824 | ... K77: =Details2!K965 -> 0
B78: =Details2!B966 -> Army | C78: =Details2!C966 -> 0047 | D78: =Details2!D966 -> Ft. Gordon (Eisenhower Army Medical Center) | E78: =Details2!E966 -> H | F78: =Details2!F966 -> 2477 | G78: =Details2!G966 -> 2340 | H78: =Details2!H966 -> 2644 | I78: =Details2!I966 -> 2015 | ... K78: =Details2!K966 -> 1937
B79: =Details2!B967 -> Army | C79: =Details2!C967 -> 0048 | D79: =Details2!D967 -> Ft. Benning (Martin Army Community Hospital) | E79: =Details2!E967 -> H | F79: =Details2!F967 -> 2290 | G79: =Details2!G967 -> 2358 | H79: =Details2!H967 -> 2221 | I79: =Details2!I967 -> 1533 | ... K79: =Details2!K967 -> 1955
B80: =Details2!B968 -> Army | C80: =Details2!C968 -> 0049 | D80: =Details2!D968 -> Ft. Stewart (Winn Army Community Hospital) | E80: =Details2!E968 -> H | F80: =Details2!F968 -> 1874 | G80: =Details2!G968 -> 1934 | H80: =Details2!H968 -> 1830 | I80: =Details2!I968 -> 1237 | ... K80: =Details2!K968 -> 1903
B81: =Details2!B969 -> Army | C81: =Details2!C969 -> 0052 | D81: =Details2!D969 -> Ft. Shafter (Tripler Army Medical Center) | E81: =Details2!E969 -> H | F81: =Details2!F969 -> 8186 | G81: =Details2!G969 -> 8962 | H81: =Details2!H969 -> 9309 | I81: =Details2!I969 -> 6957 | ... K81: =Details2!K969 -> 5811
B82: =Details2!B970 -> Army | C82: =Details2!C970 -> 0057 | D82: =Details2!D970 -> Ft. Riley (Irwin Army Community Hospital) | E82: =Details2!E970 -> H | F82: =Details2!F970 -> 1523 | G82: =Details2!G970 -> 1607 | H82: =Details2!H970 -> 1869 | I82: =Details2!I970 -> 1613 | ... K82: =Details2!K970 -> 21754
B83: =Details2!B971 -> Army | C83: =Details2!C971 -> 0058 | D83: =Details2!D971 -> Ft. Leavenworth (Munson Army Health Clinic) | E83: =Details2!E971 -> C | F83: =Details2!F971 -> NULL | G83: =Details2!G971 -> NULL | H83: =Details2!H971 -> NULL | I83: =Details2!I971 -> NULL | ... K83: =Details2!K971 -> NULL
B84: =Details2!B972 -> Army | C84: =Details2!C972 -> 0060 | D84: =Details2!D972 -> Ft. Campbell (Blanchfield Army Comm Hospital) | E84: =Details2!E972 -> H | F84: =Details2!F972 -> 3913 | G84: =Details2!G972 -> 3092 | H84: =Details2!H972 -> 3771 | I84: =Details2!I972 -> 2830 | ... K84: =Details2!K972 -> 3040
B85: =Details2!B973 -> Army | C85: =Details2!C973 -> 0061 | D85: =Details2!D973 -> Ft. Knox (Ireland Army Community Hospital) | E85: =Details2!E973 -> H | F85: =Details2!F973 -> 1036 | G85: =Details2!G973 -> 974 | H85: =Details2!H973 -> 1208 | I85: =Details2!I973 -> 1038 | ... K85: =Details2!K973 -> 993
... B130: =Details2!B1018 -> Navy | C130: =Details2!C1018 -> 0092 | D130: =Details2!D1018 -> NHC Cherry Point | E130: =Details2!E1018 -> H | F130: =Details2!F1018 -> 0 | G130: =Details2!G1018 -> NULL | H130: =Details2!H1018 -> NULL | I130: =Details2!I1018 -> NULL | ... K130: =Details2!K1018 -> NULL
B131: =Details2!B1019 -> Navy | C131: =Details2!C1019 -> 0100 | D131: =Details2!D1019 -> NHC New England | E131: =Details2!E1019 -> C | F131: =Details2!F1019 -> 0 | G131: =Details2!G1019 -> NULL | H131: =Details2!H1019 -> NULL | I131: =Details2!I1019 -> NULL | ... K131: =Details2!K1019 -> NULL | L131: ok
B132: =Details2!B1020 -> Navy | C132: =Details2!C1020 -> 0103 | D132: =Details2!D1020 -> NHC Charleston | E132: =Details2!E1020 -> H | F132: =Details2!F1020 -> NULL | G132: =Details2!G1020 -> NULL | H132: =Details2!H1020 -> NULL | I132: =Details2!I1020 -> NULL | ... K132: =Details2!K1020 -> NULL | L132: does not report IP
B133: =Details2!B1021 -> Navy | C133: =Details2!C1021 -> 0104 | D133: =Details2!D1021 -> NH Beaufort | E133: =Details2!E1021 -> H | F133: =Details2!F1021 -> 236 | G133: =Details2!G1021 -> 133 | H133: =Details2!H1021 -> 121 | I133: =Details2!I1021 -> 66 | ... K133: =Details2!K1021 -> 65
B134: =Details2!B1022 -> Navy | C134: =Details2!C1022 -> 0107 | D134: =Details2!D1022 -> NBHC NSA Mid-South | E134: =Details2!E1022 -> C | F134: =Details2!F1022 -> NULL | G134: =Details2!G1022 -> NULL | H134: =Details2!H1022 -> NULL | I134: =Details2!I1022 -> NULL | ... K134: =Details2!K1022 -> NULL
B135: =Details2!B1023 -> Navy | C135: =Details2!C1023 -> 0118 | D135: =Details2!D1023 -> NHC Corpus Christi | E135: =Details2!E1023 -> C | F135: =Details2!F1023 -> NULL | G135: =Details2!G1023 -> NULL | H135: =Details2!H1023 -> NULL | I135: =Details2!I1023 -> NULL | ... K135: =Details2!K1023 -> NULL
B136: =Details2!B1024 -> Navy | C136: =Details2!C1024 -> 0124 | D136: =Details2!D1024 -> NMC Portsmouth | E136: =Details2!E1024 -> H | F136: =Details2!F1024 -> 10055 | G136: =Details2!G1024 -> 9674 | H136: =Details2!H1024 -> 9689 | I136: =Details2!I1024 -> 8833 | ... K136: =Details2!K1024 -> 9591
B137: =Details2!B1025 -> Navy | C137: =Details2!C1025 -> 0126 | D137: =Details2!D1025 -> NH Bremerton | E137: =Details2!E1025 -> H | F137: =Details2!F1025 -> 1743 | G137: =Details2!G1025 -> 1826 | H137: =Details2!H1025 -> 1722 | I137: =Details2!I1025 -> 1821 | ... K137: =Details2!K1025 -> 1869
B138: =Details2!B1026 -> Navy | C138: =Details2!C1026 -> 0127 | D138: =Details2!D1026 -> NH Oak Harbor | E138: =Details2!E1026 -> H | F138: =Details2!F1026 -> 625 | G138: =Details2!G1026 -> 543 | H138: =Details2!H1026 -> 600 | I138: =Details2!I1026 -> 531 | ... K138: =Details2!K1026 -> 499
B139: =Details2!B1027 -> Navy | C139: =Details2!C1027 -> 0280 | D139: =Details2!D1027 -> NHC Hawaii | E139: =Details2!E1027 -> C | F139: =Details2!F1027 -> NULL | G139: =Details2!G1027 -> NULL | H139: =Details2!H1027 -> NULL | I139: =Details2!I1027 -> NULL | ... K139: =Details2!K1027 -> NULL
B140: =Details2!B1028 -> Navy | C140: =Details2!C1028 -> 0297 | D140: =Details2!D1028 -> NACC New Orleans | E140: =Details2!E1028 -> C | F140: =Details2!F1028 -> NULL | G140: =Details2!G1028 -> NULL | H140: =Details2!H1028 -> NULL | I140: =Details2!I1028 -> NULL | ... K140: =Details2!K1028 -> NULL
B141: =Details2!B1029 -> Navy | C141: =Details2!C1029 -> 0306 | D141: =Details2!D1029 -> NHC Annapolis | E141: =Details2!E1029 -> C | F141: =Details2!F1029 -> NULL | G141: =Details2!G1029 -> NULL | H141: =Details2!H1029 -> NULL | I141: =Details2!I1029 -> NULL | ... K141: =Details2!K1029 -> NULL
B142: =Details2!B1030 -> Navy | C142: =Details2!C1030 -> 0321 | D142: =Details2!D1030 -> NBHC Portsmouth (NH) | E142: =Details2!E1030 -> C | F142: =Details2!F1030 -> NULL | G142: =Details2!G1030 -> NULL | H142: =Details2!H1030 -> NULL | I142: =Details2!I1030 -> NULL | ... K142: =Details2!K1030 -> NULL
B143: =Details2!B1031 -> Navy | C143: =Details2!C1031 -> 0385 | D143: =Details2!D1031 -> NHC Quantico | E143: =Details2!E1031 -> C | F143: =Details2!F1031 -> NULL | G143: =Details2!G1031 -> NULL | H143: =Details2!H1031 -> NULL | I143: =Details2!I1031 -> NULL | ... K143: =Details2!K1031 -> NULL
B144: =Details2!B1032 -> Navy | C144: =Details2!C1032 -> 0616 | D144: =Details2!D1032 -> NH Roosevelt Roads | E144: =Details2!E1032 -> I | F144: =Details2!F1032 -> NULL | G144: =Details2!G1032 -> NULL | H144: =Details2!H1032 -> NULL | I144: =Details2!I1032 -> NULL | ... K144: =Details2!K1032 -> NULL | L144: closed
B145: =Details2!B1033 -> Navy | C145: =Details2!C1033 -> 0620 | D145: =Details2!D1033 -> NH Guam | E145: =Details2!E1033 -> H | F145: =Details2!F1033 -> 1560 | G145: =Details2!G1033 -> 1425 | H145: =Details2!H1033 -> 1621 | I145: =Details2!I1033 -> 1526 | ... K145: =Details2!K1033 -> 1423
B146: =Details2!B1034 -> Navy | C146: =Details2!C1034 -> 0621 | D146: =Details2!D1034 -> NH Okinawa | E146: =Details2!E1034 -> I | F146: =Details2!F1034 -> NULL | G146: =Details2!G1034 -> NULL | H146: =Details2!H1034 -> NULL | I146: =Details2!I1034 -> NULL | ... K146: =Details2!K1034 -> NULL | L146: not reporting TPC
B147: =Details2!B1035 -> Navy | C147: =Details2!C1035 -> 0622 | D147: =Details2!D1035 -> NH Yokosuka | E147: =Details2!E1035 -> I | F147: =Details2!F1035 -> NULL | G147: =Details2!G1035 -> NULL | H147: =Details2!H1035 -> NULL | I147: =Details2!I1035 -> NULL | ... K147: =Details2!K1035 -> NULL | L147: not reporting TPC
B151: Air Force total | F151: =SUM(F5:F69) -> 24568 | G151: =SUM(G5:G69) -> 26661 | H151: =SUM(H5:H69) -> 27550 | I151: =SUM(I5:I69) -> 24992 | J151: =SUM(J5:J69) -> 19176 | K151: =SUM(K5:K69) -> 20480
B152: Army total | F152: =SUM(F71:F117) -> 73223 | G152: =SUM(G71:G117) -> 73080 | H152: =SUM(H71:H117) -> 76279 | I152: =SUM(I71:I117) -> 60871 | J152: =SUM(J71:J117) -> 75040 | K152: =SUM(K71:K117) -> 81005
B153: JTF total | F153: =SUM(F118:F119) -> 7741 | G153: =SUM(G118:G119) -> 7529 | H153: =SUM(H118:H119) -> 7152 | I153: =SUM(I118:I119) -> 6719 | J153: =SUM(J118:J119) -> 12151 | K153: =SUM(K118:K119) -> 12428
B154: Navy total - OK and YO | F154: =SUM(F120:F147) -> 36694 | G154: =SUM(G120:G147) -> 36225 | H154: =SUM(H120:H147) -> 37546 | I154: =SUM(I120:I147) -> 36628 | J154: =SUM(J120:J147) -> 36558 | K154: =SUM(K120:K147) -> 37041 | L154: *excludes NH Okinawa and NH Yokosuka data
B155: All Services total | F155: =SUM(F5:F147) -> 142226 | G155: =SUM(G5:G147) -> 143495 | H155: =SUM(H5:H147) -> 148527 | I155: =SUM(I5:I147) -> 129210 | J155: =SUM(J5:J147) -> 142925 | K155: =SUM(K5:K147) -> 150954
