Workbook

Sheet Summary
A1: Third Party Collections Web Metrics Reporting System Data
A2: 3rd Quarter | F2: Data as of 08/01/2013
B5: FY2013 Collection Goals:
B7: Army | C7: 65.5 | D7: million
B8: Navy | C8: 29.7 | D8: million
B9: Air Force | C9: 64.5 | D9: million
B10: JTF | C10: 19.1 | D10: million
B11: Total | C11: =SUM(C7:C10) -> 178.8 | D11: million
B13: FY2013 status, after 3rd Quarter | F13: FY 2013, Projected after 4th Quarter | J13: FY2012 status, after 4th Quarter | M13: FY 2012, after 4th Quarter - JTF seperated
B15: Army | C15: ='Total Collections Rpt'!H23 -> 48 | D15: million | F15: =C15*(12/9) -> 64 | G15: million | J15: 72 | M15: 64.9
B16: Navy | C16: ='Total Collections Rpt'!H25 -> 15.8 | D16: million | F16: =C16*(12/9) -> 21.066667 | G16: million | J16: 32.4 | M16: 22.5
B17: Air Force | C17: ='Total Collections Rpt'!H22 -> 43.2 | D17: million | F17: =C17*(12/9) -> 57.6 | G17: million | J17: 63.9 | M17: 63.9
B18: JTF | C18: ='Total Collections Rpt'!H24 -> 13.6 | D18: million | F18: =C18*(12/9) -> 18.133333 | G18: million | M18: 16.9
B19: Total | C19: =SUM(C15:C18) -> 120.6 | D19: million | F19: =SUM(F15:F18) -> 160.8 | G19: million | J19: 168.3 | M19: 168.2

Sheet Collections Summary
A1: Collections Summary
A2: =Summary!A2 -> 3rd Quarter
C4: Inpatient Collections | E4: Outpatient Collections | G4: Total Collections
B5: Service | C5: FY2012 | D5: FY2013 | E5: FY2012 | F5: FY2013 | G5: FY2012 | H5: FY2013
B6: Army | C6: ='Total Collections Rpt'!G7 -> 16.4 | D6: ='Total Collections Rpt'!H7 -> 16.4 | E6: ='Total Collections Rpt'!G15 -> 32.4 | F6: ='Total Collections Rpt'!H15 -> 31.6 | G6: ='Total Collections Rpt'!G23 -> 48.8 | H6: ='Total Collections Rpt'!H23 -> 48
B7: Navy | C7: ='Total Collections Rpt'!G9 -> 3.3 | D7: ='Total Collections Rpt'!H9 -> 3.3 | E7: ='Total Collections Rpt'!G17 -> 13.7 | F7: ='Total Collections Rpt'!H17 -> 12.5 | G7: ='Total Collections Rpt'!G25 -> 17 | H7: ='Total Collections Rpt'!H25 -> 15.8
B8: Air Force | C8: ='Total Collections Rpt'!G6 -> 3.7 | D8: ='Total Collections Rpt'!H6 -> 3.4 | E8: ='Total Collections Rpt'!G14 -> 43.8 | F8: ='Total Collections Rpt'!H14 -> 39.8 | G8: ='Total Collections Rpt'!G22 -> 47.5 | H8: ='Total Collections Rpt'!H22 -> 43.2
B9: JTF | C9: ='Total Collections Rpt'!G8 -> 2.6 | D9: ='Total Collections Rpt'!H8 -> 4.5 | E9: ='Total Collections Rpt'!G16 -> 9.4 | F9: ='Total Collections Rpt'!H16 -> 9.1 | G9: ='Total Collections Rpt'!G24 -> 12 | H9: ='Total Collections Rpt'!H24 -> 13.6
B11: Total | C11: =SUM(C6:C9) -> 26 | D11: =SUM(D6:D9) -> 27.6 | E11: =SUM(E6:E9) -> 99.3 | F11: =SUM(F6:F9) -> 93 | G11: =SUM(G6:G9) -> 125.3 | H11: =SUM(H6:H9) -> 120.6
B13: =Summary!F2 -> Data as of 08/01/2013
B14: Note: Collections = CFY + PY1 + PY2

Sheet Billed&Collected
A1: Billed & Collected ($Millions)
A2: =Summary!A2 -> 3rd Quarter
B5: Service | C5: FY09 | E5: FY10 | G5: FY11 | I5: FY12 | K5: FY13
C6: Billed | D6: Collected | E6: Billed | F6: Collected | G6: Billed | H6: Collected | I6: Billed | J6: Collected | K6: Billed | L6: Collected
B7: Outpatient
B8: Army | C8: =ROUND('Total Billings'!D16/1000000,1) -> 72.1 | D8: =ROUND('Total Collections'!D16/1000000,1) -> 45.1 | E8: =ROUND('Total Billings'!E16/1000000,1) -> 64.7 | F8: =ROUND('Total Collections'!E16/1000000,1) -> 46.1 | G8: =ROUND('Total Billings'!F16/1000000,1) -> 64.7 | H8: =ROUND('Total Collections'!F16/1000000,1) -> 38 | I8: =ROUND('Total Billings'!G16/1000000,1) -> 55.3 | J8: =ROUND('Total Collections'!G16/1000000,1) -> 32.4 | K8: =ROUND('Total Billings'!H16/1000000,1) -> 50.6 | L8: =ROUND('Total Collections'!H16/1000000,1) -> 31.6
B9: Navy | C9: =ROUND('Total Billings'!D18/1000000,1) -> 34.9 | D9: =ROUND('Total Collections'!D18/1000000,1) -> 23.6 | E9: =ROUND('Total Billings'!E18/1000000,1) -> 29.8 | F9: =ROUND('Total Collections'!E18/1000000,1) -> 22.6 | G9: =ROUND('Total Billings'!F18/1000000,1) -> 26.9 | H9: =ROUND('Total Collections'!F18/1000000,1) -> 16.5 | I9: =ROUND('Total Billings'!G18/1000000,1) -> 25.1 | J9: =ROUND('Total Collections'!G18/1000000,1) -> 13.7 | K9: =ROUND('Total Billings'!H18/1000000,1) -> 22.9 | L9: =ROUND('Total Collections'!H18/1000000,1) -> 12.5
B10: Air Force | C10: =ROUND('Total Billings'!D15/1000000,1) -> 154.1 | D10: =ROUND('Total Collections'!D15/1000000,1) -> 69.8 | E10: =ROUND('Total Billings'!E15/1000000,1) -> 121.1 | F10: =ROUND('Total Collections'!E15/1000000,1) -> 62.6 | G10: =ROUND('Total Billings'!F15/1000000,1) -> 105.1 | H10: =ROUND('Total Collections'!F15/1000000,1) -> 53.2 | I10: =ROUND('Total Billings'!G15/1000000,1) -> 97.9 | J10: =ROUND('Total Collections'!G15/1000000,1) -> 43.8 | K10: =ROUND('Total Billings'!H15/1000000,1) -> 91.5 | L10: =ROUND('Total Collections'!H15/1000000,1) -> 39.8
B11: JTF | C11: =ROUND('Total Billings'!D17/1000000,1) -> 12.1 | D11: =ROUND('Total Collections'!D17/1000000,1) -> 8.1 | E11: =ROUND('Total Billings'!E17/1000000,1) -> 9.2 | F11: =ROUND('Total Collections'!E17/1000000,1) -> 7.2 | G11: =ROUND('Total Billings'!F17/1000000,1) -> 10.4 | H11: =ROUND('Total Collections'!F17/1000000,1) -> 6.2 | I11: =ROUND('Total Billings'!G17/1000000,1) -> 18.2 | J11: =ROUND('Total Collections'!G17/1000000,1) -> 9.4 | K11: =ROUND('Total Billings'!H17/1000000,1) -> 17.3 | L11: =ROUND('Total Collections'!H17/1000000,1) -> 9.1
B12: Total | C12: =SUM(C8:C11) -> 273.2 | D12: =SUM(D8:D11) -> 146.6 | E12: =SUM(E8:E11) -> 224.8 | F12: =SUM(F8:F11) -> 138.5 | G12: =SUM(G8:G11) -> 207.1 | H12: =SUM(H8:H11) -> 113.9 | I12: =SUM(I8:I11) -> 196.5 | J12: =SUM(J8:J11) -> 99.3 | ... L12: =SUM(L8:L11) -> 93
B13: Inpatient
B14: Army | C14: =ROUND('Total Billings'!D7/1000000,1) -> 43.8 | D14: =ROUND('Total Collections'!D7/1000000,1) -> 21.8 | E14: =ROUND('Total Billings'!E7/1000000,1) -> 38.1 | F14: =ROUND('Total Collections'!E7/1000000,1) -> 18.3 | G14: =ROUND('Total Billings'!F7/1000000,1) -> 41.9 | H14: =ROUND('Total Collections'!F7/1000000,1) -> 16 | I14: =ROUND('Total Billings'!G7/1000000,1) -> 38.6 | J14: =ROUND('Total Collections'!G7/1000000,1) -> 16.4 | K14: =ROUND('Total Billings'!H7/1000000,1) -> 30.9 | L14: =ROUND('Total Collections'!H7/1000000,1) -> 16.4
B15: Navy | C15: =ROUND('Total Billings'!D9/1000000,1) -> 9.7 | D15: =ROUND('Total Collections'!D9/1000000,1) -> 3.8 | E15: =ROUND('Total Billings'!E9/1000000,1) -> 8.7 | F15: =ROUND('Total Collections'!E9/1000000,1) -> 3.4 | G15: =ROUND('Total Billings'!F9/1000000,1) -> 8.9 | H15: =ROUND('Total Collections'!F9/1000000,1) -> 3.5 | I15: =ROUND('Total Billings'!G9/1000000,1) -> 9.5 | J15: =ROUND('Total Collections'!G9/1000000,1) -> 3.3 | K15: =ROUND('Total Billings'!H9/1000000,1) -> 8.2 | L15: =ROUND('Total Collections'!H9/1000000,1) -> 3.3
B16: Air Force | C16: =ROUND('Total Billings'!D6/1000000,1) -> 18.3 | D16: =ROUND('Total Collections'!D6/1000000,1) -> 6.1 | E16: =ROUND('Total Billings'!E6/1000000,1) -> 21.1 | F16: =ROUND('Total Collections'!E6/1000000,1) -> 12.9 | G16: =ROUND('Total Billings'!F6/1000000,1) -> 14.3 | H16: =ROUND('Total Collections'!F6/1000000,1) -> 6.6 | I16: =ROUND('Total Billings'!G6/1000000,1) -> 11.8 | J16: =ROUND('Total Collections'!G6/1000000,1) -> 3.7 | K16: =ROUND('Total Billings'!H6/1000000,1) -> 11.9 | L16: =ROUND('Total Collections'!H6/1000000,1) -> 3.4
B17: JTF | C17: =ROUND('Total Billings'!D8/1000000,1) -> 4.7 | D17: =ROUND('Total Collections'!D8/1000000,1) -> 1.8 | E17: =ROUND('Total Billings'!E8/1000000,1) -> 4.3 | F17: =ROUND('Total Collections'!E8/1000000,1) -> 3.4 | G17: =ROUND('Total Billings'!F8/1000000,1) -> 4.9 | H17: =ROUND('Total Collections'!F8/1000000,1) -> 2 | I17: =ROUND('Total Billings'!G8/1000000,1) -> 10.6 | J17: =ROUND('Total Collections'!G8/1000000,1) -> 2.6 | K17: =ROUND('Total Billings'!H8/1000000,1) -> 5.2 | L17: =ROUND('Total Collections'!H8/1000000,1) -> 4.5
B18: Total | C18: =SUM(C14:C17) -> 76.5 | D18: =SUM(D14:D17) -> 33.5 | E18: =SUM(E14:E17) -> 72.2 | F18: =SUM(F14:F17) -> 38 | G18: =SUM(G14:G17) -> 70 | H18: =SUM(H14:H17) -> 28.1 | I18: =SUM(I14:I17) -> 70.5 | J18: =SUM(J14:J17) -> 26 | ... L18: =SUM(L14:L17) -> 27.6
B20: =Summary!F2 -> Data as of 08/01/2013
B21: Note: Collections = CFY + PY1 + PY2
B22: Billed = Amount Billed CFY

Sheet Total Collections Rpt
A1: Total Collections
A2: =Summary!A2 -> 3rd Quarter
B4: Total Inpatient Collections
B5: Service | C5: ='Total Collections'!C5 -> FY2008 | D5: ='Total Collections'!D5 -> FY2009 | E5: ='Total Collections'!E5 -> FY2010 | F5: ='Total Collections'!F5 -> FY2011 | G5: ='Total Collections'!G5 -> FY2012 | H5: ='Total Collections'!H5 -> FY2013
B6: ='Total Collections'!B6 -> Air Force | C6: =ROUND('Total Collections'!C6/1000000,1) -> 9.7 | D6: =ROUND('Total Collections'!D6/1000000,1) -> 6.1 | E6: =ROUND('Total Collections'!E6/1000000,1) -> 12.9 | F6: =ROUND('Total Collections'!F6/1000000,1) -> 6.6 | G6: =ROUND('Total Collections'!G6/1000000,1) -> 3.7 | H6: =ROUND('Total Collections'!H6/1000000,1) -> 3.4
B7: ='Total Collections'!B7 -> Army | C7: =ROUND('Total Collections'!C7/1000000,1) -> 17.6 | D7: =ROUND('Total Collections'!D7/1000000,1) -> 21.8 | E7: =ROUND('Total Collections'!E7/1000000,1) -> 18.3 | F7: =ROUND('Total Collections'!F7/1000000,1) -> 16 | G7: =ROUND('Total Collections'!G7/1000000,1) -> 16.4 | H7: =ROUND('Total Collections'!H7/1000000,1) -> 16.4
B8: JTF | C8: =ROUND('Total Collections'!C8/1000000,1) -> 3.6 | D8: =ROUND('Total Collections'!D8/1000000,1) -> 1.8 | E8: =ROUND('Total Collections'!E8/1000000,1) -> 3.4 | F8: =ROUND('Total Collections'!F8/1000000,1) -> 2 | G8: =ROUND('Total Collections'!G8/1000000,1) -> 2.6 | H8: =ROUND('Total Collections'!H8/1000000,1) -> 4.5
B9: ='Total Collections'!B9 -> Navy | C9: =ROUND('Total Collections'!C9/1000000,1) -> 3.2 | D9: =ROUND('Total Collections'!D9/1000000,1) -> 3.8 | E9: =ROUND('Total Collections'!E9/1000000,1) -> 3.4 | F9: =ROUND('Total Collections'!F9/1000000,1) -> 3.5 | G9: =ROUND('Total Collections'!G9/1000000,1) -> 3.3 | H9: =ROUND('Total Collections'!H9/1000000,1) -> 3.3
B10: Total | C10: =SUM(C6:C9) -> 34.1 | D10: =SUM(D6:D9) -> 33.5 | E10: =SUM(E6:E9) -> 38 | F10: =SUM(F6:F9) -> 28.1 | G10: =SUM(G6:G9) -> 26 | H10: =SUM(H6:H9) -> 27.6
B12: Total Outpatient Collections
B13: Service | C13: ='Total Collections'!C14 -> FY2008 | D13: ='Total Collections'!D14 -> FY2009 | E13: ='Total Collections'!E14 -> FY2010 | F13: ='Total Collections'!F14 -> FY2011 | G13: ='Total Collections'!G14 -> FY2012 | H13: ='Total Collections'!H5 -> FY2013
B14: ='Total Collections'!B15 -> Air Force | C14: =ROUND('Total Collections'!C15/1000000,1) -> 63.1 | D14: =ROUND('Total Collections'!D15/1000000,1) -> 69.8 | E14: =ROUND('Total Collections'!E15/1000000,1) -> 62.6 | F14: =ROUND('Total Collections'!F15/1000000,1) -> 53.2 | G14: =ROUND('Total Collections'!G15/1000000,1) -> 43.8 | H14: =ROUND('Total Collections'!H15/1000000,1) -> 39.8
B15: ='Total Collections'!B16 -> Army | C15: =ROUND('Total Collections'!C16/1000000,1) -> 35.8 | D15: =ROUND('Total Collections'!D16/1000000,1) -> 45.1 | E15: =ROUND('Total Collections'!E16/1000000,1) -> 46.1 | F15: =ROUND('Total Collections'!F16/1000000,1) -> 38 | G15: =ROUND('Total Collections'!G16/1000000,1) -> 32.4 | H15: =ROUND('Total Collections'!H16/1000000,1) -> 31.6
B16: JTF | C16: =ROUND('Total Collections'!C17/1000000,1) -> 6.9 | D16: =ROUND('Total Collections'!D17/1000000,1) -> 8.1 | E16: =ROUND('Total Collections'!E17/1000000,1) -> 7.2 | F16: =ROUND('Total Collections'!F17/1000000,1) -> 6.2 | G16: =ROUND('Total Collections'!G17/1000000,1) -> 9.4 | H16: =ROUND('Total Collections'!H17/1000000,1) -> 9.1
B17: ='Total Collections'!B18 -> Navy | C17: =ROUND('Total Collections'!C18/1000000,1) -> 20.5 | D17: =ROUND('Total Collections'!D18/1000000,1) -> 23.6 | E17: =ROUND('Total Collections'!E18/1000000,1) -> 22.6 | F17: =ROUND('Total Collections'!F18/1000000,1) -> 16.5 | G17: =ROUND('Total Collections'!G18/1000000,1) -> 13.7 | H17: =ROUND('Total Collections'!H18/1000000,1) -> 12.5
B18: Total | C18: =SUM(C14:C17) -> 126.3 | D18: =SUM(D14:D17) -> 146.6 | E18: =SUM(E14:E17) -> 138.5 | F18: =SUM(F14:F17) -> 113.9 | G18: =SUM(G14:G17) -> 99.3 | H18: =SUM(H14:H17) -> 93
B20: Total Inpatient & Outpatient Collections
B21: Service | C21: =C13 -> FY2008 | D21: =D13 -> FY2009 | E21: =E13 -> FY2010 | F21: =F13 -> FY2011 | G21: =G13 -> FY2012 | H21: ='Total Collections'!H5 -> FY2013
B22: =B6 -> Air Force | C22: =C6+C14 -> 72.8 | D22: =D6+D14 -> 75.9 | E22: =E6+E14 -> 75.5 | F22: =F6+F14 -> 59.8 | G22: =G6+G14 -> 47.5 | H22: =H6+H14 -> 43.2
B23: =B7 -> Army | C23: =C7+C15 -> 53.4 | D23: =D7+D15 -> 66.9 | E23: =E7+E15 -> 64.4 | F23: =F7+F15 -> 54 | G23: =G7+G15 -> 48.8 | H23: =H7+H15 -> 48
B24: JTF | C24: =C8+C16 -> 10.5 | D24: =D8+D16 -> 9.9 | E24: =E8+E16 -> 10.6 | F24: =F8+F16 -> 8.2 | G24: =G8+G16 -> 12 | H24: =H8+H16 -> 13.6
B25: =B9 -> Navy | C25: =C9+C17 -> 23.7 | D25: =D9+D17 -> 27.4 | E25: =E9+E17 -> 26 | F25: =F9+F17 -> 20 | G25: =G9+G17 -> 17 | H25: =H9+H17 -> 15.8
B26: Total | C26: =SUM(C22:C25) -> 160.4 | D26: =SUM(D22:D25) -> 180.1 | E26: =SUM(E22:E25) -> 176.5 | F26: =SUM(F22:F25) -> 142 | G26: =SUM(G22:G25) -> 125.3 | H26: =SUM(H22:H25) -> 120.6

Sheet Collections per Disp or Visit
A1: Collections per Non-AD Disposition or Collections per Non-AD Visits
A2: =Summary!A2 -> 3rd Quarter
B3: Total Non-Active-Duty Inpatient Collections(million) | M3: Total Non-Active-Duty Outpatient Collections(million)
B4: ='Total Collections Rpt'!B5 -> Service | C4: ='Total Collections Rpt'!C5 -> FY2008 | D4: ='Total Collections Rpt'!D5 -> FY2009 | E4: ='Total Collections Rpt'!E5 -> FY2010 | F4: ='Total Collections Rpt'!F5 -> FY2011 | G4: ='Total Collections Rpt'!G5 -> FY2012 | H4: ='Total Collections'!H5 -> FY2013 | M4: ='Total Collections Rpt'!B13 -> Service | N4: ='Total Collections Rpt'!C13 -> FY2008 | O4: ='Total Collections Rpt'!D13 -> FY2009 | P4: ='Total Collections Rpt'!E13 -> FY2010 | Q4: ='Total Collections Rpt'!F13 -> FY2011 | R4: ='Total Collections Rpt'!G13 -> FY2012 | S4: ='Total Collections'!H5 -> FY2013
B5: ='Total Collections Rpt'!B6 -> Air Force | C5: ='Total Collections Rpt'!C6 -> 9.7 | D5: ='Total Collections Rpt'!D6 -> 6.1 | E5: ='Total Collections Rpt'!E6 -> 12.9 | F5: ='Total Collections Rpt'!F6 -> 6.6 | G5: ='Total Collections Rpt'!G6 -> 3.7 | H5: ='Total Collections Rpt'!H6 -> 3.4 | M5: ='Total Collections Rpt'!B14 -> Air Force | N5: ='Total Collections Rpt'!C14 -> 63.1 | O5: ='Total Collections Rpt'!D14 -> 69.8 | P5: ='Total Collections Rpt'!E14 -> 62.6 | Q5: ='Total Collections Rpt'!F14 -> 53.2 | R5: ='Total Collections Rpt'!G14 -> 43.8 | S5: ='Total Collections Rpt'!H14 -> 39.8
B6: ='Total Collections Rpt'!B7 -> Army | C6: ='Total Collections Rpt'!C7 -> 17.6 | D6: ='Total Collections Rpt'!D7 -> 21.8 | E6: ='Total Collections Rpt'!E7 -> 18.3 | F6: ='Total Collections Rpt'!F7 -> 16 | G6: ='Total Collections Rpt'!G7 -> 16.4 | H6: ='Total Collections Rpt'!H7 -> 16.4 | M6: ='Total Collections Rpt'!B15 -> Army | N6: ='Total Collections Rpt'!C15 -> 35.8 | O6: ='Total Collections Rpt'!D15 -> 45.1 | P6: ='Total Collections Rpt'!E15 -> 46.1 | Q6: ='Total Collections Rpt'!F15 -> 38 | R6: ='Total Collections Rpt'!G15 -> 32.4 | S6: ='Total Collections Rpt'!H15 -> 31.6
B7: JTF | C7: ='Total Collections Rpt'!C8 -> 3.6 | D7: ='Total Collections Rpt'!D8 -> 1.8 | E7: ='Total Collections Rpt'!E8 -> 3.4 | F7: ='Total Collections Rpt'!F8 -> 2 | G7: ='Total Collections Rpt'!G8 -> 2.6 | H7: ='Total Collections Rpt'!H8 -> 4.5 | M7: JTF | N7: ='Total Collections Rpt'!C16 -> 6.9 | O7: ='Total Collections Rpt'!D16 -> 8.1 | P7: ='Total Collections Rpt'!E16 -> 7.2 | Q7: ='Total Collections Rpt'!F16 -> 6.2 | R7: ='Total Collections Rpt'!G16 -> 9.4 | S7: ='Total Collections Rpt'!H16 -> 9.1
B8: ='Total Collections Rpt'!B9 -> Navy | C8: ='Total Collections Rpt'!C9 -> 3.2 | D8: ='Total Collections Rpt'!D9 -> 3.8 | E8: ='Total Collections Rpt'!E9 -> 3.4 | F8: ='Total Collections Rpt'!F9 -> 3.5 | G8: ='Total Collections Rpt'!G9 -> 3.3 | H8: ='Total Collections Rpt'!H9 -> 3.3 | M8: ='Total Collections Rpt'!B17 -> Navy | N8: ='Total Collections Rpt'!C17 -> 20.5 | O8: ='Total Collections Rpt'!D17 -> 23.6 | P8: ='Total Collections Rpt'!E17 -> 22.6 | Q8: ='Total Collections Rpt'!F17 -> 16.5 | R8: ='Total Collections Rpt'!G17 -> 13.7 | S8: ='Total Collections Rpt'!H17 -> 12.5
B9: ='Total Collections Rpt'!B10 -> Total | C9: =SUM(C5:C8) -> 34.1 | D9: =SUM(D5:D8) -> 33.5 | E9: =SUM(E5:E8) -> 38 | F9: =SUM(F5:F8) -> 28.1 | G9: =SUM(G5:G8) -> 26 | H9: =SUM(H5:H8) -> 27.6 | M9: ='Total Collections Rpt'!B18 -> Total | N9: =SUM(N5:N8) -> 126.3 | O9: =SUM(O5:O8) -> 146.6 | P9: =SUM(P5:P8) -> 138.5 | Q9: =SUM(Q5:Q8) -> 113.9 | R9: =SUM(R5:R8) -> 99.3 | S9: =SUM(S5:S8) -> 93
B11: Number of Non-Active-Duty Inpatient Dispositions | M11: Number of Non-Active-Duty Outpatient Visits
B12: Service | C12: ='Collected to Claims Ratio'!C14 -> FY2008 | D12: ='Collected to Claims Ratio'!D14 -> FY2009 | E12: ='Collected to Claims Ratio'!E14 -> FY2010 | F12: ='Collected to Claims Ratio'!F14 -> FY2011 | G12: ='Collected to Claims Ratio'!G14 -> FY2012 | H12: ='Total Collections'!H5 -> FY2013 | M12: Service | N12: ='Collected to Claims Ratio'!L14 -> FY2008 | O12: ='Collected to Claims Ratio'!M14 -> FY2009 | P12: ='Collected to Claims Ratio'!N14 -> FY2010 | Q12: ='Collected to Claims Ratio'!O14 -> FY2011 | R12: ='Collected to Claims Ratio'!P14 -> FY2012 | S12: ='Total Collections'!H5 -> FY2013
B13: ='Claims per Disp or Visits'!B14 -> Air Force | C13: ='Claims per Disp or Visits'!C14 -> 24568 | D13: ='Claims per Disp or Visits'!D14 -> 26661 | E13: ='Claims per Disp or Visits'!E14 -> 27550 | F13: ='Claims per Disp or Visits'!F14 -> 24992 | G13: ='Claims per Disp or Visits'!G14 -> 19176 | H13: ='Claims per Disp or Visits'!H14 -> 20480 | M13: ='Claims per Disp or Visits'!K14 -> Air Force | N13: ='Claims per Disp or Visits'!L14 -> 2702671 | O13: ='Claims per Disp or Visits'!M14 -> 2129021 | P13: ='Claims per Disp or Visits'!N14 -> 2550493 | Q13: ='Claims per Disp or Visits'!O14 -> 2378344 | R13: ='Claims per Disp or Visits'!P14 -> 2227765 | S13: ='Claims per Disp or Visits'!Q14 -> 2314227
B14: ='Claims per Disp or Visits'!B15 -> Army | C14: ='Claims per Disp or Visits'!C15 -> 73223 | D14: ='Claims per Disp or Visits'!D15 -> 73080 | E14: ='Claims per Disp or Visits'!E15 -> 76279 | F14: ='Claims per Disp or Visits'!F15 -> 60871 | G14: ='Claims per Disp or Visits'!G15 -> 75040 | H14: ='Claims per Disp or Visits'!H15 -> 81005 | M14: ='Claims per Disp or Visits'!K15 -> Army | N14: ='Claims per Disp or Visits'!L15 -> 4773554 | O14: ='Claims per Disp or Visits'!M15 -> 4484447 | P14: ='Claims per Disp or Visits'!N15 -> 4509105 | Q14: ='Claims per Disp or Visits'!O15 -> 5400150 | R14: ='Claims per Disp or Visits'!P15 -> 4742153 | S14: ='Claims per Disp or Visits'!Q15 -> 4335527
B15: JTF | C15: ='Claims per Disp or Visits'!C16 -> 7741 | D15: ='Claims per Disp or Visits'!D16 -> 7529 | E15: ='Claims per Disp or Visits'!E16 -> 7152 | F15: ='Claims per Disp or Visits'!F16 -> 6719 | G15: ='Claims per Disp or Visits'!G16 -> 12151 | H15: ='Claims per Disp or Visits'!H16 -> 12428 | M15: JTF | N15: ='Claims per Disp or Visits'!L16 -> 671291 | O15: ='Claims per Disp or Visits'!M16 -> 762370 | P15: ='Claims per Disp or Visits'!N16 -> 709579 | Q15: ='Claims per Disp or Visits'!O16 -> 576360 | R15: ='Claims per Disp or Visits'!P16 -> 748764 | S15: ='Claims per Disp or Visits'!Q16 -> 799246
B16: ='Claims per Disp or Visits'!B17 -> Navy | C16: ='Claims per Disp or Visits'!C17 -> 36694 | D16: ='Claims per Disp or Visits'!D17 -> 36225 | E16: ='Claims per Disp or Visits'!E17 -> 37546 | F16: ='Claims per Disp or Visits'!F17 -> 36628 | G16: ='Claims per Disp or Visits'!G17 -> 36558 | H16: ='Claims per Disp or Visits'!H17 -> 37041 | M16: ='Claims per Disp or Visits'!K17 -> Navy | N16: ='Claims per Disp or Visits'!L17 -> 2370759 | O16: ='Claims per Disp or Visits'!M17 -> 2838885 | P16: ='Claims per Disp or Visits'!N17 -> 2459833 | Q16: ='Claims per Disp or Visits'!O17 -> 2223176 | R16: ='Claims per Disp or Visits'!P17 -> 2161095 | S16: ='Claims per Disp or Visits'!Q17 -> 2586624
B17: Total | C17: =SUM(C13:C16) -> 142226 | D17: =SUM(D13:D16) -> 143495 | E17: =SUM(E13:E16) -> 148527 | F17: =SUM(F13:F16) -> 129210 | G17: =SUM(G13:G16) -> 142925 | H17: =SUM(H13:H16) -> 150954 | M17: Total | N17: =SUM(N13:N16) -> 10518275 | O17: =SUM(O13:O16) -> 10214723 | P17: =SUM(P13:P16) -> 10229010 | Q17: =SUM(Q13:Q16) -> 10578030 | R17: =SUM(R13:R16) -> 9879777 | S17: =SUM(S13:S16) -> 10035624
B19: Total Inpatient Collections(Dollar)) per Non-Active-Duty Disposition | M19: Total Outpatient Collections(Dollar) per Non-Active-Duty Visit
B20: Service | C20: ='Collected to Claims Ratio'!C22 -> FY2008 | D20: ='Collected to Claims Ratio'!D22 -> FY2009 | E20: ='Collected to Claims Ratio'!E22 -> FY2010 | F20: ='Collected to Claims Ratio'!F22 -> FY2011 | G20: ='Collected to Claims Ratio'!G22 -> FY2012 | H20: ='Total Collections'!H5 -> FY2013 | M20: Service | N20: ='Collected to Claims Ratio'!L22 -> FY2008 | O20: ='Collected to Claims Ratio'!M22 -> FY2009 | P20: ='Collected to Claims Ratio'!N22 -> FY2010 | Q20: ='Collected to Claims Ratio'!O22 -> FY2011 | R20: ='Collected to Claims Ratio'!P22 -> FY2012 | S20: ='Total Collections'!H5 -> FY2013
B21: ='Claims per Disp or Visits'!B22 -> Air Force | C21: =(C5/C13)*1000000 -> 394.82253 | D21: =(D5/D13)*1000000 -> 228.79862 | E21: =(E5/E13)*1000000 -> 468.23956 | F21: =(F5/F13)*1000000 -> 264.08451 | G21: =(G5/G13)*1000000 -> 192.94952 | H21: =(H5/H13)*1000000 -> 166.01562 | M21: ='Claims per Disp or Visits'!K22 -> Air Force | N21: =(N5/N13)*1000000 -> 23.347274 | O21: =(O5/O13)*1000000 -> 32.785022 | P21: =(P5/P13)*1000000 -> 24.544274 | Q21: =(Q5/Q13)*1000000 -> 22.368505 | R21: =(R5/R13)*1000000 -> 19.660961 | S21: =(S5/S13)*1000000 -> 17.197967
B22: ='Claims per Disp or Visits'!B23 -> Army | C22: =(C6/C14)*1000000 -> 240.36164 | D22: =(D6/D14)*1000000 -> 298.30323 | E22: =(E6/E14)*1000000 -> 239.90876 | F22: =(F6/F14)*1000000 -> 262.85095 | G22: =(G6/G14)*1000000 -> 218.55011 | H22: =(H6/H14)*1000000 -> 202.45664 | M22: ='Claims per Disp or Visits'!K23 -> Army | N22: =(N6/N14)*1000000 -> 7.4996533 | O22: =(O6/O14)*1000000 -> 10.056981 | P22: =(P6/P14)*1000000 -> 10.223758 | Q22: =(Q6/Q14)*1000000 -> 7.0368416 | R22: =(R6/R14)*1000000 -> 6.8323397 | S22: =(S6/S14)*1000000 -> 7.288618
B23: JTF | C23: =(C7/C15)*1000000 -> 465.05619 | D23: =(D7/D15)*1000000 -> 239.07557 | E23: =(E7/E15)*1000000 -> 475.3915 | F23: =(F7/F15)*1000000 -> 297.66334 | G23: =(G7/G15)*1000000 -> 213.97416 | H23: =(H7/H15)*1000000 -> 362.08561 | M23: JTF | N23: =(N7/N15)*1000000 -> 10.278702 | O23: =(O7/O15)*1000000 -> 10.624762 | P23: =(P7/P15)*1000000 -> 10.146862 | Q23: =(Q7/Q15)*1000000 -> 10.757166 | R23: =(R7/R15)*1000000 -> 12.554022 | S23: =(S7/S15)*1000000 -> 11.385731
B24: ='Claims per Disp or Visits'!B25 -> Navy | C24: =(C8/C16)*1000000 -> 87.207718 | D24: =(D8/D16)*1000000 -> 104.89993 | E24: =(E8/E16)*1000000 -> 90.555585 | F24: =(F8/F16)*1000000 -> 95.555313 | G24: =(G8/G16)*1000000 -> 90.26752 | H24: =(H8/H16)*1000000 -> 89.090467 | M24: ='Claims per Disp or Visits'!K25 -> Navy | N24: =(N8/N16)*1000000 -> 8.6470198 | O24: =(O8/O16)*1000000 -> 8.3131229 | P24: =(P8/P16)*1000000 -> 9.1876156 | Q24: =(Q8/Q16)*1000000 -> 7.4218146 | R24: =(R8/R16)*1000000 -> 6.3393789 | S24: =(S8/S16)*1000000 -> 4.8325539
B25: Total | C25: =(C9/C17)*1000000 -> 239.75926 | D25: =(D9/D17)*1000000 -> 233.45761 | E25: =(E9/E17)*1000000 -> 255.84574 | F25: =(F9/F17)*1000000 -> 217.47543 | G25: =(G9/G17)*1000000 -> 181.91359 | H25: =(H9/H17)*1000000 -> 182.83716 | M25: Total | N25: =(N9/N17)*1000000 -> 12.007672 | O25: =(O9/O17)*1000000 -> 14.351833 | P25: =(P9/P17)*1000000 -> 13.539922 | Q25: =(Q9/Q17)*1000000 -> 10.7676 | R25: =(R9/R17)*1000000 -> 10.050834 | S25: =(S9/S17)*1000000 -> 9.2669873

Sheet Total Billings Rpt
A1: Total Billings
A2: =Summary!A2 -> 3rd Quarter
B4: Total Inpatient Billlings CFY
B5: Service | C5: ='Total Billings'!C5 -> FY2008 | D5: ='Total Billings'!D5 -> FY2009 | E5: ='Total Billings'!E5 -> FY2010 | F5: ='Total Billings'!F5 -> FY2011 | G5: ='Total Billings'!G5 -> FY2012 | H5: ='Total Collections'!H5 -> FY2013
B6: ='Total Collections'!B6 -> Air Force | C6: =ROUND('Total Billings'!C6/1000000,1) -> 21.5 | D6: =ROUND('Total Billings'!D6/1000000,1) -> 18.3 | E6: =ROUND('Total Billings'!E6/1000000,1) -> 21.1 | F6: =ROUND('Total Billings'!F6/1000000,1) -> 14.3 | G6: =ROUND('Total Billings'!G6/1000000,1) -> 11.8 | H6: =ROUND('Total Billings'!H6/1000000,1) -> 11.9
B7: ='Total Collections'!B7 -> Army | C7: =ROUND('Total Billings'!C7/1000000,1) -> 41.8 | D7: =ROUND('Total Billings'!D7/1000000,1) -> 43.8 | E7: =ROUND('Total Billings'!E7/1000000,1) -> 38.1 | F7: =ROUND('Total Billings'!F7/1000000,1) -> 41.9 | G7: =ROUND('Total Billings'!G7/1000000,1) -> 38.6 | H7: =ROUND('Total Billings'!H7/1000000,1) -> 30.9
B8: JTF | C8: =ROUND('Total Billings'!C8/1000000,1) -> 8.7 | D8: =ROUND('Total Billings'!D8/1000000,1) -> 4.7 | E8: =ROUND('Total Billings'!E8/1000000,1) -> 4.3 | F8: =ROUND('Total Billings'!F8/1000000,1) -> 4.9 | G8: =ROUND('Total Billings'!G8/1000000,1) -> 10.6 | H8: =ROUND('Total Billings'!H8/1000000,1) -> 5.2
B9: ='Total Collections'!B9 -> Navy | C9: =ROUND('Total Billings'!C9/1000000,1) -> 9 | D9: =ROUND('Total Billings'!D9/1000000,1) -> 9.7 | E9: =ROUND('Total Billings'!E9/1000000,1) -> 8.7 | F9: =ROUND('Total Billings'!F9/1000000,1) -> 8.9 | G9: =ROUND('Total Billings'!G9/1000000,1) -> 9.5 | H9: =ROUND('Total Billings'!H9/1000000,1) -> 8.2
B10: Total | C10: =SUM(C6:C9) -> 81 | D10: =SUM(D6:D9) -> 76.5 | E10: =SUM(E6:E9) -> 72.2 | F10: =SUM(F6:F9) -> 70 | G10: =SUM(G6:G9) -> 70.5 | H10: =SUM(H6:H9) -> 56.2
B13: Total Outpatient Billings CFY
B14: Service | C14: ='Total Billings'!C14 -> FY2008 | D14: ='Total Billings'!D14 -> FY2009 | E14: ='Total Billings'!E14 -> FY2010 | F14: ='Total Billings'!F14 -> FY2011 | G14: ='Total Billings'!G14 -> FY2012 | H14: ='Total Collections'!H5 -> FY2013
B15: ='Total Collections'!B15 -> Air Force | C15: =ROUND('Total Billings'!C15/1000000,1) -> 152.4 | D15: =ROUND('Total Billings'!D15/1000000,1) -> 154.1 | E15: =ROUND('Total Billings'!E15/1000000,1) -> 121.1 | F15: =ROUND('Total Billings'!F15/1000000,1) -> 105.1 | G15: =ROUND('Total Billings'!G15/1000000,1) -> 97.9 | H15: =ROUND('Total Billings'!H15/1000000,1) -> 91.5
B16: ='Total Collections'!B16 -> Army | C16: =ROUND('Total Billings'!C16/1000000,1) -> 67.3 | D16: =ROUND('Total Billings'!D16/1000000,1) -> 72.1 | E16: =ROUND('Total Billings'!E16/1000000,1) -> 64.7 | F16: =ROUND('Total Billings'!F16/1000000,1) -> 64.7 | G16: =ROUND('Total Billings'!G16/1000000,1) -> 55.3 | H16: =ROUND('Total Billings'!H16/1000000,1) -> 50.6
B17: JTF | C17: =ROUND('Total Billings'!C17/1000000,1) -> 10.7 | D17: =ROUND('Total Billings'!D17/1000000,1) -> 12.1 | E17: =ROUND('Total Billings'!E17/1000000,1) -> 9.2 | F17: =ROUND('Total Billings'!F17/1000000,1) -> 10.4 | G17: =ROUND('Total Billings'!G17/1000000,1) -> 18.2 | H17: =ROUND('Total Billings'!H17/1000000,1) -> 17.3
B18: ='Total Collections'!B18 -> Navy | C18: =ROUND('Total Billings'!C18/1000000,1) -> 31.8 | D18: =ROUND('Total Billings'!D18/1000000,1) -> 34.9 | E18: =ROUND('Total Billings'!E18/1000000,1) -> 29.8 | F18: =ROUND('Total Billings'!F18/1000000,1) -> 26.9 | G18: =ROUND('Total Billings'!G18/1000000,1) -> 25.1 | H18: =ROUND('Total Billings'!H18/1000000,1) -> 22.9
B19: Total | C19: =SUM(C15:C18) -> 262.2 | D19: =SUM(D15:D18) -> 273.2 | E19: =SUM(E15:E18) -> 224.8 | F19: =SUM(F15:F18) -> 207.1 | G19: =SUM(G15:G18) -> 196.5 | H19: =SUM(H15:H18) -> 182.3
B22: Total Inpatient & Outpatient Billings CFY
B23: Service | C23: =C14 -> FY2008 | D23: =D14 -> FY2009 | E23: =E14 -> FY2010 | F23: =F14 -> FY2011 | G23: =G14 -> FY2012 | H23: ='Total Collections'!H5 -> FY2013
B24: =B6 -> Air Force | C24: =C6+C15 -> 173.9 | D24: =D6+D15 -> 172.4 | E24: =E6+E15 -> 142.2 | F24: =F6+F15 -> 119.4 | G24: =G6+G15 -> 109.7 | H24: =H6+H15 -> 103.4
B25: =B7 -> Army | C25: =C7+C16 -> 109.1 | D25: =D7+D16 -> 115.9 | E25: =E7+E16 -> 102.8 | F25: =F7+F16 -> 106.6 | G25: =G7+G16 -> 93.9 | H25: =H7+H16 -> 81.5
B26: JTF | C26: =C8+C17 -> 19.4 | D26: =D8+D17 -> 16.8 | E26: =E8+E17 -> 13.5 | F26: =F8+F17 -> 15.3 | G26: =G8+G17 -> 28.8 | H26: =H8+H17 -> 22.5
B27: =B9 -> Navy | C27: =C9+C18 -> 40.8 | D27: =D9+D18 -> 44.6 | E27: =E9+E18 -> 38.5 | F27: =F9+F18 -> 35.8 | G27: =G9+G18 -> 34.6 | H27: =H9+H18 -> 31.1
B28: Total | C28: =SUM(C24:C27) -> 343.2 | D28: =SUM(D24:D27) -> 349.7 | E28: =SUM(E24:E27) -> 297 | F28: =SUM(F24:F27) -> 277.1 | G28: =SUM(G24:G27) -> 267 | H28: =SUM(H24:H27) -> 238.5

Sheet Collected to Claims Ratio Rpt
A1: Number of Collections to Claims Issued Ratio
A2: =Summary!A2 -> 3rd Quarter
B3: Number of Inpatient Collections | M3: Number of Outpatient Collections
B4: Service | C4: FY2008 | D4: FY2009 | E4: FY2010 | F4: FY2011 | G4: FY2012 | H4: FY2013 | M4: Service | N4: FY2008 | O4: FY2009 | P4: FY2010 | Q4: FY2011 | R4: FY2012 | S4: FY2013
B5: ='Collected to Claims Ratio'!B7 -> Air Force | C5: ='Collected to Claims Ratio'!C7 -> 529 | D5: ='Collected to Claims Ratio'!D7 -> 438 | E5: ='Collected to Claims Ratio'!E7 -> 544 | F5: ='Collected to Claims Ratio'!F7 -> 467 | G5: ='Collected to Claims Ratio'!G7 -> 275 | H5: ='Collected to Claims Ratio'!H7 -> 281 | M5: ='Collected to Claims Ratio'!K7 -> Air Force | N5: ='Collected to Claims Ratio'!L7 -> 323605 | O5: ='Collected to Claims Ratio'!M7 -> 394815 | P5: ='Collected to Claims Ratio'!N7 -> 340527 | Q5: ='Collected to Claims Ratio'!O7 -> 312371 | R5: ='Collected to Claims Ratio'!P7 -> 300546 | S5: ='Collected to Claims Ratio'!Q7 -> 249358
B6: ='Collected to Claims Ratio'!B8 -> Army | C6: ='Collected to Claims Ratio'!C8 -> 1027 | D6: ='Collected to Claims Ratio'!D8 -> 1149 | E6: ='Collected to Claims Ratio'!E8 -> 1120 | F6: ='Collected to Claims Ratio'!F8 -> 996 | G6: ='Collected to Claims Ratio'!G8 -> 1122 | H6: ='Collected to Claims Ratio'!H8 -> 902 | M6: ='Collected to Claims Ratio'!K8 -> Army | N6: ='Collected to Claims Ratio'!L8 -> 262340 | O6: ='Collected to Claims Ratio'!M8 -> 255219 | P6: ='Collected to Claims Ratio'!N8 -> 301956 | Q6: ='Collected to Claims Ratio'!O8 -> 266100 | R6: ='Collected to Claims Ratio'!P8 -> 334753 | S6: ='Collected to Claims Ratio'!Q8 -> 226182
B7: JTF | C7: ='Collected to Claims Ratio'!C9 -> 213 | D7: ='Collected to Claims Ratio'!D9 -> 113 | E7: ='Collected to Claims Ratio'!E9 -> 145 | F7: ='Collected to Claims Ratio'!F9 -> 140 | G7: ='Collected to Claims Ratio'!G9 -> 175 | H7: ='Collected to Claims Ratio'!H9 -> 115 | M7: JTF | N7: ='Collected to Claims Ratio'!L9 -> 38747 | O7: ='Collected to Claims Ratio'!M9 -> 43618 | P7: ='Collected to Claims Ratio'!N9 -> 40112 | Q7: ='Collected to Claims Ratio'!O9 -> 29713 | R7: ='Collected to Claims Ratio'!P9 -> 57594 | S7: ='Collected to Claims Ratio'!Q9 -> 64935
B8: ='Collected to Claims Ratio'!B10 -> Navy | C8: ='Collected to Claims Ratio'!C10 -> 226 | D8: ='Collected to Claims Ratio'!D10 -> 236 | E8: ='Collected to Claims Ratio'!E10 -> 245 | F8: ='Collected to Claims Ratio'!F10 -> 218 | G8: ='Collected to Claims Ratio'!G10 -> 202 | H8: ='Collected to Claims Ratio'!H10 -> 224 | M8: ='Collected to Claims Ratio'!K10 -> Navy | N8: ='Collected to Claims Ratio'!L10 -> 119025 | O8: ='Collected to Claims Ratio'!M10 -> 137206 | P8: ='Collected to Claims Ratio'!N10 -> 136351 | Q8: ='Collected to Claims Ratio'!O10 -> 128690 | R8: ='Collected to Claims Ratio'!P10 -> 113495 | S8: ='Collected to Claims Ratio'!Q10 -> 99455
B9: Total | C9: =SUM(C5:C8) -> 1995 | D9: =SUM(D5:D8) -> 1936 | E9: =SUM(E5:E8) -> 2054 | F9: =SUM(F5:F8) -> 1821 | G9: =SUM(G5:G8) -> 1774 | H9: =SUM(H5:H8) -> 1522 | M9: Total | N9: =SUM(N5:N8) -> 743717 | O9: =SUM(O5:O8) -> 830858 | P9: =SUM(P5:P8) -> 818946 | Q9: =SUM(Q5:Q8) -> 736874 | R9: =SUM(R5:R8) -> 806388 | S9: =SUM(S5:S8) -> 639930
B11: Number of Inpatient Claims | M11: Number of Outpatient Claims
B12: Service | C12: FY2008 | D12: FY2009 | E12: FY2010 | F12: FY2011 | G12: FY2012 | H12: FY2013 | M12: Service | N12: FY2008 | O12: FY2009 | P12: FY2010 | Q12: FY2011 | R12: FY2012 | S12: FY2013
B13: ='Collected to Claims Ratio'!B15 -> Air Force | C13: ='Collected to Claims Ratio'!C15 -> 1225 | D13: ='Collected to Claims Ratio'!D15 -> 1165 | E13: ='Collected to Claims Ratio'!E15 -> 1290 | F13: ='Collected to Claims Ratio'!F15 -> 1077 | G13: ='Collected to Claims Ratio'!G15 -> 863 | H13: ='Collected to Claims Ratio'!H15 -> 813 | M13: ='Collected to Claims Ratio'!K15 -> Air Force | N13: ='Collected to Claims Ratio'!L15 -> 978005 | O13: ='Collected to Claims Ratio'!M15 -> 1016480 | P13: ='Collected to Claims Ratio'!N15 -> 946256 | Q13: ='Collected to Claims Ratio'!O15 -> 923611 | R13: ='Collected to Claims Ratio'!P15 -> 873891 | S13: ='Collected to Claims Ratio'!Q15 -> 824150
B14: ='Collected to Claims Ratio'!B16 -> Army | C14: ='Collected to Claims Ratio'!C16 -> 2206 | D14: ='Collected to Claims Ratio'!D16 -> 2319 | E14: ='Collected to Claims Ratio'!E16 -> 2130 | F14: ='Collected to Claims Ratio'!F16 -> 2115 | G14: ='Collected to Claims Ratio'!G16 -> 1976 | H14: ='Collected to Claims Ratio'!H16 -> 1797 | M14: ='Collected to Claims Ratio'!K16 -> Army | N14: ='Collected to Claims Ratio'!L16 -> 573603 | O14: ='Collected to Claims Ratio'!M16 -> 611892 | P14: ='Collected to Claims Ratio'!N16 -> 639205 | Q14: ='Collected to Claims Ratio'!O16 -> 683437 | R14: ='Collected to Claims Ratio'!P16 -> 605902 | S14: ='Collected to Claims Ratio'!Q16 -> 550528
B15: JTF | C15: ='Collected to Claims Ratio'!C17 -> 394 | D15: ='Collected to Claims Ratio'!D17 -> 270 | E15: ='Collected to Claims Ratio'!E17 -> 252 | F15: ='Collected to Claims Ratio'!F17 -> 283 | G15: ='Collected to Claims Ratio'!G17 -> 534 | H15: ='Collected to Claims Ratio'!H17 -> 295 | M15: JTF | N15: ='Collected to Claims Ratio'!L17 -> 75517 | O15: ='Collected to Claims Ratio'!M17 -> 90428 | P15: ='Collected to Claims Ratio'!N17 -> 79546 | Q15: ='Collected to Claims Ratio'!O17 -> 100194 | R15: ='Collected to Claims Ratio'!P17 -> 193974 | S15: ='Collected to Claims Ratio'!Q17 -> 172037
B16: ='Collected to Claims Ratio'!B18 -> Navy | C16: ='Collected to Claims Ratio'!C18 -> 608 | D16: ='Collected to Claims Ratio'!D18 -> 598 | E16: ='Collected to Claims Ratio'!E18 -> 576 | F16: ='Collected to Claims Ratio'!F18 -> 551 | G16: ='Collected to Claims Ratio'!G18 -> 562 | H16: ='Collected to Claims Ratio'!H18 -> 550 | M16: ='Collected to Claims Ratio'!K18 -> Navy | N16: ='Collected to Claims Ratio'!L18 -> 247621 | O16: ='Collected to Claims Ratio'!M18 -> 270959 | P16: ='Collected to Claims Ratio'!N18 -> 278113 | Q16: ='Collected to Claims Ratio'!O18 -> 282516 | R16: ='Collected to Claims Ratio'!P18 -> 267876 | S16: ='Collected to Claims Ratio'!Q18 -> 240495
B17: Total | C17: =SUM(C13:C16) -> 4433 | D17: =SUM(D13:D16) -> 4352 | E17: =SUM(E13:E16) -> 4248 | F17: =SUM(F13:F16) -> 4026 | G17: =SUM(G13:G16) -> 3935 | H17: =SUM(H13:H16) -> 3455 | M17: Total | N17: =SUM(N13:N16) -> 1874746 | O17: =SUM(O13:O16) -> 1989759 | P17: =SUM(P13:P16) -> 1943120 | Q17: =SUM(Q13:Q16) -> 1989758 | R17: =SUM(R13:R16) -> 1941643 | S17: =SUM(S13:S16) -> 1787210
B19: Inpatient Collections to Claims | M19: Outpatient Collections to Claims
B20: Service | C20: FY2008 | D20: FY2009 | E20: FY2010 | F20: FY2011 | G20: FY2012 | H20: FY2013 | M20: Service | N20: FY2008 | O20: FY2009 | P20: FY2010 | Q20: FY2011 | R20: FY2012 | S20: FY2013
B21: ='Collected to Claims Ratio'!B23 -> Air Force | C21: ='Collected to Claims Ratio'!C23 -> 0.43183673 | D21: ='Collected to Claims Ratio'!D23 -> 0.37596567 | E21: ='Collected to Claims Ratio'!E23 -> 0.42170543 | F21: ='Collected to Claims Ratio'!F23 -> 0.43361188 | G21: ='Collected to Claims Ratio'!G23 -> 0.31865585 | H21: ='Collected to Claims Ratio'!H23 -> 0.34563346 | M21: ='Collected to Claims Ratio'!K23 -> Air Force | N21: ='Collected to Claims Ratio'!L23 -> 0.33088277 | O21: ='Collected to Claims Ratio'!M23 -> 0.38841394 | P21: ='Collected to Claims Ratio'!N23 -> 0.35986773 | Q21: ='Collected to Claims Ratio'!O23 -> 0.33820624 | R21: ='Collected to Claims Ratio'!P23 -> 0.34391703 | S21: ='Collected to Claims Ratio'!Q23 -> 0.30256385
B22: ='Collected to Claims Ratio'!B24 -> Army | C22: ='Collected to Claims Ratio'!C24 -> 0.4655485 | D22: ='Collected to Claims Ratio'!D24 -> 0.49547219 | E22: ='Collected to Claims Ratio'!E24 -> 0.5258216 | F22: ='Collected to Claims Ratio'!F24 -> 0.47092199 | G22: ='Collected to Claims Ratio'!G24 -> 0.56781377 | H22: ='Collected to Claims Ratio'!H24 -> 0.50194769 | M22: ='Collected to Claims Ratio'!K24 -> Army | N22: ='Collected to Claims Ratio'!L24 -> 0.45735465 | O22: ='Collected to Claims Ratio'!M24 -> 0.41709812 | P22: ='Collected to Claims Ratio'!N24 -> 0.47239305 | Q22: ='Collected to Claims Ratio'!O24 -> 0.38935557 | R22: ='Collected to Claims Ratio'!P24 -> 0.55248704 | S22: ='Collected to Claims Ratio'!Q24 -> 0.41084559
B23: JTF | C23: ='Collected to Claims Ratio'!C25 -> 0.54060914 | D23: ='Collected to Claims Ratio'!D25 -> 0.41851852 | E23: ='Collected to Claims Ratio'!E25 -> 0.57539683 | F23: ='Collected to Claims Ratio'!F25 -> 0.49469965 | G23: ='Collected to Claims Ratio'!G25 -> 0.32771536 | H23: ='Collected to Claims Ratio'!H25 -> 0.38983051 | M23: JTF | N23: ='Collected to Claims Ratio'!L25 -> 0.51308977 | O23: ='Collected to Claims Ratio'!M25 -> 0.4823506 | P23: ='Collected to Claims Ratio'!N25 -> 0.50426169 | Q23: ='Collected to Claims Ratio'!O25 -> 0.29655468 | R23: ='Collected to Claims Ratio'!P25 -> 0.29691608 | S23: ='Collected to Claims Ratio'!Q25 -> 0.37744787
B24: ='Collected to Claims Ratio'!B26 -> Navy | C24: ='Collected to Claims Ratio'!C26 -> 0.37171053 | D24: ='Collected to Claims Ratio'!D26 -> 0.39464883 | E24: ='Collected to Claims Ratio'!E26 -> 0.42534722 | F24: ='Collected to Claims Ratio'!F26 -> 0.39564428 | G24: ='Collected to Claims Ratio'!G26 -> 0.3594306 | H24: ='Collected to Claims Ratio'!H26 -> 0.40727273 | M24: ='Collected to Claims Ratio'!K26 -> Navy | N24: ='Collected to Claims Ratio'!L26 -> 0.48067409 | O24: ='Collected to Claims Ratio'!M26 -> 0.50637181 | P24: ='Collected to Claims Ratio'!N26 -> 0.49027194 | Q24: ='Collected to Claims Ratio'!O26 -> 0.45551402 | R24: ='Collected to Claims Ratio'!P26 -> 0.42368484 | S24: ='Collected to Claims Ratio'!Q26 -> 0.4135429
B25: Total | C25: ='Collected to Claims Ratio'!C27 -> 0.45003384 | D25: ='Collected to Claims Ratio'!D27 -> 0.44485294 | E25: ='Collected to Claims Ratio'!E27 -> 0.48352166 | F25: ='Collected to Claims Ratio'!F27 -> 0.45230999 | G25: ='Collected to Claims Ratio'!G27 -> 0.45082592 | H25: ='Collected to Claims Ratio'!H27 -> 0.44052098 | M25: Total | N25: ='Collected to Claims Ratio'!L27 -> 0.39670281 | O25: ='Collected to Claims Ratio'!M27 -> 0.41756715 | P25: ='Collected to Claims Ratio'!N27 -> 0.4214593 | Q25: ='Collected to Claims Ratio'!O27 -> 0.37033348 | R25: ='Collected to Claims Ratio'!P27 -> 0.41531219 | S25: ='Collected to Claims Ratio'!Q27 -> 0.35806089

Sheet Claims per Disp or Visits rpt
A1: Claims per Non-AD Disposition or Claims per Non-AD Visits
A2: =Summary!A2 -> 3rd Quarter
B3: Number of Inpatient Claims | M3: Number of Outpatient Claims
B4: Service | C4: ='Collected to Claims Ratio'!C6 -> FY2008 | D4: ='Collected to Claims Ratio'!D6 -> FY2009 | E4: ='Collected to Claims Ratio'!E6 -> FY2010 | F4: ='Collected to Claims Ratio'!F6 -> FY2011 | G4: ='Collected to Claims Ratio'!G6 -> FY2012 | H4: ='Collected to Claims Ratio'!H6 -> FY2013 | M4: Service | N4: ='Collected to Claims Ratio'!L6 -> FY2008 | O4: ='Collected to Claims Ratio'!M6 -> FY2009 | P4: ='Collected to Claims Ratio'!N6 -> FY2010 | Q4: ='Collected to Claims Ratio'!O6 -> FY2011 | R4: ='Collected to Claims Ratio'!P6 -> FY2012 | S4: ='Collected to Claims Ratio'!Q6 -> FY2013
B5: ='Claims per Disp or Visits'!B6 -> Air Force | C5: ='Claims per Disp or Visits'!C6 -> 1225 | D5: ='Claims per Disp or Visits'!D6 -> 1165 | E5: ='Claims per Disp or Visits'!E6 -> 1290 | F5: ='Claims per Disp or Visits'!F6 -> 1077 | G5: ='Claims per Disp or Visits'!G6 -> 863 | H5: ='Claims per Disp or Visits'!H6 -> 813 | M5: ='Claims per Disp or Visits'!K6 -> Air Force | N5: ='Claims per Disp or Visits'!L6 -> 978005 | O5: ='Claims per Disp or Visits'!M6 -> 1016480 | P5: ='Claims per Disp or Visits'!N6 -> 946256 | Q5: ='Claims per Disp or Visits'!O6 -> 923611 | R5: ='Claims per Disp or Visits'!P6 -> 873891 | S5: ='Claims per Disp or Visits'!Q6 -> 824150
B6: ='Claims per Disp or Visits'!B7 -> Army | C6: ='Claims per Disp or Visits'!C7 -> 2206 | D6: ='Claims per Disp or Visits'!D7 -> 2319 | E6: ='Claims per Disp or Visits'!E7 -> 2130 | F6: ='Claims per Disp or Visits'!F7 -> 2115 | G6: ='Claims per Disp or Visits'!G7 -> 1976 | H6: ='Claims per Disp or Visits'!H7 -> 1797 | M6: ='Claims per Disp or Visits'!K7 -> Army | N6: ='Claims per Disp or Visits'!L7 -> 573603 | O6: ='Claims per Disp or Visits'!M7 -> 611892 | P6: ='Claims per Disp or Visits'!N7 -> 639205 | Q6: ='Claims per Disp or Visits'!O7 -> 683437 | R6: ='Claims per Disp or Visits'!P7 -> 605902 | S6: ='Claims per Disp or Visits'!Q7 -> 550528
B7: JTF | C7: ='Claims per Disp or Visits'!C8 -> 394 | D7: ='Claims per Disp or Visits'!D8 -> 270 | E7: ='Claims per Disp or Visits'!E8 -> 252 | F7: ='Claims per Disp or Visits'!F8 -> 283 | G7: ='Claims per Disp or Visits'!G8 -> 534 | H7: ='Claims per Disp or Visits'!H8 -> 295 | M7: JTF | N7: ='Claims per Disp or Visits'!L8 -> 75517 | O7: ='Claims per Disp or Visits'!M8 -> 90428 | P7: ='Claims per Disp or Visits'!N8 -> 79546 | Q7: ='Claims per Disp or Visits'!O8 -> 100194 | R7: ='Claims per Disp or Visits'!P8 -> 193974 | S7: ='Claims per Disp or Visits'!Q8 -> 172037
B8: ='Claims per Disp or Visits'!B9 -> Navy | C8: ='Claims per Disp or Visits'!C9 -> 608 | D8: ='Claims per Disp or Visits'!D9 -> 598 | E8: ='Claims per Disp or Visits'!E9 -> 576 | F8: ='Claims per Disp or Visits'!F9 -> 551 | G8: ='Claims per Disp or Visits'!G9 -> 562 | H8: ='Claims per Disp or Visits'!H9 -> 550 | M8: ='Claims per Disp or Visits'!K9 -> Navy | N8: ='Claims per Disp or Visits'!L9 -> 247621 | O8: ='Claims per Disp or Visits'!M9 -> 270959 | P8: ='Claims per Disp or Visits'!N9 -> 278113 | Q8: ='Claims per Disp or Visits'!O9 -> 282516 | R8: ='Claims per Disp or Visits'!P9 -> 267876 | S8: ='Claims per Disp or Visits'!Q9 -> 240495
B9: Total | C9: =SUM(C5:C8) -> 4433 | D9: =SUM(D5:D8) -> 4352 | E9: =SUM(E5:E8) -> 4248 | F9: =SUM(F5:F8) -> 4026 | G9: =SUM(G5:G8) -> 3935 | H9: =SUM(H5:H8) -> 3455 | M9: Total | N9: =SUM(N5:N8) -> 1874746 | O9: =SUM(O5:O8) -> 1989759 | P9: =SUM(P5:P8) -> 1943120 | Q9: =SUM(Q5:Q8) -> 1989758 | R9: =SUM(R5:R8) -> 1941643 | S9: =SUM(S5:S8) -> 1787210
B11: Number of Non-Active-Duty Inpatient Dispositions | M11: Number of Non-Active-Duty Outpatient Visits
B12: Service | C12: ='Collected to Claims Ratio'!C14 -> FY2008 | D12: ='Collected to Claims Ratio'!D14 -> FY2009 | E12: ='Collected to Claims Ratio'!E14 -> FY2010 | F12: ='Collected to Claims Ratio'!F14 -> FY2011 | G12: ='Collected to Claims Ratio'!G14 -> FY2012 | H12: ='Collected to Claims Ratio'!H14 -> FY2013 | M12: Service | N12: ='Collected to Claims Ratio'!L14 -> FY2008 | O12: ='Collected to Claims Ratio'!M14 -> FY2009 | P12: ='Collected to Claims Ratio'!N14 -> FY2010 | Q12: ='Collected to Claims Ratio'!O14 -> FY2011 | R12: ='Collected to Claims Ratio'!P14 -> FY2012 | S12: ='Collected to Claims Ratio'!Q14 -> FY2013
B13: ='Claims per Disp or Visits'!B14 -> Air Force | C13: ='Claims per Disp or Visits'!C14 -> 24568 | D13: ='Claims per Disp or Visits'!D14 -> 26661 | E13: ='Claims per Disp or Visits'!E14 -> 27550 | F13: ='Claims per Disp or Visits'!F14 -> 24992 | G13: ='Claims per Disp or Visits'!G14 -> 19176 | H13: ='Claims per Disp or Visits'!H14 -> 20480 | M13: ='Claims per Disp or Visits'!K14 -> Air Force | N13: ='Claims per Disp or Visits'!L14 -> 2702671 | O13: ='Claims per Disp or Visits'!M14 -> 2129021 | P13: ='Claims per Disp or Visits'!N14 -> 2550493 | Q13: ='Claims per Disp or Visits'!O14 -> 2378344 | R13: ='Claims per Disp or Visits'!P14 -> 2227765 | S13: ='Claims per Disp or Visits'!Q14 -> 2314227
B14: ='Claims per Disp or Visits'!B15 -> Army | C14: ='Claims per Disp or Visits'!C15 -> 73223 | D14: ='Claims per Disp or Visits'!D15 -> 73080 | E14: ='Claims per Disp or Visits'!E15 -> 76279 | F14: ='Claims per Disp or Visits'!F15 -> 60871 | G14: ='Claims per Disp or Visits'!G15 -> 75040 | H14: ='Claims per Disp or Visits'!H15 -> 81005 | M14: ='Claims per Disp or Visits'!K15 -> Army | N14: ='Claims per Disp or Visits'!L15 -> 4773554 | O14: ='Claims per Disp or Visits'!M15 -> 4484447 | P14: ='Claims per Disp or Visits'!N15 -> 4509105 | Q14: ='Claims per Disp or Visits'!O15 -> 5400150 | R14: ='Claims per Disp or Visits'!P15 -> 4742153 | S14: ='Claims per Disp or Visits'!Q15 -> 4335527
B15: JTF | C15: ='Claims per Disp or Visits'!C16 -> 7741 | D15: ='Claims per Disp or Visits'!D16 -> 7529 | E15: ='Claims per Disp or Visits'!E16 -> 7152 | F15: ='Claims per Disp or Visits'!F16 -> 6719 | G15: ='Claims per Disp or Visits'!G16 -> 12151 | H15: ='Claims per Disp or Visits'!H16 -> 12428 | M15: JTF | N15: ='Claims per Disp or Visits'!L16 -> 671291 | O15: ='Claims per Disp or Visits'!M16 -> 762370 | P15: ='Claims per Disp or Visits'!N16 -> 709579 | Q15: ='Claims per Disp or Visits'!O16 -> 576360 | R15: ='Claims per Disp or Visits'!P16 -> 748764 | S15: ='Claims per Disp or Visits'!Q16 -> 799246
B16: ='Claims per Disp or Visits'!B17 -> Navy | C16: ='Claims per Disp or Visits'!C17 -> 36694 | D16: ='Claims per Disp or Visits'!D17 -> 36225 | E16: ='Claims per Disp or Visits'!E17 -> 37546 | F16: ='Claims per Disp or Visits'!F17 -> 36628 | G16: ='Claims per Disp or Visits'!G17 -> 36558 | H16: ='Claims per Disp or Visits'!H17 -> 37041 | M16: ='Claims per Disp or Visits'!K17 -> Navy | N16: ='Claims per Disp or Visits'!L17 -> 2370759 | O16: ='Claims per Disp or Visits'!M17 -> 2838885 | P16: ='Claims per Disp or Visits'!N17 -> 2459833 | Q16: ='Claims per Disp or Visits'!O17 -> 2223176 | R16: ='Claims per Disp or Visits'!P17 -> 2161095 | S16: ='Claims per Disp or Visits'!Q17 -> 2586624
B17: Total | C17: =SUM(C13:C16) -> 142226 | D17: =SUM(D13:D16) -> 143495 | E17: =SUM(E13:E16) -> 148527 | F17: =SUM(F13:F16) -> 129210 | G17: =SUM(G13:G16) -> 142925 | H17: =SUM(H13:H16) -> 150954 | M17: Total | N17: =SUM(N13:N16) -> 10518275 | O17: =SUM(O13:O16) -> 10214723 | P17: =SUM(P13:P16) -> 10229010 | Q17: =SUM(Q13:Q16) -> 10578030 | R17: =SUM(R13:R16) -> 9879777 | S17: =SUM(S13:S16) -> 10035624
B19: Inpatient Claims per Non-Active-Duty Disposition | M19: Outpatient Claims per Non-Active-Duty Visit
B20: Service | C20: ='Collected to Claims Ratio'!C22 -> FY2008 | D20: ='Collected to Claims Ratio'!D22 -> FY2009 | E20: ='Collected to Claims Ratio'!E22 -> FY2010 | F20: ='Collected to Claims Ratio'!F22 -> FY2011 | G20: ='Collected to Claims Ratio'!G22 -> FY2012 | H20: ='Collected to Claims Ratio'!H22 -> FY2013 | M20: Service | N20: ='Collected to Claims Ratio'!L22 -> FY2008 | O20: ='Collected to Claims Ratio'!M22 -> FY2009 | P20: ='Collected to Claims Ratio'!N22 -> FY2010 | Q20: ='Collected to Claims Ratio'!O22 -> FY2011 | R20: ='Collected to Claims Ratio'!P22 -> FY2012 | S20: ='Collected to Claims Ratio'!Q22 -> FY2013
B21: ='Claims per Disp or Visits'!B22 -> Air Force | C21: ='Claims per Disp or Visits'!C22 -> 0.049861609 | D21: ='Claims per Disp or Visits'!D22 -> 0.043696786 | E21: ='Claims per Disp or Visits'!E22 -> 0.046823956 | F21: ='Claims per Disp or Visits'!F22 -> 0.04309379 | G21: ='Claims per Disp or Visits'!G22 -> 0.045004172 | H21: ='Claims per Disp or Visits'!H22 -> 0.039697266 | M21: ='Claims per Disp or Visits'!K22 -> Air Force | N21: ='Claims per Disp or Visits'!L22 -> 0.36186609 | O21: ='Claims per Disp or Visits'!M22 -> 0.4774401 | P21: ='Claims per Disp or Visits'!N22 -> 0.37100906 | Q21: ='Claims per Disp or Visits'!O22 -> 0.38834206 | R21: ='Claims per Disp or Visits'!P22 -> 0.39227252 | S21: ='Claims per Disp or Visits'!Q22 -> 0.35612323
B22: ='Claims per Disp or Visits'!B23 -> Army | C22: ='Claims per Disp or Visits'!C23 -> 0.030127146 | D22: ='Claims per Disp or Visits'!D23 -> 0.031732348 | E22: ='Claims per Disp or Visits'!E23 -> 0.027923806 | F22: ='Claims per Disp or Visits'!F23 -> 0.03474561 | G22: ='Claims per Disp or Visits'!G23 -> 0.026332623 | H22: ='Claims per Disp or Visits'!H23 -> 0.022183816 | M22: ='Claims per Disp or Visits'!K23 -> Army | N22: ='Claims per Disp or Visits'!L23 -> 0.12016267 | O22: ='Claims per Disp or Visits'!M23 -> 0.13644759 | P22: ='Claims per Disp or Visits'!N23 -> 0.14175873 | Q22: ='Claims per Disp or Visits'!O23 -> 0.12655889 | R22: ='Claims per Disp or Visits'!P23 -> 0.12776939 | S22: ='Claims per Disp or Visits'!Q23 -> 0.12698064
B23: JTF | C23: ='Claims per Disp or Visits'!C24 -> 0.050897817 | D23: ='Claims per Disp or Visits'!D24 -> 0.035861336 | E23: ='Claims per Disp or Visits'!E24 -> 0.035234899 | F23: ='Claims per Disp or Visits'!F24 -> 0.042119363 | G23: ='Claims per Disp or Visits'!G24 -> 0.043947 | H23: ='Claims per Disp or Visits'!H24 -> 0.023736724 | M23: JTF | N23: ='Claims per Disp or Visits'!L24 -> 0.11249518 | O23: ='Claims per Disp or Visits'!M24 -> 0.11861432 | P23: ='Claims per Disp or Visits'!N24 -> 0.11210309 | Q23: ='Claims per Disp or Visits'!O24 -> 0.17383927 | R23: ='Claims per Disp or Visits'!P24 -> 0.25905893 | S23: ='Claims per Disp or Visits'!Q24 -> 0.21524912
B24: ='Claims per Disp or Visits'!B25 -> Navy | C24: ='Claims per Disp or Visits'!C25 -> 0.016569466 | D24: ='Claims per Disp or Visits'!D25 -> 0.016507937 | E24: ='Claims per Disp or Visits'!E25 -> 0.015341181 | F24: ='Claims per Disp or Visits'!F25 -> 0.015043136 | G24: ='Claims per Disp or Visits'!G25 -> 0.015372832 | H24: ='Claims per Disp or Visits'!H25 -> 0.014848411 | M24: ='Claims per Disp or Visits'!K25 -> Navy | N24: ='Claims per Disp or Visits'!L25 -> 0.10444798 | O24: ='Claims per Disp or Visits'!M25 -> 0.095445571 | P24: ='Claims per Disp or Visits'!N25 -> 0.11306174 | Q24: ='Claims per Disp or Visits'!O25 -> 0.12707766 | R24: ='Claims per Disp or Visits'!P25 -> 0.12395383 | S24: ='Claims per Disp or Visits'!Q25 -> 0.092976405
B25: Total | C25: ='Claims per Disp or Visits'!C26 -> 0.031168703 | D25: ='Claims per Disp or Visits'!D26 -> 0.030328583 | E25: ='Claims per Disp or Visits'!E26 -> 0.02860086 | F25: ='Claims per Disp or Visits'!F26 -> 0.031158579 | G25: ='Claims per Disp or Visits'!G26 -> 0.027531922 | H25: ='Claims per Disp or Visits'!H26 -> 0.022887767 | M25: Total | N25: ='Claims per Disp or Visits'!L26 -> 0.17823702 | O25: ='Claims per Disp or Visits'!M26 -> 0.19479324 | P25: ='Claims per Disp or Visits'!N26 -> 0.18996169 | Q25: ='Claims per Disp or Visits'!O26 -> 0.18810289 | R25: ='Claims per Disp or Visits'!P26 -> 0.19652701 | S25: ='Claims per Disp or Visits'!Q26 -> 0.17808658

Sheet Total Collections
A1: Total Collections
A2: =Summary!A2 -> 3rd Quarter
C4: Total IP Collections for a FY
B5: Service | C5: FY2008 | D5: FY2009 | E5: FY2010 | F5: FY2011 | G5: FY2012 | H5: FY2013
B6: Air Force | C6: =Details!B5 -> 9716334.2 | D6: =Details!C5 -> 6072175.7 | E6: =Details!D5 -> 12919600 | F6: =Details!E5 -> 6642309 | G6: =Details!F5 -> 3749980.6 | H6: =Details!G5 -> 3429676.5
B7: Army | C7: =Details!B6 -> 17551457 | D7: =Details!C6 -> 21813350 | E7: =Details!D6 -> 18281847 | F7: =Details!E6 -> 16008388 | G7: =Details!F6 -> 16442901 | H7: =Details!G6 -> 16389528
B8: JTF | C8: =Details!B7 -> 3612898.3 | D8: =Details!C7 -> 1767985.9 | E8: =Details!D7 -> 3372211.7 | F8: =Details!E7 -> 1982956.9 | G8: =Details!F7 -> 2609692.2 | H8: =Details!G7 -> 4549084.9
B9: Navy | C9: =Details!B8 -> 3211970.7 | D9: =Details!C8 -> 3772418.3 | E9: =Details!D8 -> 3445635 | F9: =Details!E8 -> 3491283.1 | G9: =Details!F8 -> 3278611.4 | H9: =Details!G8 -> 3266439.2
B10: Total | C10: =SUM(C6:C9) -> 34092660 | D10: =SUM(D6:D9) -> 33425930 | E10: =SUM(E6:E9) -> 38019293 | F10: =SUM(F6:F9) -> 28124937 | G10: =SUM(G6:G9) -> 26081185 | H10: =SUM(H6:H9) -> 27634729
C13: Total OP Collections for FY
B14: Service | C14: FY2008 | D14: FY2009 | E14: FY2010 | F14: FY2011 | G14: FY2012 | H14: FY2013
B15: Air Force | C15: =Details!B14 -> 63100515 | D15: =Details!C14 -> 69794881 | E15: =Details!D14 -> 62579343 | F15: =Details!E14 -> 53245250 | G15: =Details!F14 -> 43811225 | H15: =Details!G14 -> 39753766
B16: Army | C16: =Details!B15 -> 35801487 | D16: =Details!C15 -> 45139483 | E16: =Details!D15 -> 46053000 | F16: =Details!E15 -> 38021558 | G16: =Details!F15 -> 32422328 | H16: =Details!G15 -> 31577757
B17: JTF | C17: =Details!B16 -> 6944630.6 | D17: =Details!C16 -> 8085934.8 | E17: =Details!D16 -> 7243825.5 | F17: =Details!E16 -> 6182614.7 | G17: =Details!F16 -> 9401764.6 | H17: =Details!G16 -> 9084839.9
B18: Navy | C18: =Details!B17 -> 20494950 | D18: =Details!C17 -> 23646495 | E18: =Details!D17 -> 22560252 | F18: =Details!E17 -> 16544330 | G18: =Details!F17 -> 13690164 | H18: =Details!G17 -> 12481347
B19: Total | C19: =SUM(C15:C18) -> 1.2634158e+08 | D19: =SUM(D15:D18) -> 1.4666679e+08 | E19: =SUM(E15:E18) -> 1.3843642e+08 | F19: =SUM(F15:F18) -> 1.1399375e+08 | G19: =SUM(G15:G18) -> 99325481 | H19: =SUM(H15:H18) -> 92897709
A21: IP
A22: Is AF IP FY2013 data greater than FY2012? | H22: =IF(H6-G6>0,"yes","no") -> no
A23: Is A IP FY2013 data greater than FY2012? | H23: =IF(H7-G7>0,"yes","no") -> no
A24: Is N IP FY2013 data greater than FY2012? | H24: =IF(H9-G9>0,"yes","no") -> no
A25: Is JTF IP FY2013 data greater than FY2012? | H25: =IF(H8-G8>0,"yes","no") -> yes
A26: OP
A27: Is AF OP FY2013 data greater than FY2012? | H27: =IF(H15-G15>0,"yes","no") -> no
A28: Is A OP FY2013 data greater than FY2012? | H28: =IF(H16-G16>0,"yes","no") -> no
A29: Is N OP FY2013 data greater than FY2012? | H29: =IF(H18-G18>0,"yes","no") -> no
A30: Is JTF OP FY2013 data greater than FY2012? | H30: =IF(H17-G17>0,"yes","no") -> no

Sheet Total Billings
A1: Total Billings
A2: =Summary!A2 -> 3rd Quarter
C4: Total IP Billings for CFY in CFY
B5: Service | C5: FY2008 | D5: FY2009 | E5: FY2010 | F5: FY2011 | G5: FY2012 | H5: FY2013
B6: Air Force | C6: =Details!B23 -> 21513984 | D6: =Details!C23 -> 18345513 | E6: =Details!D23 -> 21122300 | F6: =Details!E23 -> 14257131 | G6: =Details!F23 -> 11803000 | H6: =Details!G23 -> 11924190
B7: Army | C7: =Details!B24 -> 41796650 | D7: =Details!C24 -> 43840984 | E7: =Details!D24 -> 38071563 | F7: =Details!E24 -> 41875744 | G7: =Details!F24 -> 38551743 | H7: =Details!G24 -> 30921259
B8: JTF | C8: =Details!B25 -> 8693683.2 | D8: =Details!C25 -> 4677848.2 | E8: =Details!D25 -> 4283310.2 | F8: =Details!E25 -> 4905576.9 | G8: =Details!F25 -> 10642653 | H8: =Details!G25 -> 5223259.2
B9: Navy | C9: =Details!B26 -> 8975998 | D9: =Details!C26 -> 9742174.1 | E9: =Details!D26 -> 8710275.9 | F9: =Details!E26 -> 8865577.8 | G9: =Details!F26 -> 9483844.8 | H9: =Details!G26 -> 8231457.7
B10: Total | C10: =SUM(C6:C9) -> 80980315 | D10: =SUM(D6:D9) -> 76606519 | E10: =SUM(E6:E9) -> 72187449 | F10: =SUM(F6:F9) -> 69904030 | G10: =SUM(G6:G9) -> 70481241 | H10: =SUM(H6:H9) -> 56300166
C13: Total OP Billings for CFY in CFY
B14: Service | C14: FY2008 | D14: FY2009 | E14: FY2010 | F14: FY2011 | G14: FY2012 | H14: FY2013
B15: Air Force | C15: =Details!B32 -> 1.5237417e+08 | D15: =Details!C32 -> 1.5411489e+08 | E15: =Details!D32 -> 1.2107218e+08 | F15: =Details!E32 -> 1.0513666e+08 | G15: =Details!F32 -> 97883039 | H15: =Details!G32 -> 91464515
B16: Army | C16: =Details!B33 -> 67262075 | D16: =Details!C33 -> 72076133 | E16: =Details!D33 -> 64730745 | F16: =Details!E33 -> 64686510 | G16: =Details!F33 -> 55311283 | H16: =Details!G33 -> 50591639
B17: JTF | C17: =Details!B34 -> 10702412 | D17: =Details!C34 -> 12104980 | E17: =Details!D34 -> 9163763.7 | F17: =Details!E34 -> 10404782 | G17: =Details!F34 -> 18202416 | H17: =Details!G34 -> 17338169
B18: Navy | C18: =Details!B35 -> 31798547 | D18: =Details!C35 -> 34869406 | E18: =Details!D35 -> 29845266 | F18: =Details!E35 -> 26906158 | G18: =Details!F35 -> 25143032 | H18: =Details!G35 -> 22917639
B19: Total | C19: =SUM(C15:C18) -> 2.621372e+08 | D19: =SUM(D15:D18) -> 273165412 | E19: =SUM(E15:E18) -> 2.2481196e+08 | F19: =SUM(F15:F18) -> 2.0713411e+08 | G19: =SUM(G15:G18) -> 1.9653977e+08 | H19: =SUM(H15:H18) -> 1.8231196e+08
A21: IP
A22: Is AF IP FY2013 data greater than FY2012? | H22: =IF(H6-G6>0,"yes","no") -> yes
A23: Is A IP FY2013 data greater than FY2012? | H23: =IF(H7-G7>0,"yes","no") -> no
A24: Is N IP FY2013 data greater than FY2012? | H24: =IF(H9-G9>0,"yes","no") -> no
A25: Is JTF IP FY2013 data greater than FY2012? | H25: =IF(H8-G8>0,"yes","no") -> no
A27: Is AF OP FY2013 data greater than FY2012? | H27: =IF(H15-G15>0,"yes","no") -> no
A28: Is A OP FY2013 data greater than FY2012? | H28: =IF(H16-G16>0,"yes","no") -> no
A29: Is N OP FY2013 data greater than FY2012? | H29: =IF(H18-G18>0,"yes","no") -> no
A30: Is JTF OP FY2013 data greater than FY2012? | H30: =IF(H17-G17>0,"yes","no") -> no

Sheet Collected to Claims Ratio
A1: Collected to Claims Issued Ratio
A2: =Summary!A2 -> 3rd Quarter
C5: Num of IP Collections for CFY | L5: Num of OP Collections for CFY
B6: Service | C6: FY2008 | D6: FY2009 | E6: FY2010 | F6: FY2011 | G6: FY2012 | H6: FY2013 | K6: Service | L6: FY2008 | M6: FY2009 | N6: FY2010 | O6: FY2011 | P6: FY2012 | Q6: FY2013
B7: Air Force | C7: =Details!B41 -> 529 | D7: =Details!C41 -> 438 | E7: =Details!D41 -> 544 | F7: =Details!E41 -> 467 | G7: =Details!F41 -> 275 | H7: =Details!G41 -> 281 | K7: Air Force | L7: =Details!B68 -> 323605 | M7: =Details!C68 -> 394815 | N7: =Details!D68 -> 340527 | O7: =Details!E68 -> 312371 | P7: =Details!F68 -> 300546 | Q7: =Details!G68 -> 249358
B8: Army | C8: =Details!B42 -> 1027 | D8: =Details!C42 -> 1149 | E8: =Details!D42 -> 1120 | F8: =Details!E42 -> 996 | G8: =Details!F42 -> 1122 | H8: =Details!G42 -> 902 | K8: Army | L8: =Details!B69 -> 262340 | M8: =Details!C69 -> 255219 | N8: =Details!D69 -> 301956 | O8: =Details!E69 -> 266100 | P8: =Details!F69 -> 334753 | Q8: =Details!G69 -> 226182
B9: JTF | C9: =Details!B43 -> 213 | D9: =Details!C43 -> 113 | E9: =Details!D43 -> 145 | F9: =Details!E43 -> 140 | G9: =Details!F43 -> 175 | H9: =Details!G43 -> 115 | K9: JTF | L9: =Details!B70 -> 38747 | M9: =Details!C70 -> 43618 | N9: =Details!D70 -> 40112 | O9: =Details!E70 -> 29713 | P9: =Details!F70 -> 57594 | Q9: =Details!G70 -> 64935
B10: Navy | C10: =Details!B44 -> 226 | D10: =Details!C44 -> 236 | E10: =Details!D44 -> 245 | F10: =Details!E44 -> 218 | G10: =Details!F44 -> 202 | H10: =Details!G44 -> 224 | K10: Navy | L10: =Details!B71 -> 119025 | M10: =Details!C71 -> 137206 | N10: =Details!D71 -> 136351 | O10: =Details!E71 -> 128690 | P10: =Details!F71 -> 113495 | Q10: =Details!G71 -> 99455
B11: Total | C11: =SUM(C7:C10) -> 1995 | D11: =SUM(D7:D10) -> 1936 | E11: =SUM(E7:E10) -> 2054 | F11: =SUM(F7:F10) -> 1821 | G11: =SUM(G7:G10) -> 1774 | H11: =SUM(H7:H10) -> 1522 | K11: Total | L11: =SUM(L7:L10) -> 743717 | M11: =SUM(M7:M10) -> 830858 | N11: =SUM(N7:N10) -> 818946 | O11: =SUM(O7:O10) -> 736874 | P11: =SUM(P7:P10) -> 806388 | Q11: =SUM(Q7:Q10) -> 639930
C13: Num of IP Claims for CFY | L13: Num of OP Claims for CFY
B14: Service | C14: FY2008 | D14: FY2009 | E14: FY2010 | F14: FY2011 | G14: FY2012 | H14: FY2013 | K14: Service | L14: FY2008 | M14: FY2009 | N14: FY2010 | O14: FY2011 | P14: FY2012 | Q14: FY2013
B15: Air Force | C15: =Details!B50 -> 1225 | D15: =Details!C50 -> 1165 | E15: =Details!D50 -> 1290 | F15: =Details!E50 -> 1077 | G15: =Details!F50 -> 863 | H15: =Details!G50 -> 813 | K15: Air Force | L15: =Details!B77 -> 978005 | M15: =Details!C77 -> 1016480 | N15: =Details!D77 -> 946256 | O15: =Details!E77 -> 923611 | P15: =Details!F77 -> 873891 | Q15: =Details!G77 -> 824150
